{"text_format":"3","workbook":"xlsx","n_sheets":68,"sheets":["Список","Соц.ком.к 7г ч1 Н.г.","Соц.ком.к 7г ч1 К.г.","Соц.ком.к 7г ч2 Н.г.","Соц.ком.к 7г ч2 К.г.","Соц.ком. к 7г ч3 Н.г.","Соц.ком. к 7г ч3 К.г.","Соц.ком. к 7г ч4 Н.г.","Соц.ком. к 7г ч4 К.г.","Динамика Соц-ком. развития","Реч.разв.к 7г ч1 Н.г.","Реч.разв.к 7г ч1 К.г.","Реч.разв.к 7г ч2 Н.г.","Реч.разв.к 7г ч2 К.г. ","Реч.разв.к 7г ч3. Н.г.","Реч.разв.к 7г ч3. К.г. ","Динамика речевого развития","Позн.разв. к 7г ч1. Н.г.","Позн.разв. к 7г ч1. К.г. ","Позн.разв. к 7г ч2. Н.г.","Позн.разв. к 7г ч2. К.г.","Позн.разв. к 7г ч3. Н.г.","Позн.разв. к 7г ч3. К.г. ","Динамика познав.разв.","Физ.разв. к 7г ч1. Н.г.","Физ.разв. к 7г ч1. К.г. ","Физ.разв. к 7г ч2. Н.г.","Физ.разв. к 7г ч2. К.г.","Физ.разв. к 7г ч3. Н.г.","Физ.разв. к 7г ч3. К.г. ","Динамика физ.разв.","Худ.эст.к 7г ч1. Н.г.","Худ.эст.к 7г ч1. К.г. ","Худ.эст.к 7г ч2. Н.г.","Худ.эст.к 7г ч2. К.г. ","Худ.эст.к 7г ч3. Н.г.","Худ.эст.к 7г ч3. К.г. ","Динамика Худ-эстет. разв.","1","2","3","4","5","6","7","8","9","10","11","12","13","14","15","16","17","18","19","20","21","22","23","24","25","26","27","28","29","30"],"not_rendered":{"charts":37},"read":"whole","date_system":"1900"}

{"sheet":"Список","index":0,"n_rows":33,"n_cols":3,"rows_kept":33}
[]
[]
["№","Ф.И. ребенка","дата рождения"]
[1]
[2]
[3]
[4]
[5]
[6]
[7]
[8]
[9]
[10]
[11]
[12]
[13]
[14]
[15]
[16]
[17]
[18]
[19]
[20]
[21]
[22]
[23]
[24]
[25]
[26]
[27]
[28]
[29]
[30]

{"sheet":"Соц.ком.к 7г ч1 Н.г.","index":1,"n_rows":52,"n_cols":15,"rows_kept":52,"merged":[[0,0,0,1],[0,4,0,7],[0,8,0,12],[1,0,1,3],[1,4,1,9],[1,10,1,13],[2,0,2,3],[3,0,3,1],[3,4,3,5],[3,6,3,8],[3,9,3,10],[4,0,4,1],[4,4,4,5],[4,6,4,8],[4,9,4,10],[5,0,9,0],[5,1,9,1],[5,4,5,13],[5,14,9,14],[6,4,6,13],[7,4,7,13],[8,4,8,7],[8,10,8,12],[40,1,40,13],[42,4,42,7],[42,10,42,12],[43,1,43,14],[44,1,44,14]]}
["Финальная диагностика",{"$nulls":3},"ГРУППА ПОДГОТОВИТЕЛЬНОГО К ШКОЛЕ ВОЗРАСТА (6-7 лет)",{"$nulls":3},"Период проведения - окончание посещения группы подготовительного к школе возраста"]
["Стартовая диагностика"]
["*- не диагностируется в данном возрасте"]
["Сформированность показателя",{"$nulls":3},"«2» показатель сформирован",null,"«1» показатель в стадии формирования",null,null,"«0» показатель не сформирован"]
["Средний уровень",{"$nulls":3},"1,8 - 2,0 норма-высокий",null,"1,0 - 1,7 норма - средний",null,null,"0,0 - 0,9 ниже нормы"]
["№","Ф.И. ребенка",null,null,"ОБРАЗОВАТЕЛЬНАЯ ОБЛАСТЬ «СОЦИАЛЬНО-КОММУНИКАТИВНОЕ  РАЗВИТИЕ»",{"$nulls":9},"СРЕДНИЙ ПОКАЗАТЕЛЬ ПО РЕБЕНКУ"]
[{"$nulls":4},"Показатели возможных достижений (возрастные характеристики) к 7 годам"]
[{"$nulls":4},"Сфера социальных отношений"]
[{"$nulls":4},"Отношение к самому себе",{"$nulls":3},"Отношение к сверстникам","Отношение к взрослым","Эмоции",null,null,"Поведение"]
[{"$nulls":4},"Ребенок осознает и признает собственные ошибки, результат поставленных задач, определяет пути развития","Ребенок умеет договариваться и дружить, старается разрешать конфликтные ситуации конструктивными способами","Ребенок способен принимать собственные решения и проявлять инициативу","Ребенок осознанно относится к своему будущему, стремится быть полезным обществу","Ребенок без напоминаний использует в общении формулы словесной вежливости (приветствие, прощание, просьбы, извинения)","Ребенок без напоминаний использует в общении формулы словесной вежливости (приветствие, прощание, просьбы, извинения)","Ребенок понимает чувства и переживания окружающих по невербальным признакам; находит причины и следствия возникновения эмоций, проявляет эмпатию","Ребенок использует социально приемлемые способы проявления эмоций и доступные возрасту регуляции эмоциональных состояний","Ребенок распознает собственные чувства и эмоции, анализирует свои переживания и рассказывает о них","Ребенок самостоятельно соблюдает установленный порядок поведения в группе, регулирует собственную активность"]
[1,{"$f":"Список!B4","v":0},{"$nulls":12},{"$f":"AVERAGE(I11:N11)","v":{"$error":"#DIV/0!"}}]
[2,{"$f":"Список!B5","v":0},{"$nulls":12},{"$error":"#DIV/0!"}]
[3,{"$f":"Список!B6","v":0},{"$nulls":12},{"$error":"#DIV/0!"}]
[4,{"$f":"Список!B7","v":0},{"$nulls":12},{"$error":"#DIV/0!"}]
[5,{"$f":"Список!B8","v":0},{"$nulls":12},{"$error":"#DIV/0!"}]
[6,{"$f":"Список!B9","v":0},{"$nulls":12},{"$error":"#DIV/0!"}]
[7,{"$f":"Список!B10","v":0},{"$nulls":12},{"$error":"#DIV/0!"}]
[8,{"$f":"Список!B11","v":0},{"$nulls":12},{"$error":"#DIV/0!"}]
[9,{"$f":"Список!B12","v":0},{"$nulls":12},{"$error":"#DIV/0!"}]
[10,{"$f":"Список!B13","v":0},{"$nulls":12},{"$error":"#DIV/0!"}]
[11,{"$f":"Список!B14","v":0},{"$nulls":12},{"$error":"#DIV/0!"}]
[12,{"$f":"Список!B15","v":0},{"$nulls":12},{"$error":"#DIV/0!"}]
[13,{"$f":"Список!B16","v":0},{"$nulls":12},{"$error":"#DIV/0!"}]
[14,{"$f":"Список!B17","v":0},{"$nulls":12},{"$error":"#DIV/0!"}]
[15,{"$f":"Список!B18","v":0},{"$nulls":12},{"$error":"#DIV/0!"}]
[16,{"$f":"Список!B19","v":0},{"$nulls":12},{"$error":"#DIV/0!"}]
[17,{"$f":"Список!B20","v":0},{"$nulls":12},{"$error":"#DIV/0!"}]
[18,{"$f":"Список!B21","v":0},{"$nulls":12},{"$error":"#DIV/0!"}]
[19,{"$f":"Список!B22","v":0},{"$nulls":12},{"$error":"#DIV/0!"}]
[20,{"$f":"Список!B23","v":0},{"$nulls":12},{"$error":"#DIV/0!"}]
[21,{"$f":"Список!B24","v":0},{"$nulls":12},{"$error":"#DIV/0!"}]
[22,{"$f":"Список!B25","v":0},{"$nulls":12},{"$error":"#DIV/0!"}]
[23,{"$f":"Список!B26","v":0},{"$nulls":12},{"$error":"#DIV/0!"}]
[24,{"$f":"Список!B27","v":0},{"$nulls":12},{"$error":"#DIV/0!"}]
[25,{"$f":"Список!B28","v":0},{"$nulls":12},{"$error":"#DIV/0!"}]
[26,{"$f":"Список!B29","v":0},{"$nulls":12},{"$error":"#DIV/0!"}]
[27,{"$f":"Список!B30","v":0},{"$nulls":12},{"$error":"#DIV/0!"}]
[28,{"$f":"Список!B31","v":0},{"$nulls":12},{"$error":"#DIV/0!"}]
[29,{"$f":"Список!B32","v":0},{"$nulls":12},{"$error":"#DIV/0!"}]
[30,{"$f":"Список!B33","v":0},{"$nulls":12},{"$error":"#DIV/0!"}]
[null,"СРЕДНИЙ ПОКАЗАТЕЛЬ ПО ГРУППЕ",{"$nulls":12},{"$f":"AVERAGE(O11:O40)","v":{"$error":"#DIV/0!"}}]
[null,"среднее по критерию",null,null,{"$f":"AVERAGE(E11:E40)","v":{"$error":"#DIV/0!"}},{"$f":"AVERAGE(F11:F40)","v":{"$error":"#DIV/0!"}},{"$error":"#DIV/0!"},{"$error":"#DIV/0!"},{"$error":"#DIV/0!"},{"$error":"#DIV/0!"},{"$error":"#DIV/0!"},{"$error":"#DIV/0!"},{"$error":"#DIV/0!"},{"$error":"#DIV/0!"}]
[null,"среднее по разделу",null,null,{"$f":"(E42+F42+G42+H42)/4","v":{"$error":"#DIV/0!"}},{"$nulls":3},{"$f":"I42","v":{"$error":"#DIV/0!"}},{"$f":"J42","v":{"$error":"#DIV/0!"}},{"$f":"(K42+L42+M42)/3","v":{"$error":"#DIV/0!"}},null,null,{"$f":"N42","v":{"$error":"#DIV/0!"}}]
[null,"Ф.И.О, должность специалиста(ов)____________________________________________________________________________________________________________________________________________________________________________________________________________________________________"]
[null,"© Автор-составитель Кулекина И.А., СПБ, 2023"]
[]
[]
[null,"отношение к самому себе",null,null,{"$f":"E43","v":{"$error":"#DIV/0!"}}]
[null,"отношение к сверстникам",null,null,{"$f":"I43","v":{"$error":"#DIV/0!"}}]
[null,"отношение к взрослым",null,null,{"$f":"J43","v":{"$error":"#DIV/0!"}}]
[null,"эмоции",null,null,{"$f":"K43","v":{"$error":"#DIV/0!"}}]
[null,"поведение",null,null,{"$f":"N43","v":{"$error":"#DIV/0!"}}]

{"sheet":"Соц.ком.к 7г ч1 К.г.","index":2,"n_rows":52,"n_cols":15,"rows_kept":52,"merged":[[0,0,0,1],[0,4,0,7],[0,8,0,12],[1,0,1,3],[1,4,1,9],[1,10,1,13],[2,0,2,3],[3,0,3,1],[3,4,3,5],[3,6,3,8],[3,9,3,10],[4,0,4,1],[4,4,4,5],[4,6,4,8],[4,9,4,10],[5,0,9,0],[5,1,9,1],[5,4,5,13],[5,14,9,14],[6,4,6,13],[7,4,7,13],[8,4,8,7],[8,10,8,12],[40,1,40,13],[42,4,42,7],[42,10,42,12],[43,1,43,14],[44,1,44,14]]}
["Финальная диагностика",{"$nulls":3},"ГРУППА ПОДГОТОВИТЕЛЬНОГО К ШКОЛЕ ВОЗРАСТА (6-7 лет)",{"$nulls":3},"Период проведения - окончание посещения группы подготовительного к школе возраста"]
["Стартовая диагностика"]
["*- не диагностируется в данном возрасте"]
["Сформированность показателя",{"$nulls":3},"«2» показатель сформирован",null,"«1» показатель в стадии формирования",null,null,"«0» показатель не сформирован"]
["Средний уровень",{"$nulls":3},"1,8 - 2,0 норма-высокий",null,"1,0 - 1,7 норма - средний",null,null,"0,0 - 0,9 ниже нормы"]
["№","Ф.И. ребенка",null,null,"ОБРАЗОВАТЕЛЬНАЯ ОБЛАСТЬ «СОЦИАЛЬНО-КОММУНИКАТИВНОЕ  РАЗВИТИЕ»",{"$nulls":9},"СРЕДНИЙ ПОКАЗАТЕЛЬ ПО РЕБЕНКУ"]
[{"$nulls":4},"Показатели возможных достижений (возрастные характеристики) к 7 годам"]
[{"$nulls":4},"Сфера социальных отношений"]
[{"$nulls":4},"Отношение к самому себе",{"$nulls":3},"Отношение к сверстникам","Отношение к взрослым","Эмоции",null,null,"Поведение"]
[{"$nulls":4},"Ребенок осознает и признает собственные ошибки, результат поставленных задач, определяет пути развития","Ребенок умеет договариваться и дружить, старается разрешать конфликтные ситуации конструктивными способами","Ребенок способен принимать собственные решения и проявлять инициативу","Ребенок осознанно относится к своему будущему, стремится быть полезным обществу","Ребенок без напоминаний использует в общении формулы словесной вежливости (приветствие, прощание, просьбы, извинения)","Ребенок без напоминаний использует в общении формулы словесной вежливости (приветствие, прощание, просьбы, извинения)","Ребенок понимает чувства и переживания окружающих по невербальным признакам; находит причины и следствия возникновения эмоций, проявляет эмпатию","Ребенок использует социально приемлемые способы проявления эмоций и доступные возрасту регуляции эмоциональных состояний","Ребенок распознает собственные чувства и эмоции, анализирует свои переживания и рассказывает о них","Ребенок самостоятельно соблюдает установленный порядок поведения в группе, регулирует собственную активность"]
[1,{"$f":"Список!B4","v":0},{"$nulls":12},{"$f":"AVERAGE(I11:N11)","v":{"$error":"#DIV/0!"}}]
[2,{"$f":"Список!B5","v":0},{"$nulls":12},{"$error":"#DIV/0!"}]
[3,{"$f":"Список!B6","v":0},{"$nulls":12},{"$error":"#DIV/0!"}]
[4,{"$f":"Список!B7","v":0},{"$nulls":12},{"$error":"#DIV/0!"}]
[5,{"$f":"Список!B8","v":0},{"$nulls":12},{"$error":"#DIV/0!"}]
[6,{"$f":"Список!B9","v":0},{"$nulls":12},{"$error":"#DIV/0!"}]
[7,{"$f":"Список!B10","v":0},{"$nulls":12},{"$error":"#DIV/0!"}]
[8,{"$f":"Список!B11","v":0},{"$nulls":12},{"$error":"#DIV/0!"}]
[9,{"$f":"Список!B12","v":0},{"$nulls":12},{"$error":"#DIV/0!"}]
[10,{"$f":"Список!B13","v":0},{"$nulls":12},{"$error":"#DIV/0!"}]
[11,{"$f":"Список!B14","v":0},{"$nulls":12},{"$error":"#DIV/0!"}]
[12,{"$f":"Список!B15","v":0},{"$nulls":12},{"$error":"#DIV/0!"}]
[13,{"$f":"Список!B16","v":0},{"$nulls":12},{"$error":"#DIV/0!"}]
[14,{"$f":"Список!B17","v":0},{"$nulls":12},{"$error":"#DIV/0!"}]
[15,{"$f":"Список!B18","v":0},{"$nulls":12},{"$error":"#DIV/0!"}]
[16,{"$f":"Список!B19","v":0},{"$nulls":12},{"$error":"#DIV/0!"}]
[17,{"$f":"Список!B20","v":0},{"$nulls":12},{"$error":"#DIV/0!"}]
[18,{"$f":"Список!B21","v":0},{"$nulls":12},{"$error":"#DIV/0!"}]
[19,{"$f":"Список!B22","v":0},{"$nulls":12},{"$error":"#DIV/0!"}]
[20,{"$f":"Список!B23","v":0},{"$nulls":12},{"$error":"#DIV/0!"}]
[21,{"$f":"Список!B24","v":0},{"$nulls":12},{"$error":"#DIV/0!"}]
[22,{"$f":"Список!B25","v":0},{"$nulls":12},{"$error":"#DIV/0!"}]
[23,{"$f":"Список!B26","v":0},{"$nulls":12},{"$error":"#DIV/0!"}]
[24,{"$f":"Список!B27","v":0},{"$nulls":12},{"$error":"#DIV/0!"}]
[25,{"$f":"Список!B28","v":0},{"$nulls":12},{"$error":"#DIV/0!"}]
[26,{"$f":"Список!B29","v":0},{"$nulls":12},{"$error":"#DIV/0!"}]
[27,{"$f":"Список!B30","v":0},{"$nulls":12},{"$error":"#DIV/0!"}]
[28,{"$f":"Список!B31","v":0},{"$nulls":12},{"$error":"#DIV/0!"}]
[29,{"$f":"Список!B32","v":0},{"$nulls":12},{"$error":"#DIV/0!"}]
[30,{"$f":"Список!B33","v":0},{"$nulls":12},{"$error":"#DIV/0!"}]
[null,"СРЕДНИЙ ПОКАЗАТЕЛЬ ПО ГРУППЕ",{"$nulls":12},{"$f":"AVERAGE(O11:O40)","v":{"$error":"#DIV/0!"}}]
[null,"среднее по критерию",null,null,{"$f":"AVERAGE(E11:E40)","v":{"$error":"#DIV/0!"}},{"$f":"AVERAGE(F11:F40)","v":{"$error":"#DIV/0!"}},{"$error":"#DIV/0!"},{"$error":"#DIV/0!"},{"$error":"#DIV/0!"},{"$error":"#DIV/0!"},{"$error":"#DIV/0!"},{"$error":"#DIV/0!"},{"$error":"#DIV/0!"},{"$error":"#DIV/0!"}]
[null,"среднее по разделу",null,null,{"$f":"(E42+F42+G42+H42)/4","v":{"$error":"#DIV/0!"}},{"$nulls":3},{"$f":"I42","v":{"$error":"#DIV/0!"}},{"$f":"J42","v":{"$error":"#DIV/0!"}},{"$f":"(K42+L42+M42)/3","v":{"$error":"#DIV/0!"}},null,null,{"$f":"N42","v":{"$error":"#DIV/0!"}}]
[null,"Ф.И.О, должность специалиста(ов)____________________________________________________________________________________________________________________________________________________________________________________________________________________________________"]
[null,"© Автор-составитель Кулекина И.А., СПБ, 2023"]
[]
[]
[null,"отношение к самому себе",null,null,{"$f":"E43","v":{"$error":"#DIV/0!"}}]
[null,"отношение к сверстникам",null,null,{"$f":"I43","v":{"$error":"#DIV/0!"}}]
[null,"отношение к взрослым",null,null,{"$f":"J43","v":{"$error":"#DIV/0!"}}]
[null,"эмоции",null,null,{"$f":"K43","v":{"$error":"#DIV/0!"}}]
[null,"поведение",null,null,{"$f":"N43","v":{"$error":"#DIV/0!"}}]

{"sheet":"Соц.ком.к 7г ч2 Н.г.","index":3,"n_rows":52,"n_cols":12,"rows_kept":52,"merged":[[0,0,0,1],[0,4,0,5],[0,6,0,7],[1,0,1,3],[2,0,2,3],[3,0,3,1],[3,4,3,5],[4,0,4,1],[4,4,4,5],[5,0,9,0],[5,1,9,1],[5,4,5,10],[5,11,9,11],[6,4,6,10],[7,4,7,10],[8,4,8,5],[8,6,8,7],[8,8,9,8],[8,9,9,9],[8,10,9,10],[40,1,40,10],[42,4,42,5],[42,6,42,7],[43,1,43,11],[44,1,44,11]]}
["Финальная диагностика",{"$nulls":3},"ГРУППА ПОДГОТОВИТЕЛЬНОГО К ШКОЛЕ ВОЗРАСТА (6-7 лет)",null,"Период проведения - окончание посещения группы подготовительного к школе возраста"]
["Стартовая диагностика"]
["*- не диагностируется в данном возрасте"]
["Сформированность показателя",{"$nulls":3},"«2» показатель сформирован",null,"«1» показатель в стадии формирования","«0» показатель не сформирован"]
["Средний уровень",{"$nulls":3},"1,8 - 2,0 норма-высокий",null,"1,0 - 1,7 норма - средний","0,0 - 0,9 ниже нормы"]
["№","Ф.И. ребенка",null,null,"ОБРАЗОВАТЕЛЬНАЯ ОБЛАСТЬ «СОЦИАЛЬНО-КОММУНИКАТИВНОЕ  РАЗВИТИЕ»",{"$nulls":6},"СРЕДНИЙ ПОКАЗАТЕЛЬ ПО РЕБЕНКУ"]
[{"$nulls":4},"Показатели возможных достижений (возрастные характеристики) к 7 годам"]
[{"$nulls":4},"Сфера социальных отношений"]
[{"$nulls":4},"Семья",null,"Игровое поведение",null,"Ребенок имеет представление об изменениях позиции человека с возрастом","Ребенок имеет представление о школе, школьниках, учителях; стремится к школьному обучению, к познанию, освоению чтения, письма; демонстрирует формированные предпосылки к учебной деятельности и элементы готовности к школьному обучению","Ребенок имеет представление о нравственных качествах людей, их проявлении в поступках и взаимоотношениях"]
[{"$nulls":4},"Ребенок имеет представление о необходимости укрепления связи между поколениями, взаимной поддержке детей и взрослых","Ребенок имеет представление о семье, семейных и родственных отношениях (взаимные чувства, правила общения в семье, значимые и памятные события, досуг семьи, семейный бюджет)","Ребенок умеет сотрудничать со сверстниками (побуждает к обсуждению планов, советуется, поддерживает интерес к мнению, инициирует ситуации взаимопомощи, подчеркивает ценность каждого ребенка и его вклад в общее дело, выбирает партнеров по интересам, помогает устанавливать темп совместных действий)","Ребенок владеет разными способами и видами игры, различает условную и реальную ситуации, предлагает и объясняет замысел игры, комбинирует сюжеты на основе реальных, вымышленных ситуаций, выполняет несколько ролей в одной игре, подбирает разные средства для создания игровых образов, согласовывает свои интересы с интересами партнёров по игре"]
[1,{"$f":"Список!B4","v":0},{"$nulls":9},{"$f":"AVERAGE(E11:K11)","v":{"$error":"#DIV/0!"}}]
[2,{"$f":"Список!B5","v":0},{"$nulls":9},{"$error":"#DIV/0!"}]
[3,{"$f":"Список!B6","v":0},{"$nulls":9},{"$error":"#DIV/0!"}]
[4,{"$f":"Список!B7","v":0},{"$nulls":9},{"$error":"#DIV/0!"}]
[5,{"$f":"Список!B8","v":0},{"$nulls":9},{"$error":"#DIV/0!"}]
[6,{"$f":"Список!B9","v":0},{"$nulls":9},{"$error":"#DIV/0!"}]
[7,{"$f":"Список!B10","v":0},{"$nulls":9},{"$error":"#DIV/0!"}]
[8,{"$f":"Список!B11","v":0},{"$nulls":9},{"$error":"#DIV/0!"}]
[9,{"$f":"Список!B12","v":0},{"$nulls":9},{"$error":"#DIV/0!"}]
[10,{"$f":"Список!B13","v":0},{"$nulls":9},{"$error":"#DIV/0!"}]
[11,{"$f":"Список!B14","v":0},{"$nulls":9},{"$error":"#DIV/0!"}]
[12,{"$f":"Список!B15","v":0},{"$nulls":9},{"$error":"#DIV/0!"}]
[13,{"$f":"Список!B16","v":0},{"$nulls":9},{"$error":"#DIV/0!"}]
[14,{"$f":"Список!B17","v":0},{"$nulls":9},{"$error":"#DIV/0!"}]
[15,{"$f":"Список!B18","v":0},{"$nulls":9},{"$error":"#DIV/0!"}]
[16,{"$f":"Список!B19","v":0},{"$nulls":9},{"$error":"#DIV/0!"}]
[17,{"$f":"Список!B20","v":0},{"$nulls":9},{"$error":"#DIV/0!"}]
[18,{"$f":"Список!B21","v":0},{"$nulls":9},{"$error":"#DIV/0!"}]
[19,{"$f":"Список!B22","v":0},{"$nulls":9},{"$error":"#DIV/0!"}]
[20,{"$f":"Список!B23","v":0},{"$nulls":9},{"$error":"#DIV/0!"}]
[21,{"$f":"Список!B24","v":0},{"$nulls":9},{"$error":"#DIV/0!"}]
[22,{"$f":"Список!B25","v":0},{"$nulls":9},{"$error":"#DIV/0!"}]
[23,{"$f":"Список!B26","v":0},{"$nulls":9},{"$error":"#DIV/0!"}]
[24,{"$f":"Список!B27","v":0},{"$nulls":9},{"$error":"#DIV/0!"}]
[25,{"$f":"Список!B28","v":0},{"$nulls":9},{"$error":"#DIV/0!"}]
[26,{"$f":"Список!B29","v":0},{"$nulls":9},{"$error":"#DIV/0!"}]
[27,{"$f":"Список!B30","v":0},{"$nulls":9},{"$error":"#DIV/0!"}]
[28,{"$f":"Список!B31","v":0},{"$nulls":9},{"$error":"#DIV/0!"}]
[29,{"$f":"Список!B32","v":0},{"$nulls":9},{"$error":"#DIV/0!"}]
[30,{"$f":"Список!B33","v":0},{"$nulls":9},{"$error":"#DIV/0!"}]
[null,"СРЕДНИЙ ПОКАЗАТЕЛЬ ПО ГРУППЕ",{"$nulls":9},{"$f":"AVERAGE(L11:L40)","v":{"$error":"#DIV/0!"}}]
[null,"среднее по критерию",null,null,{"$f":"AVERAGE(E11:E40)","v":{"$error":"#DIV/0!"}},{"$f":"AVERAGE(F11:F40)","v":{"$error":"#DIV/0!"}},{"$error":"#DIV/0!"},{"$error":"#DIV/0!"},{"$error":"#DIV/0!"},{"$error":"#DIV/0!"},{"$error":"#DIV/0!"}]
[null,"среднее по разделу",null,null,{"$f":"(E42+F42)/2","v":{"$error":"#DIV/0!"}},null,{"$f":"(G42+H42)/2","v":{"$error":"#DIV/0!"}},null,{"$f":"I42","v":{"$error":"#DIV/0!"}},{"$f":"J42","v":{"$error":"#DIV/0!"}},{"$f":"K42","v":{"$error":"#DIV/0!"}}]
[null,"Ф.И.О, должность специалиста(ов)____________________________________________________________________________________________________________________________________________________________________________________________________________________________________"]
[null,"© Автор-составитель Кулекина И.А., СПБ, 2023"]
[]
[]
[null,"семья",null,null,{"$f":"E43","v":{"$error":"#DIV/0!"}}]
[null,"игровое поведение",null,null,{"$f":"G43","v":{"$error":"#DIV/0!"}}]
[null,"Ребенок имеет представление об изменениях позиции человека с возрастом",null,null,{"$f":"I43","v":{"$error":"#DIV/0!"}}]
[null,"Ребенок имеет представление о школе, школьниках, учителях; стремится к школьному обучению, к познанию, освоению чтения, письма; демонстрирует формированные предпосылки к учебной деятельности и элементы готовности к школьному обучению",null,null,{"$f":"J43","v":{"$error":"#DIV/0!"}}]
[null,"Ребенок имеет представление о нравственных качествах людей, их проявлении в поступках и взаимоотношениях",null,null,{"$f":"K43","v":{"$error":"#DIV/0!"}}]

{"sheet":"Соц.ком.к 7г ч2 К.г.","index":4,"n_rows":52,"n_cols":12,"rows_kept":52,"merged":[[0,0,0,1],[0,4,0,5],[0,6,0,7],[1,0,1,3],[2,0,2,3],[3,0,3,1],[3,4,3,5],[4,0,4,1],[4,4,4,5],[5,0,9,0],[5,1,9,1],[5,4,5,10],[5,11,9,11],[6,4,6,10],[7,4,7,10],[8,4,8,5],[8,6,8,7],[8,8,9,8],[8,9,9,9],[8,10,9,10],[40,1,40,10],[42,4,42,5],[42,6,42,7],[43,1,43,11],[44,1,44,11]]}
["Финальная диагностика",{"$nulls":3},"ГРУППА ПОДГОТОВИТЕЛЬНОГО К ШКОЛЕ ВОЗРАСТА (6-7 лет)",null,"Период проведения - окончание посещения группы подготовительного к школе возраста"]
["Стартовая диагностика"]
["*- не диагностируется в данном возрасте"]
["Сформированность показателя",{"$nulls":3},"«2» показатель сформирован",null,"«1» показатель в стадии формирования","«0» показатель не сформирован"]
["Средний уровень",{"$nulls":3},"1,8 - 2,0 норма-высокий",null,"1,0 - 1,7 норма - средний","0,0 - 0,9 ниже нормы"]
["№","Ф.И. ребенка",null,null,"ОБРАЗОВАТЕЛЬНАЯ ОБЛАСТЬ «СОЦИАЛЬНО-КОММУНИКАТИВНОЕ  РАЗВИТИЕ»",{"$nulls":6},"СРЕДНИЙ ПОКАЗАТЕЛЬ ПО РЕБЕНКУ"]
[{"$nulls":4},"Показатели возможных достижений (возрастные характеристики) к 7 годам"]
[{"$nulls":4},"Сфера социальных отношений"]
[{"$nulls":4},"Семья",null,"Игровое поведение",null,"Ребенок имеет представление об изменениях позиции человека с возрастом","Ребенок имеет представление о школе, школьниках, учителях; стремится к школьному обучению, к познанию, освоению чтения, письма; демонстрирует формированные предпосылки к учебной деятельности и элементы готовности к школьному обучению","Ребенок имеет представление о нравственных качествах людей, их проявлении в поступках и взаимоотношениях"]
[{"$nulls":4},"Ребенок имеет представление о необходимости укрепления связи между поколениями, взаимной поддержке детей и взрослых","Ребенок имеет представление о семье, семейных и родственных отношениях (взаимные чувства, правила общения в семье, значимые и памятные события, досуг семьи, семейный бюджет)","Ребенок умеет сотрудничать со сверстниками (побуждает к обсуждению планов, советуется, поддерживает интерес к мнению, инициирует ситуации взаимопомощи, подчеркивает ценность каждого ребенка и его вклад в общее дело, выбирает партнеров по интересам, помогает устанавливать темп совместных действий)","Ребенок владеет разными способами и видами игры, различает условную и реальную ситуации, предлагает и объясняет замысел игры, комбинирует сюжеты на основе реальных, вымышленных ситуаций, выполняет несколько ролей в одной игре, подбирает разные средства для создания игровых образов, согласовывает свои интересы с интересами партнёров по игре"]
[1,{"$f":"Список!B4","v":0},{"$nulls":9},{"$f":"AVERAGE(E11:K11)","v":{"$error":"#DIV/0!"}}]
[2,{"$f":"Список!B5","v":0},{"$nulls":9},{"$error":"#DIV/0!"}]
[3,{"$f":"Список!B6","v":0},{"$nulls":9},{"$error":"#DIV/0!"}]
[4,{"$f":"Список!B7","v":0},{"$nulls":9},{"$error":"#DIV/0!"}]
[5,{"$f":"Список!B8","v":0},{"$nulls":9},{"$error":"#DIV/0!"}]
[6,{"$f":"Список!B9","v":0},{"$nulls":9},{"$error":"#DIV/0!"}]
[7,{"$f":"Список!B10","v":0},{"$nulls":9},{"$error":"#DIV/0!"}]
[8,{"$f":"Список!B11","v":0},{"$nulls":9},{"$error":"#DIV/0!"}]
[9,{"$f":"Список!B12","v":0},{"$nulls":9},{"$error":"#DIV/0!"}]
[10,{"$f":"Список!B13","v":0},{"$nulls":9},{"$error":"#DIV/0!"}]
[11,{"$f":"Список!B14","v":0},{"$nulls":9},{"$error":"#DIV/0!"}]
[12,{"$f":"Список!B15","v":0},{"$nulls":9},{"$error":"#DIV/0!"}]
[13,{"$f":"Список!B16","v":0},{"$nulls":9},{"$error":"#DIV/0!"}]
[14,{"$f":"Список!B17","v":0},{"$nulls":9},{"$error":"#DIV/0!"}]
[15,{"$f":"Список!B18","v":0},{"$nulls":9},{"$error":"#DIV/0!"}]
[16,{"$f":"Список!B19","v":0},{"$nulls":9},{"$error":"#DIV/0!"}]
[17,{"$f":"Список!B20","v":0},{"$nulls":9},{"$error":"#DIV/0!"}]
[18,{"$f":"Список!B21","v":0},{"$nulls":9},{"$error":"#DIV/0!"}]
[19,{"$f":"Список!B22","v":0},{"$nulls":9},{"$error":"#DIV/0!"}]
[20,{"$f":"Список!B23","v":0},{"$nulls":9},{"$error":"#DIV/0!"}]
[21,{"$f":"Список!B24","v":0},{"$nulls":9},{"$error":"#DIV/0!"}]
[22,{"$f":"Список!B25","v":0},{"$nulls":9},{"$error":"#DIV/0!"}]
[23,{"$f":"Список!B26","v":0},{"$nulls":9},{"$error":"#DIV/0!"}]
[24,{"$f":"Список!B27","v":0},{"$nulls":9},{"$error":"#DIV/0!"}]
[25,{"$f":"Список!B28","v":0},{"$nulls":9},{"$error":"#DIV/0!"}]
[26,{"$f":"Список!B29","v":0},{"$nulls":9},{"$error":"#DIV/0!"}]
[27,{"$f":"Список!B30","v":0},{"$nulls":9},{"$error":"#DIV/0!"}]
[28,{"$f":"Список!B31","v":0},{"$nulls":9},{"$error":"#DIV/0!"}]
[29,{"$f":"Список!B32","v":0},{"$nulls":9},{"$error":"#DIV/0!"}]
[30,{"$f":"Список!B33","v":0},{"$nulls":9},{"$error":"#DIV/0!"}]
[null,"СРЕДНИЙ ПОКАЗАТЕЛЬ ПО ГРУППЕ",{"$nulls":9},{"$f":"AVERAGE(L11:L40)","v":{"$error":"#DIV/0!"}}]
[null,"среднее по критерию",null,null,{"$f":"AVERAGE(E11:E40)","v":{"$error":"#DIV/0!"}},{"$f":"AVERAGE(F11:F40)","v":{"$error":"#DIV/0!"}},{"$error":"#DIV/0!"},{"$error":"#DIV/0!"},{"$error":"#DIV/0!"},{"$error":"#DIV/0!"},{"$error":"#DIV/0!"}]
[null,"среднее по разделу",null,null,{"$f":"(E42+F42)/2","v":{"$error":"#DIV/0!"}},null,{"$f":"(G42+H42)/2","v":{"$error":"#DIV/0!"}},null,{"$f":"I42","v":{"$error":"#DIV/0!"}},{"$f":"J42","v":{"$error":"#DIV/0!"}},{"$f":"K42","v":{"$error":"#DIV/0!"}}]
[null,"Ф.И.О, должность специалиста(ов)____________________________________________________________________________________________________________________________________________________________________________________________________________________________________"]
[null,"© Автор-составитель Кулекина И.А., СПБ, 2023"]
[]
[]
[null,"семья",null,null,{"$f":"E43","v":{"$error":"#DIV/0!"}}]
[null,"игровое поведение",null,null,{"$f":"G43","v":{"$error":"#DIV/0!"}}]
[null,"Ребенок имеет представление об изменениях позиции человека с возрастом",null,null,{"$f":"I43","v":{"$error":"#DIV/0!"}}]
[null,"Ребенок имеет представление о школе, школьниках, учителях; стремится к школьному обучению, к познанию, освоению чтения, письма; демонстрирует формированные предпосылки к учебной деятельности и элементы готовности к школьному обучению",null,null,{"$f":"J43","v":{"$error":"#DIV/0!"}}]
[null,"Ребенок имеет представление о нравственных качествах людей, их проявлении в поступках и взаимоотношениях",null,null,{"$f":"K43","v":{"$error":"#DIV/0!"}}]

{"sheet":"Соц.ком. к 7г ч3 Н.г.","index":5,"n_rows":49,"n_cols":13,"rows_kept":49,"merged":[[0,0,0,1],[0,4,0,7],[0,8,0,10],[1,0,1,3],[1,4,1,8],[2,0,2,3],[3,0,3,1],[3,4,3,5],[3,6,3,8],[4,0,4,1],[4,4,4,5],[4,6,4,8],[5,0,9,0],[5,1,9,1],[5,4,5,11],[5,12,9,12],[6,4,6,11],[7,4,7,8],[7,9,7,11],[8,4,9,4],[8,5,9,5],[8,6,9,6],[8,7,9,7],[8,8,9,8],[8,9,9,9],[8,10,9,10],[8,11,9,11],[40,1,40,11],[42,4,42,8],[42,9,42,11],[43,1,43,12],[44,1,44,12]]}
["Финальная диагностика",{"$nulls":3},"ГРУППА ПОДГОТОВИТЕЛЬНОГО К ШКОЛЕ ВОЗРАСТА (6-7 лет)",{"$nulls":3},"Период проведения - окончание посещения группы подготовительного к школе возраста"]
["Стартовая диагностика"]
["*- не диагностируется в данном возрасте"]
["Сформированность показателя",{"$nulls":3},"«2» показатель сформирован",null,"«1» показатель в стадии формирования",null,null,"«0» показатель не сформирован"]
["Средний уровень",{"$nulls":3},"1,8 - 2,0 норма-высокий",null,"1,0 - 1,7 норма - средний",null,null,"0,0 - 0,9 ниже нормы"]
["№","Ф.И. ребенка",null,null,"ОБРАЗОВАТЕЛЬНАЯ ОБЛАСТЬ «СОЦИАЛЬНО-КОММУНИКАТИВНОЕ  РАЗВИТИЕ»",{"$nulls":7},"СРЕДНИЙ ПОКАЗАТЕЛЬ ПО РЕБЕНКУ"]
[{"$nulls":4},"Показатели возможных достижений (возрастные характеристики) к 7 годам"]
[{"$nulls":4},"Область формирования основ гражданственности и патриотизма",{"$nulls":4},"Сфера трудового воспитания"]
[{"$nulls":4},"Ребенок имеет представление о признаках и характеристиках государства (территория государства и его границы, столица), атрибутах государственной власти, президенте, столице","Ребенок имеет представление о порядке использования государственной символики","Ребенок имеет представление о волонтерстве","Ребенок имеет представление о государственных праздниках, исторических событиях","Ребенок имеет представление о жизни людей в России, о многообразии стран и народов мира","Ребенок имеет представление об обмене ценностями в процессе производства и потребления товаров и услуг, о денежных отношениях, о реальной стоимости отдельных продуктов питания, игрушек, детских книг","Ребенок имеет представление о об основах финансовой грамоты, основах бережного потребления","Ребенок проявляет инициативность и самостоятельность в процессе самообслуживания, при выполнении трудовых поручений"]
[]
[1,{"$f":"Список!B4","v":0},{"$nulls":10},{"$f":"AVERAGE(E11:L11)","v":{"$error":"#DIV/0!"}}]
[2,{"$f":"Список!B5","v":0},{"$nulls":10},{"$error":"#DIV/0!"}]
[3,{"$f":"Список!B6","v":0},{"$nulls":10},{"$error":"#DIV/0!"}]
[4,{"$f":"Список!B7","v":0},{"$nulls":10},{"$error":"#DIV/0!"}]
[5,{"$f":"Список!B8","v":0},{"$nulls":10},{"$error":"#DIV/0!"}]
[6,{"$f":"Список!B9","v":0},{"$nulls":10},{"$error":"#DIV/0!"}]
[7,{"$f":"Список!B10","v":0},{"$nulls":10},{"$error":"#DIV/0!"}]
[8,{"$f":"Список!B11","v":0},{"$nulls":10},{"$error":"#DIV/0!"}]
[9,{"$f":"Список!B12","v":0},{"$nulls":10},{"$error":"#DIV/0!"}]
[10,{"$f":"Список!B13","v":0},{"$nulls":10},{"$error":"#DIV/0!"}]
[11,{"$f":"Список!B14","v":0},{"$nulls":10},{"$error":"#DIV/0!"}]
[12,{"$f":"Список!B15","v":0},{"$nulls":10},{"$error":"#DIV/0!"}]
[13,{"$f":"Список!B16","v":0},{"$nulls":10},{"$error":"#DIV/0!"}]
[14,{"$f":"Список!B17","v":0},{"$nulls":10},{"$error":"#DIV/0!"}]
[15,{"$f":"Список!B18","v":0},{"$nulls":10},{"$error":"#DIV/0!"}]
[16,{"$f":"Список!B19","v":0},{"$nulls":10},{"$error":"#DIV/0!"}]
[17,{"$f":"Список!B20","v":0},{"$nulls":10},{"$error":"#DIV/0!"}]
[18,{"$f":"Список!B21","v":0},{"$nulls":10},{"$error":"#DIV/0!"}]
[19,{"$f":"Список!B22","v":0},{"$nulls":10},{"$error":"#DIV/0!"}]
[20,{"$f":"Список!B23","v":0},{"$nulls":10},{"$error":"#DIV/0!"}]
[21,{"$f":"Список!B24","v":0},{"$nulls":10},{"$error":"#DIV/0!"}]
[22,{"$f":"Список!B25","v":0},{"$nulls":10},{"$error":"#DIV/0!"}]
[23,{"$f":"Список!B26","v":0},{"$nulls":10},{"$error":"#DIV/0!"}]
[24,{"$f":"Список!B27","v":0},{"$nulls":10},{"$error":"#DIV/0!"}]
[25,{"$f":"Список!B28","v":0},{"$nulls":10},{"$error":"#DIV/0!"}]
[26,{"$f":"Список!B29","v":0},{"$nulls":10},{"$error":"#DIV/0!"}]
[27,{"$f":"Список!B30","v":0},{"$nulls":10},{"$error":"#DIV/0!"}]
[28,{"$f":"Список!B31","v":0},{"$nulls":10},{"$error":"#DIV/0!"}]
[29,{"$f":"Список!B32","v":0},{"$nulls":10},{"$error":"#DIV/0!"}]
[30,{"$f":"Список!B33","v":0},{"$nulls":10},{"$error":"#DIV/0!"}]
[null,"СРЕДНИЙ ПОКАЗАТЕЛЬ ПО ГРУППЕ",{"$nulls":10},{"$f":"AVERAGE(M11:M40)","v":{"$error":"#DIV/0!"}}]
[null,"среднее по критерию",null,null,{"$f":"AVERAGE(E11:E40)","v":{"$error":"#DIV/0!"}},{"$f":"AVERAGE(F11:F40)","v":{"$error":"#DIV/0!"}},{"$error":"#DIV/0!"},{"$error":"#DIV/0!"},{"$error":"#DIV/0!"},{"$error":"#DIV/0!"},{"$error":"#DIV/0!"},{"$error":"#DIV/0!"}]
[null,"среднее по разделу",null,null,{"$f":"(E42+F42+G42+H42+I42)/5","v":{"$error":"#DIV/0!"}},{"$nulls":4},{"$f":"(J42+K42+L42)/3","v":{"$error":"#DIV/0!"}}]
[null,"Ф.И.О, должность специалиста(ов)____________________________________________________________________________________________________________________________________________________________________________________________________________________________________"]
[null,"© Автор-составитель Кулекина И.А., СПБ, 2023"]
[]
[]
[null,"Область формирования основ гражданственности и патриотизма",null,null,{"$f":"E43","v":{"$error":"#DIV/0!"}}]
[null,"Сфера трудового воспитания",null,null,{"$f":"J43","v":{"$error":"#DIV/0!"}}]

{"sheet":"Соц.ком. к 7г ч3 К.г.","index":6,"n_rows":49,"n_cols":13,"rows_kept":49,"merged":[[0,0,0,1],[0,4,0,7],[0,8,0,10],[1,0,1,3],[1,4,1,8],[2,0,2,3],[3,0,3,1],[3,4,3,5],[3,6,3,8],[4,0,4,1],[4,4,4,5],[4,6,4,8],[5,0,9,0],[5,1,9,1],[5,4,5,11],[5,12,9,12],[6,4,6,11],[7,4,7,8],[7,9,7,11],[8,4,9,4],[8,5,9,5],[8,6,9,6],[8,7,9,7],[8,8,9,8],[8,9,9,9],[8,10,9,10],[8,11,9,11],[40,1,40,11],[42,4,42,8],[42,9,42,11],[43,1,43,12],[44,1,44,12]]}
["Финальная диагностика",{"$nulls":3},"ГРУППА ПОДГОТОВИТЕЛЬНОГО К ШКОЛЕ ВОЗРАСТА (6-7 лет)",{"$nulls":3},"Период проведения - окончание посещения группы подготовительного к школе возраста"]
["Стартовая диагностика"]
["*- не диагностируется в данном возрасте"]
["Сформированность показателя",{"$nulls":3},"«2» показатель сформирован",null,"«1» показатель в стадии формирования",null,null,"«0» показатель не сформирован"]
["Средний уровень",{"$nulls":3},"1,8 - 2,0 норма-высокий",null,"1,0 - 1,7 норма - средний",null,null,"0,0 - 0,9 ниже нормы"]
["№","Ф.И. ребенка",null,null,"ОБРАЗОВАТЕЛЬНАЯ ОБЛАСТЬ «СОЦИАЛЬНО-КОММУНИКАТИВНОЕ  РАЗВИТИЕ»",{"$nulls":7},"СРЕДНИЙ ПОКАЗАТЕЛЬ ПО РЕБЕНКУ"]
[{"$nulls":4},"Показатели возможных достижений (возрастные характеристики) к 7 годам"]
[{"$nulls":4},"Область формирования основ гражданственности и патриотизма",{"$nulls":4},"Сфера трудового воспитания"]
[{"$nulls":4},"Ребенок имеет представление о признаках и характеристиках государства (территория государства и его границы, столица), атрибутах государственной власти, президенте, столице","Ребенок имеет представление о порядке использования государственной символики","Ребенок имеет представление о волонтерстве","Ребенок имеет представление о государственных праздниках, исторических событиях","Ребенок имеет представление о жизни людей в России, о многообразии стран и народов мира","Ребенок имеет представление об обмене ценностями в процессе производства и потребления товаров и услуг, о денежных отношениях, о реальной стоимости отдельных продуктов питания, игрушек, детских книг","Ребенок имеет представление о об основах финансовой грамоты, основах бережного потребления","Ребенок проявляет инициативность и самостоятельность в процессе самообслуживания, при выполнении трудовых поручений"]
[]
[1,{"$f":"Список!B4","v":0},{"$nulls":10},{"$f":"AVERAGE(E11:L11)","v":{"$error":"#DIV/0!"}}]
[2,{"$f":"Список!B5","v":0},{"$nulls":10},{"$error":"#DIV/0!"}]
[3,{"$f":"Список!B6","v":0},{"$nulls":10},{"$error":"#DIV/0!"}]
[4,{"$f":"Список!B7","v":0},{"$nulls":10},{"$error":"#DIV/0!"}]
[5,{"$f":"Список!B8","v":0},{"$nulls":10},{"$error":"#DIV/0!"}]
[6,{"$f":"Список!B9","v":0},{"$nulls":10},{"$error":"#DIV/0!"}]
[7,{"$f":"Список!B10","v":0},{"$nulls":10},{"$error":"#DIV/0!"}]
[8,{"$f":"Список!B11","v":0},{"$nulls":10},{"$error":"#DIV/0!"}]
[9,{"$f":"Список!B12","v":0},{"$nulls":10},{"$error":"#DIV/0!"}]
[10,{"$f":"Список!B13","v":0},{"$nulls":10},{"$error":"#DIV/0!"}]
[11,{"$f":"Список!B14","v":0},{"$nulls":10},{"$error":"#DIV/0!"}]
[12,{"$f":"Список!B15","v":0},{"$nulls":10},{"$error":"#DIV/0!"}]
[13,{"$f":"Список!B16","v":0},{"$nulls":10},{"$error":"#DIV/0!"}]
[14,{"$f":"Список!B17","v":0},{"$nulls":10},{"$error":"#DIV/0!"}]
[15,{"$f":"Список!B18","v":0},{"$nulls":10},{"$error":"#DIV/0!"}]
[16,{"$f":"Список!B19","v":0},{"$nulls":10},{"$error":"#DIV/0!"}]
[17,{"$f":"Список!B20","v":0},{"$nulls":10},{"$error":"#DIV/0!"}]
[18,{"$f":"Список!B21","v":0},{"$nulls":10},{"$error":"#DIV/0!"}]
[19,{"$f":"Список!B22","v":0},{"$nulls":10},{"$error":"#DIV/0!"}]
[20,{"$f":"Список!B23","v":0},{"$nulls":10},{"$error":"#DIV/0!"}]
[21,{"$f":"Список!B24","v":0},{"$nulls":10},{"$error":"#DIV/0!"}]
[22,{"$f":"Список!B25","v":0},{"$nulls":10},{"$error":"#DIV/0!"}]
[23,{"$f":"Список!B26","v":0},{"$nulls":10},{"$error":"#DIV/0!"}]
[24,{"$f":"Список!B27","v":0},{"$nulls":10},{"$error":"#DIV/0!"}]
[25,{"$f":"Список!B28","v":0},{"$nulls":10},{"$error":"#DIV/0!"}]
[26,{"$f":"Список!B29","v":0},{"$nulls":10},{"$error":"#DIV/0!"}]
[27,{"$f":"Список!B30","v":0},{"$nulls":10},{"$error":"#DIV/0!"}]
[28,{"$f":"Список!B31","v":0},{"$nulls":10},{"$error":"#DIV/0!"}]
[29,{"$f":"Список!B32","v":0},{"$nulls":10},{"$error":"#DIV/0!"}]
[30,{"$f":"Список!B33","v":0},{"$nulls":10},{"$error":"#DIV/0!"}]
[null,"СРЕДНИЙ ПОКАЗАТЕЛЬ ПО ГРУППЕ",{"$nulls":10},{"$f":"AVERAGE(M11:M40)","v":{"$error":"#DIV/0!"}}]
[null,"среднее по критерию",null,null,{"$f":"AVERAGE(E11:E40)","v":{"$error":"#DIV/0!"}},{"$f":"AVERAGE(F11:F40)","v":{"$error":"#DIV/0!"}},{"$error":"#DIV/0!"},{"$error":"#DIV/0!"},{"$error":"#DIV/0!"},{"$error":"#DIV/0!"},{"$error":"#DIV/0!"},{"$error":"#DIV/0!"}]
[null,"среднее по разделу",null,null,{"$f":"(E42+F42+G42+H42+I42)/5","v":{"$error":"#DIV/0!"}},{"$nulls":4},{"$f":"(J42+K42+L42)/3","v":{"$error":"#DIV/0!"}}]
[null,"Ф.И.О, должность специалиста(ов)____________________________________________________________________________________________________________________________________________________________________________________________________________________________________"]
[null,"© Автор-составитель Кулекина И.А., СПБ, 2023"]
[]
[]
[null,"Область формирования основ гражданственности и патриотизма",null,null,{"$f":"E43","v":{"$error":"#DIV/0!"}}]
[null,"Сфера трудового воспитания",null,null,{"$f":"J43","v":{"$error":"#DIV/0!"}}]

{"sheet":"Соц.ком. к 7г ч4 Н.г.","index":7,"n_rows":48,"n_cols":10,"rows_kept":48,"merged":[[0,0,0,1],[0,4,0,5],[0,6,0,9],[1,0,1,3],[2,0,2,3],[3,0,3,1],[4,0,4,1],[5,0,9,0],[5,1,9,1],[5,4,5,8],[5,9,9,9],[6,4,6,8],[7,4,7,8],[8,4,9,4],[8,5,9,5],[8,6,9,6],[8,7,9,7],[8,8,9,8],[40,1,40,8],[42,4,42,8],[43,1,43,9],[44,1,44,9]]}
["Финальная диагностика",{"$nulls":3},"ГРУППА ПОДГОТОВИТЕЛЬНОГО К ШКОЛЕ ВОЗРАСТА (6-7 лет)",null,"Период проведения - окончание посещения группы подготовительного к школе возраста"]
["Стартовая диагностика"]
["*- не диагностируется в данном возрасте"]
["Сформированность показателя",{"$nulls":3},"«2» показатель сформирован","«1» показатель в стадии формирования","«0» показатель не сформирован"]
["Средний уровень",{"$nulls":3},"1,8 - 2,0 норма-высокий","1,0 - 1,7 норма - средний","0,0 - 0,9 ниже нормы"]
["№","Ф.И. ребенка",null,null,"ОБРАЗОВАТЕЛЬНАЯ ОБЛАСТЬ «СОЦИАЛЬНО-КОММУНИКАТИВНОЕ  РАЗВИТИЕ»",{"$nulls":4},"СРЕДНИЙ ПОКАЗАТЕЛЬ ПО РЕБЕНКУ"]
[{"$nulls":4},"Показатели возможных достижений (возрастные характеристики) к 7 годам"]
[{"$nulls":4},"Область формирования основ безопасного поведения"]
[{"$nulls":4},"Ребенок имеет представление о правила безопасного поведения в ситуациях, создающих угрозу жизни и здоровью (погас свет, остался один, потерялся, получил травму)","Ребенок имеет представление о правила безопасного поведения дома, на улице, в природе, в местах большого скопления людей, в магазине, на вокзале, в общественных метах, на праздниках и др.","Ребенок имеет представление о правилах безопасного использования цифровых ресурсов (мобильного телефона, планшета)","Ребенок имеет представление об элементарных правилах оказания первой помощи при первых признаках недомогания, травмах, ушибах","Ребенок проявляет самостоятельность при выполнении правил безопасного поведения"]
[]
[1,{"$f":"Список!B4","v":0},{"$nulls":7},{"$f":"AVERAGE(E11:I11)","v":{"$error":"#DIV/0!"}}]
[2,{"$f":"Список!B5","v":0},{"$nulls":7},{"$error":"#DIV/0!"}]
[3,{"$f":"Список!B6","v":0},{"$nulls":7},{"$error":"#DIV/0!"}]
[4,{"$f":"Список!B7","v":0},{"$nulls":7},{"$error":"#DIV/0!"}]
[5,{"$f":"Список!B8","v":0},{"$nulls":7},{"$error":"#DIV/0!"}]
[6,{"$f":"Список!B9","v":0},{"$nulls":7},{"$error":"#DIV/0!"}]
[7,{"$f":"Список!B10","v":0},{"$nulls":7},{"$error":"#DIV/0!"}]
[8,{"$f":"Список!B11","v":0},{"$nulls":7},{"$error":"#DIV/0!"}]
[9,{"$f":"Список!B12","v":0},{"$nulls":7},{"$error":"#DIV/0!"}]
[10,{"$f":"Список!B13","v":0},{"$nulls":7},{"$error":"#DIV/0!"}]
[11,{"$f":"Список!B14","v":0},{"$nulls":7},{"$error":"#DIV/0!"}]
[12,{"$f":"Список!B15","v":0},{"$nulls":7},{"$error":"#DIV/0!"}]
[13,{"$f":"Список!B16","v":0},{"$nulls":7},{"$error":"#DIV/0!"}]
[14,{"$f":"Список!B17","v":0},{"$nulls":7},{"$error":"#DIV/0!"}]
[15,{"$f":"Список!B18","v":0},{"$nulls":7},{"$error":"#DIV/0!"}]
[16,{"$f":"Список!B19","v":0},{"$nulls":7},{"$error":"#DIV/0!"}]
[17,{"$f":"Список!B20","v":0},{"$nulls":7},{"$error":"#DIV/0!"}]
[18,{"$f":"Список!B21","v":0},{"$nulls":7},{"$error":"#DIV/0!"}]
[19,{"$f":"Список!B22","v":0},{"$nulls":7},{"$error":"#DIV/0!"}]
[20,{"$f":"Список!B23","v":0},{"$nulls":7},{"$error":"#DIV/0!"}]
[21,{"$f":"Список!B24","v":0},{"$nulls":7},{"$error":"#DIV/0!"}]
[22,{"$f":"Список!B25","v":0},{"$nulls":7},{"$error":"#DIV/0!"}]
[23,{"$f":"Список!B26","v":0},{"$nulls":7},{"$error":"#DIV/0!"}]
[24,{"$f":"Список!B27","v":0},{"$nulls":7},{"$error":"#DIV/0!"}]
[25,{"$f":"Список!B28","v":0},{"$nulls":7},{"$error":"#DIV/0!"}]
[26,{"$f":"Список!B29","v":0},{"$nulls":7},{"$error":"#DIV/0!"}]
[27,{"$f":"Список!B30","v":0},{"$nulls":7},{"$error":"#DIV/0!"}]
[28,{"$f":"Список!B31","v":0},{"$nulls":7},{"$error":"#DIV/0!"}]
[29,{"$f":"Список!B32","v":0},{"$nulls":7},{"$error":"#DIV/0!"}]
[30,{"$f":"Список!B33","v":0},{"$nulls":7},{"$error":"#DIV/0!"}]
[null,"СРЕДНИЙ ПОКАЗАТЕЛЬ ПО ГРУППЕ",{"$nulls":7},{"$f":"AVERAGE(J11:J40)","v":{"$error":"#DIV/0!"}}]
[null,"среднее по критерию",null,null,{"$f":"AVERAGE(E11:E40)","v":{"$error":"#DIV/0!"}},{"$f":"AVERAGE(F11:F40)","v":{"$error":"#DIV/0!"}},{"$error":"#DIV/0!"},{"$error":"#DIV/0!"},{"$error":"#DIV/0!"}]
[null,"среднее по разделу",null,null,{"$f":"(E42+F42+G42+H42+I42)/5","v":{"$error":"#DIV/0!"}}]
[null,"Ф.И.О, должность специалиста(ов)____________________________________________________________________________________________________________________________________________________________________________________________________________________________________"]
[null,"© Автор-составитель Кулекина И.А., СПБ, 2023"]
[]
[]
[null,"Область формирования основ безопасного поведения",null,null,{"$f":"E43","v":{"$error":"#DIV/0!"}}]

{"sheet":"Соц.ком. к 7г ч4 К.г.","index":8,"n_rows":48,"n_cols":10,"rows_kept":48,"merged":[[0,0,0,1],[0,4,0,5],[0,6,0,9],[1,0,1,3],[2,0,2,3],[3,0,3,1],[4,0,4,1],[5,0,9,0],[5,1,9,1],[5,4,5,8],[5,9,9,9],[6,4,6,8],[7,4,7,8],[8,4,9,4],[8,5,9,5],[8,6,9,6],[8,7,9,7],[8,8,9,8],[40,1,40,8],[42,4,42,8],[43,1,43,9],[44,1,44,9]]}
["Финальная диагностика",{"$nulls":3},"ГРУППА ПОДГОТОВИТЕЛЬНОГО К ШКОЛЕ ВОЗРАСТА (6-7 лет)",null,"Период проведения - окончание посещения группы подготовительного к школе возраста"]
["Стартовая диагностика"]
["*- не диагностируется в данном возрасте"]
["Сформированность показателя",{"$nulls":3},"«2» показатель сформирован","«1» показатель в стадии формирования","«0» показатель не сформирован"]
["Средний уровень",{"$nulls":3},"1,8 - 2,0 норма-высокий","1,0 - 1,7 норма - средний","0,0 - 0,9 ниже нормы"]
["№","Ф.И. ребенка",null,null,"ОБРАЗОВАТЕЛЬНАЯ ОБЛАСТЬ «СОЦИАЛЬНО-КОММУНИКАТИВНОЕ  РАЗВИТИЕ»",{"$nulls":4},"СРЕДНИЙ ПОКАЗАТЕЛЬ ПО РЕБЕНКУ"]
[{"$nulls":4},"Показатели возможных достижений (возрастные характеристики) к 7 годам"]
[{"$nulls":4},"Область формирования основ безопасного поведения"]
[{"$nulls":4},"Ребенок имеет представление о правила безопасного поведения в ситуациях, создающих угрозу жизни и здоровью (погас свет, остался один, потерялся, получил травму)","Ребенок имеет представление о правила безопасного поведения дома, на улице, в природе, в местах большого скопления людей, в магазине, на вокзале, в общественных метах, на праздниках и др.","Ребенок имеет представление о правилах безопасного использования цифровых ресурсов (мобильного телефона, планшета)","Ребенок имеет представление об элементарных правилах оказания первой помощи при первых признаках недомогания, травмах, ушибах","Ребенок проявляет самостоятельность при выполнении правил безопасного поведения"]
[]
[1,{"$f":"Список!B4","v":0},{"$nulls":7},{"$f":"AVERAGE(E11:I11)","v":{"$error":"#DIV/0!"}}]
[2,{"$f":"Список!B5","v":0},{"$nulls":7},{"$error":"#DIV/0!"}]
[3,{"$f":"Список!B6","v":0},{"$nulls":7},{"$error":"#DIV/0!"}]
[4,{"$f":"Список!B7","v":0},{"$nulls":7},{"$error":"#DIV/0!"}]
[5,{"$f":"Список!B8","v":0},{"$nulls":7},{"$error":"#DIV/0!"}]
[6,{"$f":"Список!B9","v":0},{"$nulls":7},{"$error":"#DIV/0!"}]
[7,{"$f":"Список!B10","v":0},{"$nulls":7},{"$error":"#DIV/0!"}]
[8,{"$f":"Список!B11","v":0},{"$nulls":7},{"$error":"#DIV/0!"}]
[9,{"$f":"Список!B12","v":0},{"$nulls":7},{"$error":"#DIV/0!"}]
[10,{"$f":"Список!B13","v":0},{"$nulls":7},{"$error":"#DIV/0!"}]
[11,{"$f":"Список!B14","v":0},{"$nulls":7},{"$error":"#DIV/0!"}]
[12,{"$f":"Список!B15","v":0},{"$nulls":7},{"$error":"#DIV/0!"}]
[13,{"$f":"Список!B16","v":0},{"$nulls":7},{"$error":"#DIV/0!"}]
[14,{"$f":"Список!B17","v":0},{"$nulls":7},{"$error":"#DIV/0!"}]
[15,{"$f":"Список!B18","v":0},{"$nulls":7},{"$error":"#DIV/0!"}]
[16,{"$f":"Список!B19","v":0},{"$nulls":7},{"$error":"#DIV/0!"}]
[17,{"$f":"Список!B20","v":0},{"$nulls":7},{"$error":"#DIV/0!"}]
[18,{"$f":"Список!B21","v":0},{"$nulls":7},{"$error":"#DIV/0!"}]
[19,{"$f":"Список!B22","v":0},{"$nulls":7},{"$error":"#DIV/0!"}]
[20,{"$f":"Список!B23","v":0},{"$nulls":7},{"$error":"#DIV/0!"}]
[21,{"$f":"Список!B24","v":0},{"$nulls":7},{"$error":"#DIV/0!"}]
[22,{"$f":"Список!B25","v":0},{"$nulls":7},{"$error":"#DIV/0!"}]
[23,{"$f":"Список!B26","v":0},{"$nulls":7},{"$error":"#DIV/0!"}]
[24,{"$f":"Список!B27","v":0},{"$nulls":7},{"$error":"#DIV/0!"}]
[25,{"$f":"Список!B28","v":0},{"$nulls":7},{"$error":"#DIV/0!"}]
[26,{"$f":"Список!B29","v":0},{"$nulls":7},{"$error":"#DIV/0!"}]
[27,{"$f":"Список!B30","v":0},{"$nulls":7},{"$error":"#DIV/0!"}]
[28,{"$f":"Список!B31","v":0},{"$nulls":7},{"$error":"#DIV/0!"}]
[29,{"$f":"Список!B32","v":0},{"$nulls":7},{"$error":"#DIV/0!"}]
[30,{"$f":"Список!B33","v":0},{"$nulls":7},{"$error":"#DIV/0!"}]
[null,"СРЕДНИЙ ПОКАЗАТЕЛЬ ПО ГРУППЕ",{"$nulls":7},{"$f":"AVERAGE(J11:J40)","v":{"$error":"#DIV/0!"}}]
[null,"среднее по критерию",null,null,{"$f":"AVERAGE(E11:E40)","v":{"$error":"#DIV/0!"}},{"$f":"AVERAGE(F11:F40)","v":{"$error":"#DIV/0!"}},{"$error":"#DIV/0!"},{"$error":"#DIV/0!"},{"$error":"#DIV/0!"}]
[null,"среднее по разделу",null,null,{"$f":"(E42+F42+G42+H42+I42)/5","v":{"$error":"#DIV/0!"}}]
[null,"Ф.И.О, должность специалиста(ов)____________________________________________________________________________________________________________________________________________________________________________________________________________________________________"]
[null,"© Автор-составитель Кулекина И.А., СПБ, 2023"]
[]
[]
[null,"Область формирования основ безопасного поведения",null,null,{"$f":"E43","v":{"$error":"#DIV/0!"}}]

{"sheet":"Динамика Соц-ком. развития","index":9,"n_rows":6,"n_cols":15,"rows_kept":6,"merged":[[0,6,0,14]]}
[{"$nulls":6},"Обобщение результатов педагогической диагностики по ОО \"Социально-коммуникативное развитие\" Подготовительная группа"]
[]
[]
[null,"отношение к самому себе","отношение к сверстникам","отношение к взрослым","эмоции","поведение","семья","игровое поведение","Ребенок имеет представление об изменениях позиции человека с возрастом","Ребенок имеет представление о школе, школьниках, учителях; стремится к школьному обучению, к познанию, освоению чтения, письма; демонстрирует сформированные предпосылки к учебной деятельности и элементы готовности к школьному обучению","Ребенок имеет представление о нравственных качествах людей, их проявлении в поступках и взаимоотношениях","Область формирования основ гражданственности и патриотизма","Сфера трудового воспитания","Область формирования основ безопасного поведения","среднее по группе"]
["начало года",{"$f":"'Соц.ком.к 7г ч1 Н.г.'!E48","v":{"$error":"#DIV/0!"}},{"$f":"'Соц.ком.к 7г ч1 Н.г.'!E49","v":{"$error":"#DIV/0!"}},{"$f":"'Соц.ком.к 7г ч1 Н.г.'!E50","v":{"$error":"#DIV/0!"}},{"$f":"'Соц.ком.к 7г ч1 Н.г.'!E51","v":{"$error":"#DIV/0!"}},{"$f":"'Соц.ком.к 7г ч1 Н.г.'!E52","v":{"$error":"#DIV/0!"}},{"$f":"'Соц.ком.к 7г ч2 Н.г.'!E48","v":{"$error":"#DIV/0!"}},{"$f":"'Соц.ком.к 7г ч2 Н.г.'!E49","v":{"$error":"#DIV/0!"}},{"$f":"'Соц.ком.к 7г ч2 Н.г.'!E50","v":{"$error":"#DIV/0!"}},{"$f":"'Соц.ком.к 7г ч2 Н.г.'!E51","v":{"$error":"#DIV/0!"}},{"$f":"'Соц.ком.к 7г ч2 Н.г.'!E52","v":{"$error":"#DIV/0!"}},{"$f":"'Соц.ком. к 7г ч3 Н.г.'!E48","v":{"$error":"#DIV/0!"}},{"$f":"'Соц.ком. к 7г ч3 Н.г.'!E49","v":{"$error":"#DIV/0!"}},{"$f":"'Соц.ком. к 7г ч4 Н.г.'!E48","v":{"$error":"#DIV/0!"}},{"$f":"AVERAGE(B5:N5)","v":{"$error":"#DIV/0!"}}]
["конец года",{"$f":"'Соц.ком.к 7г ч1 К.г.'!E48","v":{"$error":"#DIV/0!"}},{"$f":"'Соц.ком.к 7г ч1 К.г.'!E49","v":{"$error":"#DIV/0!"}},{"$f":"'Соц.ком.к 7г ч1 К.г.'!E50","v":{"$error":"#DIV/0!"}},{"$f":"'Соц.ком.к 7г ч1 К.г.'!E51","v":{"$error":"#DIV/0!"}},{"$f":"'Соц.ком.к 7г ч1 К.г.'!E52","v":{"$error":"#DIV/0!"}},{"$f":"'Соц.ком.к 7г ч2 К.г.'!E48","v":{"$error":"#DIV/0!"}},{"$f":"'Соц.ком.к 7г ч2 К.г.'!E49","v":{"$error":"#DIV/0!"}},{"$f":"'Соц.ком.к 7г ч2 К.г.'!E50","v":{"$error":"#DIV/0!"}},{"$f":"'Соц.ком.к 7г ч2 К.г.'!E51","v":{"$error":"#DIV/0!"}},{"$f":"'Соц.ком.к 7г ч2 К.г.'!E52","v":{"$error":"#DIV/0!"}},{"$f":"'Соц.ком. к 7г ч3 К.г.'!E48","v":{"$error":"#DIV/0!"}},{"$f":"'Соц.ком. к 7г ч3 К.г.'!E49","v":{"$error":"#DIV/0!"}},{"$f":"'Соц.ком. к 7г ч4 К.г.'!E48","v":{"$error":"#DIV/0!"}},{"$f":"AVERAGE(B6:N6)","v":{"$error":"#DIV/0!"}}]

{"sheet":"Реч.разв.к 7г ч1 Н.г.","index":10,"n_rows":50,"n_cols":13,"rows_kept":50,"merged":[[0,0,0,1],[0,4,0,6],[0,7,0,10],[1,0,1,3],[1,4,1,7],[2,0,2,3],[3,0,3,1],[3,4,3,5],[3,7,3,8],[3,9,3,10],[4,0,4,1],[4,4,4,5],[4,7,4,8],[4,9,4,10],[5,0,9,0],[5,1,9,1],[5,4,5,11],[5,12,9,12],[6,4,6,11],[7,5,7,7],[7,8,7,11],[8,4,9,4],[8,5,9,5],[8,6,9,6],[8,7,9,7],[8,8,9,8],[8,9,9,9],[8,10,9,10],[8,11,9,11],[40,1,40,11],[42,5,42,7],[42,8,42,11],[43,1,43,12],[44,1,44,12]]}
["Финальная диагностика",{"$nulls":3},"ГРУППА ПОДГОТОВИТЕЛЬНОГО К ШКОЛЕ ВОЗРАСТА (6-7 лет)",null,null,"Период проведения - окончание посещения группы подготовительного к школе возраста"]
["Стартовая диагностика"]
["*- не диагностируется в данном возрасте"]
["Сформированность показателя",{"$nulls":3},"«2» показатель сформирован",null,null,"«1» показатель в стадии формирования",null,"«0» показатель не сформирован"]
["Средний уровень",{"$nulls":3},"1,8 - 2,0 норма-высокий",null,null,"1,0 - 1,7 норма - средний",null,"0,0 - 0,9 ниже нормы"]
["№","Ф.И. ребенка",null,null,"ОБРАЗОВАТЕЛЬНАЯ ОБЛАСТЬ «РЕЧЕВОЕ  РАЗВИТИЕ»",{"$nulls":7},"СРЕДНИЙ ПОКАЗАТЕЛЬ ПО РЕБЕНКУ"]
[{"$nulls":4},"Показатели возможных достижений (возрастные характеристики) к 7 годам"]
[{"$nulls":4},"Общее речевое развитие","Формирование словаря",null,null,"Грамматический строй"]
[{"$nulls":4},"Ребенок владеет речью как средством коммуникации, ведет диалог, владеет коммуникативно-речевыми умениями","Ребенок подбирает точные слова для выражения мысли","Ребенок выполняет операцию классификации – деления освоенных понятий на группы на основе выявленных признаков","Ребенок использует в речи средства языковой выразительности: антонимы, синонимы, многозначные слова, метафоры, олицетворение","Ребенок образует сложные слова посредством слияния основ","Ребенок согласует в речи существительные с числительными, существительные с прилагательными","Ребенок образует по образцу существительные с суффиксами, глаголы с приставками","Ребенок образует в речи сравнительную и превосходную степени имен прилагательных"]
[]
[1,{"$f":"Список!B4","v":0},{"$nulls":10},{"$f":"AVERAGE(E11:L11)","v":{"$error":"#DIV/0!"}}]
[2,{"$f":"Список!B5","v":0},{"$nulls":10},{"$error":"#DIV/0!"}]
[3,{"$f":"Список!B6","v":0},{"$nulls":10},{"$error":"#DIV/0!"}]
[4,{"$f":"Список!B7","v":0},{"$nulls":10},{"$error":"#DIV/0!"}]
[5,{"$f":"Список!B8","v":0},{"$nulls":10},{"$error":"#DIV/0!"}]
[6,{"$f":"Список!B9","v":0},{"$nulls":10},{"$error":"#DIV/0!"}]
[7,{"$f":"Список!B10","v":0},{"$nulls":10},{"$error":"#DIV/0!"}]
[8,{"$f":"Список!B11","v":0},{"$nulls":10},{"$error":"#DIV/0!"}]
[9,{"$f":"Список!B12","v":0},{"$nulls":10},{"$error":"#DIV/0!"}]
[10,{"$f":"Список!B13","v":0},{"$nulls":10},{"$error":"#DIV/0!"}]
[11,{"$f":"Список!B14","v":0},{"$nulls":10},{"$error":"#DIV/0!"}]
[12,{"$f":"Список!B15","v":0},{"$nulls":10},{"$error":"#DIV/0!"}]
[13,{"$f":"Список!B16","v":0},{"$nulls":10},{"$error":"#DIV/0!"}]
[14,{"$f":"Список!B17","v":0},{"$nulls":10},{"$error":"#DIV/0!"}]
[15,{"$f":"Список!B18","v":0},{"$nulls":10},{"$error":"#DIV/0!"}]
[16,{"$f":"Список!B19","v":0},{"$nulls":10},{"$error":"#DIV/0!"}]
[17,{"$f":"Список!B20","v":0},{"$nulls":10},{"$error":"#DIV/0!"}]
[18,{"$f":"Список!B21","v":0},{"$nulls":10},{"$error":"#DIV/0!"}]
[19,{"$f":"Список!B22","v":0},{"$nulls":10},{"$error":"#DIV/0!"}]
[20,{"$f":"Список!B23","v":0},{"$nulls":10},{"$error":"#DIV/0!"}]
[21,{"$f":"Список!B24","v":0},{"$nulls":10},{"$error":"#DIV/0!"}]
[22,{"$f":"Список!B25","v":0},{"$nulls":10},{"$error":"#DIV/0!"}]
[23,{"$f":"Список!B26","v":0},{"$nulls":10},{"$error":"#DIV/0!"}]
[24,{"$f":"Список!B27","v":0},{"$nulls":10},{"$error":"#DIV/0!"}]
[25,{"$f":"Список!B28","v":0},{"$nulls":10},{"$error":"#DIV/0!"}]
[26,{"$f":"Список!B29","v":0},{"$nulls":10},{"$error":"#DIV/0!"}]
[27,{"$f":"Список!B30","v":0},{"$nulls":10},{"$error":"#DIV/0!"}]
[28,{"$f":"Список!B31","v":0},{"$nulls":10},{"$error":"#DIV/0!"}]
[29,{"$f":"Список!B32","v":0},{"$nulls":10},{"$error":"#DIV/0!"}]
[30,{"$f":"Список!B33","v":0},{"$nulls":10},{"$error":"#DIV/0!"}]
[null,"СРЕДНИЙ ПОКАЗАТЕЛЬ ПО ГРУППЕ",{"$nulls":10},{"$f":"AVERAGE(E41:L41)","v":{"$error":"#DIV/0!"}}]
[null,"среднее по критерию",null,null,{"$f":"AVERAGE(E11:E40)","v":{"$error":"#DIV/0!"}},{"$f":"AVERAGE(F11:F40)","v":{"$error":"#DIV/0!"}},{"$error":"#DIV/0!"},{"$error":"#DIV/0!"},{"$error":"#DIV/0!"},{"$error":"#DIV/0!"},{"$error":"#DIV/0!"},{"$error":"#DIV/0!"}]
[null,"среднее по разделу",null,null,{"$f":"E42","v":{"$error":"#DIV/0!"}},{"$f":"(F42+G42+H42)/3","v":{"$error":"#DIV/0!"}},null,null,{"$f":"(I42+J42+K42+L42)/4","v":{"$error":"#DIV/0!"}}]
[null,"Ф.И.О, должность специалиста(ов)____________________________________________________________________________________________________________________________________________________________________________________________________________________________________"]
[null,"© Автор-составитель Кулекина И.А., СПБ, 2023"]
[]
[]
[null,"общее речевое развитие",null,null,{"$f":"E43","v":{"$error":"#DIV/0!"}}]
[null,"формирование словаря",null,null,{"$f":"F43","v":{"$error":"#DIV/0!"}}]
[null,"грамматический строй речи",null,null,{"$f":"I43","v":{"$error":"#DIV/0!"}}]

{"sheet":"Реч.разв.к 7г ч1 К.г.","index":11,"n_rows":50,"n_cols":13,"rows_kept":50,"merged":[[0,0,0,1],[0,4,0,6],[0,7,0,10],[1,0,1,3],[1,4,1,7],[2,0,2,3],[3,0,3,1],[3,4,3,5],[3,7,3,8],[3,9,3,10],[4,0,4,1],[4,4,4,5],[4,7,4,8],[4,9,4,10],[5,0,9,0],[5,1,9,1],[5,4,5,11],[5,12,9,12],[6,4,6,11],[7,5,7,7],[7,8,7,11],[8,4,9,4],[8,5,9,5],[8,6,9,6],[8,7,9,7],[8,8,9,8],[8,9,9,9],[8,10,9,10],[8,11,9,11],[40,1,40,11],[42,5,42,7],[42,8,42,11],[43,1,43,12],[44,1,44,12]]}
["Финальная диагностика",{"$nulls":3},"ГРУППА ПОДГОТОВИТЕЛЬНОГО К ШКОЛЕ ВОЗРАСТА (6-7 лет)",null,null,"Период проведения - окончание посещения группы подготовительного к школе возраста"]
["Стартовая диагностика"]
["*- не диагностируется в данном возрасте"]
["Сформированность показателя",{"$nulls":3},"«2» показатель сформирован",null,null,"«1» показатель в стадии формирования",null,"«0» показатель не сформирован"]
["Средний уровень",{"$nulls":3},"1,8 - 2,0 норма-высокий",null,null,"1,0 - 1,7 норма - средний",null,"0,0 - 0,9 ниже нормы"]
["№","Ф.И. ребенка",null,null,"ОБРАЗОВАТЕЛЬНАЯ ОБЛАСТЬ «РЕЧЕВОЕ  РАЗВИТИЕ»",{"$nulls":7},"СРЕДНИЙ ПОКАЗАТЕЛЬ ПО РЕБЕНКУ"]
[{"$nulls":4},"Показатели возможных достижений (возрастные характеристики) к 7 годам"]
[{"$nulls":4},"Общее речевое развитие","Формирование словаря",null,null,"Грамматический строй"]
[{"$nulls":4},"Ребенок владеет речью как средством коммуникации, ведет диалог, владеет коммуникативно-речевыми умениями","Ребенок подбирает точные слова для выражения мысли","Ребенок выполняет операцию классификации – деления освоенных понятий на группы на основе выявленных признаков","Ребенок использует в речи средства языковой выразительности: антонимы, синонимы, многозначные слова, метафоры, олицетворение","Ребенок образует сложные слова посредством слияния основ","Ребенок согласует в речи существительные с числительными, существительные с прилагательными","Ребенок образует по образцу существительные с суффиксами, глаголы с приставками","Ребенок образует в речи сравнительную и превосходную степени имен прилагательных"]
[]
[1,{"$f":"Список!B4","v":0},{"$nulls":10},{"$f":"AVERAGE(E11:L11)","v":{"$error":"#DIV/0!"}}]
[2,{"$f":"Список!B5","v":0},{"$nulls":10},{"$error":"#DIV/0!"}]
[3,{"$f":"Список!B6","v":0},{"$nulls":10},{"$error":"#DIV/0!"}]
[4,{"$f":"Список!B7","v":0},{"$nulls":10},{"$error":"#DIV/0!"}]
[5,{"$f":"Список!B8","v":0},{"$nulls":10},{"$error":"#DIV/0!"}]
[6,{"$f":"Список!B9","v":0},{"$nulls":10},{"$error":"#DIV/0!"}]
[7,{"$f":"Список!B10","v":0},{"$nulls":10},{"$error":"#DIV/0!"}]
[8,{"$f":"Список!B11","v":0},{"$nulls":10},{"$error":"#DIV/0!"}]
[9,{"$f":"Список!B12","v":0},{"$nulls":10},{"$error":"#DIV/0!"}]
[10,{"$f":"Список!B13","v":0},{"$nulls":10},{"$error":"#DIV/0!"}]
[11,{"$f":"Список!B14","v":0},{"$nulls":10},{"$error":"#DIV/0!"}]
[12,{"$f":"Список!B15","v":0},{"$nulls":10},{"$error":"#DIV/0!"}]
[13,{"$f":"Список!B16","v":0},{"$nulls":10},{"$error":"#DIV/0!"}]
[14,{"$f":"Список!B17","v":0},{"$nulls":10},{"$error":"#DIV/0!"}]
[15,{"$f":"Список!B18","v":0},{"$nulls":10},{"$error":"#DIV/0!"}]
[16,{"$f":"Список!B19","v":0},{"$nulls":10},{"$error":"#DIV/0!"}]
[17,{"$f":"Список!B20","v":0},{"$nulls":10},{"$error":"#DIV/0!"}]
[18,{"$f":"Список!B21","v":0},{"$nulls":10},{"$error":"#DIV/0!"}]
[19,{"$f":"Список!B22","v":0},{"$nulls":10},{"$error":"#DIV/0!"}]
[20,{"$f":"Список!B23","v":0},{"$nulls":10},{"$error":"#DIV/0!"}]
[21,{"$f":"Список!B24","v":0},{"$nulls":10},{"$error":"#DIV/0!"}]
[22,{"$f":"Список!B25","v":0},{"$nulls":10},{"$error":"#DIV/0!"}]
[23,{"$f":"Список!B26","v":0},{"$nulls":10},{"$error":"#DIV/0!"}]
[24,{"$f":"Список!B27","v":0},{"$nulls":10},{"$error":"#DIV/0!"}]
[25,{"$f":"Список!B28","v":0},{"$nulls":10},{"$error":"#DIV/0!"}]
[26,{"$f":"Список!B29","v":0},{"$nulls":10},{"$error":"#DIV/0!"}]
[27,{"$f":"Список!B30","v":0},{"$nulls":10},{"$error":"#DIV/0!"}]
[28,{"$f":"Список!B31","v":0},{"$nulls":10},{"$error":"#DIV/0!"}]
[29,{"$f":"Список!B32","v":0},{"$nulls":10},{"$error":"#DIV/0!"}]
[30,{"$f":"Список!B33","v":0},{"$nulls":10},{"$error":"#DIV/0!"}]
[null,"СРЕДНИЙ ПОКАЗАТЕЛЬ ПО ГРУППЕ",{"$nulls":10},{"$f":"AVERAGE(E41:L41)","v":{"$error":"#DIV/0!"}}]
[null,"среднее по критерию",null,null,{"$f":"AVERAGE(E11:E40)","v":{"$error":"#DIV/0!"}},{"$f":"AVERAGE(F11:F40)","v":{"$error":"#DIV/0!"}},{"$error":"#DIV/0!"},{"$error":"#DIV/0!"},{"$error":"#DIV/0!"},{"$error":"#DIV/0!"},{"$error":"#DIV/0!"},{"$error":"#DIV/0!"}]
[null,"среднее по разделу",null,null,{"$f":"E42","v":{"$error":"#DIV/0!"}},{"$f":"(F42+G42+H42)/3","v":{"$error":"#DIV/0!"}},null,null,{"$f":"(I42+J42+K42+L42)/4","v":{"$error":"#DIV/0!"}}]
[null,"Ф.И.О, должность специалиста(ов)____________________________________________________________________________________________________________________________________________________________________________________________________________________________________"]
[null,"© Автор-составитель Кулекина И.А., СПБ, 2023"]
[]
[]
[null,"общее речевое развитие",null,null,{"$f":"E43","v":{"$error":"#DIV/0!"}}]
[null,"формирование словаря",null,null,{"$f":"F43","v":{"$error":"#DIV/0!"}}]
[null,"грамматический строй речи",null,null,{"$f":"I43","v":{"$error":"#DIV/0!"}}]

{"sheet":"Реч.разв.к 7г ч2 Н.г.","index":12,"n_rows":50,"n_cols":14,"rows_kept":50,"merged":[[0,0,0,1],[0,4,0,6],[0,7,0,9],[1,0,1,3],[2,0,2,3],[3,0,3,1],[3,5,3,6],[3,7,3,8],[4,0,4,1],[4,5,4,6],[4,7,4,8],[5,0,9,0],[5,1,9,1],[5,4,5,12],[5,13,9,13],[6,4,6,12],[7,5,7,9],[7,10,7,12],[8,4,9,4],[8,5,9,5],[8,6,9,6],[8,7,9,7],[8,8,9,8],[8,9,9,9],[8,10,9,10],[8,11,9,11],[8,12,9,12],[40,1,40,12],[42,5,42,9],[42,10,42,12],[43,1,43,13],[44,1,44,13]]}
["Финальная диагностика",{"$nulls":3},"ГРУППА ПОДГОТОВИТЕЛЬНОГО К ШКОЛЕ ВОЗРАСТА (6-7 лет)",null,null,"Период проведения - окончание посещения группы подготовительного к школе возраста"]
["Стартовая диагностика"]
["*- не диагностируется в данном возрасте"]
["Сформированность показателя",{"$nulls":3},"«2» показатель сформирован","«1» показатель в стадии формирования",null,"«0» показатель не сформирован"]
["Средний уровень",{"$nulls":3},"1,8 - 2,0 норма-высокий","1,0 - 1,7 норма - средний",null,"0,0 - 0,9 ниже нормы"]
["№","Ф.И. ребенка",null,null,"ОБРАЗОВАТЕЛЬНАЯ ОБЛАСТЬ «РЕЧЕВОЕ  РАЗВИТИЕ»",{"$nulls":8},"СРЕДНИЙ ПОКАЗАТЕЛЬ ПО РЕБЕНКУ"]
[{"$nulls":4},"Показатели возможных достижений (возрастные характеристики) к 7 годам"]
[{"$nulls":4},"Звуковая культура речи","Связная речь",{"$nulls":4},"ЧХЛ"]
[{"$nulls":4},"Ребенок правильно произносит все звуки","Ребенок может пересказать литературное произведение по ролям, близко к тексту, от лица литературного героя","Ребенок может составить описательный рассказ, соблюдая структуру описания","Ребенок может составить повествовательный рассказ по картине, из личного опыта, из коллективного опыта, по набору игрушек, соблюдая структуру повествования","Ребенок может составить рассказ -контаминацию (сочетание описания и повествования, описания и рассуждения)","Ребенок использует в процессе общения объяснительную речь, речь-доказательство, речевое планирование","Ребенок знает и осмысленно воспринимает литературные произведения различных жанров, имеет предпочтения","Ребенок определяет характеры персонажей, мотивы их поведения, оценивает поступки литературных героев","Ребенок проявляет интерес к книгам познавательного характера"]
[]
[1,{"$f":"Список!B4","v":0},{"$nulls":11},{"$f":"AVERAGE(E11:M11)","v":{"$error":"#DIV/0!"}}]
[2,{"$f":"Список!B5","v":0},{"$nulls":11},{"$error":"#DIV/0!"}]
[3,{"$f":"Список!B6","v":0},{"$nulls":11},{"$error":"#DIV/0!"}]
[4,{"$f":"Список!B7","v":0},{"$nulls":11},{"$error":"#DIV/0!"}]
[5,{"$f":"Список!B8","v":0},{"$nulls":11},{"$error":"#DIV/0!"}]
[6,{"$f":"Список!B9","v":0},{"$nulls":11},{"$error":"#DIV/0!"}]
[7,{"$f":"Список!B10","v":0},{"$nulls":11},{"$error":"#DIV/0!"}]
[8,{"$f":"Список!B11","v":0},{"$nulls":11},{"$error":"#DIV/0!"}]
[9,{"$f":"Список!B12","v":0},{"$nulls":11},{"$error":"#DIV/0!"}]
[10,{"$f":"Список!B13","v":0},{"$nulls":11},{"$error":"#DIV/0!"}]
[11,{"$f":"Список!B14","v":0},{"$nulls":11},{"$error":"#DIV/0!"}]
[12,{"$f":"Список!B15","v":0},{"$nulls":11},{"$error":"#DIV/0!"}]
[13,{"$f":"Список!B16","v":0},{"$nulls":11},{"$error":"#DIV/0!"}]
[14,{"$f":"Список!B17","v":0},{"$nulls":11},{"$error":"#DIV/0!"}]
[15,{"$f":"Список!B18","v":0},{"$nulls":11},{"$error":"#DIV/0!"}]
[16,{"$f":"Список!B19","v":0},{"$nulls":11},{"$error":"#DIV/0!"}]
[17,{"$f":"Список!B20","v":0},{"$nulls":11},{"$error":"#DIV/0!"}]
[18,{"$f":"Список!B21","v":0},{"$nulls":11},{"$error":"#DIV/0!"}]
[19,{"$f":"Список!B22","v":0},{"$nulls":11},{"$error":"#DIV/0!"}]
[20,{"$f":"Список!B23","v":0},{"$nulls":11},{"$error":"#DIV/0!"}]
[21,{"$f":"Список!B24","v":0},{"$nulls":11},{"$error":"#DIV/0!"}]
[22,{"$f":"Список!B25","v":0},{"$nulls":11},{"$error":"#DIV/0!"}]
[23,{"$f":"Список!B26","v":0},{"$nulls":11},{"$error":"#DIV/0!"}]
[24,{"$f":"Список!B27","v":0},{"$nulls":11},{"$error":"#DIV/0!"}]
[25,{"$f":"Список!B28","v":0},{"$nulls":11},{"$error":"#DIV/0!"}]
[26,{"$f":"Список!B29","v":0},{"$nulls":11},{"$error":"#DIV/0!"}]
[27,{"$f":"Список!B30","v":0},{"$nulls":11},{"$error":"#DIV/0!"}]
[28,{"$f":"Список!B31","v":0},{"$nulls":11},{"$error":"#DIV/0!"}]
[29,{"$f":"Список!B32","v":0},{"$nulls":11},{"$error":"#DIV/0!"}]
[30,{"$f":"Список!B33","v":0},{"$nulls":11},{"$error":"#DIV/0!"}]
[null,"СРЕДНИЙ ПОКАЗАТЕЛЬ ПО ГРУППЕ",{"$nulls":11},{"$f":"AVERAGE(N11:N40)","v":{"$error":"#DIV/0!"}}]
[null,"среднее по критерию",null,null,{"$f":"AVERAGE(E11:E40)","v":{"$error":"#DIV/0!"}},{"$f":"AVERAGE(F11:F40)","v":{"$error":"#DIV/0!"}},{"$error":"#DIV/0!"},{"$error":"#DIV/0!"},{"$error":"#DIV/0!"},{"$error":"#DIV/0!"},{"$error":"#DIV/0!"},{"$error":"#DIV/0!"},{"$error":"#DIV/0!"}]
[null,"среднее по разделу",null,null,{"$f":"E42","v":{"$error":"#DIV/0!"}},{"$f":"(F42+G42+H42+I42+J42)/5","v":{"$error":"#DIV/0!"}},{"$nulls":4},{"$f":"(K42+L42+M42)/3","v":{"$error":"#DIV/0!"}}]
[null,"Ф.И.О, должность специалиста(ов)____________________________________________________________________________________________________________________________________________________________________________________________________________________________________"]
[null,"© Автор-составитель Кулекина И.А., СПБ, 2023"]
[]
[]
[null,"звуковая культура речи",null,null,{"$f":"E43","v":{"$error":"#DIV/0!"}}]
[null,"связная речь",null,null,{"$f":"F43","v":{"$error":"#DIV/0!"}}]
[null,"чтение художественной литературы",null,null,{"$f":"K43","v":{"$error":"#DIV/0!"}}]

{"sheet":"Реч.разв.к 7г ч2 К.г. ","index":13,"n_rows":50,"n_cols":14,"rows_kept":50,"merged":[[0,0,0,1],[0,4,0,6],[0,7,0,9],[1,0,1,3],[2,0,2,3],[3,0,3,1],[3,5,3,6],[3,7,3,8],[4,0,4,1],[4,5,4,6],[4,7,4,8],[5,0,9,0],[5,1,9,1],[5,4,5,12],[5,13,9,13],[6,4,6,12],[7,5,7,9],[7,10,7,12],[8,4,9,4],[8,5,9,5],[8,6,9,6],[8,7,9,7],[8,8,9,8],[8,9,9,9],[8,10,9,10],[8,11,9,11],[8,12,9,12],[40,1,40,12],[42,5,42,9],[42,10,42,12],[43,1,43,13],[44,1,44,13]]}
["Финальная диагностика",{"$nulls":3},"ГРУППА ПОДГОТОВИТЕЛЬНОГО К ШКОЛЕ ВОЗРАСТА (6-7 лет)",null,null,"Период проведения - окончание посещения группы подготовительного к школе возраста"]
["Стартовая диагностика"]
["*- не диагностируется в данном возрасте"]
["Сформированность показателя",{"$nulls":3},"«2» показатель сформирован","«1» показатель в стадии формирования",null,"«0» показатель не сформирован"]
["Средний уровень",{"$nulls":3},"1,8 - 2,0 норма-высокий","1,0 - 1,7 норма - средний",null,"0,0 - 0,9 ниже нормы"]
["№","Ф.И. ребенка",null,null,"ОБРАЗОВАТЕЛЬНАЯ ОБЛАСТЬ «РЕЧЕВОЕ  РАЗВИТИЕ»",{"$nulls":8},"СРЕДНИЙ ПОКАЗАТЕЛЬ ПО РЕБЕНКУ"]
[{"$nulls":4},"Показатели возможных достижений (возрастные характеристики) к 7 годам"]
[{"$nulls":4},"Звуковая культура речи","Связная речь",{"$nulls":4},"ЧХЛ"]
[{"$nulls":4},"Ребенок правильно произносит все звуки","Ребенок может пересказать литературное произведение по ролям, близко к тексту, от лица литературного героя","Ребенок может составить описательный рассказ, соблюдая структуру описания","Ребенок может составить повествовательный рассказ по картине, из личного опыта, из коллективного опыта, по набору игрушек, соблюдая структуру повествования","Ребенок может составить рассказ -контаминацию (сочетание описания и повествования, описания и рассуждения)","Ребенок использует в процессе общения объяснительную речь, речь-доказательство, речевое планирование","Ребенок знает и осмысленно воспринимает литературные произведения различных жанров, имеет предпочтения","Ребенок определяет характеры персонажей, мотивы их поведения, оценивает поступки литературных героев","Ребенок проявляет интерес к книгам познавательного характера"]
[]
[1,{"$f":"Список!B4","v":0},{"$nulls":11},{"$f":"AVERAGE(E11:M11)","v":{"$error":"#DIV/0!"}}]
[2,{"$f":"Список!B5","v":0},{"$nulls":11},{"$error":"#DIV/0!"}]
[3,{"$f":"Список!B6","v":0},{"$nulls":11},{"$error":"#DIV/0!"}]
[4,{"$f":"Список!B7","v":0},{"$nulls":11},{"$error":"#DIV/0!"}]
[5,{"$f":"Список!B8","v":0},{"$nulls":11},{"$error":"#DIV/0!"}]
[6,{"$f":"Список!B9","v":0},{"$nulls":11},{"$error":"#DIV/0!"}]
[7,{"$f":"Список!B10","v":0},{"$nulls":11},{"$error":"#DIV/0!"}]
[8,{"$f":"Список!B11","v":0},{"$nulls":11},{"$error":"#DIV/0!"}]
[9,{"$f":"Список!B12","v":0},{"$nulls":11},{"$error":"#DIV/0!"}]
[10,{"$f":"Список!B13","v":0},{"$nulls":11},{"$error":"#DIV/0!"}]
[11,{"$f":"Список!B14","v":0},{"$nulls":11},{"$error":"#DIV/0!"}]
[12,{"$f":"Список!B15","v":0},{"$nulls":11},{"$error":"#DIV/0!"}]
[13,{"$f":"Список!B16","v":0},{"$nulls":11},{"$error":"#DIV/0!"}]
[14,{"$f":"Список!B17","v":0},{"$nulls":11},{"$error":"#DIV/0!"}]
[15,{"$f":"Список!B18","v":0},{"$nulls":11},{"$error":"#DIV/0!"}]
[16,{"$f":"Список!B19","v":0},{"$nulls":11},{"$error":"#DIV/0!"}]
[17,{"$f":"Список!B20","v":0},{"$nulls":11},{"$error":"#DIV/0!"}]
[18,{"$f":"Список!B21","v":0},{"$nulls":11},{"$error":"#DIV/0!"}]
[19,{"$f":"Список!B22","v":0},{"$nulls":11},{"$error":"#DIV/0!"}]
[20,{"$f":"Список!B23","v":0},{"$nulls":11},{"$error":"#DIV/0!"}]
[21,{"$f":"Список!B24","v":0},{"$nulls":11},{"$error":"#DIV/0!"}]
[22,{"$f":"Список!B25","v":0},{"$nulls":11},{"$error":"#DIV/0!"}]
[23,{"$f":"Список!B26","v":0},{"$nulls":11},{"$error":"#DIV/0!"}]
[24,{"$f":"Список!B27","v":0},{"$nulls":11},{"$error":"#DIV/0!"}]
[25,{"$f":"Список!B28","v":0},{"$nulls":11},{"$error":"#DIV/0!"}]
[26,{"$f":"Список!B29","v":0},{"$nulls":11},{"$error":"#DIV/0!"}]
[27,{"$f":"Список!B30","v":0},{"$nulls":11},{"$error":"#DIV/0!"}]
[28,{"$f":"Список!B31","v":0},{"$nulls":11},{"$error":"#DIV/0!"}]
[29,{"$f":"Список!B32","v":0},{"$nulls":11},{"$error":"#DIV/0!"}]
[30,{"$f":"Список!B33","v":0},{"$nulls":11},{"$error":"#DIV/0!"}]
[null,"СРЕДНИЙ ПОКАЗАТЕЛЬ ПО ГРУППЕ",{"$nulls":11},{"$f":"AVERAGE(N11:N40)","v":{"$error":"#DIV/0!"}}]
[null,"среднее по критерию",null,null,{"$f":"AVERAGE(E11:E40)","v":{"$error":"#DIV/0!"}},{"$f":"AVERAGE(F11:F40)","v":{"$error":"#DIV/0!"}},{"$error":"#DIV/0!"},{"$error":"#DIV/0!"},{"$error":"#DIV/0!"},{"$error":"#DIV/0!"},{"$error":"#DIV/0!"},{"$error":"#DIV/0!"},{"$error":"#DIV/0!"}]
[null,"среднее по разделу",null,null,{"$f":"E42","v":{"$error":"#DIV/0!"}},{"$f":"(F42+G42+H42+I42+J42)/5","v":{"$error":"#DIV/0!"}},{"$nulls":4},{"$f":"(K42+L42+M42)/3","v":{"$error":"#DIV/0!"}}]
[null,"Ф.И.О, должность специалиста(ов)____________________________________________________________________________________________________________________________________________________________________________________________________________________________________"]
[null,"© Автор-составитель Кулекина И.А., СПБ, 2023"]
[]
[]
[null,"звуковая культура речи",null,null,{"$f":"E43","v":{"$error":"#DIV/0!"}}]
[null,"связная речь",null,null,{"$f":"F43","v":{"$error":"#DIV/0!"}}]
[null,"чтение художественной литературы",null,null,{"$f":"K43","v":{"$error":"#DIV/0!"}}]

{"sheet":"Реч.разв.к 7г ч3. Н.г.","index":14,"n_rows":48,"n_cols":11,"rows_kept":48,"merged":[[0,0,0,1],[0,4,0,5],[0,6,0,9],[1,0,1,3],[2,0,2,3],[3,0,3,1],[4,0,4,1],[5,0,9,0],[5,1,9,1],[5,4,5,9],[5,10,9,10],[6,4,6,9],[7,4,7,9],[8,4,9,4],[8,5,9,5],[8,6,9,6],[8,7,9,7],[8,8,9,8],[8,9,9,9],[40,1,40,9],[42,4,42,9],[43,1,43,10],[44,1,44,10]]}
["Финальная диагностика",{"$nulls":3},"ГРУППА ПОДГОТОВИТЕЛЬНОГО К ШКОЛЕ ВОЗРАСТА (6-7 лет)",null,"Период проведения - окончание посещения группы подготовительного к школе возраста"]
["Стартовая диагностика"]
["*- не диагностируется в данном возрасте"]
["Сформированность показателя",{"$nulls":3},"«2» показатель сформирован","«1» показатель в стадии формирования","«0» показатель не сформирован"]
["Средний уровень",{"$nulls":3},"1,8 - 2,0 норма-высокий","1,0 - 1,7 норма - средний","0,0 - 0,9 ниже нормы"]
["№","Ф.И. ребенка",null,null,"ОБРАЗОВАТЕЛЬНАЯ ОБЛАСТЬ «РЕЧЕВОЕ  РАЗВИТИЕ»",{"$nulls":5},"СРЕДНИЙ ПОКАЗАТЕЛЬ ПО РЕБЕНКУ"]
[{"$nulls":4},"Показатели возможных достижений (возрастные характеристики) к 7 годам"]
[{"$nulls":4},"Подготовка к обучению грамоте"]
[{"$nulls":4},"Ребенок производит звуковой анализ четырехзвуковых и пятизвуковых слов","Ребенок может интонационно выделить звуки в слове, определить их последовательность, дать им характеристику, составить схему слова, выделить ударный гласный звук в слове","Ребенок может определить количество и последовательность слов в предложении","Ребенок может составить предложение с заданным количеством слов","Ребенок знает названия всех букв","Ребенок читает слоги"]
[]
[1,{"$f":"Список!B4","v":0},{"$nulls":8},{"$f":"AVERAGE(E11:J11)","v":{"$error":"#DIV/0!"}}]
[2,{"$f":"Список!B5","v":0},{"$nulls":8},{"$error":"#DIV/0!"}]
[3,{"$f":"Список!B6","v":0},{"$nulls":8},{"$error":"#DIV/0!"}]
[4,{"$f":"Список!B7","v":0},{"$nulls":8},{"$error":"#DIV/0!"}]
[5,{"$f":"Список!B8","v":0},{"$nulls":8},{"$error":"#DIV/0!"}]
[6,{"$f":"Список!B9","v":0},{"$nulls":8},{"$error":"#DIV/0!"}]
[7,{"$f":"Список!B10","v":0},{"$nulls":8},{"$error":"#DIV/0!"}]
[8,{"$f":"Список!B11","v":0},{"$nulls":8},{"$error":"#DIV/0!"}]
[9,{"$f":"Список!B12","v":0},{"$nulls":8},{"$error":"#DIV/0!"}]
[10,{"$f":"Список!B13","v":0},{"$nulls":8},{"$error":"#DIV/0!"}]
[11,{"$f":"Список!B14","v":0},{"$nulls":8},{"$error":"#DIV/0!"}]
[12,{"$f":"Список!B15","v":0},{"$nulls":8},{"$error":"#DIV/0!"}]
[13,{"$f":"Список!B16","v":0},{"$nulls":8},{"$error":"#DIV/0!"}]
[14,{"$f":"Список!B17","v":0},{"$nulls":8},{"$error":"#DIV/0!"}]
[15,{"$f":"Список!B18","v":0},{"$nulls":8},{"$error":"#DIV/0!"}]
[16,{"$f":"Список!B19","v":0},{"$nulls":8},{"$error":"#DIV/0!"}]
[17,{"$f":"Список!B20","v":0},{"$nulls":8},{"$error":"#DIV/0!"}]
[18,{"$f":"Список!B21","v":0},{"$nulls":8},{"$error":"#DIV/0!"}]
[19,{"$f":"Список!B22","v":0},{"$nulls":8},{"$error":"#DIV/0!"}]
[20,{"$f":"Список!B23","v":0},{"$nulls":8},{"$error":"#DIV/0!"}]
[21,{"$f":"Список!B24","v":0},{"$nulls":8},{"$error":"#DIV/0!"}]
[22,{"$f":"Список!B25","v":0},{"$nulls":8},{"$error":"#DIV/0!"}]
[23,{"$f":"Список!B26","v":0},{"$nulls":8},{"$error":"#DIV/0!"}]
[24,{"$f":"Список!B27","v":0},{"$nulls":8},{"$error":"#DIV/0!"}]
[25,{"$f":"Список!B28","v":0},{"$nulls":8},{"$error":"#DIV/0!"}]
[26,{"$f":"Список!B29","v":0},{"$nulls":8},{"$error":"#DIV/0!"}]
[27,{"$f":"Список!B30","v":0},{"$nulls":8},{"$error":"#DIV/0!"}]
[28,{"$f":"Список!B31","v":0},{"$nulls":8},{"$error":"#DIV/0!"}]
[29,{"$f":"Список!B32","v":0},{"$nulls":8},{"$error":"#DIV/0!"}]
[30,{"$f":"Список!B33","v":0},{"$nulls":8},{"$error":"#DIV/0!"}]
[null,"СРЕДНИЙ ПОКАЗАТЕЛЬ ПО ГРУППЕ",{"$nulls":8},{"$f":"AVERAGE(K11:K40)","v":{"$error":"#DIV/0!"}}]
[null,"среднее по критерию",null,null,{"$f":"AVERAGE(E11:E40)","v":{"$error":"#DIV/0!"}},{"$f":"AVERAGE(F11:F40)","v":{"$error":"#DIV/0!"}},{"$error":"#DIV/0!"},{"$error":"#DIV/0!"},{"$error":"#DIV/0!"},{"$error":"#DIV/0!"}]
[null,"среднее по разделу",null,null,{"$f":"(E42+F42+G42+H42+I42+J42)/6","v":{"$error":"#DIV/0!"}}]
[null,"Ф.И.О, должность специалиста(ов)____________________________________________________________________________________________________________________________________________________________________________________________________________________________________"]
[null,"© Автор-составитель Кулекина И.А., СПБ, 2023"]
[]
[]
[null,"подготовка к обучению грумоте",null,null,{"$f":"E43","v":{"$error":"#DIV/0!"}}]

{"sheet":"Реч.разв.к 7г ч3. К.г. ","index":15,"n_rows":48,"n_cols":11,"rows_kept":48,"merged":[[0,0,0,1],[0,4,0,5],[0,6,0,9],[1,0,1,3],[2,0,2,3],[3,0,3,1],[4,0,4,1],[5,0,9,0],[5,1,9,1],[5,4,5,9],[5,10,9,10],[6,4,6,9],[7,4,7,9],[8,4,9,4],[8,5,9,5],[8,6,9,6],[8,7,9,7],[8,8,9,8],[8,9,9,9],[40,1,40,9],[42,4,42,9],[43,1,43,10],[44,1,44,10]]}
["Финальная диагностика",{"$nulls":3},"ГРУППА ПОДГОТОВИТЕЛЬНОГО К ШКОЛЕ ВОЗРАСТА (6-7 лет)",null,"Период проведения - окончание посещения группы подготовительного к школе возраста"]
["Стартовая диагностика"]
["*- не диагностируется в данном возрасте"]
["Сформированность показателя",{"$nulls":3},"«2» показатель сформирован","«1» показатель в стадии формирования","«0» показатель не сформирован"]
["Средний уровень",{"$nulls":3},"1,8 - 2,0 норма-высокий","1,0 - 1,7 норма - средний","0,0 - 0,9 ниже нормы"]
["№","Ф.И. ребенка",null,null,"ОБРАЗОВАТЕЛЬНАЯ ОБЛАСТЬ «РЕЧЕВОЕ  РАЗВИТИЕ»",{"$nulls":5},"СРЕДНИЙ ПОКАЗАТЕЛЬ ПО РЕБЕНКУ"]
[{"$nulls":4},"Показатели возможных достижений (возрастные характеристики) к 7 годам"]
[{"$nulls":4},"Подготовка к обучению грамоте"]
[{"$nulls":4},"Ребенок производит звуковой анализ четырехзвуковых и пятизвуковых слов","Ребенок может интонационно выделить звуки в слове, определить их последовательность, дать им характеристику, составить схему слова, выделить ударный гласный звук в слове","Ребенок может определить количество и последовательность слов в предложении","Ребенок может составить предложение с заданным количеством слов","Ребенок знает названия всех букв","Ребенок читает слоги"]
[]
[1,{"$f":"Список!B4","v":0},{"$nulls":8},{"$f":"AVERAGE(E11:J11)","v":{"$error":"#DIV/0!"}}]
[2,{"$f":"Список!B5","v":0},{"$nulls":8},{"$error":"#DIV/0!"}]
[3,{"$f":"Список!B6","v":0},{"$nulls":8},{"$error":"#DIV/0!"}]
[4,{"$f":"Список!B7","v":0},{"$nulls":8},{"$error":"#DIV/0!"}]
[5,{"$f":"Список!B8","v":0},{"$nulls":8},{"$error":"#DIV/0!"}]
[6,{"$f":"Список!B9","v":0},{"$nulls":8},{"$error":"#DIV/0!"}]
[7,{"$f":"Список!B10","v":0},{"$nulls":8},{"$error":"#DIV/0!"}]
[8,{"$f":"Список!B11","v":0},{"$nulls":8},{"$error":"#DIV/0!"}]
[9,{"$f":"Список!B12","v":0},{"$nulls":8},{"$error":"#DIV/0!"}]
[10,{"$f":"Список!B13","v":0},{"$nulls":8},{"$error":"#DIV/0!"}]
[11,{"$f":"Список!B14","v":0},{"$nulls":8},{"$error":"#DIV/0!"}]
[12,{"$f":"Список!B15","v":0},{"$nulls":8},{"$error":"#DIV/0!"}]
[13,{"$f":"Список!B16","v":0},{"$nulls":8},{"$error":"#DIV/0!"}]
[14,{"$f":"Список!B17","v":0},{"$nulls":8},{"$error":"#DIV/0!"}]
[15,{"$f":"Список!B18","v":0},{"$nulls":8},{"$error":"#DIV/0!"}]
[16,{"$f":"Список!B19","v":0},{"$nulls":8},{"$error":"#DIV/0!"}]
[17,{"$f":"Список!B20","v":0},{"$nulls":8},{"$error":"#DIV/0!"}]
[18,{"$f":"Список!B21","v":0},{"$nulls":8},{"$error":"#DIV/0!"}]
[19,{"$f":"Список!B22","v":0},{"$nulls":8},{"$error":"#DIV/0!"}]
[20,{"$f":"Список!B23","v":0},{"$nulls":8},{"$error":"#DIV/0!"}]
[21,{"$f":"Список!B24","v":0},{"$nulls":8},{"$error":"#DIV/0!"}]
[22,{"$f":"Список!B25","v":0},{"$nulls":8},{"$error":"#DIV/0!"}]
[23,{"$f":"Список!B26","v":0},{"$nulls":8},{"$error":"#DIV/0!"}]
[24,{"$f":"Список!B27","v":0},{"$nulls":8},{"$error":"#DIV/0!"}]
[25,{"$f":"Список!B28","v":0},{"$nulls":8},{"$error":"#DIV/0!"}]
[26,{"$f":"Список!B29","v":0},{"$nulls":8},{"$error":"#DIV/0!"}]
[27,{"$f":"Список!B30","v":0},{"$nulls":8},{"$error":"#DIV/0!"}]
[28,{"$f":"Список!B31","v":0},{"$nulls":8},{"$error":"#DIV/0!"}]
[29,{"$f":"Список!B32","v":0},{"$nulls":8},{"$error":"#DIV/0!"}]
[30,{"$f":"Список!B33","v":0},{"$nulls":8},{"$error":"#DIV/0!"}]
[null,"СРЕДНИЙ ПОКАЗАТЕЛЬ ПО ГРУППЕ",{"$nulls":8},{"$f":"AVERAGE(K11:K40)","v":{"$error":"#DIV/0!"}}]
[null,"среднее по критерию",null,null,{"$f":"AVERAGE(E11:E40)","v":{"$error":"#DIV/0!"}},{"$f":"AVERAGE(F11:F40)","v":{"$error":"#DIV/0!"}},{"$error":"#DIV/0!"},{"$error":"#DIV/0!"},{"$error":"#DIV/0!"},{"$error":"#DIV/0!"}]
[null,"среднее по разделу",null,null,{"$f":"(E42+F42+G42+H42+I42+J42)/6","v":{"$error":"#DIV/0!"}}]
[null,"Ф.И.О, должность специалиста(ов)____________________________________________________________________________________________________________________________________________________________________________________________________________________________________"]
[null,"© Автор-составитель Кулекина И.А., СПБ, 2023"]
[]
[]
[null,"подготовка к обучению грумоте",null,null,{"$f":"E43","v":{"$error":"#DIV/0!"}}]

{"sheet":"Динамика речевого развития","index":16,"n_rows":7,"n_cols":9,"rows_kept":7,"merged":[[1,0,1,8]]}
[]
["Обобщение результатов педагогической диагностики по ОО \"Речевое развитие\". Подготовительная группа"]
[]
[]
[null,"общее речевое развитие","формирование словаря","грамматический строй речи","звуковая культура речи","связная речь","чтение художественной литературы","подготовка к обучению грамоте","среднее по группе"]
["начало года",{"$f":"'Реч.разв.к 7г ч1 Н.г.'!E48","v":{"$error":"#DIV/0!"}},{"$f":"'Реч.разв.к 7г ч1 Н.г.'!E49","v":{"$error":"#DIV/0!"}},{"$f":"'Реч.разв.к 7г ч1 Н.г.'!E50","v":{"$error":"#DIV/0!"}},{"$f":"'Реч.разв.к 7г ч2 Н.г.'!E48","v":{"$error":"#DIV/0!"}},{"$f":"'Реч.разв.к 7г ч2 Н.г.'!E49","v":{"$error":"#DIV/0!"}},{"$f":"'Реч.разв.к 7г ч2 Н.г.'!E50","v":{"$error":"#DIV/0!"}},{"$f":"'Реч.разв.к 7г ч3. Н.г.'!E48","v":{"$error":"#DIV/0!"}},{"$f":"AVERAGE(B6:H6)","v":{"$error":"#DIV/0!"}}]
["конец года",{"$f":"'Реч.разв.к 7г ч1 К.г.'!E48","v":{"$error":"#DIV/0!"}},{"$f":"'Реч.разв.к 7г ч1 К.г.'!E49","v":{"$error":"#DIV/0!"}},{"$f":"'Реч.разв.к 7г ч1 К.г.'!E50","v":{"$error":"#DIV/0!"}},{"$f":"'Реч.разв.к 7г ч2 К.г. '!E48","v":{"$error":"#DIV/0!"}},{"$f":"'Реч.разв.к 7г ч2 К.г. '!E49","v":{"$error":"#DIV/0!"}},{"$f":"'Реч.разв.к 7г ч2 К.г. '!E50","v":{"$error":"#DIV/0!"}},{"$f":"'Реч.разв.к 7г ч3. К.г. '!E48","v":{"$error":"#DIV/0!"}},{"$f":"AVERAGE(B7:H7)","v":{"$error":"#DIV/0!"}}]

{"sheet":"Позн.разв. к 7г ч1. Н.г.","index":17,"n_rows":52,"n_cols":14,"rows_kept":52,"merged":[[0,1,0,2],[0,5,0,6],[0,7,0,10],[1,1,1,4],[2,1,2,4],[3,1,3,2],[3,6,3,7],[3,8,3,9],[4,1,4,2],[4,6,4,7],[4,8,4,9],[5,0,10,0],[5,1,10,1],[5,4,5,12],[5,13,10,13],[6,4,6,12],[7,4,7,8],[7,9,7,12],[8,5,8,7],[8,9,10,9],[8,10,10,10],[8,11,10,11],[8,12,10,12],[9,4,9,8],[41,1,41,12],[43,5,43,7],[43,9,43,12],[45,1,45,13]]}
[null,"Финальная диагностика",{"$nulls":3},"ГРУППА ПОДГОТОВИТЕЛЬНОГО К ШКОЛЕ ВОЗРАСТА (6-7 лет)",null,"Период проведения - окончание посещения группы подготовительного к школе возраста"]
[null,"Стартовая диагностика"]
[null,"*- не диагностируется в данном возрасте"]
[null,"Сформированность показателя",{"$nulls":3},"«2» показатель сформирован","«1» показатель в стадии формирования",null,"«0» показатель не сформирован"]
[null,"Средний уровень",{"$nulls":3},"1,8 - 2,0 норма-высокий","1,0 - 1,7 норма - средний",null,"0,0 - 0,9 ниже нормы"]
["№","Ф.И. ребенка",null,null,"ОБРАЗОВАТЕЛЬНАЯ ОБЛАСТЬ «ПОЗНАВАТЕЛЬНОЕ  РАЗВИТИЕ»",{"$nulls":8},"СРЕДНИЙ ПОКАЗАТЕЛЬ ПО РЕБЕНКУ"]
[{"$nulls":4},"Показатели возможных достижений (возрастные характеристики) к 7 годам"]
[{"$nulls":4},"Сенсорные эталоны ",{"$nulls":4},"Познавательные действия"]
[{"$nulls":4},"Цвет, оттенки","Форма, геометрические фигуры",null,null,"Величина","Ребенок самостоятельно выбирает способ осуществления разных видов познавательной деятельности","Ребенок интересуется субъективно новым и неизвестным в окружающем мире","Ребенок способен применять в жизненных и игровых ситуациях знания о количестве, форме, величине предметов, пространстве, времени","Ребенок имеет разнообразные познавательные умения: определяет противоречия. Формулирует задачу исследования, использует разные способы и средства проверки предположений (сравнение с эталонами, классификацию, систематизацию и др.)"]
[{"$nulls":4},"Ребенок различает и называет"]
[{"$nulls":4}," все цвета спектра и ахроматические цвета, оттенки","плоские и объемные геометрические фигуры; умеет выделять структуру геометрических фигур и устанавливать взаимосвязи между ними","Ребенок умеет классифицировать фигуры по внешним структурным признаками (округлые, многоугольники)","Ребенок владеет различными способами видоизменения геометрических фигур (наложение, соединение, разрезание и др.)","Ребенок умеет измерять длину, ширину, высоту с помощью условной мерки"]
[1,{"$f":"Список!B4","v":0},{"$nulls":11},{"$f":"AVERAGE(E12:M12)","v":{"$error":"#DIV/0!"}}]
[2,{"$f":"Список!B5","v":0},{"$nulls":11},{"$error":"#DIV/0!"}]
[3,{"$f":"Список!B6","v":0},{"$nulls":11},{"$error":"#DIV/0!"}]
[4,{"$f":"Список!B7","v":0},{"$nulls":11},{"$error":"#DIV/0!"}]
[5,{"$f":"Список!B8","v":0},{"$nulls":11},{"$error":"#DIV/0!"}]
[6,{"$f":"Список!B9","v":0},{"$nulls":11},{"$error":"#DIV/0!"}]
[7,{"$f":"Список!B10","v":0},{"$nulls":11},{"$error":"#DIV/0!"}]
[8,{"$f":"Список!B11","v":0},{"$nulls":11},{"$error":"#DIV/0!"}]
[9,{"$f":"Список!B12","v":0},{"$nulls":11},{"$error":"#DIV/0!"}]
[10,{"$f":"Список!B13","v":0},{"$nulls":11},{"$error":"#DIV/0!"}]
[11,{"$f":"Список!B14","v":0},{"$nulls":11},{"$error":"#DIV/0!"}]
[12,{"$f":"Список!B15","v":0},{"$nulls":11},{"$error":"#DIV/0!"}]
[13,{"$f":"Список!B16","v":0},{"$nulls":11},{"$error":"#DIV/0!"}]
[14,{"$f":"Список!B17","v":0},{"$nulls":11},{"$error":"#DIV/0!"}]
[15,{"$f":"Список!B18","v":0},{"$nulls":11},{"$error":"#DIV/0!"}]
[16,{"$f":"Список!B19","v":0},{"$nulls":11},{"$error":"#DIV/0!"}]
[17,{"$f":"Список!B20","v":0},{"$nulls":11},{"$error":"#DIV/0!"}]
[18,{"$f":"Список!B21","v":0},{"$nulls":11},{"$error":"#DIV/0!"}]
[19,{"$f":"Список!B22","v":0},{"$nulls":11},{"$error":"#DIV/0!"}]
[20,{"$f":"Список!B23","v":0},{"$nulls":11},{"$error":"#DIV/0!"}]
[21,{"$f":"Список!B24","v":0},{"$nulls":11},{"$error":"#DIV/0!"}]
[22,{"$f":"Список!B25","v":0},{"$nulls":11},{"$error":"#DIV/0!"}]
[23,{"$f":"Список!B26","v":0},{"$nulls":11},{"$error":"#DIV/0!"}]
[24,{"$f":"Список!B27","v":0},{"$nulls":11},{"$error":"#DIV/0!"}]
[25,{"$f":"Список!B28","v":0},{"$nulls":11},{"$error":"#DIV/0!"}]
[26,{"$f":"Список!B29","v":0},{"$nulls":11},{"$error":"#DIV/0!"}]
[27,{"$f":"Список!B30","v":0},{"$nulls":11},{"$error":"#DIV/0!"}]
[28,{"$f":"Список!B31","v":0},{"$nulls":11},{"$error":"#DIV/0!"}]
[29,{"$f":"Список!B32","v":0},{"$nulls":11},{"$error":"#DIV/0!"}]
[30,{"$f":"Список!B33","v":0},{"$nulls":11},{"$error":"#DIV/0!"}]
[null,"СРЕДНИЙ ПОКАЗАТЕЛЬ ПО ГРУППЕ",{"$nulls":11},{"$f":"AVERAGE(N12:N41)","v":{"$error":"#DIV/0!"}}]
[null,"среднее по критерию",null,null,{"$f":"AVERAGE(E12:E41)","v":{"$error":"#DIV/0!"}},{"$f":"AVERAGE(F12:F41)","v":{"$error":"#DIV/0!"}},{"$error":"#DIV/0!"},{"$error":"#DIV/0!"},{"$error":"#DIV/0!"},{"$error":"#DIV/0!"},{"$error":"#DIV/0!"},{"$error":"#DIV/0!"},{"$error":"#DIV/0!"}]
[null,"среднее по разделу",null,null,{"$f":"E43","v":{"$error":"#DIV/0!"}},{"$f":"(F43+G43+H43)/3","v":{"$error":"#DIV/0!"}},null,null,{"$f":"I43","v":{"$error":"#DIV/0!"}},{"$f":"(J43+K43+L43+M43)/4","v":{"$error":"#DIV/0!"}}]
[null,"Ф.И.О, должность специалиста(ов)____________________________________________________________________________________________________________________________________________________________________________________________________________________________________"]
[null,"© Автор-составитель Кулекина И.А., СПБ, 2023"]
[]
[]
[null,"цвет, оттенки",null,null,{"$f":"E44","v":{"$error":"#DIV/0!"}}]
[null,"форма, геометрические фигуры",null,null,{"$f":"F44","v":{"$error":"#DIV/0!"}}]
[null,"величина",null,null,{"$f":"I44","v":{"$error":"#DIV/0!"}}]
[null,"познавательные действия",null,null,{"$f":"J44","v":{"$error":"#DIV/0!"}}]

{"sheet":"Позн.разв. к 7г ч1. К.г. ","index":18,"n_rows":52,"n_cols":14,"rows_kept":52,"merged":[[0,1,0,2],[0,5,0,6],[0,7,0,10],[1,1,1,4],[2,1,2,4],[3,1,3,2],[3,6,3,7],[3,8,3,9],[4,1,4,2],[4,6,4,7],[4,8,4,9],[5,0,10,0],[5,1,10,1],[5,4,5,12],[5,13,10,13],[6,4,6,12],[7,4,7,8],[7,9,7,12],[8,5,8,7],[8,9,10,9],[8,10,10,10],[8,11,10,11],[8,12,10,12],[9,4,9,8],[41,1,41,12],[43,5,43,7],[43,9,43,12],[45,1,45,13]]}
[null,"Финальная диагностика",{"$nulls":3},"ГРУППА ПОДГОТОВИТЕЛЬНОГО К ШКОЛЕ ВОЗРАСТА (6-7 лет)",null,"Период проведения - окончание посещения группы подготовительного к школе возраста"]
[null,"Стартовая диагностика"]
[null,"*- не диагностируется в данном возрасте"]
[null,"Сформированность показателя",{"$nulls":3},"«2» показатель сформирован","«1» показатель в стадии формирования",null,"«0» показатель не сформирован"]
[null,"Средний уровень",{"$nulls":3},"1,8 - 2,0 норма-высокий","1,0 - 1,7 норма - средний",null,"0,0 - 0,9 ниже нормы"]
["№","Ф.И. ребенка",null,null,"ОБРАЗОВАТЕЛЬНАЯ ОБЛАСТЬ «ПОЗНАВАТЕЛЬНОЕ  РАЗВИТИЕ»",{"$nulls":8},"СРЕДНИЙ ПОКАЗАТЕЛЬ ПО РЕБЕНКУ"]
[{"$nulls":4},"Показатели возможных достижений (возрастные характеристики) к 7 годам"]
[{"$nulls":4},"Сенсорные эталоны ",{"$nulls":4},"Познавательные действия"]
[{"$nulls":4},"Цвет, оттенки","Форма, геометрические фигуры",null,null,"Величина","Ребенок самостоятельно выбирает способ осуществления разных видов познавательной деятельности","Ребенок интересуется субъективно новым и неизвестным в окружающем мире","Ребенок способен применять в жизненных и игровых ситуациях знания о количестве, форме, величине предметов, пространстве, времени","Ребенок имеет разнообразные познавательные умения: определяет противоречия. Формулирует задачу исследования, использует разные способы и средства проверки предположений (сравнение с эталонами, классификацию, систематизацию и др.)"]
[{"$nulls":4},"Ребенок различает и называет"]
[{"$nulls":4}," все цвета спектра и ахроматические цвета, оттенки","плоские и объемные геометрические фигуры; умеет выделять структуру геометрических фигур и устанавливать взаимосвязи между ними","Ребенок умеет классифицировать фигуры по внешним структурным признаками (округлые, многоугольники)","Ребенок владеет различными способами видоизменения геометрических фигур (наложение, соединение, разрезание и др.)","Ребенок умеет измерять длину, ширину, высоту с помощью условной мерки"]
[1,{"$f":"Список!B4","v":0},{"$nulls":11},{"$f":"AVERAGE(E12:M12)","v":{"$error":"#DIV/0!"}}]
[2,{"$f":"Список!B5","v":0},{"$nulls":11},{"$error":"#DIV/0!"}]
[3,{"$f":"Список!B6","v":0},{"$nulls":11},{"$error":"#DIV/0!"}]
[4,{"$f":"Список!B7","v":0},{"$nulls":11},{"$error":"#DIV/0!"}]
[5,{"$f":"Список!B8","v":0},{"$nulls":11},{"$error":"#DIV/0!"}]
[6,{"$f":"Список!B9","v":0},{"$nulls":11},{"$error":"#DIV/0!"}]
[7,{"$f":"Список!B10","v":0},{"$nulls":11},{"$error":"#DIV/0!"}]
[8,{"$f":"Список!B11","v":0},{"$nulls":11},{"$error":"#DIV/0!"}]
[9,{"$f":"Список!B12","v":0},{"$nulls":11},{"$error":"#DIV/0!"}]
[10,{"$f":"Список!B13","v":0},{"$nulls":11},{"$error":"#DIV/0!"}]
[11,{"$f":"Список!B14","v":0},{"$nulls":11},{"$error":"#DIV/0!"}]
[12,{"$f":"Список!B15","v":0},{"$nulls":11},{"$error":"#DIV/0!"}]
[13,{"$f":"Список!B16","v":0},{"$nulls":11},{"$error":"#DIV/0!"}]
[14,{"$f":"Список!B17","v":0},{"$nulls":11},{"$error":"#DIV/0!"}]
[15,{"$f":"Список!B18","v":0},{"$nulls":11},{"$error":"#DIV/0!"}]
[16,{"$f":"Список!B19","v":0},{"$nulls":11},{"$error":"#DIV/0!"}]
[17,{"$f":"Список!B20","v":0},{"$nulls":11},{"$error":"#DIV/0!"}]
[18,{"$f":"Список!B21","v":0},{"$nulls":11},{"$error":"#DIV/0!"}]
[19,{"$f":"Список!B22","v":0},{"$nulls":11},{"$error":"#DIV/0!"}]
[20,{"$f":"Список!B23","v":0},{"$nulls":11},{"$error":"#DIV/0!"}]
[21,{"$f":"Список!B24","v":0},{"$nulls":11},{"$error":"#DIV/0!"}]
[22,{"$f":"Список!B25","v":0},{"$nulls":11},{"$error":"#DIV/0!"}]
[23,{"$f":"Список!B26","v":0},{"$nulls":11},{"$error":"#DIV/0!"}]
[24,{"$f":"Список!B27","v":0},{"$nulls":11},{"$error":"#DIV/0!"}]
[25,{"$f":"Список!B28","v":0},{"$nulls":11},{"$error":"#DIV/0!"}]
[26,{"$f":"Список!B29","v":0},{"$nulls":11},{"$error":"#DIV/0!"}]
[27,{"$f":"Список!B30","v":0},{"$nulls":11},{"$error":"#DIV/0!"}]
[28,{"$f":"Список!B31","v":0},{"$nulls":11},{"$error":"#DIV/0!"}]
[29,{"$f":"Список!B32","v":0},{"$nulls":11},{"$error":"#DIV/0!"}]
[30,{"$f":"Список!B33","v":0},{"$nulls":11},{"$error":"#DIV/0!"}]
[null,"СРЕДНИЙ ПОКАЗАТЕЛЬ ПО ГРУППЕ",{"$nulls":11},{"$f":"AVERAGE(N12:N41)","v":{"$error":"#DIV/0!"}}]
[null,"среднее по критерию",null,null,{"$f":"AVERAGE(E12:E41)","v":{"$error":"#DIV/0!"}},{"$f":"AVERAGE(F12:F41)","v":{"$error":"#DIV/0!"}},{"$error":"#DIV/0!"},{"$error":"#DIV/0!"},{"$error":"#DIV/0!"},{"$error":"#DIV/0!"},{"$error":"#DIV/0!"},{"$error":"#DIV/0!"},{"$error":"#DIV/0!"}]
[null,"среднее по разделу",null,null,{"$f":"E43","v":{"$error":"#DIV/0!"}},{"$f":"(F43+G43+H43)/3","v":{"$error":"#DIV/0!"}},null,null,{"$f":"I43","v":{"$error":"#DIV/0!"}},{"$f":"(J43+K43+L43+M43)/4","v":{"$error":"#DIV/0!"}}]
[null,"Ф.И.О, должность специалиста(ов)____________________________________________________________________________________________________________________________________________________________________________________________________________________________________"]
[null,"© Автор-составитель Кулекина И.А., СПБ, 2023"]
[]
[]
[null,"цвет, оттенки",null,null,{"$f":"E44","v":{"$error":"#DIV/0!"}}]
[null,"форма, геометрические фигуры",null,null,{"$f":"F44","v":{"$error":"#DIV/0!"}}]
[null,"величина",null,null,{"$f":"I44","v":{"$error":"#DIV/0!"}}]
[null,"познавательные действия",null,null,{"$f":"J44","v":{"$error":"#DIV/0!"}}]

{"sheet":"Позн.разв. к 7г ч2. Н.г.","index":19,"n_rows":53,"n_cols":14,"rows_kept":53,"merged":[[0,1,0,2],[0,5,0,6],[0,7,0,10],[1,1,1,4],[2,1,2,4],[3,1,3,2],[3,6,3,7],[3,8,3,9],[4,1,4,2],[4,6,4,7],[4,8,4,9],[5,0,10,0],[5,1,10,1],[5,4,5,12],[5,13,10,13],[6,4,6,12],[7,4,7,12],[8,4,8,6],[8,7,8,8],[8,9,8,10],[9,4,10,4],[9,5,10,5],[9,6,10,6],[9,7,10,7],[9,8,10,8],[9,9,10,9],[9,10,10,10],[9,11,10,11],[9,12,10,12],[41,1,41,12],[43,4,43,6],[43,7,43,8],[43,9,43,10],[45,1,45,13]]}
[null,"Финальная диагностика",{"$nulls":3},"ГРУППА ПОДГОТОВИТЕЛЬНОГО К ШКОЛЕ ВОЗРАСТА (6-7 лет)",null,"Период проведения - окончание посещения группы подготовительного к школе возраста"]
[null,"Стартовая диагностика"]
[null,"*- не диагностируется в данном возрасте"]
[null,"Сформированность показателя",{"$nulls":3},"«2» показатель сформирован","«1» показатель в стадии формирования",null,"«0» показатель не сформирован"]
[null,"Средний уровень",{"$nulls":3},"1,8 - 2,0 норма-высокий","1,0 - 1,7 норма - средний",null,"0,0 - 0,9 ниже нормы"]
["№","Ф.И. ребенка",null,null,"ОБРАЗОВАТЕЛЬНАЯ ОБЛАСТЬ «ПОЗНАВАТЕЛЬНОЕ  РАЗВИТИЕ»",{"$nulls":8},"СРЕДНИЙ ПОКАЗАТЕЛЬ ПО РЕБЕНКУ"]
[{"$nulls":4},"Показатели возможных достижений (возрастные характеристики) к 7 годам"]
[{"$nulls":4},"Математические представления"]
[{"$nulls":4},"Количество и счет",null,null,"Ориентировка во времени",null,"Ориентировка в пространстве",null,"Пространственно-количественные связи и отношения","Сравнение"]
[{"$nulls":4},"Ребенок умеет считать в пределах 10 в прямом и обратном порядке","Ребенок знает состав чисел из двух меньших в пределах первого десятка","Ребенок решает простые арифметические задачи на сложение и вычитание","Ребенок имеет представление о календаре, как системе измерения времени","Ребенок умеет определять время по часам с точностью до четверти часа","Ребенок ориентируется на местности, по схеме, по плану","Ребенок знает способы ориентировки в двухмерном пространстве","Ребенок умеет измерять протяженность, массу и объем с помощью условной мерки; понимает взаимообратные отношения между мерой и результатом измерения","Ребенок сравнивает предметы по 4-6 основаниям с выделением сходства, отличия"]
[]
[1,{"$f":"Список!B4","v":0},{"$nulls":11},{"$f":"AVERAGE(E12:M12)","v":{"$error":"#DIV/0!"}}]
[2,{"$f":"Список!B5","v":0},{"$nulls":11},{"$error":"#DIV/0!"}]
[3,{"$f":"Список!B6","v":0},{"$nulls":11},{"$error":"#DIV/0!"}]
[4,{"$f":"Список!B7","v":0},{"$nulls":11},{"$error":"#DIV/0!"}]
[5,{"$f":"Список!B8","v":0},{"$nulls":11},{"$error":"#DIV/0!"}]
[6,{"$f":"Список!B9","v":0},{"$nulls":11},{"$error":"#DIV/0!"}]
[7,{"$f":"Список!B10","v":0},{"$nulls":11},{"$error":"#DIV/0!"}]
[8,{"$f":"Список!B11","v":0},{"$nulls":11},{"$error":"#DIV/0!"}]
[9,{"$f":"Список!B12","v":0},{"$nulls":11},{"$error":"#DIV/0!"}]
[10,{"$f":"Список!B13","v":0},{"$nulls":11},{"$error":"#DIV/0!"}]
[11,{"$f":"Список!B14","v":0},{"$nulls":11},{"$error":"#DIV/0!"}]
[12,{"$f":"Список!B15","v":0},{"$nulls":11},{"$error":"#DIV/0!"}]
[13,{"$f":"Список!B16","v":0},{"$nulls":11},{"$error":"#DIV/0!"}]
[14,{"$f":"Список!B17","v":0},{"$nulls":11},{"$error":"#DIV/0!"}]
[15,{"$f":"Список!B18","v":0},{"$nulls":11},{"$error":"#DIV/0!"}]
[16,{"$f":"Список!B19","v":0},{"$nulls":11},{"$error":"#DIV/0!"}]
[17,{"$f":"Список!B20","v":0},{"$nulls":11},{"$error":"#DIV/0!"}]
[18,{"$f":"Список!B21","v":0},{"$nulls":11},{"$error":"#DIV/0!"}]
[19,{"$f":"Список!B22","v":0},{"$nulls":11},{"$error":"#DIV/0!"}]
[20,{"$f":"Список!B23","v":0},{"$nulls":11},{"$error":"#DIV/0!"}]
[21,{"$f":"Список!B24","v":0},{"$nulls":11},{"$error":"#DIV/0!"}]
[22,{"$f":"Список!B25","v":0},{"$nulls":11},{"$error":"#DIV/0!"}]
[23,{"$f":"Список!B26","v":0},{"$nulls":11},{"$error":"#DIV/0!"}]
[24,{"$f":"Список!B27","v":0},{"$nulls":11},{"$error":"#DIV/0!"}]
[25,{"$f":"Список!B28","v":0},{"$nulls":11},{"$error":"#DIV/0!"}]
[26,{"$f":"Список!B29","v":0},{"$nulls":11},{"$error":"#DIV/0!"}]
[27,{"$f":"Список!B30","v":0},{"$nulls":11},{"$error":"#DIV/0!"}]
[28,{"$f":"Список!B31","v":0},{"$nulls":11},{"$error":"#DIV/0!"}]
[29,{"$f":"Список!B32","v":0},{"$nulls":11},{"$error":"#DIV/0!"}]
[30,{"$f":"Список!B33","v":0},{"$nulls":11},{"$error":"#DIV/0!"}]
[null,"СРЕДНИЙ ПОКАЗАТЕЛЬ ПО ГРУППЕ",{"$nulls":11},{"$f":"AVERAGE(N12:N41)","v":{"$error":"#DIV/0!"}}]
[null,"среднее по критерию",null,null,{"$f":"AVERAGE(E12:E41)","v":{"$error":"#DIV/0!"}},{"$f":"AVERAGE(F12:F41)","v":{"$error":"#DIV/0!"}},{"$error":"#DIV/0!"},{"$error":"#DIV/0!"},{"$error":"#DIV/0!"},{"$error":"#DIV/0!"},{"$error":"#DIV/0!"},{"$error":"#DIV/0!"},{"$error":"#DIV/0!"}]
[null,"среднее по разделу",null,null,{"$f":"(E43+F43+G43)/3","v":{"$error":"#DIV/0!"}},null,null,{"$f":"(H43+I43)/2","v":{"$error":"#DIV/0!"}},null,{"$f":"(J43+K43)/2","v":{"$error":"#DIV/0!"}},null,{"$f":"L43","v":{"$error":"#DIV/0!"}},{"$f":"M43","v":{"$error":"#DIV/0!"}}]
[null,"Ф.И.О, должность специалиста(ов)____________________________________________________________________________________________________________________________________________________________________________________________________________________________________"]
[null,"© Автор-составитель Кулекина И.А., СПБ, 2023"]
[]
[]
[null,"количество и счет",null,null,{"$f":"E44","v":{"$error":"#DIV/0!"}}]
[null,"ориентировка во времени",null,null,{"$f":"H44","v":{"$error":"#DIV/0!"}}]
[null,"ориентировка в пространстве",null,null,{"$f":"J44","v":{"$error":"#DIV/0!"}}]
[null,"Пространственно-количественные связи и отношения",null,null,{"$f":"L44","v":{"$error":"#DIV/0!"}}]
[null,"сравнение",null,null,{"$f":"M44","v":{"$error":"#DIV/0!"}}]

{"sheet":"Позн.разв. к 7г ч2. К.г.","index":20,"n_rows":53,"n_cols":14,"rows_kept":53,"merged":[[0,1,0,2],[0,5,0,6],[0,7,0,10],[1,1,1,4],[2,1,2,4],[3,1,3,2],[3,6,3,7],[3,8,3,9],[4,1,4,2],[4,6,4,7],[4,8,4,9],[5,0,10,0],[5,1,10,1],[5,4,5,12],[5,13,10,13],[6,4,6,12],[7,4,7,12],[8,4,8,6],[8,7,8,8],[8,9,8,10],[9,4,10,4],[9,5,10,5],[9,6,10,6],[9,7,10,7],[9,8,10,8],[9,9,10,9],[9,10,10,10],[9,11,10,11],[9,12,10,12],[41,1,41,12],[43,4,43,6],[43,7,43,8],[43,9,43,10],[45,1,45,13]]}
[null,"Финальная диагностика",{"$nulls":3},"ГРУППА ПОДГОТОВИТЕЛЬНОГО К ШКОЛЕ ВОЗРАСТА (6-7 лет)",null,"Период проведения - окончание посещения группы подготовительного к школе возраста"]
[null,"Стартовая диагностика"]
[null,"*- не диагностируется в данном возрасте"]
[null,"Сформированность показателя",{"$nulls":3},"«2» показатель сформирован","«1» показатель в стадии формирования",null,"«0» показатель не сформирован"]
[null,"Средний уровень",{"$nulls":3},"1,8 - 2,0 норма-высокий","1,0 - 1,7 норма - средний",null,"0,0 - 0,9 ниже нормы"]
["№","Ф.И. ребенка",null,null,"ОБРАЗОВАТЕЛЬНАЯ ОБЛАСТЬ «ПОЗНАВАТЕЛЬНОЕ  РАЗВИТИЕ»",{"$nulls":8},"СРЕДНИЙ ПОКАЗАТЕЛЬ ПО РЕБЕНКУ"]
[{"$nulls":4},"Показатели возможных достижений (возрастные характеристики) к 7 годам"]
[{"$nulls":4},"Математические представления"]
[{"$nulls":4},"Количество и счет",null,null,"Ориентировка во времени",null,"Ориентировка в пространстве",null,"Пространственно-количественные связи и отношения","Сравнение"]
[{"$nulls":4},"Ребенок умеет считать в пределах 10 в прямом и обратном порядке","Ребенок знает состав чисел из двух меньших в пределах первого десятка","Ребенок решает простые арифметические задачи на сложение и вычитание","Ребенок имеет представление о календаре, как системе измерения времени","Ребенок умеет определять время по часам с точностью до четверти часа","Ребенок ориентируется на местности, по схеме, по плану","Ребенок знает способы ориентировки в двухмерном пространстве","Ребенок умеет измерять протяженность, массу и объем с помощью условной мерки; понимает взаимообратные отношения между мерой и результатом измерения","Ребенок сравнивает предметы по 4-6 основаниям с выделением сходства, отличия"]
[]
[1,{"$f":"Список!B4","v":0},{"$nulls":11},{"$f":"AVERAGE(E12:M12)","v":{"$error":"#DIV/0!"}}]
[2,{"$f":"Список!B5","v":0},{"$nulls":11},{"$error":"#DIV/0!"}]
[3,{"$f":"Список!B6","v":0},{"$nulls":11},{"$error":"#DIV/0!"}]
[4,{"$f":"Список!B7","v":0},{"$nulls":11},{"$error":"#DIV/0!"}]
[5,{"$f":"Список!B8","v":0},{"$nulls":11},{"$error":"#DIV/0!"}]
[6,{"$f":"Список!B9","v":0},{"$nulls":11},{"$error":"#DIV/0!"}]
[7,{"$f":"Список!B10","v":0},{"$nulls":11},{"$error":"#DIV/0!"}]
[8,{"$f":"Список!B11","v":0},{"$nulls":11},{"$error":"#DIV/0!"}]
[9,{"$f":"Список!B12","v":0},{"$nulls":11},{"$error":"#DIV/0!"}]
[10,{"$f":"Список!B13","v":0},{"$nulls":11},{"$error":"#DIV/0!"}]
[11,{"$f":"Список!B14","v":0},{"$nulls":11},{"$error":"#DIV/0!"}]
[12,{"$f":"Список!B15","v":0},{"$nulls":11},{"$error":"#DIV/0!"}]
[13,{"$f":"Список!B16","v":0},{"$nulls":11},{"$error":"#DIV/0!"}]
[14,{"$f":"Список!B17","v":0},{"$nulls":11},{"$error":"#DIV/0!"}]
[15,{"$f":"Список!B18","v":0},{"$nulls":11},{"$error":"#DIV/0!"}]
[16,{"$f":"Список!B19","v":0},{"$nulls":11},{"$error":"#DIV/0!"}]
[17,{"$f":"Список!B20","v":0},{"$nulls":11},{"$error":"#DIV/0!"}]
[18,{"$f":"Список!B21","v":0},{"$nulls":11},{"$error":"#DIV/0!"}]
[19,{"$f":"Список!B22","v":0},{"$nulls":11},{"$error":"#DIV/0!"}]
[20,{"$f":"Список!B23","v":0},{"$nulls":11},{"$error":"#DIV/0!"}]
[21,{"$f":"Список!B24","v":0},{"$nulls":11},{"$error":"#DIV/0!"}]
[22,{"$f":"Список!B25","v":0},{"$nulls":11},{"$error":"#DIV/0!"}]
[23,{"$f":"Список!B26","v":0},{"$nulls":11},{"$error":"#DIV/0!"}]
[24,{"$f":"Список!B27","v":0},{"$nulls":11},{"$error":"#DIV/0!"}]
[25,{"$f":"Список!B28","v":0},{"$nulls":11},{"$error":"#DIV/0!"}]
[26,{"$f":"Список!B29","v":0},{"$nulls":11},{"$error":"#DIV/0!"}]
[27,{"$f":"Список!B30","v":0},{"$nulls":11},{"$error":"#DIV/0!"}]
[28,{"$f":"Список!B31","v":0},{"$nulls":11},{"$error":"#DIV/0!"}]
[29,{"$f":"Список!B32","v":0},{"$nulls":11},{"$error":"#DIV/0!"}]
[30,{"$f":"Список!B33","v":0},{"$nulls":11},{"$error":"#DIV/0!"}]
[null,"СРЕДНИЙ ПОКАЗАТЕЛЬ ПО ГРУППЕ",{"$nulls":11},{"$f":"AVERAGE(N12:N41)","v":{"$error":"#DIV/0!"}}]
[null,"среднее по критерию",null,null,{"$f":"AVERAGE(E12:E41)","v":{"$error":"#DIV/0!"}},{"$f":"AVERAGE(F12:F41)","v":{"$error":"#DIV/0!"}},{"$error":"#DIV/0!"},{"$error":"#DIV/0!"},{"$error":"#DIV/0!"},{"$error":"#DIV/0!"},{"$error":"#DIV/0!"},{"$error":"#DIV/0!"},{"$error":"#DIV/0!"}]
[null,"среднее по разделу",null,null,{"$f":"(E43+F43+G43)/3","v":{"$error":"#DIV/0!"}},null,null,{"$f":"(H43+I43)/2","v":{"$error":"#DIV/0!"}},null,{"$f":"(J43+K43)/2","v":{"$error":"#DIV/0!"}},null,{"$f":"L43","v":{"$error":"#DIV/0!"}},{"$f":"M43","v":{"$error":"#DIV/0!"}}]
[null,"Ф.И.О, должность специалиста(ов)____________________________________________________________________________________________________________________________________________________________________________________________________________________________________"]
[null,"© Автор-составитель Кулекина И.А., СПБ, 2023"]
[]
[]
[null,"количество и счет",null,null,{"$f":"E44","v":{"$error":"#DIV/0!"}}]
[null,"ориентировка во времени",null,null,{"$f":"H44","v":{"$error":"#DIV/0!"}}]
[null,"ориентировка в пространстве",null,null,{"$f":"J44","v":{"$error":"#DIV/0!"}}]
[null,"Пространственно-количественные связи и отношения",null,null,{"$f":"L44","v":{"$error":"#DIV/0!"}}]
[null,"сравнение",null,null,{"$f":"M44","v":{"$error":"#DIV/0!"}}]

{"sheet":"Позн.разв. к 7г ч3. Н.г.","index":21,"n_rows":54,"n_cols":18,"rows_kept":54,"merged":[[0,0,0,1],[0,4,0,5],[0,6,0,9],[1,0,1,3],[2,0,2,3],[3,0,3,1],[3,5,3,6],[3,7,3,8],[4,0,4,1],[4,5,4,6],[4,7,4,8],[5,0,10,0],[5,1,10,1],[5,4,5,16],[5,17,10,17],[6,4,6,16],[7,4,7,8],[7,9,7,16],[8,4,9,8],[8,9,8,12],[8,13,8,14],[8,15,10,15],[8,16,10,16],[9,13,10,13],[41,1,41,16],[43,4,43,8],[43,9,43,12],[43,13,43,14],[45,1,45,17]]}
["Финальная диагностика",{"$nulls":3},"ГРУППА ПОДГОТОВИТЕЛЬНОГО К ШКОЛЕ ВОЗРАСТА (6-7 лет)",null,"Период проведения - окончание посещения группы подготовительного к школе возраста"]
["Стартовая диагностика"]
["*- не диагностируется в данном возрасте"]
["Сформированность показателя",{"$nulls":3},"«2» показатель сформирован","«1» показатель в стадии формирования",null,"«0» показатель не сформирован"]
["Средний уровень",{"$nulls":3},"1,8 - 2,0 норма-высокий","1,0 - 1,7 норма - средний",null,"0,0 - 0,9 ниже нормы"]
["№","Ф.И. ребенка",null,null,"ОБРАЗОВАТЕЛЬНАЯ ОБЛАСТЬ «ПОЗНАВАТЕЛЬНОЕ  РАЗВИТИЕ»",{"$nulls":12},"СРЕДНИЙ ПОКАЗАТЕЛЬ ПО РЕБЕНКУ"]
[{"$nulls":4},"Показатели возможных достижений (возрастные характеристики) к 7 годам"]
[{"$nulls":4},"Окружающий мир",{"$nulls":4},"Природа "]
[{"$nulls":4},"Ребенок имеет представления, может показать на картинке и в естественной среде, может рассказать",{"$nulls":4},"Объекты живой природы",{"$nulls":3},"Объекты неживой природы, природные явления",null,"Ребенок стремится к самостоятельному экспериментированию","Ребенок знает правила поведения в природе, проявляет осознанное, бережное отношение к природе и ее ресурсам"]
[{"$nulls":13},"Ребенок имеет представление об использовании человеком свойств неживой природы для хозяйственных нужд (ветряные мельницы, водохранилища, солнечные батареи, ледяные катки)"]
[{"$nulls":4}," о родном населенном пункте (название улиц, некоторых архитектурных особенностях, достопримечательностях), об истории, о выдающихся горожанах, традициях городской жизни"," о назначении общественных учреждений"," о разных видах специального транспорта"," о местах труда людей (завод, больница, магазин и др.)"," о местах отдыха людей","Ребенок имеет представление о наиболее ярких представителях животных и растений разных природных зон (пустыня, степь, тайга, тундра и др.), об их образе жизни, приспособлении к среде обитания, изменениях в жизни в разные сезоны года","Ребенок имеет представление о многообразии водных ресурсов (моря, океаны, реки, водопады и др.)","Ребенок имеет представление о многообразии полезных ископаемых (нефть, уголь, серебро, золото, алмазы и др.)","Ребенок имеет представление о жизненных потребностях, этапах роста и развития животных и растений",null,"Ребенок имеет представление о некоторых небесных телах (планеты, кометы, звезды)"]
[1,{"$f":"Список!B4","v":0},{"$nulls":15},{"$f":"AVERAGE(E12:Q12)","v":{"$error":"#DIV/0!"}}]
[2,{"$f":"Список!B5","v":0},{"$nulls":15},{"$error":"#DIV/0!"}]
[3,{"$f":"Список!B6","v":0},{"$nulls":15},{"$error":"#DIV/0!"}]
[4,{"$f":"Список!B7","v":0},{"$nulls":15},{"$error":"#DIV/0!"}]
[5,{"$f":"Список!B8","v":0},{"$nulls":15},{"$error":"#DIV/0!"}]
[6,{"$f":"Список!B9","v":0},{"$nulls":15},{"$error":"#DIV/0!"}]
[7,{"$f":"Список!B10","v":0},{"$nulls":15},{"$error":"#DIV/0!"}]
[8,{"$f":"Список!B11","v":0},{"$nulls":15},{"$error":"#DIV/0!"}]
[9,{"$f":"Список!B12","v":0},{"$nulls":15},{"$error":"#DIV/0!"}]
[10,{"$f":"Список!B13","v":0},{"$nulls":15},{"$error":"#DIV/0!"}]
[11,{"$f":"Список!B14","v":0},{"$nulls":15},{"$error":"#DIV/0!"}]
[12,{"$f":"Список!B15","v":0},{"$nulls":15},{"$error":"#DIV/0!"}]
[13,{"$f":"Список!B16","v":0},{"$nulls":15},{"$error":"#DIV/0!"}]
[14,{"$f":"Список!B17","v":0},{"$nulls":15},{"$error":"#DIV/0!"}]
[15,{"$f":"Список!B18","v":0},{"$nulls":15},{"$error":"#DIV/0!"}]
[16,{"$f":"Список!B19","v":0},{"$nulls":15},{"$error":"#DIV/0!"}]
[17,{"$f":"Список!B20","v":0},{"$nulls":15},{"$error":"#DIV/0!"}]
[18,{"$f":"Список!B21","v":0},{"$nulls":15},{"$error":"#DIV/0!"}]
[19,{"$f":"Список!B22","v":0},{"$nulls":15},{"$error":"#DIV/0!"}]
[20,{"$f":"Список!B23","v":0},{"$nulls":15},{"$error":"#DIV/0!"}]
[21,{"$f":"Список!B24","v":0},{"$nulls":15},{"$error":"#DIV/0!"}]
[22,{"$f":"Список!B25","v":0},{"$nulls":15},{"$error":"#DIV/0!"}]
[23,{"$f":"Список!B26","v":0},{"$nulls":15},{"$error":"#DIV/0!"}]
[24,{"$f":"Список!B27","v":0},{"$nulls":15},{"$error":"#DIV/0!"}]
[25,{"$f":"Список!B28","v":0},{"$nulls":15},{"$error":"#DIV/0!"}]
[26,{"$f":"Список!B29","v":0},{"$nulls":15},{"$error":"#DIV/0!"}]
[27,{"$f":"Список!B30","v":0},{"$nulls":15},{"$error":"#DIV/0!"}]
[28,{"$f":"Список!B31","v":0},{"$nulls":15},{"$error":"#DIV/0!"}]
[29,{"$f":"Список!B32","v":0},{"$nulls":15},{"$error":"#DIV/0!"}]
[30,{"$f":"Список!B33","v":0},{"$nulls":15},{"$error":"#DIV/0!"}]
[null,"СРЕДНИЙ ПОКАЗАТЕЛЬ ПО ГРУППЕ",{"$nulls":15},{"$f":"AVERAGE(R12:R41)","v":{"$error":"#DIV/0!"}}]
[null,"среднее по критерию",null,null,{"$f":"AVERAGE(E12:E41)","v":{"$error":"#DIV/0!"}},{"$f":"AVERAGE(F12:F41)","v":{"$error":"#DIV/0!"}},{"$error":"#DIV/0!"},{"$error":"#DIV/0!"},{"$error":"#DIV/0!"},{"$error":"#DIV/0!"},{"$error":"#DIV/0!"},{"$error":"#DIV/0!"},{"$error":"#DIV/0!"},{"$error":"#DIV/0!"},{"$error":"#DIV/0!"},{"$error":"#DIV/0!"},{"$error":"#DIV/0!"}]
[null,"среднее по разделу",null,null,{"$f":"(E43+F43+G43+H43+I43)/5","v":{"$error":"#DIV/0!"}},{"$nulls":4},{"$f":"(J43+K43+L43+M43)/4","v":{"$error":"#DIV/0!"}},{"$nulls":3},{"$f":"(N43+O43)/2","v":{"$error":"#DIV/0!"}},null,{"$f":"P43","v":{"$error":"#DIV/0!"}},{"$f":"Q43","v":{"$error":"#DIV/0!"}}]
[null,"Ф.И.О, должность специалиста(ов)____________________________________________________________________________________________________________________________________________________________________________________________________________________________________"]
[null,"© Автор-составитель Кулекина И.А., СПБ, 2023"]
[]
[]
[]
[null,"окружающий мир",null,null,{"$f":"E44","v":{"$error":"#DIV/0!"}}]
[null,"объекты живой природы",null,null,{"$f":"J44","v":{"$error":"#DIV/0!"}}]
[null,"объекты неживой природы, природные явления",null,null,{"$f":"N44","v":{"$error":"#DIV/0!"}}]
[null,"Ребенок стремится к самостоятельному экспериментированию",null,null,{"$f":"P44","v":{"$error":"#DIV/0!"}}]
[null,"Ребенок знает правила поведения в природе, проявляет осознанное, бережное отношение к природе и ее ресурсам",null,null,{"$f":"Q44","v":{"$error":"#DIV/0!"}}]

{"sheet":"Позн.разв. к 7г ч3. К.г. ","index":22,"n_rows":54,"n_cols":18,"rows_kept":54,"merged":[[0,0,0,1],[0,4,0,5],[0,6,0,9],[1,0,1,3],[2,0,2,3],[3,0,3,1],[3,5,3,6],[3,7,3,8],[4,0,4,1],[4,5,4,6],[4,7,4,8],[5,0,10,0],[5,1,10,1],[5,4,5,16],[5,17,10,17],[6,4,6,16],[7,4,7,8],[7,9,7,16],[8,4,9,8],[8,9,8,12],[8,13,8,14],[8,15,10,15],[8,16,10,16],[9,13,10,13],[41,1,41,16],[43,4,43,8],[43,9,43,12],[43,13,43,14],[45,1,45,17]]}
["Финальная диагностика",{"$nulls":3},"ГРУППА ПОДГОТОВИТЕЛЬНОГО К ШКОЛЕ ВОЗРАСТА (6-7 лет)",null,"Период проведения - окончание посещения группы подготовительного к школе возраста"]
["Стартовая диагностика"]
["*- не диагностируется в данном возрасте"]
["Сформированность показателя",{"$nulls":3},"«2» показатель сформирован","«1» показатель в стадии формирования",null,"«0» показатель не сформирован"]
["Средний уровень",{"$nulls":3},"1,8 - 2,0 норма-высокий","1,0 - 1,7 норма - средний",null,"0,0 - 0,9 ниже нормы"]
["№","Ф.И. ребенка",null,null,"ОБРАЗОВАТЕЛЬНАЯ ОБЛАСТЬ «ПОЗНАВАТЕЛЬНОЕ  РАЗВИТИЕ»",{"$nulls":12},"СРЕДНИЙ ПОКАЗАТЕЛЬ ПО РЕБЕНКУ"]
[{"$nulls":4},"Показатели возможных достижений (возрастные характеристики) к 7 годам"]
[{"$nulls":4},"Окружающий мир",{"$nulls":4},"Природа "]
[{"$nulls":4},"Ребенок имеет представления, может показать на картинке и в естественной среде, может рассказать",{"$nulls":4},"Объекты живой природы",{"$nulls":3},"Объекты неживой природы, природные явления",null,"Ребенок стремится к самостоятельному экспериментированию","Ребенок знает правила поведения в природе, проявляет осознанное, бережное отношение к природе и ее ресурсам"]
[{"$nulls":13},"Ребенок имеет представление об использовании человеком свойств неживой природы для хозяйственных нужд (ветряные мельницы, водохранилища, солнечные батареи, ледяные катки)"]
[{"$nulls":4}," о родном населенном пункте (название улиц, некоторых архитектурных особенностях, достопримечательностях), об истории, о выдающихся горожанах, традициях городской жизни"," о назначении общественных учреждений"," о разных видах специального транспорта"," о местах труда людей (завод, больница, магазин и др.)"," о местах отдыха людей","Ребенок имеет представление о наиболее ярких представителях животных и растений разных природных зон (пустыня, степь, тайга, тундра и др.), об их образе жизни, приспособлении к среде обитания, изменениях в жизни в разные сезоны года","Ребенок имеет представление о многообразии водных ресурсов (моря, океаны, реки, водопады и др.)","Ребенок имеет представление о многообразии полезных ископаемых (нефть, уголь, серебро, золото, алмазы и др.)","Ребенок имеет представление о жизненных потребностях, этапах роста и развития животных и растений",null,"Ребенок имеет представление о некоторых небесных телах (планеты, кометы, звезды)"]
[1,{"$f":"Список!B4","v":0},{"$nulls":15},{"$f":"AVERAGE(E12:Q12)","v":{"$error":"#DIV/0!"}}]
[2,{"$f":"Список!B5","v":0},{"$nulls":15},{"$error":"#DIV/0!"}]
[3,{"$f":"Список!B6","v":0},{"$nulls":15},{"$error":"#DIV/0!"}]
[4,{"$f":"Список!B7","v":0},{"$nulls":15},{"$error":"#DIV/0!"}]
[5,{"$f":"Список!B8","v":0},{"$nulls":15},{"$error":"#DIV/0!"}]
[6,{"$f":"Список!B9","v":0},{"$nulls":15},{"$error":"#DIV/0!"}]
[7,{"$f":"Список!B10","v":0},{"$nulls":15},{"$error":"#DIV/0!"}]
[8,{"$f":"Список!B11","v":0},{"$nulls":15},{"$error":"#DIV/0!"}]
[9,{"$f":"Список!B12","v":0},{"$nulls":15},{"$error":"#DIV/0!"}]
[10,{"$f":"Список!B13","v":0},{"$nulls":15},{"$error":"#DIV/0!"}]
[11,{"$f":"Список!B14","v":0},{"$nulls":15},{"$error":"#DIV/0!"}]
[12,{"$f":"Список!B15","v":0},{"$nulls":15},{"$error":"#DIV/0!"}]
[13,{"$f":"Список!B16","v":0},{"$nulls":15},{"$error":"#DIV/0!"}]
[14,{"$f":"Список!B17","v":0},{"$nulls":15},{"$error":"#DIV/0!"}]
[15,{"$f":"Список!B18","v":0},{"$nulls":15},{"$error":"#DIV/0!"}]
[16,{"$f":"Список!B19","v":0},{"$nulls":15},{"$error":"#DIV/0!"}]
[17,{"$f":"Список!B20","v":0},{"$nulls":15},{"$error":"#DIV/0!"}]
[18,{"$f":"Список!B21","v":0},{"$nulls":15},{"$error":"#DIV/0!"}]
[19,{"$f":"Список!B22","v":0},{"$nulls":15},{"$error":"#DIV/0!"}]
[20,{"$f":"Список!B23","v":0},{"$nulls":15},{"$error":"#DIV/0!"}]
[21,{"$f":"Список!B24","v":0},{"$nulls":15},{"$error":"#DIV/0!"}]
[22,{"$f":"Список!B25","v":0},{"$nulls":15},{"$error":"#DIV/0!"}]
[23,{"$f":"Список!B26","v":0},{"$nulls":15},{"$error":"#DIV/0!"}]
[24,{"$f":"Список!B27","v":0},{"$nulls":15},{"$error":"#DIV/0!"}]
[25,{"$f":"Список!B28","v":0},{"$nulls":15},{"$error":"#DIV/0!"}]
[26,{"$f":"Список!B29","v":0},{"$nulls":15},{"$error":"#DIV/0!"}]
[27,{"$f":"Список!B30","v":0},{"$nulls":15},{"$error":"#DIV/0!"}]
[28,{"$f":"Список!B31","v":0},{"$nulls":15},{"$error":"#DIV/0!"}]
[29,{"$f":"Список!B32","v":0},{"$nulls":15},{"$error":"#DIV/0!"}]
[30,{"$f":"Список!B33","v":0},{"$nulls":15},{"$error":"#DIV/0!"}]
[null,"СРЕДНИЙ ПОКАЗАТЕЛЬ ПО ГРУППЕ",{"$nulls":15},{"$f":"AVERAGE(R12:R41)","v":{"$error":"#DIV/0!"}}]
[null,"среднее по критерию",null,null,{"$f":"AVERAGE(E12:E41)","v":{"$error":"#DIV/0!"}},{"$f":"AVERAGE(F12:F41)","v":{"$error":"#DIV/0!"}},{"$error":"#DIV/0!"},{"$error":"#DIV/0!"},{"$error":"#DIV/0!"},{"$error":"#DIV/0!"},{"$error":"#DIV/0!"},{"$error":"#DIV/0!"},{"$error":"#DIV/0!"},{"$error":"#DIV/0!"},{"$error":"#DIV/0!"},{"$error":"#DIV/0!"},{"$error":"#DIV/0!"}]
[null,"среднее по разделу",null,null,{"$f":"(E43+F43+G43+H43+I43)/5","v":{"$error":"#DIV/0!"}},{"$nulls":4},{"$f":"(J43+K43+L43+M43)/4","v":{"$error":"#DIV/0!"}},{"$nulls":3},{"$f":"(N43+O43)/2","v":{"$error":"#DIV/0!"}},null,{"$f":"P43","v":{"$error":"#DIV/0!"}},{"$f":"Q43","v":{"$error":"#DIV/0!"}}]
[null,"Ф.И.О, должность специалиста(ов)____________________________________________________________________________________________________________________________________________________________________________________________________________________________________"]
[null,"© Автор-составитель Кулекина И.А., СПБ, 2023"]
[]
[]
[]
[null,"окружающий мир",null,null,{"$f":"E44","v":{"$error":"#DIV/0!"}}]
[null,"объекты живой природы",null,null,{"$f":"J44","v":{"$error":"#DIV/0!"}}]
[null,"объекты неживой природы, природные явления",null,null,{"$f":"N44","v":{"$error":"#DIV/0!"}}]
[null,"Ребенок стремится к самостоятельному экспериментированию",null,null,{"$f":"P44","v":{"$error":"#DIV/0!"}}]
[null,"Ребенок знает правила поведения в природе, проявляет осознанное, бережное отношение к природе и ее ресурсам",null,null,{"$f":"Q44","v":{"$error":"#DIV/0!"}}]

{"sheet":"Динамика познав.разв.","index":23,"n_rows":6,"n_cols":16,"rows_kept":6,"merged":[[0,0,0,15]]}
["Обобщение результатов педагогической диагностики по ОО \"Познавательное развитие\" Подготовительная группа"]
[]
[]
[null,"цвет, оттенки","форма, геометрические фигуры","величина","познавательные действия","количество и счет","ориентировка во времени","ориентировка в пространстве","Пространственно-количественные связи и отношения","сравнение","окружающий мир","объекты живой природы","объекты неживой природы, природные явления","Ребенок стремится к самостоятельному экспериментированию","Ребенок знает правила поведения в природе, проявляет осознанное, бережное отношение к природе и ее ресурсам","среднее по группе"]
["начало года",{"$f":"'Позн.разв. к 7г ч1. Н.г.'!E49","v":{"$error":"#DIV/0!"}},{"$f":"'Позн.разв. к 7г ч1. Н.г.'!E50","v":{"$error":"#DIV/0!"}},{"$f":"'Позн.разв. к 7г ч1. Н.г.'!E51","v":{"$error":"#DIV/0!"}},{"$f":"'Позн.разв. к 7г ч1. Н.г.'!E52","v":{"$error":"#DIV/0!"}},{"$f":"'Позн.разв. к 7г ч2. Н.г.'!E49","v":{"$error":"#DIV/0!"}},{"$f":"'Позн.разв. к 7г ч2. Н.г.'!E50","v":{"$error":"#DIV/0!"}},{"$f":"'Позн.разв. к 7г ч2. Н.г.'!E51","v":{"$error":"#DIV/0!"}},{"$f":"'Позн.разв. к 7г ч2. Н.г.'!E52","v":{"$error":"#DIV/0!"}},{"$f":"'Позн.разв. к 7г ч2. Н.г.'!E53","v":{"$error":"#DIV/0!"}},{"$f":"'Позн.разв. к 7г ч3. Н.г.'!E50","v":{"$error":"#DIV/0!"}},{"$f":"'Позн.разв. к 7г ч3. Н.г.'!E51","v":{"$error":"#DIV/0!"}},{"$f":"'Позн.разв. к 7г ч3. Н.г.'!E52","v":{"$error":"#DIV/0!"}},{"$f":"'Позн.разв. к 7г ч3. Н.г.'!E53","v":{"$error":"#DIV/0!"}},{"$f":"'Позн.разв. к 7г ч3. Н.г.'!E54","v":{"$error":"#DIV/0!"}},{"$f":"AVERAGE(B5:O5)","v":{"$error":"#DIV/0!"}}]
["конец года",{"$f":"'Позн.разв. к 7г ч1. К.г. '!E49","v":{"$error":"#DIV/0!"}},{"$f":"'Позн.разв. к 7г ч1. К.г. '!E50","v":{"$error":"#DIV/0!"}},{"$f":"'Позн.разв. к 7г ч1. К.г. '!E51","v":{"$error":"#DIV/0!"}},{"$f":"'Позн.разв. к 7г ч1. К.г. '!E52","v":{"$error":"#DIV/0!"}},{"$f":"'Позн.разв. к 7г ч2. К.г.'!E49","v":{"$error":"#DIV/0!"}},{"$f":"'Позн.разв. к 7г ч2. К.г.'!E50","v":{"$error":"#DIV/0!"}},{"$f":"'Позн.разв. к 7г ч2. К.г.'!E51","v":{"$error":"#DIV/0!"}},{"$f":"'Позн.разв. к 7г ч2. К.г.'!E52","v":{"$error":"#DIV/0!"}},{"$f":"'Позн.разв. к 7г ч2. К.г.'!E53","v":{"$error":"#DIV/0!"}},{"$f":"'Позн.разв. к 7г ч3. К.г. '!E50","v":{"$error":"#DIV/0!"}},{"$f":"'Позн.разв. к 7г ч3. К.г. '!E51","v":{"$error":"#DIV/0!"}},{"$f":"'Позн.разв. к 7г ч3. К.г. '!E52","v":{"$error":"#DIV/0!"}},{"$f":"'Позн.разв. к 7г ч3. К.г. '!E53","v":{"$error":"#DIV/0!"}},{"$f":"'Позн.разв. к 7г ч3. К.г. '!E54","v":{"$error":"#DIV/0!"}},{"$f":"AVERAGE(B6:O6)","v":{"$error":"#DIV/0!"}}]

{"sheet":"Физ.разв. к 7г ч1. Н.г.","index":24,"n_rows":55,"n_cols":24,"rows_kept":55,"merged":[[0,0,0,1],[0,4,0,8],[0,9,0,14],[1,0,1,3],[2,0,2,3],[3,0,3,1],[3,4,3,7],[3,8,3,9],[3,11,3,13],[4,0,4,1],[4,4,4,7],[4,8,4,9],[4,11,4,13],[5,0,10,0],[5,1,10,1],[5,4,5,22],[5,23,10,23],[6,4,6,22],[7,4,7,22],[8,4,8,5],[8,6,8,8],[8,9,8,11],[8,12,8,14],[8,15,8,18],[8,19,8,20],[8,21,8,22],[9,4,9,5],[9,6,9,8],[9,9,9,11],[9,12,9,14],[9,15,9,18],[9,19,9,20],[9,21,10,21],[9,22,10,22],[41,1,41,22],[43,4,43,5],[43,6,43,8],[43,9,43,11],[43,12,43,14],[43,15,43,18],[43,19,43,20],[43,21,43,22],[44,1,44,23],[45,1,45,23]]}
["Финальная диагностика",{"$nulls":3},"ГРУППА ПОДГОТОВИТЕЛЬНОГО К ШКОЛЕ ВОЗРАСТА (6-7 лет)",{"$nulls":4},"Период проведения - окончание посещения группы подготовительного к школе возраста"]
["Стартовая диагностика"]
["*- не диагностируется в данном возрасте"]
["Сформированность показателя",{"$nulls":3},"«2» показатель сформирован",{"$nulls":3},"«1» показатель в стадии формирования",null,null,"«0» показатель не сформирован"]
["Средний уровень",{"$nulls":3},"1,8 - 2,0 норма-высокий",{"$nulls":3},"1,0 - 1,7 норма - средний",null,null,"0,0 - 0,9 ниже нормы"]
["№","Ф.И. ребенка",null,null,"ОБРАЗОВАТЕЛЬНАЯ ОБЛАСТЬ «ФИЗИЧЕСКОЕ РАЗВИТИЕ»",{"$nulls":18},"СРЕДНИЙ ПОКАЗАТЕЛЬ ПО РЕБЕНКУ"]
[{"$nulls":4},"Показатели возможных достижений (возрастные характеристики) к 7 годам"]
[{"$nulls":4},"Крупная моторика. ОВД, ОРУ"]
[{"$nulls":4},"Бросание, катание, ловля, метание",null,"Ползанье, лазанье",null,null,"Ходьба",null,null,"Бег",null,null,"Прыжки",{"$nulls":3},"Равновесие",null,"Строевые упражнения"]
[{"$nulls":4},"Ребенок выполняет различные упражнения с мячом, метание",null,"Ребенок выполняет разные виды ползанья, лазанья ",null,null,"Ребенок выполняет различные виды ходьбы",null,null,"Ребенок выполняет различные виды бега",null,null,"Ребенок выполняет различные виды прыжков",{"$nulls":3},"Ребенок выполняет",null,"Ребенок выполняет разные виды перестроений, построений, передвижений, размыкание и смыкание приставным шагом, повороты","Ребенок может рассчитаться на «первый – второй»"]
[{"$nulls":4},"бросание вверх, о землю, ловля двумя руками, одной рукой, перебрасывание, передача, прокатывание, забрасывание, ведение","в цель из положения стоя, вдаль, в движущеюся цель","ползанье на четвереньках, на животе, на спине","влезание на гимнастическую стенку и спуск; перелезание с пролета на пролет по диагонали","лазанье по веревочной лестнице; выполнение упражнений на канате","обычная, гимнастическим шагом, скрестным шагом, спиной вперед, выпадами, с закрытыми глазами","приставными шагами назад, в приседе, с различными движениями рук","в различных построениях","в колонне по одному, врассыпную, парами, тройками, четверками","в сочетание с прыжками, высоко поднимая колени, захлестывая голени назад, выбрасывая прямые ноги вперед","челночный, наперегонки, из разных исходных положений, со скакалкой, по пересеченной местности, с наименьшим числом шагов, медленный, быстрый","подпрыгивания на двух ногах в чередовании с ходьбой, на месте и с поворот кругом","смещая ноги вправо-влево-вперед-назад","выпрыгивание на предметы; подпрыгивания вверх из глубокого приседа; прыжки на одной ноге","в длину с места/с разбега, в высоту с места/с разбега","стойка на носках, стойка на одной ноге с закрытыми глазами","кружение с закрытыми глазами, остановкой и сохранением заданной позы"]
[1,{"$f":"Список!B4","v":0},{"$nulls":21},{"$f":"AVERAGE(H12:W12)","v":{"$error":"#DIV/0!"}}]
[2,{"$f":"Список!B5","v":0},{"$nulls":21},{"$error":"#DIV/0!"}]
[3,{"$f":"Список!B6","v":0},{"$nulls":21},{"$error":"#DIV/0!"}]
[4,{"$f":"Список!B7","v":0},{"$nulls":21},{"$error":"#DIV/0!"}]
[5,{"$f":"Список!B8","v":0},{"$nulls":21},{"$error":"#DIV/0!"}]
[6,{"$f":"Список!B9","v":0},{"$nulls":21},{"$error":"#DIV/0!"}]
[7,{"$f":"Список!B10","v":0},{"$nulls":21},{"$error":"#DIV/0!"}]
[8,{"$f":"Список!B11","v":0},{"$nulls":21},{"$error":"#DIV/0!"}]
[9,{"$f":"Список!B12","v":0},{"$nulls":21},{"$error":"#DIV/0!"}]
[10,{"$f":"Список!B13","v":0},{"$nulls":21},{"$error":"#DIV/0!"}]
[11,{"$f":"Список!B14","v":0},{"$nulls":21},{"$error":"#DIV/0!"}]
[12,{"$f":"Список!B15","v":0},{"$nulls":21},{"$error":"#DIV/0!"}]
[13,{"$f":"Список!B16","v":0},{"$nulls":21},{"$error":"#DIV/0!"}]
[14,{"$f":"Список!B17","v":0},{"$nulls":21},{"$error":"#DIV/0!"}]
[15,{"$f":"Список!B18","v":0},{"$nulls":21},{"$error":"#DIV/0!"}]
[16,{"$f":"Список!B19","v":0},{"$nulls":21},{"$error":"#DIV/0!"}]
[17,{"$f":"Список!B20","v":0},{"$nulls":21},{"$error":"#DIV/0!"}]
[18,{"$f":"Список!B21","v":0},{"$nulls":21},{"$error":"#DIV/0!"}]
[19,{"$f":"Список!B22","v":0},{"$nulls":21},{"$error":"#DIV/0!"}]
[20,{"$f":"Список!B23","v":0},{"$nulls":21},{"$error":"#DIV/0!"}]
[21,{"$f":"Список!B24","v":0},{"$nulls":21},{"$error":"#DIV/0!"}]
[22,{"$f":"Список!B25","v":0},{"$nulls":21},{"$error":"#DIV/0!"}]
[23,{"$f":"Список!B26","v":0},{"$nulls":21},{"$error":"#DIV/0!"}]
[24,{"$f":"Список!B27","v":0},{"$nulls":21},{"$error":"#DIV/0!"}]
[25,{"$f":"Список!B28","v":0},{"$nulls":21},{"$error":"#DIV/0!"}]
[26,{"$f":"Список!B29","v":0},{"$nulls":21},{"$error":"#DIV/0!"}]
[27,{"$f":"Список!B30","v":0},{"$nulls":21},{"$error":"#DIV/0!"}]
[28,{"$f":"Список!B31","v":0},{"$nulls":21},{"$error":"#DIV/0!"}]
[29,{"$f":"Список!B32","v":0},{"$nulls":21},{"$error":"#DIV/0!"}]
[30,{"$f":"Список!B33","v":0},{"$nulls":21},{"$error":"#DIV/0!"}]
[null,"СРЕДНИЙ ПОКАЗАТЕЛЬ ПО ГРУППЕ",{"$nulls":21},{"$f":"AVERAGE(X12:X41)","v":{"$error":"#DIV/0!"}}]
[null,"среднее по критерию",null,null,{"$f":"AVERAGE(E12:E41)","v":{"$error":"#DIV/0!"}},{"$f":"AVERAGE(F12:F41)","v":{"$error":"#DIV/0!"}},{"$error":"#DIV/0!"},{"$error":"#DIV/0!"},{"$error":"#DIV/0!"},{"$error":"#DIV/0!"},{"$error":"#DIV/0!"},{"$error":"#DIV/0!"},{"$error":"#DIV/0!"},{"$error":"#DIV/0!"},{"$error":"#DIV/0!"},{"$error":"#DIV/0!"},{"$error":"#DIV/0!"},{"$error":"#DIV/0!"},{"$error":"#DIV/0!"},{"$error":"#DIV/0!"},{"$error":"#DIV/0!"},{"$error":"#DIV/0!"},{"$error":"#DIV/0!"}]
[null,"среднее по разделу",null,null,{"$f":"(E43+F43)/2","v":{"$error":"#DIV/0!"}},null,{"$f":"(G43+H43+I43)/3","v":{"$error":"#DIV/0!"}},null,null,{"$f":"(J43+K43+L43)/3","v":{"$error":"#DIV/0!"}},null,null,{"$f":"(M43+N43+O43)/3","v":{"$error":"#DIV/0!"}},null,null,{"$f":"(P43+Q43+R43+S43)/4","v":{"$error":"#DIV/0!"}},{"$nulls":3},{"$f":"(T43+U43)/2","v":{"$error":"#DIV/0!"}},null,{"$f":"(V43+W43)/2","v":{"$error":"#DIV/0!"}}]
[null,"Ф.И.О, должность специалиста(ов)____________________________________________________________________________________________________________________________________________________________________________________________________________________________________"]
[null,"© Автор-составитель Кулекина И.А., СПБ, 2023"]
[]
[]
[null,"бросание, катание, ловля, метание",null,null,{"$f":"E44","v":{"$error":"#DIV/0!"}}]
[null,"ползанье, лазанье",null,null,{"$f":"G44","v":{"$error":"#DIV/0!"}}]
[null,"ходьба",null,null,{"$f":"J44","v":{"$error":"#DIV/0!"}}]
[null,"бег",null,null,{"$f":"M44","v":{"$error":"#DIV/0!"}}]
[null,"прыжки",null,null,{"$f":"P44","v":{"$error":"#DIV/0!"}}]
[null,"равновесие",null,null,{"$f":"T44","v":{"$error":"#DIV/0!"}}]
[null,"строевые упражнения",null,null,{"$f":"V44","v":{"$error":"#DIV/0!"}}]

{"sheet":"Физ.разв. к 7г ч1. К.г. ","index":25,"n_rows":55,"n_cols":24,"rows_kept":55,"merged":[[0,0,0,1],[0,4,0,8],[0,9,0,14],[1,0,1,3],[2,0,2,3],[3,0,3,1],[3,4,3,7],[3,8,3,9],[3,11,3,13],[4,0,4,1],[4,4,4,7],[4,8,4,9],[4,11,4,13],[5,0,10,0],[5,1,10,1],[5,4,5,22],[5,23,10,23],[6,4,6,22],[7,4,7,22],[8,4,8,5],[8,6,8,8],[8,9,8,11],[8,12,8,14],[8,15,8,18],[8,19,8,20],[8,21,8,22],[9,4,9,5],[9,6,9,8],[9,9,9,11],[9,12,9,14],[9,15,9,18],[9,19,9,20],[9,21,10,21],[9,22,10,22],[41,1,41,22],[43,4,43,5],[43,6,43,8],[43,9,43,11],[43,12,43,14],[43,15,43,18],[43,19,43,20],[43,21,43,22],[44,1,44,23],[45,1,45,23]]}
["Финальная диагностика",{"$nulls":3},"ГРУППА ПОДГОТОВИТЕЛЬНОГО К ШКОЛЕ ВОЗРАСТА (6-7 лет)",{"$nulls":4},"Период проведения - окончание посещения группы подготовительного к школе возраста"]
["Стартовая диагностика"]
["*- не диагностируется в данном возрасте"]
["Сформированность показателя",{"$nulls":3},"«2» показатель сформирован",{"$nulls":3},"«1» показатель в стадии формирования",null,null,"«0» показатель не сформирован"]
["Средний уровень",{"$nulls":3},"1,8 - 2,0 норма-высокий",{"$nulls":3},"1,0 - 1,7 норма - средний",null,null,"0,0 - 0,9 ниже нормы"]
["№","Ф.И. ребенка",null,null,"ОБРАЗОВАТЕЛЬНАЯ ОБЛАСТЬ «ФИЗИЧЕСКОЕ РАЗВИТИЕ»",{"$nulls":18},"СРЕДНИЙ ПОКАЗАТЕЛЬ ПО РЕБЕНКУ"]
[{"$nulls":4},"Показатели возможных достижений (возрастные характеристики) к 7 годам"]
[{"$nulls":4},"Крупная моторика. ОВД, ОРУ"]
[{"$nulls":4},"Бросание, катание, ловля, метание",null,"Ползанье, лазанье",null,null,"Ходьба",null,null,"Бег",null,null,"Прыжки",{"$nulls":3},"Равновесие",null,"Строевые упражнения"]
[{"$nulls":4},"Ребенок выполняет различные упражнения с мячом, метание",null,"Ребенок выполняет разные виды ползанья, лазанья ",null,null,"Ребенок выполняет различные виды ходьбы",null,null,"Ребенок выполняет различные виды бега",null,null,"Ребенок выполняет различные виды прыжков",{"$nulls":3},"Ребенок выполняет",null,"Ребенок выполняет разные виды перестроений, построений, передвижений, размыкание и смыкание приставным шагом, повороты","Ребенок может рассчитаться на «первый – второй»"]
[{"$nulls":4},"бросание вверх, о землю, ловля двумя руками, одной рукой, перебрасывание, передача, прокатывание, забрасывание, ведение","в цель из положения стоя, вдаль, в движущеюся цель","ползанье на четвереньках, на животе, на спине","влезание на гимнастическую стенку и спуск; перелезание с пролета на пролет по диагонали","лазанье по веревочной лестнице; выполнение упражнений на канате","обычная, гимнастическим шагом, скрестным шагом, спиной вперед, выпадами, с закрытыми глазами","приставными шагами назад, в приседе, с различными движениями рук","в различных построениях","в колонне по одному, врассыпную, парами, тройками, четверками","в сочетание с прыжками, высоко поднимая колени, захлестывая голени назад, выбрасывая прямые ноги вперед","челночный, наперегонки, из разных исходных положений, со скакалкой, по пересеченной местности, с наименьшим числом шагов, медленный, быстрый","подпрыгивания на двух ногах в чередовании с ходьбой, на месте и с поворот кругом","смещая ноги вправо-влево-вперед-назад","выпрыгивание на предметы; подпрыгивания вверх из глубокого приседа; прыжки на одной ноге","в длину с места/с разбега, в высоту с места/с разбега","стойка на носках, стойка на одной ноге с закрытыми глазами","кружение с закрытыми глазами, остановкой и сохранением заданной позы"]
[1,{"$f":"Список!B4","v":0},{"$nulls":21},{"$f":"AVERAGE(H12:W12)","v":{"$error":"#DIV/0!"}}]
[2,{"$f":"Список!B5","v":0},{"$nulls":21},{"$error":"#DIV/0!"}]
[3,{"$f":"Список!B6","v":0},{"$nulls":21},{"$error":"#DIV/0!"}]
[4,{"$f":"Список!B7","v":0},{"$nulls":21},{"$error":"#DIV/0!"}]
[5,{"$f":"Список!B8","v":0},{"$nulls":21},{"$error":"#DIV/0!"}]
[6,{"$f":"Список!B9","v":0},{"$nulls":21},{"$error":"#DIV/0!"}]
[7,{"$f":"Список!B10","v":0},{"$nulls":21},{"$error":"#DIV/0!"}]
[8,{"$f":"Список!B11","v":0},{"$nulls":21},{"$error":"#DIV/0!"}]
[9,{"$f":"Список!B12","v":0},{"$nulls":21},{"$error":"#DIV/0!"}]
[10,{"$f":"Список!B13","v":0},{"$nulls":21},{"$error":"#DIV/0!"}]
[11,{"$f":"Список!B14","v":0},{"$nulls":21},{"$error":"#DIV/0!"}]
[12,{"$f":"Список!B15","v":0},{"$nulls":21},{"$error":"#DIV/0!"}]
[13,{"$f":"Список!B16","v":0},{"$nulls":21},{"$error":"#DIV/0!"}]
[14,{"$f":"Список!B17","v":0},{"$nulls":21},{"$error":"#DIV/0!"}]
[15,{"$f":"Список!B18","v":0},{"$nulls":21},{"$error":"#DIV/0!"}]
[16,{"$f":"Список!B19","v":0},{"$nulls":21},{"$error":"#DIV/0!"}]
[17,{"$f":"Список!B20","v":0},{"$nulls":21},{"$error":"#DIV/0!"}]
[18,{"$f":"Список!B21","v":0},{"$nulls":21},{"$error":"#DIV/0!"}]
[19,{"$f":"Список!B22","v":0},{"$nulls":21},{"$error":"#DIV/0!"}]
[20,{"$f":"Список!B23","v":0},{"$nulls":21},{"$error":"#DIV/0!"}]
[21,{"$f":"Список!B24","v":0},{"$nulls":21},{"$error":"#DIV/0!"}]
[22,{"$f":"Список!B25","v":0},{"$nulls":21},{"$error":"#DIV/0!"}]
[23,{"$f":"Список!B26","v":0},{"$nulls":21},{"$error":"#DIV/0!"}]
[24,{"$f":"Список!B27","v":0},{"$nulls":21},{"$error":"#DIV/0!"}]
[25,{"$f":"Список!B28","v":0},{"$nulls":21},{"$error":"#DIV/0!"}]
[26,{"$f":"Список!B29","v":0},{"$nulls":21},{"$error":"#DIV/0!"}]
[27,{"$f":"Список!B30","v":0},{"$nulls":21},{"$error":"#DIV/0!"}]
[28,{"$f":"Список!B31","v":0},{"$nulls":21},{"$error":"#DIV/0!"}]
[29,{"$f":"Список!B32","v":0},{"$nulls":21},{"$error":"#DIV/0!"}]
[30,{"$f":"Список!B33","v":0},{"$nulls":21},{"$error":"#DIV/0!"}]
[null,"СРЕДНИЙ ПОКАЗАТЕЛЬ ПО ГРУППЕ",{"$nulls":21},{"$f":"AVERAGE(X12:X41)","v":{"$error":"#DIV/0!"}}]
[null,"среднее по критерию",null,null,{"$f":"AVERAGE(E12:E41)","v":{"$error":"#DIV/0!"}},{"$f":"AVERAGE(F12:F41)","v":{"$error":"#DIV/0!"}},{"$error":"#DIV/0!"},{"$error":"#DIV/0!"},{"$error":"#DIV/0!"},{"$error":"#DIV/0!"},{"$error":"#DIV/0!"},{"$error":"#DIV/0!"},{"$error":"#DIV/0!"},{"$error":"#DIV/0!"},{"$error":"#DIV/0!"},{"$error":"#DIV/0!"},{"$error":"#DIV/0!"},{"$error":"#DIV/0!"},{"$error":"#DIV/0!"},{"$error":"#DIV/0!"},{"$error":"#DIV/0!"},{"$error":"#DIV/0!"},{"$error":"#DIV/0!"}]
[null,"среднее по разделу",null,null,{"$f":"(E43+F43)/2","v":{"$error":"#DIV/0!"}},null,{"$f":"(G43+H43+I43)/3","v":{"$error":"#DIV/0!"}},null,null,{"$f":"(J43+K43+L43)/3","v":{"$error":"#DIV/0!"}},null,null,{"$f":"(M43+N43+O43)/3","v":{"$error":"#DIV/0!"}},null,null,{"$f":"(P43+Q43+R43+S43)/4","v":{"$error":"#DIV/0!"}},{"$nulls":3},{"$f":"(T43+U43)/2","v":{"$error":"#DIV/0!"}},null,{"$f":"(V43+W43)/2","v":{"$error":"#DIV/0!"}}]
[null,"Ф.И.О, должность специалиста(ов)____________________________________________________________________________________________________________________________________________________________________________________________________________________________________"]
[null,"© Автор-составитель Кулекина И.А., СПБ, 2023"]
[]
[]
[null,"бросание, катание, ловля, метание",null,null,{"$f":"E44","v":{"$error":"#DIV/0!"}}]
[null,"ползанье, лазанье",null,null,{"$f":"G44","v":{"$error":"#DIV/0!"}}]
[null,"ходьба",null,null,{"$f":"J44","v":{"$error":"#DIV/0!"}}]
[null,"бег",null,null,{"$f":"M44","v":{"$error":"#DIV/0!"}}]
[null,"прыжки",null,null,{"$f":"P44","v":{"$error":"#DIV/0!"}}]
[null,"равновесие",null,null,{"$f":"T44","v":{"$error":"#DIV/0!"}}]
[null,"строевые упражнения",null,null,{"$f":"V44","v":{"$error":"#DIV/0!"}}]

{"sheet":"Физ.разв. к 7г ч2. Н.г.","index":26,"n_rows":54,"n_cols":21,"rows_kept":54,"merged":[[0,0,0,1],[0,4,0,8],[0,9,0,13],[1,0,1,3],[1,6,1,10],[2,0,2,3],[3,0,3,1],[3,4,3,7],[3,8,3,10],[3,11,3,12],[4,0,4,1],[4,4,4,7],[4,8,4,10],[4,11,4,12],[5,0,11,0],[5,1,11,1],[5,4,5,19],[5,20,11,20],[6,4,6,19],[7,4,7,10],[7,11,7,12],[7,13,7,15],[7,16,7,19],[8,4,8,6],[8,7,8,10],[8,11,11,11],[8,12,11,12],[8,13,11,13],[8,14,11,14],[8,15,11,15],[8,16,8,19],[9,4,11,4],[9,5,11,5],[9,6,11,6],[9,7,11,7],[9,8,11,8],[9,9,11,9],[9,10,11,10],[9,16,11,16],[9,17,11,17],[9,18,11,18],[9,19,11,19],[42,1,42,19],[44,4,44,6],[44,7,44,10],[44,11,44,12],[44,13,44,15],[44,16,44,19],[45,1,45,20],[46,1,46,20]]}
["Финальная диагностика",{"$nulls":3},"ГРУППА ПОДГОТОВИТЕЛЬНОГО К ШКОЛЕ ВОЗРАСТА (6-7 лет)",{"$nulls":4},"Период проведения - окончание посещения группы подготовительного к школе возраста"]
["Стартовая диагностика"]
["*- не диагностируется в данном возрасте"]
["Сформированность показателя",{"$nulls":3},"«2» показатель сформирован",{"$nulls":3},"«1» показатель в стадии формирования",null,null,"«0» показатель не сформирован"]
["Средний уровень",{"$nulls":3},"1,8 - 2,0 норма-высокий",{"$nulls":3},"1,0 - 1,7 норма - средний",null,null,"0,0 - 0,9 ниже нормы"]
["№","Ф.И. ребенка",null,null,"ОБРАЗОВАТЕЛЬНАЯ ОБЛАСТЬ «ФИЗИЧЕСКОЕ  РАЗВИТИЕ»",{"$nulls":15},"СРЕДНИЙ ПОКАЗАТЕЛЬ ПО РЕБЕНКУ"]
[{"$nulls":4},"Показатели возможных достижений (возрастные характеристики) к 7 годам"]
[{"$nulls":4},"Мелкая моторика",{"$nulls":6},"Подвижные игры",null,"Спорт. игры",null,null,"Спортивные упражнения"]
[{"$nulls":4},"Координация рук и глаз",null,null,"Графические навыки",{"$nulls":3},"Ребенок использует в самостоятельной деятельности разнообразные по содержанию подвижные игры, проявляет элементы творчества в двигательной деятельности","Ребенок может организовать знакомые подвижные игры со сверстниками, сплотить команду, стремится внести свой вклад в результат команды","Ребенок владеет элементами спортивных игр (городки, баскетбол, футбол, хоккей, бадминтон, настольный теннис), может контролировать свои движения и управлять ими","Ребенок имеет представление о разных видах спорта (санный спорт, борьба, теннис, синхронное плавание и др.)","Ребенок имеет представление о спортивных событиях и достижениях отечественных спортсменов","Ребенок умеет кататься"]
[{"$nulls":4},"Ребенок выполняет графический диктант","Ребенок обводит по шаблону, по трафарету","Ребенок чертит линии с помощью линейки","Ребенок обводит по контуру, по точкам","Ребенок выполняет штриховку в различных направлениях","Ребенок закрашивает, не выходя за контур","Ребенок свободно владеет карандашом при рисовании округлых линий, завитков в разном направлении",{"$nulls":5},"на санках","на лыжах","на двухколесном велосипеде","на самокате"]
[]
[]
[1,{"$f":"Список!B4","v":0},{"$nulls":18},{"$f":"AVERAGE(E13:T13)","v":{"$error":"#DIV/0!"}}]
[2,{"$f":"Список!B5","v":0},{"$nulls":18},{"$error":"#DIV/0!"}]
[3,{"$f":"Список!B6","v":0},{"$nulls":18},{"$error":"#DIV/0!"}]
[4,{"$f":"Список!B7","v":0},{"$nulls":18},{"$error":"#DIV/0!"}]
[5,{"$f":"Список!B8","v":0},{"$nulls":18},{"$error":"#DIV/0!"}]
[6,{"$f":"Список!B9","v":0},{"$nulls":18},{"$error":"#DIV/0!"}]
[7,{"$f":"Список!B10","v":0},{"$nulls":18},{"$error":"#DIV/0!"}]
[8,{"$f":"Список!B11","v":0},{"$nulls":18},{"$error":"#DIV/0!"}]
[9,{"$f":"Список!B12","v":0},{"$nulls":18},{"$error":"#DIV/0!"}]
[10,{"$f":"Список!B13","v":0},{"$nulls":18},{"$error":"#DIV/0!"}]
[11,{"$f":"Список!B14","v":0},{"$nulls":18},{"$error":"#DIV/0!"}]
[12,{"$f":"Список!B15","v":0},{"$nulls":18},{"$error":"#DIV/0!"}]
[13,{"$f":"Список!B16","v":0},{"$nulls":18},{"$error":"#DIV/0!"}]
[14,{"$f":"Список!B17","v":0},{"$nulls":18},{"$error":"#DIV/0!"}]
[15,{"$f":"Список!B18","v":0},{"$nulls":18},{"$error":"#DIV/0!"}]
[16,{"$f":"Список!B19","v":0},{"$nulls":18},{"$error":"#DIV/0!"}]
[17,{"$f":"Список!B20","v":0},{"$nulls":18},{"$error":"#DIV/0!"}]
[18,{"$f":"Список!B21","v":0},{"$nulls":18},{"$error":"#DIV/0!"}]
[19,{"$f":"Список!B22","v":0},{"$nulls":18},{"$error":"#DIV/0!"}]
[20,{"$f":"Список!B23","v":0},{"$nulls":18},{"$error":"#DIV/0!"}]
[21,{"$f":"Список!B24","v":0},{"$nulls":18},{"$error":"#DIV/0!"}]
[22,{"$f":"Список!B25","v":0},{"$nulls":18},{"$error":"#DIV/0!"}]
[23,{"$f":"Список!B26","v":0},{"$nulls":18},{"$error":"#DIV/0!"}]
[24,{"$f":"Список!B27","v":0},{"$nulls":18},{"$error":"#DIV/0!"}]
[25,{"$f":"Список!B28","v":0},{"$nulls":18},{"$error":"#DIV/0!"}]
[26,{"$f":"Список!B29","v":0},{"$nulls":18},{"$error":"#DIV/0!"}]
[27,{"$f":"Список!B30","v":0},{"$nulls":18},{"$error":"#DIV/0!"}]
[28,{"$f":"Список!B31","v":0},{"$nulls":18},{"$error":"#DIV/0!"}]
[29,{"$f":"Список!B32","v":0},{"$nulls":18},{"$error":"#DIV/0!"}]
[30,{"$f":"Список!B33","v":0},{"$nulls":18},{"$error":"#DIV/0!"}]
[null,"СРЕДНИЙ ПОКАЗАТЕЛЬ ПО ГРУППЕ",{"$nulls":18},{"$f":"AVERAGE(U13:U42)","v":{"$error":"#DIV/0!"}}]
[null,"среднее по критерию",null,null,{"$f":"AVERAGE(E13:E42)","v":{"$error":"#DIV/0!"}},{"$f":"AVERAGE(F13:F42)","v":{"$error":"#DIV/0!"}},{"$error":"#DIV/0!"},{"$error":"#DIV/0!"},{"$error":"#DIV/0!"},{"$error":"#DIV/0!"},{"$error":"#DIV/0!"},{"$error":"#DIV/0!"},{"$error":"#DIV/0!"},{"$error":"#DIV/0!"},{"$error":"#DIV/0!"},{"$error":"#DIV/0!"},{"$error":"#DIV/0!"},{"$error":"#DIV/0!"},{"$error":"#DIV/0!"},{"$error":"#DIV/0!"}]
[null,"среднее по разделу",null,null,{"$f":"(E44+F44+G44)/3","v":{"$error":"#DIV/0!"}},null,null,{"$f":"(H44+I44+J44+K44)/4","v":{"$error":"#DIV/0!"}},{"$nulls":3},{"$f":"(L44+M44)/2","v":{"$error":"#DIV/0!"}},null,{"$f":"(N44+O44+P44)/3","v":{"$error":"#DIV/0!"}},null,null,{"$f":"(Q44+R44+S44+T44)/4","v":{"$error":"#DIV/0!"}}]
[null,"Ф.И.О, должность специалиста(ов)____________________________________________________________________________________________________________________________________________________________________________________________________________________________________"]
[null,"© Автор-составитель Кулекина И.А., СПБ, 2023"]
[]
[]
[null,"координация рук и глаз",null,null,{"$f":"E45","v":{"$error":"#DIV/0!"}}]
[null,"графические навыки",null,null,{"$f":"H45","v":{"$error":"#DIV/0!"}}]
[null,"подвижные игры",null,null,{"$f":"L45","v":{"$error":"#DIV/0!"}}]
[null,"спортивные игры",null,null,{"$f":"N45","v":{"$error":"#DIV/0!"}}]
[null,"спортивные упражнения",null,null,{"$f":"Q45","v":{"$error":"#DIV/0!"}}]

{"sheet":"Физ.разв. к 7г ч2. К.г.","index":27,"n_rows":54,"n_cols":21,"rows_kept":54,"merged":[[0,0,0,1],[0,4,0,8],[0,9,0,13],[1,0,1,3],[1,6,1,10],[2,0,2,3],[3,0,3,1],[3,4,3,7],[3,8,3,10],[3,11,3,12],[4,0,4,1],[4,4,4,7],[4,8,4,10],[4,11,4,12],[5,0,11,0],[5,1,11,1],[5,4,5,19],[5,20,11,20],[6,4,6,19],[7,4,7,10],[7,11,7,12],[7,13,7,15],[7,16,7,19],[8,4,8,6],[8,7,8,10],[8,11,11,11],[8,12,11,12],[8,13,11,13],[8,14,11,14],[8,15,11,15],[8,16,8,19],[9,4,11,4],[9,5,11,5],[9,6,11,6],[9,7,11,7],[9,8,11,8],[9,9,11,9],[9,10,11,10],[9,16,11,16],[9,17,11,17],[9,18,11,18],[9,19,11,19],[42,1,42,19],[44,4,44,6],[44,7,44,10],[44,11,44,12],[44,13,44,15],[44,16,44,19],[45,1,45,20],[46,1,46,20]]}
["Финальная диагностика",{"$nulls":3},"ГРУППА ПОДГОТОВИТЕЛЬНОГО К ШКОЛЕ ВОЗРАСТА (6-7 лет)",{"$nulls":4},"Период проведения - окончание посещения группы подготовительного к школе возраста"]
["Стартовая диагностика"]
["*- не диагностируется в данном возрасте"]
["Сформированность показателя",{"$nulls":3},"«2» показатель сформирован",{"$nulls":3},"«1» показатель в стадии формирования",null,null,"«0» показатель не сформирован"]
["Средний уровень",{"$nulls":3},"1,8 - 2,0 норма-высокий",{"$nulls":3},"1,0 - 1,7 норма - средний",null,null,"0,0 - 0,9 ниже нормы"]
["№","Ф.И. ребенка",null,null,"ОБРАЗОВАТЕЛЬНАЯ ОБЛАСТЬ «ФИЗИЧЕСКОЕ  РАЗВИТИЕ»",{"$nulls":15},"СРЕДНИЙ ПОКАЗАТЕЛЬ ПО РЕБЕНКУ"]
[{"$nulls":4},"Показатели возможных достижений (возрастные характеристики) к 7 годам"]
[{"$nulls":4},"Мелкая моторика",{"$nulls":6},"Подвижные игры",null,"Спорт. игры",null,null,"Спортивные упражнения"]
[{"$nulls":4},"Координация рук и глаз",null,null,"Графические навыки",{"$nulls":3},"Ребенок использует в самостоятельной деятельности разнообразные по содержанию подвижные игры, проявляет элементы творчества в двигательной деятельности","Ребенок может организовать знакомые подвижные игры со сверстниками, сплотить команду, стремится внести свой вклад в результат команды","Ребенок владеет элементами спортивных игр (городки, баскетбол, футбол, хоккей, бадминтон, настольный теннис), может контролировать свои движения и управлять ими","Ребенок имеет представление о разных видах спорта (санный спорт, борьба, теннис, синхронное плавание и др.)","Ребенок имеет представление о спортивных событиях и достижениях отечественных спортсменов","Ребенок умеет кататься"]
[{"$nulls":4},"Ребенок выполняет графический диктант","Ребенок обводит по шаблону, по трафарету","Ребенок чертит линии с помощью линейки","Ребенок обводит по контуру, по точкам","Ребенок выполняет штриховку в различных направлениях","Ребенок закрашивает, не выходя за контур","Ребенок свободно владеет карандашом при рисовании округлых линий, завитков в разном направлении",{"$nulls":5},"на санках","на лыжах","на двухколесном велосипеде","на самокате"]
[]
[]
[1,{"$f":"Список!B4","v":0},{"$nulls":18},{"$f":"AVERAGE(E13:T13)","v":{"$error":"#DIV/0!"}}]
[2,{"$f":"Список!B5","v":0},{"$nulls":18},{"$error":"#DIV/0!"}]
[3,{"$f":"Список!B6","v":0},{"$nulls":18},{"$error":"#DIV/0!"}]
[4,{"$f":"Список!B7","v":0},{"$nulls":18},{"$error":"#DIV/0!"}]
[5,{"$f":"Список!B8","v":0},{"$nulls":18},{"$error":"#DIV/0!"}]
[6,{"$f":"Список!B9","v":0},{"$nulls":18},{"$error":"#DIV/0!"}]
[7,{"$f":"Список!B10","v":0},{"$nulls":18},{"$error":"#DIV/0!"}]
[8,{"$f":"Список!B11","v":0},{"$nulls":18},{"$error":"#DIV/0!"}]
[9,{"$f":"Список!B12","v":0},{"$nulls":18},{"$error":"#DIV/0!"}]
[10,{"$f":"Список!B13","v":0},{"$nulls":18},{"$error":"#DIV/0!"}]
[11,{"$f":"Список!B14","v":0},{"$nulls":18},{"$error":"#DIV/0!"}]
[12,{"$f":"Список!B15","v":0},{"$nulls":18},{"$error":"#DIV/0!"}]
[13,{"$f":"Список!B16","v":0},{"$nulls":18},{"$error":"#DIV/0!"}]
[14,{"$f":"Список!B17","v":0},{"$nulls":18},{"$error":"#DIV/0!"}]
[15,{"$f":"Список!B18","v":0},{"$nulls":18},{"$error":"#DIV/0!"}]
[16,{"$f":"Список!B19","v":0},{"$nulls":18},{"$error":"#DIV/0!"}]
[17,{"$f":"Список!B20","v":0},{"$nulls":18},{"$error":"#DIV/0!"}]
[18,{"$f":"Список!B21","v":0},{"$nulls":18},{"$error":"#DIV/0!"}]
[19,{"$f":"Список!B22","v":0},{"$nulls":18},{"$error":"#DIV/0!"}]
[20,{"$f":"Список!B23","v":0},{"$nulls":18},{"$error":"#DIV/0!"}]
[21,{"$f":"Список!B24","v":0},{"$nulls":18},{"$error":"#DIV/0!"}]
[22,{"$f":"Список!B25","v":0},{"$nulls":18},{"$error":"#DIV/0!"}]
[23,{"$f":"Список!B26","v":0},{"$nulls":18},{"$error":"#DIV/0!"}]
[24,{"$f":"Список!B27","v":0},{"$nulls":18},{"$error":"#DIV/0!"}]
[25,{"$f":"Список!B28","v":0},{"$nulls":18},{"$error":"#DIV/0!"}]
[26,{"$f":"Список!B29","v":0},{"$nulls":18},{"$error":"#DIV/0!"}]
[27,{"$f":"Список!B30","v":0},{"$nulls":18},{"$error":"#DIV/0!"}]
[28,{"$f":"Список!B31","v":0},{"$nulls":18},{"$error":"#DIV/0!"}]
[29,{"$f":"Список!B32","v":0},{"$nulls":18},{"$error":"#DIV/0!"}]
[30,{"$f":"Список!B33","v":0},{"$nulls":18},{"$error":"#DIV/0!"}]
[null,"СРЕДНИЙ ПОКАЗАТЕЛЬ ПО ГРУППЕ",{"$nulls":18},{"$f":"AVERAGE(U13:U42)","v":{"$error":"#DIV/0!"}}]
[null,"среднее по критерию",null,null,{"$f":"AVERAGE(E13:E42)","v":{"$error":"#DIV/0!"}},{"$f":"AVERAGE(F13:F42)","v":{"$error":"#DIV/0!"}},{"$error":"#DIV/0!"},{"$error":"#DIV/0!"},{"$error":"#DIV/0!"},{"$error":"#DIV/0!"},{"$error":"#DIV/0!"},{"$error":"#DIV/0!"},{"$error":"#DIV/0!"},{"$error":"#DIV/0!"},{"$error":"#DIV/0!"},{"$error":"#DIV/0!"},{"$error":"#DIV/0!"},{"$error":"#DIV/0!"},{"$error":"#DIV/0!"},{"$error":"#DIV/0!"}]
[null,"среднее по разделу",null,null,{"$f":"(E44+F44+G44)/3","v":{"$error":"#DIV/0!"}},null,null,{"$f":"(H44+I44+J44+K44)/4","v":{"$error":"#DIV/0!"}},{"$nulls":3},{"$f":"(L44+M44)/2","v":{"$error":"#DIV/0!"}},null,{"$f":"(N44+O44+P44)/3","v":{"$error":"#DIV/0!"}},null,null,{"$f":"(Q44+R44+S44+T44)/4","v":{"$error":"#DIV/0!"}}]
[null,"Ф.И.О, должность специалиста(ов)____________________________________________________________________________________________________________________________________________________________________________________________________________________________________"]
[null,"© Автор-составитель Кулекина И.А., СПБ, 2023"]
[]
[]
[null,"координация рук и глаз",null,null,{"$f":"E45","v":{"$error":"#DIV/0!"}}]
[null,"графические навыки",null,null,{"$f":"H45","v":{"$error":"#DIV/0!"}}]
[null,"подвижные игры",null,null,{"$f":"L45","v":{"$error":"#DIV/0!"}}]
[null,"спортивные игры",null,null,{"$f":"N45","v":{"$error":"#DIV/0!"}}]
[null,"спортивные упражнения",null,null,{"$f":"Q45","v":{"$error":"#DIV/0!"}}]

{"sheet":"Физ.разв. к 7г ч3. Н.г.","index":28,"n_rows":52,"n_cols":16,"rows_kept":52,"merged":[[0,0,0,1],[0,4,0,6],[0,7,0,13],[1,0,1,3],[2,0,2,3],[3,0,3,1],[3,4,3,5],[3,6,3,7],[3,8,3,9],[4,0,4,1],[4,4,4,5],[4,6,4,7],[4,8,4,9],[5,0,11,0],[5,1,11,1],[5,4,5,14],[5,15,11,15],[6,4,6,14],[7,4,7,7],[7,8,7,10],[7,11,7,14],[8,4,9,4],[8,5,9,5],[8,6,9,6],[8,7,9,7],[8,8,11,8],[8,9,11,9],[8,10,11,10],[8,11,8,14],[9,11,11,11],[9,12,11,12],[9,13,11,13],[9,14,11,14],[10,4,11,4],[10,5,11,5],[10,6,11,6],[10,7,11,7],[42,1,42,14],[44,4,44,7],[44,8,44,10],[44,11,44,14],[45,1,45,15],[46,1,46,15]]}
["Финальная диагностика",{"$nulls":3},"ГРУППА ПОДГОТОВИТЕЛЬНОГО К ШКОЛЕ ВОЗРАСТА (6-7 лет)",null,null,"Период проведения - окончание посещения группы подготовительного к школе возраста"]
["Стартовая диагностика"]
["*- не диагностируется в данном возрасте"]
["Сформированность показателя",{"$nulls":3},"«2» показатель сформирован",null,"«1» показатель в стадии формирования",null,"«0» показатель не сформирован"]
["Средний уровень",{"$nulls":3},"1,8 - 2,0 норма-высокий",null,"1,0 - 1,7 норма - средний",null,"0,0 - 0,9 ниже нормы"]
["№","Ф.И. ребенка",null,null,"ОБРАЗОВАТЕЛЬНАЯ ОБЛАСТЬ «ФИЗИЧЕСКОЕ  РАЗВИТИЕ»",{"$nulls":10},"СРЕДНИЙ ПОКАЗАТЕЛЬ ПО РЕБЕНКУ"]
[{"$nulls":4},"Показатели возможных достижений (возрастные характеристики) к 7 годам"]
[{"$nulls":4},"КГН",{"$nulls":3},"ЗОЖ",null,null,"Спортивные упражнения"]
[{"$nulls":4},"Навыки соблюдения чистоты тела (правила личной гигиены)","Навыки культуры еды (прием пищи) ","Навыки поддержания порядка (правила поведения в быту) ","Навыки ухода за собой (одевание, раздевание) ","Ребенок соблюдает элементарные правила здорового образа жизни и личной гигиены, следит за своей осанкой, может оценить свое самочувствие","Ребенок регулярно выполняет физические упражнения","Ребенок имеет начальные представления о том, что такое здоровье, понимает, как поддержать, укрепить и сохранить его","Ребенок умеет кататься"]
[{"$nulls":11},"на санках","на лыжах","на двухколесном велосипеде","на самокате"]
[{"$nulls":4},"Ребенок владеет навыками личной гигиены","Ребенок владеет навыками культуры еды","Ребенок владеет навыками поддержания порядка","Ребенок владеет навыками ухода за собой"]
[]
[1,{"$f":"Список!B4","v":0},{"$nulls":13},{"$f":"AVERAGE(E13:O13)","v":{"$error":"#DIV/0!"}}]
[2,{"$f":"Список!B5","v":0},{"$nulls":13},{"$error":"#DIV/0!"}]
[3,{"$f":"Список!B6","v":0},{"$nulls":13},{"$error":"#DIV/0!"}]
[4,{"$f":"Список!B7","v":0},{"$nulls":13},{"$error":"#DIV/0!"}]
[5,{"$f":"Список!B8","v":0},{"$nulls":13},{"$error":"#DIV/0!"}]
[6,{"$f":"Список!B9","v":0},{"$nulls":13},{"$error":"#DIV/0!"}]
[7,{"$f":"Список!B10","v":0},{"$nulls":13},{"$error":"#DIV/0!"}]
[8,{"$f":"Список!B11","v":0},{"$nulls":13},{"$error":"#DIV/0!"}]
[9,{"$f":"Список!B12","v":0},{"$nulls":13},{"$error":"#DIV/0!"}]
[10,{"$f":"Список!B13","v":0},{"$nulls":13},{"$error":"#DIV/0!"}]
[11,{"$f":"Список!B14","v":0},{"$nulls":13},{"$error":"#DIV/0!"}]
[12,{"$f":"Список!B15","v":0},{"$nulls":13},{"$error":"#DIV/0!"}]
[13,{"$f":"Список!B16","v":0},{"$nulls":13},{"$error":"#DIV/0!"}]
[14,{"$f":"Список!B17","v":0},{"$nulls":13},{"$error":"#DIV/0!"}]
[15,{"$f":"Список!B18","v":0},{"$nulls":13},{"$error":"#DIV/0!"}]
[16,{"$f":"Список!B19","v":0},{"$nulls":13},{"$error":"#DIV/0!"}]
[17,{"$f":"Список!B20","v":0},{"$nulls":13},{"$error":"#DIV/0!"}]
[18,{"$f":"Список!B21","v":0},{"$nulls":13},{"$error":"#DIV/0!"}]
[19,{"$f":"Список!B22","v":0},{"$nulls":13},{"$error":"#DIV/0!"}]
[20,{"$f":"Список!B23","v":0},{"$nulls":13},{"$error":"#DIV/0!"}]
[21,{"$f":"Список!B24","v":0},{"$nulls":13},{"$error":"#DIV/0!"}]
[22,{"$f":"Список!B25","v":0},{"$nulls":13},{"$error":"#DIV/0!"}]
[23,{"$f":"Список!B26","v":0},{"$nulls":13},{"$error":"#DIV/0!"}]
[24,{"$f":"Список!B27","v":0},{"$nulls":13},{"$error":"#DIV/0!"}]
[25,{"$f":"Список!B28","v":0},{"$nulls":13},{"$error":"#DIV/0!"}]
[26,{"$f":"Список!B29","v":0},{"$nulls":13},{"$error":"#DIV/0!"}]
[27,{"$f":"Список!B30","v":0},{"$nulls":13},{"$error":"#DIV/0!"}]
[28,{"$f":"Список!B31","v":0},{"$nulls":13},{"$error":"#DIV/0!"}]
[29,{"$f":"Список!B32","v":0},{"$nulls":13},{"$error":"#DIV/0!"}]
[30,{"$f":"Список!B33","v":0},{"$nulls":13},{"$error":"#DIV/0!"}]
[null,"СРЕДНИЙ ПОКАЗАТЕЛЬ ПО ГРУППЕ",{"$nulls":13},{"$f":"AVERAGE(P13:P42)+P23:P43E7P16:P43P22:P43P21:P43P20:P43P19:P43P18:P43P1P16:P43","v":{"$error":"#DIV/0!"}}]
[null,"среднее по критерию",null,null,{"$f":"AVERAGE(E13:E42)","v":{"$error":"#DIV/0!"}},{"$f":"AVERAGE(F13:F42)","v":{"$error":"#DIV/0!"}},{"$error":"#DIV/0!"},{"$error":"#DIV/0!"},{"$error":"#DIV/0!"},{"$error":"#DIV/0!"},{"$error":"#DIV/0!"},{"$error":"#DIV/0!"},{"$error":"#DIV/0!"},{"$error":"#DIV/0!"},{"$error":"#DIV/0!"}]
[null,"среднее по разделу",null,null,{"$f":"(E44+F44+G44+H44)/4","v":{"$error":"#DIV/0!"}},{"$nulls":3},{"$f":"(I44+J44+K44)/3","v":{"$error":"#DIV/0!"}},null,null,{"$f":"(L44+M44+N44+O44)/4","v":{"$error":"#DIV/0!"}}]
[null,"Ф.И.О, должность специалиста(ов)____________________________________________________________________________________________________________________________________________________________________________________________________________________________________"]
[null,"© Автор-составитель Кулекина И.А., СПБ, 2023"]
[]
[]
[null,"КГН",null,null,{"$f":"E45","v":{"$error":"#DIV/0!"}}]
[null,"ЗОЖ",null,null,{"$f":"I45","v":{"$error":"#DIV/0!"}}]
[null,"спортивные упражнения",null,null,{"$f":"L45","v":{"$error":"#DIV/0!"}}]

{"sheet":"Физ.разв. к 7г ч3. К.г. ","index":29,"n_rows":52,"n_cols":16,"rows_kept":52,"merged":[[0,0,0,1],[0,4,0,6],[0,7,0,13],[1,0,1,3],[2,0,2,3],[3,0,3,1],[3,4,3,5],[3,6,3,7],[3,8,3,9],[4,0,4,1],[4,4,4,5],[4,6,4,7],[4,8,4,9],[5,0,11,0],[5,1,11,1],[5,4,5,14],[5,15,11,15],[6,4,6,14],[7,4,7,7],[7,8,7,10],[7,11,7,14],[8,4,9,4],[8,5,9,5],[8,6,9,6],[8,7,9,7],[8,8,11,8],[8,9,11,9],[8,10,11,10],[8,11,8,14],[9,11,11,11],[9,12,11,12],[9,13,11,13],[9,14,11,14],[10,4,11,4],[10,5,11,5],[10,6,11,6],[10,7,11,7],[42,1,42,14],[44,4,44,7],[44,8,44,10],[44,11,44,14],[45,1,45,15],[46,1,46,15]]}
["Финальная диагностика",{"$nulls":3},"ГРУППА ПОДГОТОВИТЕЛЬНОГО К ШКОЛЕ ВОЗРАСТА (6-7 лет)",null,null,"Период проведения - окончание посещения группы подготовительного к школе возраста"]
["Стартовая диагностика"]
["*- не диагностируется в данном возрасте"]
["Сформированность показателя",{"$nulls":3},"«2» показатель сформирован",null,"«1» показатель в стадии формирования",null,"«0» показатель не сформирован"]
["Средний уровень",{"$nulls":3},"1,8 - 2,0 норма-высокий",null,"1,0 - 1,7 норма - средний",null,"0,0 - 0,9 ниже нормы"]
["№","Ф.И. ребенка",null,null,"ОБРАЗОВАТЕЛЬНАЯ ОБЛАСТЬ «ФИЗИЧЕСКОЕ  РАЗВИТИЕ»",{"$nulls":10},"СРЕДНИЙ ПОКАЗАТЕЛЬ ПО РЕБЕНКУ"]
[{"$nulls":4},"Показатели возможных достижений (возрастные характеристики) к 7 годам"]
[{"$nulls":4},"КГН",{"$nulls":3},"ЗОЖ",null,null,"Спортивные упражнения"]
[{"$nulls":4},"Навыки соблюдения чистоты тела (правила личной гигиены)","Навыки культуры еды (прием пищи) ","Навыки поддержания порядка (правила поведения в быту) ","Навыки ухода за собой (одевание, раздевание) ","Ребенок соблюдает элементарные правила здорового образа жизни и личной гигиены, следит за своей осанкой, может оценить свое самочувствие","Ребенок регулярно выполняет физические упражнения","Ребенок имеет начальные представления о том, что такое здоровье, понимает, как поддержать, укрепить и сохранить его","Ребенок умеет кататься"]
[{"$nulls":11},"на санках","на лыжах","на двухколесном велосипеде","на самокате"]
[{"$nulls":4},"Ребенок владеет навыками личной гигиены","Ребенок владеет навыками культуры еды","Ребенок владеет навыками поддержания порядка","Ребенок владеет навыками ухода за собой"]
[]
[1,{"$f":"Список!B4","v":0},{"$nulls":13},{"$f":"AVERAGE(E13:O13)","v":{"$error":"#DIV/0!"}}]
[2,{"$f":"Список!B5","v":0},{"$nulls":13},{"$error":"#DIV/0!"}]
[3,{"$f":"Список!B6","v":0},{"$nulls":13},{"$error":"#DIV/0!"}]
[4,{"$f":"Список!B7","v":0},{"$nulls":13},{"$error":"#DIV/0!"}]
[5,{"$f":"Список!B8","v":0},{"$nulls":13},{"$error":"#DIV/0!"}]
[6,{"$f":"Список!B9","v":0},{"$nulls":13},{"$error":"#DIV/0!"}]
[7,{"$f":"Список!B10","v":0},{"$nulls":13},{"$error":"#DIV/0!"}]
[8,{"$f":"Список!B11","v":0},{"$nulls":13},{"$error":"#DIV/0!"}]
[9,{"$f":"Список!B12","v":0},{"$nulls":13},{"$error":"#DIV/0!"}]
[10,{"$f":"Список!B13","v":0},{"$nulls":13},{"$error":"#DIV/0!"}]
[11,{"$f":"Список!B14","v":0},{"$nulls":13},{"$error":"#DIV/0!"}]
[12,{"$f":"Список!B15","v":0},{"$nulls":13},{"$error":"#DIV/0!"}]
[13,{"$f":"Список!B16","v":0},{"$nulls":13},{"$error":"#DIV/0!"}]
[14,{"$f":"Список!B17","v":0},{"$nulls":13},{"$error":"#DIV/0!"}]
[15,{"$f":"Список!B18","v":0},{"$nulls":13},{"$error":"#DIV/0!"}]
[16,{"$f":"Список!B19","v":0},{"$nulls":13},{"$error":"#DIV/0!"}]
[17,{"$f":"Список!B20","v":0},{"$nulls":13},{"$error":"#DIV/0!"}]
[18,{"$f":"Список!B21","v":0},{"$nulls":13},{"$error":"#DIV/0!"}]
[19,{"$f":"Список!B22","v":0},{"$nulls":13},{"$error":"#DIV/0!"}]
[20,{"$f":"Список!B23","v":0},{"$nulls":13},{"$error":"#DIV/0!"}]
[21,{"$f":"Список!B24","v":0},{"$nulls":13},{"$error":"#DIV/0!"}]
[22,{"$f":"Список!B25","v":0},{"$nulls":13},{"$error":"#DIV/0!"}]
[23,{"$f":"Список!B26","v":0},{"$nulls":13},{"$error":"#DIV/0!"}]
[24,{"$f":"Список!B27","v":0},{"$nulls":13},{"$error":"#DIV/0!"}]
[25,{"$f":"Список!B28","v":0},{"$nulls":13},{"$error":"#DIV/0!"}]
[26,{"$f":"Список!B29","v":0},{"$nulls":13},{"$error":"#DIV/0!"}]
[27,{"$f":"Список!B30","v":0},{"$nulls":13},{"$error":"#DIV/0!"}]
[28,{"$f":"Список!B31","v":0},{"$nulls":13},{"$error":"#DIV/0!"}]
[29,{"$f":"Список!B32","v":0},{"$nulls":13},{"$error":"#DIV/0!"}]
[30,{"$f":"Список!B33","v":0},{"$nulls":13},{"$error":"#DIV/0!"}]
[null,"СРЕДНИЙ ПОКАЗАТЕЛЬ ПО ГРУППЕ",{"$nulls":13},{"$f":"AVERAGE(P13:P42)+P23:P43E7P16:P43P22:P43P21:P43P20:P43P19:P43P18:P43P1P16:P43","v":{"$error":"#DIV/0!"}}]
[null,"среднее по критерию",null,null,{"$f":"AVERAGE(E13:E42)","v":{"$error":"#DIV/0!"}},{"$f":"AVERAGE(F13:F42)","v":{"$error":"#DIV/0!"}},{"$error":"#DIV/0!"},{"$error":"#DIV/0!"},{"$error":"#DIV/0!"},{"$error":"#DIV/0!"},{"$error":"#DIV/0!"},{"$error":"#DIV/0!"},{"$error":"#DIV/0!"},{"$error":"#DIV/0!"},{"$error":"#DIV/0!"}]
[null,"среднее по разделу",null,null,{"$f":"(E44+F44+G44+H44)/4","v":{"$error":"#DIV/0!"}},{"$nulls":3},{"$f":"(I44+J44+K44)/3","v":{"$error":"#DIV/0!"}},null,null,{"$f":"(L44+M44+N44+O44)/4","v":{"$error":"#DIV/0!"}}]
[null,"Ф.И.О, должность специалиста(ов)____________________________________________________________________________________________________________________________________________________________________________________________________________________________________"]
[null,"© Автор-составитель Кулекина И.А., СПБ, 2023"]
[]
[]
[null,"КГН",null,null,{"$f":"E45","v":{"$error":"#DIV/0!"}}]
[null,"ЗОЖ",null,null,{"$f":"I45","v":{"$error":"#DIV/0!"}}]
[null,"спортивные упражнения",null,null,{"$f":"L45","v":{"$error":"#DIV/0!"}}]

{"sheet":"Динамика физ.разв.","index":30,"n_rows":7,"n_cols":17,"rows_kept":7,"merged":[[1,0,1,16]]}
[]
["Обобщение результатов педагогической диагностики по ОО \"Физическое развитие\" Подготовительная группа"]
[]
[]
[null,"бросание, катание, ловля, метание","ползанье, лазанье","ходьба","бег","прыжки","равновесие","строевые упражнения","координация рук и глаз","графические навыки","подвижные игры","спортивные игры","спортивные упражнения","КГН","ЗОЖ","спортивные упражнения","среднее по группе"]
["начало года",{"$f":"'Физ.разв. к 7г ч1. Н.г.'!E49","v":{"$error":"#DIV/0!"}},{"$f":"'Физ.разв. к 7г ч1. Н.г.'!E50","v":{"$error":"#DIV/0!"}},{"$f":"'Физ.разв. к 7г ч1. Н.г.'!E51","v":{"$error":"#DIV/0!"}},{"$f":"'Физ.разв. к 7г ч1. Н.г.'!E52","v":{"$error":"#DIV/0!"}},{"$f":"'Физ.разв. к 7г ч1. Н.г.'!E53","v":{"$error":"#DIV/0!"}},{"$f":"'Физ.разв. к 7г ч1. Н.г.'!E54","v":{"$error":"#DIV/0!"}},{"$f":"'Физ.разв. к 7г ч1. Н.г.'!E55","v":{"$error":"#DIV/0!"}},{"$f":"'Физ.разв. к 7г ч2. Н.г.'!E50","v":{"$error":"#DIV/0!"}},{"$f":"'Физ.разв. к 7г ч2. Н.г.'!E51","v":{"$error":"#DIV/0!"}},{"$f":"'Физ.разв. к 7г ч2. Н.г.'!E52","v":{"$error":"#DIV/0!"}},{"$f":"'Физ.разв. к 7г ч2. Н.г.'!E53","v":{"$error":"#DIV/0!"}},{"$f":"'Физ.разв. к 7г ч2. Н.г.'!E54","v":{"$error":"#DIV/0!"}},{"$f":"'Физ.разв. к 7г ч3. Н.г.'!E50","v":{"$error":"#DIV/0!"}},{"$f":"'Физ.разв. к 7г ч3. Н.г.'!E51","v":{"$error":"#DIV/0!"}},{"$f":"'Физ.разв. к 7г ч3. Н.г.'!E52","v":{"$error":"#DIV/0!"}},{"$f":"AVERAGE(B6:P6)","v":{"$error":"#DIV/0!"}}]
["конец года",{"$f":"'Физ.разв. к 7г ч1. К.г. '!$E$49","v":{"$error":"#DIV/0!"}},{"$f":"'Физ.разв. к 7г ч1. К.г. '!$E$50","v":{"$error":"#DIV/0!"}},{"$f":"'Физ.разв. к 7г ч1. К.г. '!$E$51","v":{"$error":"#DIV/0!"}},{"$f":"'Физ.разв. к 7г ч1. К.г. '!$E$52","v":{"$error":"#DIV/0!"}},{"$f":"'Физ.разв. к 7г ч1. К.г. '!$E$53","v":{"$error":"#DIV/0!"}},{"$f":"'Физ.разв. к 7г ч1. К.г. '!$E$54","v":{"$error":"#DIV/0!"}},{"$f":"'Физ.разв. к 7г ч1. К.г. '!$E$55","v":{"$error":"#DIV/0!"}},{"$f":"'Физ.разв. к 7г ч2. К.г.'!$E$50","v":{"$error":"#DIV/0!"}},{"$f":"'Физ.разв. к 7г ч2. К.г.'!$E$51","v":{"$error":"#DIV/0!"}},{"$f":"'Физ.разв. к 7г ч2. К.г.'!$E$52","v":{"$error":"#DIV/0!"}},{"$f":"'Физ.разв. к 7г ч2. К.г.'!$E$53","v":{"$error":"#DIV/0!"}},{"$f":"'Физ.разв. к 7г ч2. К.г.'!$E$54","v":{"$error":"#DIV/0!"}},{"$f":"'Физ.разв. к 7г ч3. К.г. '!E50","v":{"$error":"#DIV/0!"}},{"$f":"'Физ.разв. к 7г ч3. К.г. '!E51","v":{"$error":"#DIV/0!"}},{"$f":"'Физ.разв. к 7г ч3. К.г. '!E52","v":{"$error":"#DIV/0!"}},{"$f":"AVERAGE(B7:P7)","v":{"$error":"#DIV/0!"}}]

{"sheet":"Худ.эст.к 7г ч1. Н.г.","index":31,"n_rows":56,"n_cols":18,"rows_kept":56,"merged":[[0,0,0,1],[0,4,0,6],[0,7,0,10],[1,0,1,3],[2,0,2,3],[3,0,3,1],[3,5,3,6],[3,7,3,8],[4,0,4,1],[4,5,4,6],[4,7,4,8],[5,0,10,0],[5,1,10,1],[5,4,5,16],[5,17,10,17],[6,4,6,16],[7,4,7,16],[8,8,8,9],[8,10,8,13],[8,14,8,15],[8,16,10,16],[9,4,10,4],[9,5,10,5],[9,6,10,6],[9,7,10,7],[9,8,10,8],[9,9,10,9],[9,10,10,10],[9,11,10,11],[9,12,10,12],[9,13,10,13],[9,14,10,14],[9,15,10,15],[41,1,41,16],[43,8,43,9],[43,10,43,13],[43,14,43,15],[45,1,45,17]]}
["Финальная диагностика",{"$nulls":3},"ГРУППА ПОДГОТОВИТЕЛЬНОГО К ШКОЛЕ ВОЗРАСТА (6-7 лет)",null,null,"Период проведения - окончание посещения группы подготовительного к школе возраста"]
["Стартовая диагностика"]
["*- не диагностируется в данном возрасте"]
["Сформированность показателя",{"$nulls":3},"«2» показатель сформирован","«1» показатель в стадии формирования",null,"«0» показатель не сформирован"]
["Средний уровень",{"$nulls":3},"1,8 - 2,0 норма-высокий","1,0 - 1,7 норма - средний",null,"0,0 - 0,9 ниже нормы"]
["№","Ф.И. ребенка",null,null,"ОБРАЗОВАТЕЛЬНАЯ ОБЛАСТЬ «ХУДОЖЕСТВЕННО-ЭСТЕТИЧЕСКОЕ РАЗВИТИЕ»",{"$nulls":12},"СРЕДНИЙ ПОКАЗАТЕЛЬ ПО РЕБЕНКУ"]
[{"$nulls":4},"Показатели возможных достижений (возрастные характеристики) к 7 годам"]
[{"$nulls":4},"Музыкальная деятельность"]
[{"$nulls":4},"Слушание","Пение ","Музыкально-ритмические движения","Песенное творчество","Игра на детских музыкальных инструментах",null,"Театрализованная деятельность",{"$nulls":3},"Танцевально-игровое творчество",null,"У ребенка развит музыкальный вкус, музыкальная память"]
[{"$nulls":4},"У ребенка развит навык восприятия звуков по высоте в пределах квинты-терции","У ребенка развиты певческий голос и вокально-слуховая координация","Ребёнок ритмично и выразительно двигается в соответствие с характером музыки","Ребенок способен самостоятельно придумать мелодию, используя в качестве образца русские народные песни","Ребенок может сыграть простую мелодию на металлофоне, свирели, ударных, и электронных музыкальных инструментах: трещотках, погремушках, треугольниках","Ребенок может исполнить музыкальное произведение в оркестре и в ансамбле","Ребенок проявляет самостоятельность при выборе литературного и музыкального материала для театральной постановки","Ребенок проявляет инициативу при изготовлении атрибутов и декораций к спектаклю","Ребенок имеет представление о средствах погружения в театральные образы (музыка, слова, декорации, грим, костюм и др.)","Ребенок умеет выразительно передавать образы в действии, мимике, пантомимике","Ребенок проявляет активность в доступных видах музыкальной исполнительской деятельности (игра в оркестре, пение, танцевальные движения и др.)","Ребенок помогает придумывать движения, отражающие содержание песни"]
[]
[1,{"$f":"Список!B4","v":0},{"$nulls":15},{"$f":"AVERAGE(F12:Q12)","v":{"$error":"#DIV/0!"}}]
[2,{"$f":"Список!B5","v":0},{"$nulls":15},{"$error":"#DIV/0!"}]
[3,{"$f":"Список!B6","v":0},{"$nulls":15},{"$error":"#DIV/0!"}]
[4,{"$f":"Список!B7","v":0},{"$nulls":15},{"$error":"#DIV/0!"}]
[5,{"$f":"Список!B8","v":0},{"$nulls":15},{"$error":"#DIV/0!"}]
[6,{"$f":"Список!B9","v":0},{"$nulls":15},{"$error":"#DIV/0!"}]
[7,{"$f":"Список!B10","v":0},{"$nulls":15},{"$error":"#DIV/0!"}]
[8,{"$f":"Список!B11","v":0},{"$nulls":15},{"$error":"#DIV/0!"}]
[9,{"$f":"Список!B12","v":0},{"$nulls":15},{"$error":"#DIV/0!"}]
[10,{"$f":"Список!B13","v":0},{"$nulls":15},{"$error":"#DIV/0!"}]
[11,{"$f":"Список!B14","v":0},{"$nulls":15},{"$error":"#DIV/0!"}]
[12,{"$f":"Список!B15","v":0},{"$nulls":15},{"$error":"#DIV/0!"}]
[13,{"$f":"Список!B16","v":0},{"$nulls":15},{"$error":"#DIV/0!"}]
[14,{"$f":"Список!B17","v":0},{"$nulls":15},{"$error":"#DIV/0!"}]
[15,{"$f":"Список!B18","v":0},{"$nulls":15},{"$error":"#DIV/0!"}]
[16,{"$f":"Список!B19","v":0},{"$nulls":15},{"$error":"#DIV/0!"}]
[17,{"$f":"Список!B20","v":0},{"$nulls":15},{"$error":"#DIV/0!"}]
[18,{"$f":"Список!B21","v":0},{"$nulls":15},{"$error":"#DIV/0!"}]
[19,{"$f":"Список!B22","v":0},{"$nulls":15},{"$error":"#DIV/0!"}]
[20,{"$f":"Список!B23","v":0},{"$nulls":15},{"$error":"#DIV/0!"}]
[21,{"$f":"Список!B24","v":0},{"$nulls":15},{"$error":"#DIV/0!"}]
[22,{"$f":"Список!B25","v":0},{"$nulls":15},{"$error":"#DIV/0!"}]
[23,{"$f":"Список!B26","v":0},{"$nulls":15},{"$error":"#DIV/0!"}]
[24,{"$f":"Список!B27","v":0},{"$nulls":15},{"$error":"#DIV/0!"}]
[25,{"$f":"Список!B28","v":0},{"$nulls":15},{"$error":"#DIV/0!"}]
[26,{"$f":"Список!B29","v":0},{"$nulls":15},{"$error":"#DIV/0!"}]
[27,{"$f":"Список!B30","v":0},{"$nulls":15},{"$error":"#DIV/0!"}]
[28,{"$f":"Список!B31","v":0},{"$nulls":15},{"$error":"#DIV/0!"}]
[29,{"$f":"Список!B32","v":0},{"$nulls":15},{"$error":"#DIV/0!"}]
[30,{"$f":"Список!B33","v":0},{"$nulls":15},{"$error":"#DIV/0!"}]
[null,"СРЕДНИЙ ПОКАЗАТЕЛЬ ПО ГРУППЕ",{"$nulls":15},{"$f":"AVERAGE(R12:R41)","v":{"$error":"#DIV/0!"}}]
[null,"среднее по критерию",null,null,{"$f":"AVERAGE(E12:E41)","v":{"$error":"#DIV/0!"}},{"$f":"AVERAGE(F12:F41)","v":{"$error":"#DIV/0!"}},{"$error":"#DIV/0!"},{"$error":"#DIV/0!"},{"$error":"#DIV/0!"},{"$error":"#DIV/0!"},{"$error":"#DIV/0!"},{"$error":"#DIV/0!"},{"$error":"#DIV/0!"},{"$error":"#DIV/0!"},{"$error":"#DIV/0!"},{"$error":"#DIV/0!"},{"$error":"#DIV/0!"}]
[null,"среднее по разделу",null,null,{"$f":"E43","v":{"$error":"#DIV/0!"}},{"$f":"F43","v":{"$error":"#DIV/0!"}},{"$f":"G43","v":{"$error":"#DIV/0!"}},{"$f":"H43","v":{"$error":"#DIV/0!"}},{"$f":"(I43+J43)/2","v":{"$error":"#DIV/0!"}},null,{"$f":"(K43+L43+M43+N43)/4","v":{"$error":"#DIV/0!"}},{"$nulls":3},{"$f":"(O43+P43)/2","v":{"$error":"#DIV/0!"}},null,{"$f":"Q43","v":{"$error":"#DIV/0!"}}]
[null,"Ф.И.О, должность специалиста(ов)____________________________________________________________________________________________________________________________________________________________________________________________________________________________________"]
[null,"© Автор-составитель Кулекина И.А., СПБ, 2023"]
[]
[]
[null,"слушание",null,null,{"$f":"E44","v":{"$error":"#DIV/0!"}}]
[null,"пение",null,null,{"$f":"F44","v":{"$error":"#DIV/0!"}}]
[null,"музыкально-ритмические движения",null,null,{"$f":"G44","v":{"$error":"#DIV/0!"}}]
[null,"песенное творчество",null,null,{"$f":"H44","v":{"$error":"#DIV/0!"}}]
[null,"игра на музыкальных инструментах",null,null,{"$f":"I44","v":{"$error":"#DIV/0!"}}]
[null,"театрализованная деятельность",null,null,{"$f":"K44","v":{"$error":"#DIV/0!"}}]
[null,"танцевально-игровое творчество",null,null,{"$f":"O44","v":{"$error":"#DIV/0!"}}]
[null,"У ребенка развит музыкальный вкус, музыкальная память",null,null,{"$f":"Q44","v":{"$error":"#DIV/0!"}}]

{"sheet":"Худ.эст.к 7г ч1. К.г. ","index":32,"n_rows":56,"n_cols":18,"rows_kept":56,"merged":[[0,0,0,1],[0,4,0,6],[0,7,0,10],[1,0,1,3],[2,0,2,3],[3,0,3,1],[3,5,3,6],[3,7,3,8],[4,0,4,1],[4,5,4,6],[4,7,4,8],[5,0,10,0],[5,1,10,1],[5,4,5,16],[5,17,10,17],[6,4,6,16],[7,4,7,16],[8,8,8,9],[8,10,8,13],[8,14,8,15],[8,16,10,16],[9,4,10,4],[9,5,10,5],[9,6,10,6],[9,7,10,7],[9,8,10,8],[9,9,10,9],[9,10,10,10],[9,11,10,11],[9,12,10,12],[9,13,10,13],[9,14,10,14],[9,15,10,15],[41,1,41,16],[43,8,43,9],[43,10,43,13],[43,14,43,15],[45,1,45,17]]}
["Финальная диагностика",{"$nulls":3},"ГРУППА ПОДГОТОВИТЕЛЬНОГО К ШКОЛЕ ВОЗРАСТА (6-7 лет)",null,null,"Период проведения - окончание посещения группы подготовительного к школе возраста"]
["Стартовая диагностика"]
["*- не диагностируется в данном возрасте"]
["Сформированность показателя",{"$nulls":3},"«2» показатель сформирован","«1» показатель в стадии формирования",null,"«0» показатель не сформирован"]
["Средний уровень",{"$nulls":3},"1,8 - 2,0 норма-высокий","1,0 - 1,7 норма - средний",null,"0,0 - 0,9 ниже нормы"]
["№","Ф.И. ребенка",null,null,"ОБРАЗОВАТЕЛЬНАЯ ОБЛАСТЬ «ХУДОЖЕСТВЕННО-ЭСТЕТИЧЕСКОЕ РАЗВИТИЕ»",{"$nulls":12},"СРЕДНИЙ ПОКАЗАТЕЛЬ ПО РЕБЕНКУ"]
[{"$nulls":4},"Показатели возможных достижений (возрастные характеристики) к 7 годам"]
[{"$nulls":4},"Музыкальная деятельность"]
[{"$nulls":4},"Слушание","Пение ","Музыкально-ритмические движения","Песенное творчество","Игра на детских музыкальных инструментах",null,"Театрализованная деятельность",{"$nulls":3},"Танцевально-игровое творчество",null,"У ребенка развит музыкальный вкус, музыкальная память"]
[{"$nulls":4},"У ребенка развит навык восприятия звуков по высоте в пределах квинты-терции","У ребенка развиты певческий голос и вокально-слуховая координация","Ребёнок ритмично и выразительно двигается в соответствие с характером музыки","Ребенок способен самостоятельно придумать мелодию, используя в качестве образца русские народные песни","Ребенок может сыграть простую мелодию на металлофоне, свирели, ударных, и электронных музыкальных инструментах: трещотках, погремушках, треугольниках","Ребенок может исполнить музыкальное произведение в оркестре и в ансамбле","Ребенок проявляет самостоятельность при выборе литературного и музыкального материала для театральной постановки","Ребенок проявляет инициативу при изготовлении атрибутов и декораций к спектаклю","Ребенок имеет представление о средствах погружения в театральные образы (музыка, слова, декорации, грим, костюм и др.)","Ребенок умеет выразительно передавать образы в действии, мимике, пантомимике","Ребенок проявляет активность в доступных видах музыкальной исполнительской деятельности (игра в оркестре, пение, танцевальные движения и др.)","Ребенок помогает придумывать движения, отражающие содержание песни"]
[]
[1,{"$f":"Список!B4","v":0},{"$nulls":15},{"$f":"AVERAGE(F12:Q12)","v":{"$error":"#DIV/0!"}}]
[2,{"$f":"Список!B5","v":0},{"$nulls":15},{"$error":"#DIV/0!"}]
[3,{"$f":"Список!B6","v":0},{"$nulls":15},{"$error":"#DIV/0!"}]
[4,{"$f":"Список!B7","v":0},{"$nulls":15},{"$error":"#DIV/0!"}]
[5,{"$f":"Список!B8","v":0},{"$nulls":15},{"$error":"#DIV/0!"}]
[6,{"$f":"Список!B9","v":0},{"$nulls":15},{"$error":"#DIV/0!"}]
[7,{"$f":"Список!B10","v":0},{"$nulls":15},{"$error":"#DIV/0!"}]
[8,{"$f":"Список!B11","v":0},{"$nulls":15},{"$error":"#DIV/0!"}]
[9,{"$f":"Список!B12","v":0},{"$nulls":15},{"$error":"#DIV/0!"}]
[10,{"$f":"Список!B13","v":0},{"$nulls":15},{"$error":"#DIV/0!"}]
[11,{"$f":"Список!B14","v":0},{"$nulls":15},{"$error":"#DIV/0!"}]
[12,{"$f":"Список!B15","v":0},{"$nulls":15},{"$error":"#DIV/0!"}]
[13,{"$f":"Список!B16","v":0},{"$nulls":15},{"$error":"#DIV/0!"}]
[14,{"$f":"Список!B17","v":0},{"$nulls":15},{"$error":"#DIV/0!"}]
[15,{"$f":"Список!B18","v":0},{"$nulls":15},{"$error":"#DIV/0!"}]
[16,{"$f":"Список!B19","v":0},{"$nulls":15},{"$error":"#DIV/0!"}]
[17,{"$f":"Список!B20","v":0},{"$nulls":15},{"$error":"#DIV/0!"}]
[18,{"$f":"Список!B21","v":0},{"$nulls":15},{"$error":"#DIV/0!"}]
[19,{"$f":"Список!B22","v":0},{"$nulls":15},{"$error":"#DIV/0!"}]
[20,{"$f":"Список!B23","v":0},{"$nulls":15},{"$error":"#DIV/0!"}]
[21,{"$f":"Список!B24","v":0},{"$nulls":15},{"$error":"#DIV/0!"}]
[22,{"$f":"Список!B25","v":0},{"$nulls":15},{"$error":"#DIV/0!"}]
[23,{"$f":"Список!B26","v":0},{"$nulls":15},{"$error":"#DIV/0!"}]
[24,{"$f":"Список!B27","v":0},{"$nulls":15},{"$error":"#DIV/0!"}]
[25,{"$f":"Список!B28","v":0},{"$nulls":15},{"$error":"#DIV/0!"}]
[26,{"$f":"Список!B29","v":0},{"$nulls":15},{"$error":"#DIV/0!"}]
[27,{"$f":"Список!B30","v":0},{"$nulls":15},{"$error":"#DIV/0!"}]
[28,{"$f":"Список!B31","v":0},{"$nulls":15},{"$error":"#DIV/0!"}]
[29,{"$f":"Список!B32","v":0},{"$nulls":15},{"$error":"#DIV/0!"}]
[30,{"$f":"Список!B33","v":0},{"$nulls":15},{"$error":"#DIV/0!"}]
[null,"СРЕДНИЙ ПОКАЗАТЕЛЬ ПО ГРУППЕ",{"$nulls":15},{"$f":"AVERAGE(R12:R41)","v":{"$error":"#DIV/0!"}}]
[null,"среднее по критерию",null,null,{"$f":"AVERAGE(E12:E41)","v":{"$error":"#DIV/0!"}},{"$f":"AVERAGE(F12:F41)","v":{"$error":"#DIV/0!"}},{"$error":"#DIV/0!"},{"$error":"#DIV/0!"},{"$error":"#DIV/0!"},{"$error":"#DIV/0!"},{"$error":"#DIV/0!"},{"$error":"#DIV/0!"},{"$error":"#DIV/0!"},{"$error":"#DIV/0!"},{"$error":"#DIV/0!"},{"$error":"#DIV/0!"},{"$error":"#DIV/0!"}]
[null,"среднее по разделу",null,null,{"$f":"E43","v":{"$error":"#DIV/0!"}},{"$f":"F43","v":{"$error":"#DIV/0!"}},{"$f":"G43","v":{"$error":"#DIV/0!"}},{"$f":"H43","v":{"$error":"#DIV/0!"}},{"$f":"(I43+J43)/2","v":{"$error":"#DIV/0!"}},null,{"$f":"(K43+L43+M43+N43)/4","v":{"$error":"#DIV/0!"}},{"$nulls":3},{"$f":"(O43+P43)/2","v":{"$error":"#DIV/0!"}},null,{"$f":"Q43","v":{"$error":"#DIV/0!"}}]
[null,"Ф.И.О, должность специалиста(ов)____________________________________________________________________________________________________________________________________________________________________________________________________________________________________"]
[null,"© Автор-составитель Кулекина И.А., СПБ, 2023"]
[]
[]
[null,"слушание",null,null,{"$f":"E44","v":{"$error":"#DIV/0!"}}]
[null,"пение",null,null,{"$f":"F44","v":{"$error":"#DIV/0!"}}]
[null,"музыкально-ритмические движения",null,null,{"$f":"G44","v":{"$error":"#DIV/0!"}}]
[null,"песенное творчество",null,null,{"$f":"H44","v":{"$error":"#DIV/0!"}}]
[null,"игра на музыкальных инструментах",null,null,{"$f":"I44","v":{"$error":"#DIV/0!"}}]
[null,"театрализованная деятельность",null,null,{"$f":"K44","v":{"$error":"#DIV/0!"}}]
[null,"танцевально-игровое творчество",null,null,{"$f":"O44","v":{"$error":"#DIV/0!"}}]
[null,"У ребенка развит музыкальный вкус, музыкальная память",null,null,{"$f":"Q44","v":{"$error":"#DIV/0!"}}]

{"sheet":"Худ.эст.к 7г ч2. Н.г.","index":33,"n_rows":52,"n_cols":18,"rows_kept":52,"merged":[[0,0,0,1],[0,4,0,6],[0,7,0,9],[1,0,1,3],[2,0,2,3],[3,0,3,1],[3,5,3,6],[3,7,3,8],[4,0,4,1],[4,5,4,6],[4,7,4,8],[5,0,10,0],[5,1,10,1],[5,4,5,16],[5,17,10,17],[6,4,6,16],[7,4,7,16],[8,4,8,5],[8,6,8,7],[8,8,8,9],[8,11,8,16],[9,4,10,4],[9,5,10,5],[9,6,10,6],[9,7,10,7],[9,8,10,8],[9,9,10,9],[9,10,10,10],[9,11,10,11],[9,12,10,12],[9,13,10,13],[9,14,10,14],[9,15,10,15],[9,16,10,16],[41,1,41,16],[43,4,43,5],[43,6,43,7],[43,8,43,9],[43,11,43,16],[45,1,45,17]]}
["Финальная диагностика",{"$nulls":3},"ГРУППА ПОДГОТОВИТЕЛЬНОГО К ШКОЛЕ ВОЗРАСТА (6-7 лет)",null,null,"Период проведения - окончание посещения группы подготовительного к школе возраста"]
["Стартовая диагностика"]
["*- не диагностируется в данном возрасте"]
["Сформированность показателя",{"$nulls":3},"«2» показатель сформирован","«1» показатель в стадии формирования",null,"«0» показатель не сформирован"]
["Средний уровень",{"$nulls":3},"1,8 - 2,0 норма-высокий","1,0 - 1,7 норма - средний",null,"0,0 - 0,9 ниже нормы"]
[null,"Ф.И. ребенка",null,null,"ОБРАЗОВАТЕЛЬНАЯ ОБЛАСТЬ «ХУДОЖЕСТВЕННО-ЭСТЕТИЧЕСКОЕ РАЗВИТИЕ»",{"$nulls":12},"СРЕДНИЙ ПОКАЗАТЕЛЬ ПО РЕБЕНКУ"]
[{"$nulls":4},"Показатели возможных достижений (возрастные характеристики) к 7 годам"]
[{"$nulls":4},"Изобразительная деятельность"]
[{"$nulls":4},"Рисование ",null,"Лепка ",null,"Аппликация ",null,"Народное ДПИ","Прикладное творчество"]
[{"$nulls":4},"Ребенок может изобразить предметы по памяти и с натуры, передает их средствами рисунка (форма, пропорции, расположение)","Ребенок способен передавать в рисунке сюжет, строить композицию","Ребенок свободно использует приемы лепки, освоенные ранее (налеп, углубленный рельеф), применяет стеку","Ребенок умеет передавать пропорции, соотношение по величине, выразительность поз, движений, деталей","Ребенок умеет составлять узоры и декоративные композиции из геометрических и растительных элементов на листах бумаги разной формы","Ребенок может выполнить вырезание (симметричное из бумаги, сложенной вдвое; несколько предметов из частей бумаги, сложенной гармошкой)","Ребенок умеет создавать узоры по мотивам народных росписей","Ребенок может сложить бумагу в разных направлениях","Ребенок может сделать разметку с помощью шаблона","Ребенок может выполнить работу по образцу","Ребенок может создать объемную игрушку в технике «оригами»","Ребенок может создать объемную поделку из природного материала","Ребенок может вдеть нитку в иголку, завязать узелок, пришить пуговицу, петельку, выполнить шов «вперед иголка»"]
[]
[1,{"$f":"Список!B4","v":0},{"$nulls":15},{"$f":"AVERAGE(F12:Q12)","v":{"$error":"#DIV/0!"}}]
[2,{"$f":"Список!B5","v":0},{"$nulls":15},{"$error":"#DIV/0!"}]
[3,{"$f":"Список!B6","v":0},{"$nulls":15},{"$error":"#DIV/0!"}]
[4,{"$f":"Список!B7","v":0},{"$nulls":15},{"$error":"#DIV/0!"}]
[5,{"$f":"Список!B8","v":0},{"$nulls":15},{"$error":"#DIV/0!"}]
[6,{"$f":"Список!B9","v":0},{"$nulls":15},{"$error":"#DIV/0!"}]
[7,{"$f":"Список!B10","v":0},{"$nulls":15},{"$error":"#DIV/0!"}]
[8,{"$f":"Список!B11","v":0},{"$nulls":15},{"$error":"#DIV/0!"}]
[9,{"$f":"Список!B12","v":0},{"$nulls":15},{"$error":"#DIV/0!"}]
[10,{"$f":"Список!B13","v":0},{"$nulls":15},{"$error":"#DIV/0!"}]
[11,{"$f":"Список!B14","v":0},{"$nulls":15},{"$error":"#DIV/0!"}]
[12,{"$f":"Список!B15","v":0},{"$nulls":15},{"$error":"#DIV/0!"}]
[13,{"$f":"Список!B16","v":0},{"$nulls":15},{"$error":"#DIV/0!"}]
[14,{"$f":"Список!B17","v":0},{"$nulls":15},{"$error":"#DIV/0!"}]
[15,{"$f":"Список!B18","v":0},{"$nulls":15},{"$error":"#DIV/0!"}]
[16,{"$f":"Список!B19","v":0},{"$nulls":15},{"$error":"#DIV/0!"}]
[17,{"$f":"Список!B20","v":0},{"$nulls":15},{"$error":"#DIV/0!"}]
[18,{"$f":"Список!B21","v":0},{"$nulls":15},{"$error":"#DIV/0!"}]
[19,{"$f":"Список!B22","v":0},{"$nulls":15},{"$error":"#DIV/0!"}]
[20,{"$f":"Список!B23","v":0},{"$nulls":15},{"$error":"#DIV/0!"}]
[21,{"$f":"Список!B24","v":0},{"$nulls":15},{"$error":"#DIV/0!"}]
[22,{"$f":"Список!B25","v":0},{"$nulls":15},{"$error":"#DIV/0!"}]
[23,{"$f":"Список!B26","v":0},{"$nulls":15},{"$error":"#DIV/0!"}]
[24,{"$f":"Список!B27","v":0},{"$nulls":15},{"$error":"#DIV/0!"}]
[25,{"$f":"Список!B28","v":0},{"$nulls":15},{"$error":"#DIV/0!"}]
[26,{"$f":"Список!B29","v":0},{"$nulls":15},{"$error":"#DIV/0!"}]
[27,{"$f":"Список!B30","v":0},{"$nulls":15},{"$error":"#DIV/0!"}]
[28,{"$f":"Список!B31","v":0},{"$nulls":15},{"$error":"#DIV/0!"}]
[29,{"$f":"Список!B32","v":0},{"$nulls":15},{"$error":"#DIV/0!"}]
[30,{"$f":"Список!B33","v":0},{"$nulls":15},{"$error":"#DIV/0!"}]
[null,"СРЕДНИЙ ПОКАЗАТЕЛЬ ПО ГРУППЕ",{"$nulls":15},{"$f":"AVERAGE(R12:R41)","v":{"$error":"#DIV/0!"}}]
[null,"среднее по критерию",null,null,{"$f":"AVERAGE(E12:E41)","v":{"$error":"#DIV/0!"}},{"$f":"AVERAGE(F12:F41)","v":{"$error":"#DIV/0!"}},{"$error":"#DIV/0!"},{"$error":"#DIV/0!"},{"$error":"#DIV/0!"},{"$error":"#DIV/0!"},{"$error":"#DIV/0!"},{"$error":"#DIV/0!"},{"$error":"#DIV/0!"},{"$error":"#DIV/0!"},{"$error":"#DIV/0!"},{"$error":"#DIV/0!"},{"$error":"#DIV/0!"}]
[null,"среднее по разделу",null,null,{"$f":"(E43+F43)/2","v":{"$error":"#DIV/0!"}},null,{"$f":"(G43+H43)/2","v":{"$error":"#DIV/0!"}},null,{"$f":"(I43+J43)/2","v":{"$error":"#DIV/0!"}},null,{"$f":"K43","v":{"$error":"#DIV/0!"}},{"$f":"(L43+M43+N43+O43+P43+Q43)/6","v":{"$error":"#DIV/0!"}}]
[null,"Ф.И.О, должность специалиста(ов)____________________________________________________________________________________________________________________________________________________________________________________________________________________________________"]
[null,"© Автор-составитель Кулекина И.А., СПБ, 2023"]
[]
[null,"рисование",null,null,{"$f":"E44","v":{"$error":"#DIV/0!"}}]
[null,"лепка",null,null,{"$f":"G44","v":{"$error":"#DIV/0!"}}]
[null,"аппликация",null,null,{"$f":"I44","v":{"$error":"#DIV/0!"}}]
[null,"народное ДПИ",null,null,{"$f":"K44","v":{"$error":"#DIV/0!"}}]
[null,"прикладное творчество",null,null,{"$f":"L44","v":{"$error":"#DIV/0!"}}]

{"sheet":"Худ.эст.к 7г ч2. К.г. ","index":34,"n_rows":52,"n_cols":18,"rows_kept":52,"merged":[[0,0,0,1],[0,4,0,6],[0,7,0,9],[1,0,1,3],[2,0,2,3],[3,0,3,1],[3,5,3,6],[3,7,3,8],[4,0,4,1],[4,5,4,6],[4,7,4,8],[5,0,10,0],[5,1,10,1],[5,4,5,16],[5,17,10,17],[6,4,6,16],[7,4,7,16],[8,4,8,5],[8,6,8,7],[8,8,8,9],[8,11,8,16],[9,4,10,4],[9,5,10,5],[9,6,10,6],[9,7,10,7],[9,8,10,8],[9,9,10,9],[9,10,10,10],[9,11,10,11],[9,12,10,12],[9,13,10,13],[9,14,10,14],[9,15,10,15],[9,16,10,16],[41,1,41,16],[43,4,43,5],[43,6,43,7],[43,8,43,9],[43,11,43,16],[45,1,45,17]]}
["Финальная диагностика",{"$nulls":3},"ГРУППА ПОДГОТОВИТЕЛЬНОГО К ШКОЛЕ ВОЗРАСТА (6-7 лет)",null,null,"Период проведения - окончание посещения группы подготовительного к школе возраста"]
["Стартовая диагностика"]
["*- не диагностируется в данном возрасте"]
["Сформированность показателя",{"$nulls":3},"«2» показатель сформирован","«1» показатель в стадии формирования",null,"«0» показатель не сформирован"]
["Средний уровень",{"$nulls":3},"1,8 - 2,0 норма-высокий","1,0 - 1,7 норма - средний",null,"0,0 - 0,9 ниже нормы"]
[null,"Ф.И. ребенка",null,null,"ОБРАЗОВАТЕЛЬНАЯ ОБЛАСТЬ «ХУДОЖЕСТВЕННО-ЭСТЕТИЧЕСКОЕ РАЗВИТИЕ»",{"$nulls":12},"СРЕДНИЙ ПОКАЗАТЕЛЬ ПО РЕБЕНКУ"]
[{"$nulls":4},"Показатели возможных достижений (возрастные характеристики) к 7 годам"]
[{"$nulls":4},"Изобразительная деятельность"]
[{"$nulls":4},"Рисование ",null,"Лепка ",null,"Аппликация ",null,"Народное ДПИ","Прикладное творчество"]
[{"$nulls":4},"Ребенок может изобразить предметы по памяти и с натуры, передает их средствами рисунка (форма, пропорции, расположение)","Ребенок способен передавать в рисунке сюжет, строить композицию","Ребенок свободно использует приемы лепки, освоенные ранее (налеп, углубленный рельеф), применяет стеку","Ребенок умеет передавать пропорции, соотношение по величине, выразительность поз, движений, деталей","Ребенок умеет составлять узоры и декоративные композиции из геометрических и растительных элементов на листах бумаги разной формы","Ребенок может выполнить вырезание (симметричное из бумаги, сложенной вдвое; несколько предметов из частей бумаги, сложенной гармошкой)","Ребенок умеет создавать узоры по мотивам народных росписей","Ребенок может сложить бумагу в разных направлениях","Ребенок может сделать разметку с помощью шаблона","Ребенок может выполнить работу по образцу","Ребенок может создать объемную игрушку в технике «оригами»","Ребенок может создать объемную поделку из природного материала","Ребенок может вдеть нитку в иголку, завязать узелок, пришить пуговицу, петельку, выполнить шов «вперед иголка»"]
[]
[1,{"$f":"Список!B4","v":0},{"$nulls":15},{"$f":"AVERAGE(F12:Q12)","v":{"$error":"#DIV/0!"}}]
[2,{"$f":"Список!B5","v":0},{"$nulls":15},{"$error":"#DIV/0!"}]
[3,{"$f":"Список!B6","v":0},{"$nulls":15},{"$error":"#DIV/0!"}]
[4,{"$f":"Список!B7","v":0},{"$nulls":15},{"$error":"#DIV/0!"}]
[5,{"$f":"Список!B8","v":0},{"$nulls":15},{"$error":"#DIV/0!"}]
[6,{"$f":"Список!B9","v":0},{"$nulls":15},{"$error":"#DIV/0!"}]
[7,{"$f":"Список!B10","v":0},{"$nulls":15},{"$error":"#DIV/0!"}]
[8,{"$f":"Список!B11","v":0},{"$nulls":15},{"$error":"#DIV/0!"}]
[9,{"$f":"Список!B12","v":0},{"$nulls":15},{"$error":"#DIV/0!"}]
[10,{"$f":"Список!B13","v":0},{"$nulls":15},{"$error":"#DIV/0!"}]
[11,{"$f":"Список!B14","v":0},{"$nulls":15},{"$error":"#DIV/0!"}]
[12,{"$f":"Список!B15","v":0},{"$nulls":15},{"$error":"#DIV/0!"}]
[13,{"$f":"Список!B16","v":0},{"$nulls":15},{"$error":"#DIV/0!"}]
[14,{"$f":"Список!B17","v":0},{"$nulls":15},{"$error":"#DIV/0!"}]
[15,{"$f":"Список!B18","v":0},{"$nulls":15},{"$error":"#DIV/0!"}]
[16,{"$f":"Список!B19","v":0},{"$nulls":15},{"$error":"#DIV/0!"}]
[17,{"$f":"Список!B20","v":0},{"$nulls":15},{"$error":"#DIV/0!"}]
[18,{"$f":"Список!B21","v":0},{"$nulls":15},{"$error":"#DIV/0!"}]
[19,{"$f":"Список!B22","v":0},{"$nulls":15},{"$error":"#DIV/0!"}]
[20,{"$f":"Список!B23","v":0},{"$nulls":15},{"$error":"#DIV/0!"}]
[21,{"$f":"Список!B24","v":0},{"$nulls":15},{"$error":"#DIV/0!"}]
[22,{"$f":"Список!B25","v":0},{"$nulls":15},{"$error":"#DIV/0!"}]
[23,{"$f":"Список!B26","v":0},{"$nulls":15},{"$error":"#DIV/0!"}]
[24,{"$f":"Список!B27","v":0},{"$nulls":15},{"$error":"#DIV/0!"}]
[25,{"$f":"Список!B28","v":0},{"$nulls":15},{"$error":"#DIV/0!"}]
[26,{"$f":"Список!B29","v":0},{"$nulls":15},{"$error":"#DIV/0!"}]
[27,{"$f":"Список!B30","v":0},{"$nulls":15},{"$error":"#DIV/0!"}]
[28,{"$f":"Список!B31","v":0},{"$nulls":15},{"$error":"#DIV/0!"}]
[29,{"$f":"Список!B32","v":0},{"$nulls":15},{"$error":"#DIV/0!"}]
[30,{"$f":"Список!B33","v":0},{"$nulls":15},{"$error":"#DIV/0!"}]
[null,"СРЕДНИЙ ПОКАЗАТЕЛЬ ПО ГРУППЕ",{"$nulls":15},{"$f":"AVERAGE(R12:R41)","v":{"$error":"#DIV/0!"}}]
[null,"среднее по критерию",null,null,{"$f":"AVERAGE(E12:E41)","v":{"$error":"#DIV/0!"}},{"$f":"AVERAGE(F12:F41)","v":{"$error":"#DIV/0!"}},{"$error":"#DIV/0!"},{"$error":"#DIV/0!"},{"$error":"#DIV/0!"},{"$error":"#DIV/0!"},{"$error":"#DIV/0!"},{"$error":"#DIV/0!"},{"$error":"#DIV/0!"},{"$error":"#DIV/0!"},{"$error":"#DIV/0!"},{"$error":"#DIV/0!"},{"$error":"#DIV/0!"}]
[null,"среднее по разделу",null,null,{"$f":"(E43+F43)/2","v":{"$error":"#DIV/0!"}},null,{"$f":"(G43+H43)/2","v":{"$error":"#DIV/0!"}},null,{"$f":"(I43+J43)/2","v":{"$error":"#DIV/0!"}},null,{"$f":"K43","v":{"$error":"#DIV/0!"}},{"$f":"(L43+M43+N43+O43+P43+Q43)/6","v":{"$error":"#DIV/0!"}}]
[null,"Ф.И.О, должность специалиста(ов)____________________________________________________________________________________________________________________________________________________________________________________________________________________________________"]
[null,"© Автор-составитель Кулекина И.А., СПБ, 2023"]
[]
[null,"рисование",null,null,{"$f":"E44","v":{"$error":"#DIV/0!"}}]
[null,"лепка",null,null,{"$f":"G44","v":{"$error":"#DIV/0!"}}]
[null,"аппликация",null,null,{"$f":"I44","v":{"$error":"#DIV/0!"}}]
[null,"народное ДПИ",null,null,{"$f":"K44","v":{"$error":"#DIV/0!"}}]
[null,"прикладное творчество",null,null,{"$f":"L44","v":{"$error":"#DIV/0!"}}]

{"sheet":"Худ.эст.к 7г ч3. Н.г.","index":35,"n_rows":50,"n_cols":13,"rows_kept":50,"merged":[[0,0,0,1],[0,4,0,6],[0,7,0,10],[1,0,1,3],[1,7,1,11],[2,0,2,3],[3,0,3,1],[3,4,3,5],[3,6,3,8],[3,9,3,10],[4,0,4,1],[4,4,4,5],[4,6,4,8],[4,9,4,10],[5,0,10,0],[5,1,10,1],[5,4,5,11],[5,12,10,12],[6,4,6,11],[7,4,8,9],[7,10,8,11],[9,4,10,4],[9,5,10,5],[9,6,10,6],[9,7,10,7],[9,8,10,8],[9,9,10,9],[9,10,10,10],[9,11,10,11],[41,1,41,11],[43,4,43,9],[43,10,43,11],[45,1,45,12]]}
["Финальная диагностика",{"$nulls":3},"ГРУППА ПОДГОТОВИТЕЛЬНОГО К ШКОЛЕ ВОЗРАСТА (6-7 лет)",null,null,"Период проведения - окончание посещения группы подготовительного к школе возраста"]
["Стартовая диагностика"]
["*- не диагностируется в данном возрасте"]
["Сформированность показателя",{"$nulls":3},"«2» показатель сформирован",null,"«1» показатель в стадии формирования",null,null,"«0» показатель не сформирован"]
["Средний уровень",{"$nulls":3},"1,8 - 2,0 норма-высокий",null,"1,0 - 1,7 норма - средний",null,null,"0,0 - 0,9 ниже нормы"]
[null,"Ф.И. ребенка",null,null,"ОБРАЗОВАТЕЛЬНАЯ ОБЛАСТЬ «ХУДОЖЕСТВЕННО-ЭСТЕТИЧЕСКОЕ РАЗВИТИЕ»",{"$nulls":7},"СРЕДНИЙ ПОКАЗАТЕЛЬ ПО РЕБЕНКУ"]
[{"$nulls":4},"Показатели возможных достижений (возрастные характеристики) к 7 годам"]
[{"$nulls":4},"Приобщение к искусству",{"$nulls":5},"Конструктивная деятельность"]
[]
[{"$nulls":4},"Ребенок умеет выделять, называть, группировать произведения по видам искусства: литература, музыка, изобразительное искусство, архитектура, театр, цирк","Ребенок имеет представление о видах изобразительного искусства: графика, декоративно-прикладное искусство, живопись, скульптура, архитектура, фотоискусство","Ребенок имеет представление о жанрах изобразительного искусства: натюрморт, пейзаж, портрет","Ребенок имеет представление о народном искусстве, фольклоре, музыке и художественных промыслах","Ребенок имеет представление о творческих профессиях: художник, композитор, музыкант, актер, артист балета","Ребенок имеет представление о культурно-досуговых местах: театр, музей, библиотека, выставка, кинотеатр, цирк и др.","Ребенок может провести анализ постройки (выделить основные части и характерные детали конструкций)","Ребенок может выполнить постройку по инструкции"]
[]
[1,{"$f":"Список!B4","v":0},{"$nulls":10},{"$f":"AVERAGE(E12:L12)","v":{"$error":"#DIV/0!"}}]
[2,{"$f":"Список!B5","v":0},{"$nulls":10},{"$error":"#DIV/0!"}]
[3,{"$f":"Список!B6","v":0},{"$nulls":10},{"$error":"#DIV/0!"}]
[4,{"$f":"Список!B7","v":0},{"$nulls":10},{"$error":"#DIV/0!"}]
[5,{"$f":"Список!B8","v":0},{"$nulls":10},{"$error":"#DIV/0!"}]
[6,{"$f":"Список!B9","v":0},{"$nulls":10},{"$error":"#DIV/0!"}]
[7,{"$f":"Список!B10","v":0},{"$nulls":10},{"$error":"#DIV/0!"}]
[8,{"$f":"Список!B11","v":0},{"$nulls":10},{"$error":"#DIV/0!"}]
[9,{"$f":"Список!B12","v":0},{"$nulls":10},{"$error":"#DIV/0!"}]
[10,{"$f":"Список!B13","v":0},{"$nulls":10},{"$error":"#DIV/0!"}]
[11,{"$f":"Список!B14","v":0},{"$nulls":10},{"$error":"#DIV/0!"}]
[12,{"$f":"Список!B15","v":0},{"$nulls":10},{"$error":"#DIV/0!"}]
[13,{"$f":"Список!B16","v":0},{"$nulls":10},{"$error":"#DIV/0!"}]
[14,{"$f":"Список!B17","v":0},{"$nulls":10},{"$error":"#DIV/0!"}]
[15,{"$f":"Список!B18","v":0},{"$nulls":10},{"$error":"#DIV/0!"}]
[16,{"$f":"Список!B19","v":0},{"$nulls":10},{"$error":"#DIV/0!"}]
[17,{"$f":"Список!B20","v":0},{"$nulls":10},{"$error":"#DIV/0!"}]
[18,{"$f":"Список!B21","v":0},{"$nulls":10},{"$error":"#DIV/0!"}]
[19,{"$f":"Список!B22","v":0},{"$nulls":10},{"$error":"#DIV/0!"}]
[20,{"$f":"Список!B23","v":0},{"$nulls":10},{"$error":"#DIV/0!"}]
[21,{"$f":"Список!B24","v":0},{"$nulls":10},{"$error":"#DIV/0!"}]
[22,{"$f":"Список!B25","v":0},{"$nulls":10},{"$error":"#DIV/0!"}]
[23,{"$f":"Список!B26","v":0},{"$nulls":10},{"$error":"#DIV/0!"}]
[24,{"$f":"Список!B27","v":0},{"$nulls":10},{"$error":"#DIV/0!"}]
[25,{"$f":"Список!B28","v":0},{"$nulls":10},{"$error":"#DIV/0!"}]
[26,{"$f":"Список!B29","v":0},{"$nulls":10},{"$error":"#DIV/0!"}]
[27,{"$f":"Список!B30","v":0},{"$nulls":10},{"$error":"#DIV/0!"}]
[28,{"$f":"Список!B31","v":0},{"$nulls":10},{"$error":"#DIV/0!"}]
[29,{"$f":"Список!B32","v":0},{"$nulls":10},{"$error":"#DIV/0!"}]
[30,{"$f":"Список!B33","v":0},{"$nulls":10},{"$error":"#DIV/0!"}]
[null,"СРЕДНИЙ ПОКАЗАТЕЛЬ ПО ГРУППЕ",{"$nulls":10},{"$f":"AVERAGE(M12:M41)","v":{"$error":"#DIV/0!"}}]
[null,"среднее по критерию",null,null,{"$f":"AVERAGE(E12:E41)","v":{"$error":"#DIV/0!"}},{"$f":"AVERAGE(F12:F41)","v":{"$error":"#DIV/0!"}},{"$error":"#DIV/0!"},{"$error":"#DIV/0!"},{"$error":"#DIV/0!"},{"$error":"#DIV/0!"},{"$error":"#DIV/0!"},{"$error":"#DIV/0!"}]
[null,"среднее по разделу",null,null,{"$f":"(E43+F43+G43+H43+I43+J43)/6","v":{"$error":"#DIV/0!"}},{"$nulls":5},{"$f":"(K43+L43)/2","v":{"$error":"#DIV/0!"}}]
[null,"Ф.И.О, должность специалиста(ов)____________________________________________________________________________________________________________________________________________________________________________________________________________________________________"]
[null,"© Автор-составитель Кулекина И.А., СПБ, 2023"]
[]
[]
[null,"приобщение к искусству",null,null,{"$f":"E44","v":{"$error":"#DIV/0!"}}]
[null,"конструктивная деятельность",null,null,{"$f":"K44","v":{"$error":"#DIV/0!"}}]

{"sheet":"Худ.эст.к 7г ч3. К.г. ","index":36,"n_rows":50,"n_cols":13,"rows_kept":50,"merged":[[0,0,0,1],[0,4,0,6],[0,7,0,10],[1,0,1,3],[1,7,1,11],[2,0,2,3],[3,0,3,1],[3,4,3,5],[3,6,3,8],[3,9,3,10],[4,0,4,1],[4,4,4,5],[4,6,4,8],[4,9,4,10],[5,0,10,0],[5,1,10,1],[5,4,5,11],[5,12,10,12],[6,4,6,11],[7,4,8,9],[7,10,8,11],[9,4,10,4],[9,5,10,5],[9,6,10,6],[9,7,10,7],[9,8,10,8],[9,9,10,9],[9,10,10,10],[9,11,10,11],[41,1,41,11],[43,4,43,9],[43,10,43,11],[45,1,45,12]]}
["Финальная диагностика",{"$nulls":3},"ГРУППА ПОДГОТОВИТЕЛЬНОГО К ШКОЛЕ ВОЗРАСТА (6-7 лет)",null,null,"Период проведения - окончание посещения группы подготовительного к школе возраста"]
["Стартовая диагностика"]
["*- не диагностируется в данном возрасте"]
["Сформированность показателя",{"$nulls":3},"«2» показатель сформирован",null,"«1» показатель в стадии формирования",null,null,"«0» показатель не сформирован"]
["Средний уровень",{"$nulls":3},"1,8 - 2,0 норма-высокий",null,"1,0 - 1,7 норма - средний",null,null,"0,0 - 0,9 ниже нормы"]
[null,"Ф.И. ребенка",null,null,"ОБРАЗОВАТЕЛЬНАЯ ОБЛАСТЬ «ХУДОЖЕСТВЕННО-ЭСТЕТИЧЕСКОЕ РАЗВИТИЕ»",{"$nulls":7},"СРЕДНИЙ ПОКАЗАТЕЛЬ ПО РЕБЕНКУ"]
[{"$nulls":4},"Показатели возможных достижений (возрастные характеристики) к 7 годам"]
[{"$nulls":4},"Приобщение к искусству",{"$nulls":5},"Конструктивная деятельность"]
[]
[{"$nulls":4},"Ребенок умеет выделять, называть, группировать произведения по видам искусства: литература, музыка, изобразительное искусство, архитектура, театр, цирк","Ребенок имеет представление о видах изобразительного искусства: графика, декоративно-прикладное искусство, живопись, скульптура, архитектура, фотоискусство","Ребенок имеет представление о жанрах изобразительного искусства: натюрморт, пейзаж, портрет","Ребенок имеет представление о народном искусстве, фольклоре, музыке и художественных промыслах","Ребенок имеет представление о творческих профессиях: художник, композитор, музыкант, актер, артист балета","Ребенок имеет представление о культурно-досуговых местах: театр, музей, библиотека, выставка, кинотеатр, цирк и др.","Ребенок может провести анализ постройки (выделить основные части и характерные детали конструкций)","Ребенок может выполнить постройку по инструкции"]
[]
[1,{"$f":"Список!B4","v":0},{"$nulls":10},{"$f":"AVERAGE(E12:L12)","v":{"$error":"#DIV/0!"}}]
[2,{"$f":"Список!B5","v":0},{"$nulls":10},{"$error":"#DIV/0!"}]
[3,{"$f":"Список!B6","v":0},{"$nulls":10},{"$error":"#DIV/0!"}]
[4,{"$f":"Список!B7","v":0},{"$nulls":10},{"$error":"#DIV/0!"}]
[5,{"$f":"Список!B8","v":0},{"$nulls":10},{"$error":"#DIV/0!"}]
[6,{"$f":"Список!B9","v":0},{"$nulls":10},{"$error":"#DIV/0!"}]
[7,{"$f":"Список!B10","v":0},{"$nulls":10},{"$error":"#DIV/0!"}]
[8,{"$f":"Список!B11","v":0},{"$nulls":10},{"$error":"#DIV/0!"}]
[9,{"$f":"Список!B12","v":0},{"$nulls":10},{"$error":"#DIV/0!"}]
[10,{"$f":"Список!B13","v":0},{"$nulls":10},{"$error":"#DIV/0!"}]
[11,{"$f":"Список!B14","v":0},{"$nulls":10},{"$error":"#DIV/0!"}]
[12,{"$f":"Список!B15","v":0},{"$nulls":10},{"$error":"#DIV/0!"}]
[13,{"$f":"Список!B16","v":0},{"$nulls":10},{"$error":"#DIV/0!"}]
[14,{"$f":"Список!B17","v":0},{"$nulls":10},{"$error":"#DIV/0!"}]
[15,{"$f":"Список!B18","v":0},{"$nulls":10},{"$error":"#DIV/0!"}]
[16,{"$f":"Список!B19","v":0},{"$nulls":10},{"$error":"#DIV/0!"}]
[17,{"$f":"Список!B20","v":0},{"$nulls":10},{"$error":"#DIV/0!"}]
[18,{"$f":"Список!B21","v":0},{"$nulls":10},{"$error":"#DIV/0!"}]
[19,{"$f":"Список!B22","v":0},{"$nulls":10},{"$error":"#DIV/0!"}]
[20,{"$f":"Список!B23","v":0},{"$nulls":10},{"$error":"#DIV/0!"}]
[21,{"$f":"Список!B24","v":0},{"$nulls":10},{"$error":"#DIV/0!"}]
[22,{"$f":"Список!B25","v":0},{"$nulls":10},{"$error":"#DIV/0!"}]
[23,{"$f":"Список!B26","v":0},{"$nulls":10},{"$error":"#DIV/0!"}]
[24,{"$f":"Список!B27","v":0},{"$nulls":10},{"$error":"#DIV/0!"}]
[25,{"$f":"Список!B28","v":0},{"$nulls":10},{"$error":"#DIV/0!"}]
[26,{"$f":"Список!B29","v":0},{"$nulls":10},{"$error":"#DIV/0!"}]
[27,{"$f":"Список!B30","v":0},{"$nulls":10},{"$error":"#DIV/0!"}]
[28,{"$f":"Список!B31","v":0},{"$nulls":10},{"$error":"#DIV/0!"}]
[29,{"$f":"Список!B32","v":0},{"$nulls":10},{"$error":"#DIV/0!"}]
[30,{"$f":"Список!B33","v":0},{"$nulls":10},{"$error":"#DIV/0!"}]
[null,"СРЕДНИЙ ПОКАЗАТЕЛЬ ПО ГРУППЕ",{"$nulls":10},{"$f":"AVERAGE(M12:M41)","v":{"$error":"#DIV/0!"}}]
[null,"среднее по критерию",null,null,{"$f":"AVERAGE(E12:E41)","v":{"$error":"#DIV/0!"}},{"$f":"AVERAGE(F12:F41)","v":{"$error":"#DIV/0!"}},{"$error":"#DIV/0!"},{"$error":"#DIV/0!"},{"$error":"#DIV/0!"},{"$error":"#DIV/0!"},{"$error":"#DIV/0!"},{"$error":"#DIV/0!"}]
[null,"среднее по разделу",null,null,{"$f":"(E43+F43+G43+H43+I43+J43)/6","v":{"$error":"#DIV/0!"}},{"$nulls":5},{"$f":"(K43+L43)/2","v":{"$error":"#DIV/0!"}}]
[null,"Ф.И.О, должность специалиста(ов)____________________________________________________________________________________________________________________________________________________________________________________________________________________________________"]
[null,"© Автор-составитель Кулекина И.А., СПБ, 2023"]
[]
[]
[null,"приобщение к искусству",null,null,{"$f":"E44","v":{"$error":"#DIV/0!"}}]
[null,"конструктивная деятельность",null,null,{"$f":"K44","v":{"$error":"#DIV/0!"}}]

{"sheet":"Динамика Худ-эстет. разв.","index":37,"n_rows":6,"n_cols":17,"rows_kept":6,"merged":[[0,0,0,16]]}
["Обобщение результатов педагогической диагностики по ОО \"Художественно-эстетическое развитие\" Подготовительная группа"]
[]
[]
[null,"слушание","пение","музыкально-ритмические движения","песенное творчество","игра на музыкальных инструментах","театрализованная деятельность","танцевально-игровое творчество","У ребенка развит музыкальный вкус, музыкальная память","рисование","лепка","аппликация","народное ДПИ","прикладное творчество","приобщение к искусству","конструктивная деятельность","среднее по группе"]
["начало года",{"$f":"'Худ.эст.к 7г ч1. Н.г.'!E49","v":{"$error":"#DIV/0!"}},{"$f":"'Худ.эст.к 7г ч1. Н.г.'!E50","v":{"$error":"#DIV/0!"}},{"$f":"'Худ.эст.к 7г ч1. Н.г.'!E51","v":{"$error":"#DIV/0!"}},{"$f":"'Худ.эст.к 7г ч1. Н.г.'!E52","v":{"$error":"#DIV/0!"}},{"$f":"'Худ.эст.к 7г ч1. Н.г.'!E53","v":{"$error":"#DIV/0!"}},{"$f":"'Худ.эст.к 7г ч1. Н.г.'!E54","v":{"$error":"#DIV/0!"}},{"$f":"'Худ.эст.к 7г ч1. Н.г.'!E55","v":{"$error":"#DIV/0!"}},{"$f":"'Худ.эст.к 7г ч1. Н.г.'!E56","v":{"$error":"#DIV/0!"}},{"$f":"'Худ.эст.к 7г ч2. Н.г.'!E48","v":{"$error":"#DIV/0!"}},{"$f":"'Худ.эст.к 7г ч2. Н.г.'!E49","v":{"$error":"#DIV/0!"}},{"$f":"'Худ.эст.к 7г ч2. Н.г.'!E50","v":{"$error":"#DIV/0!"}},{"$f":"'Худ.эст.к 7г ч2. Н.г.'!E51","v":{"$error":"#DIV/0!"}},{"$f":"'Худ.эст.к 7г ч2. Н.г.'!E52","v":{"$error":"#DIV/0!"}},{"$f":"'Худ.эст.к 7г ч3. Н.г.'!E49","v":{"$error":"#DIV/0!"}},{"$f":"'Худ.эст.к 7г ч3. Н.г.'!E50","v":{"$error":"#DIV/0!"}},{"$f":"AVERAGE(B5:P5)","v":{"$error":"#DIV/0!"}}]
["конец года",{"$f":"'Худ.эст.к 7г ч1. К.г. '!E49","v":{"$error":"#DIV/0!"}},{"$f":"'Худ.эст.к 7г ч1. К.г. '!E50","v":{"$error":"#DIV/0!"}},{"$f":"'Худ.эст.к 7г ч1. К.г. '!E51","v":{"$error":"#DIV/0!"}},{"$f":"'Худ.эст.к 7г ч1. К.г. '!E52","v":{"$error":"#DIV/0!"}},{"$f":"'Худ.эст.к 7г ч1. К.г. '!E53","v":{"$error":"#DIV/0!"}},{"$f":"'Худ.эст.к 7г ч1. К.г. '!E54","v":{"$error":"#DIV/0!"}},{"$f":"'Худ.эст.к 7г ч1. К.г. '!E55","v":{"$error":"#DIV/0!"}},{"$f":"'Худ.эст.к 7г ч1. К.г. '!E56","v":{"$error":"#DIV/0!"}},{"$f":"'Худ.эст.к 7г ч2. К.г. '!E48","v":{"$error":"#DIV/0!"}},{"$f":"'Худ.эст.к 7г ч2. К.г. '!E49","v":{"$error":"#DIV/0!"}},{"$f":"'Худ.эст.к 7г ч2. К.г. '!E50","v":{"$error":"#DIV/0!"}},{"$f":"'Худ.эст.к 7г ч2. К.г. '!E51","v":{"$error":"#DIV/0!"}},{"$f":"'Худ.эст.к 7г ч2. К.г. '!E52","v":{"$error":"#DIV/0!"}},{"$f":"'Худ.эст.к 7г ч3. К.г. '!E49","v":{"$error":"#DIV/0!"}},{"$f":"'Худ.эст.к 7г ч3. К.г. '!E50","v":{"$error":"#DIV/0!"}},{"$f":"AVERAGE(B6:P6)","v":{"$error":"#DIV/0!"}}]

{"sheet":"1","index":38,"n_rows":7,"n_cols":165,"rows_kept":7,"merged":[[0,104,0,110],[0,111,0,112],[0,113,0,115],[0,116,0,119],[0,120,0,123],[0,124,0,126],[0,127,0,130],[1,1,2,17],[1,18,1,30],[1,31,1,53],[1,54,1,58],[1,59,1,62],[1,63,1,71],[1,72,1,76],[1,77,1,84],[1,104,1,106],[1,107,1,110],[1,111,4,111],[1,112,4,112],[1,113,4,113],[1,114,4,114],[1,115,4,115],[1,116,1,119],[1,120,2,120],[1,121,2,121],[1,122,2,122],[1,123,2,123],[1,124,4,124],[1,125,4,125],[1,126,4,126],[1,127,1,130],[1,131,1,143],[1,144,1,156],[1,157,2,162],[1,163,2,164],[2,18,2,22],[2,23,2,25],[2,26,2,30],[2,32,2,34],[2,35,2,38],[2,40,2,44],[2,45,2,47],[2,48,2,53],[2,55,2,57],[2,59,4,59],[2,60,4,60],[2,61,4,61],[2,62,4,62],[2,63,2,65],[2,66,2,67],[2,68,2,69],[2,72,3,76],[2,77,2,80],[2,81,2,82],[2,83,4,83],[2,84,4,84],[2,85,2,86],[2,87,2,89],[2,90,2,92],[2,93,2,95],[2,96,2,99],[2,100,2,101],[2,102,2,103],[2,104,4,104],[2,105,4,105],[2,106,4,106],[2,107,4,107],[2,108,4,108],[2,109,4,109],[2,110,4,110],[2,116,4,116],[2,117,4,117],[2,118,4,118],[2,119,4,119],[2,127,4,127],[2,128,4,128],[2,129,4,129],[2,130,4,130],[2,135,2,136],[2,137,2,140],[2,141,2,142],[2,143,4,143],[2,144,2,145],[2,146,2,147],[2,148,2,149],[2,151,2,156],[3,0,4,0],[3,1,3,4],[3,7,3,9],[3,11,3,12],[3,13,3,14],[3,18,4,18],[3,19,4,19],[3,20,4,20],[3,21,4,21],[3,22,4,22],[3,23,4,23],[3,24,4,24],[3,25,4,25],[3,26,4,26],[3,27,4,27],[3,28,4,28],[3,29,4,29],[3,30,4,30],[3,31,4,31],[3,32,4,32],[3,33,4,33],[3,34,4,34],[3,35,4,35],[3,36,4,36],[3,37,4,37],[3,38,4,38],[3,39,4,39],[3,40,4,40],[3,41,4,41],[3,42,4,42],[3,43,4,43],[3,44,4,44],[3,45,4,45],[3,46,4,46],[3,47,4,47],[3,48,4,48],[3,49,4,49],[3,50,4,50],[3,51,4,51],[3,52,4,52],[3,53,4,53],[3,54,3,58],[3,63,4,63],[3,64,4,64],[3,65,4,65],[3,66,4,66],[3,67,4,67],[3,68,4,68],[3,69,4,69],[3,70,4,70],[3,71,4,71],[3,81,4,81],[3,85,3,86],[3,87,3,89],[3,90,3,92],[3,93,3,95],[3,96,3,99],[3,100,3,101],[3,102,4,102],[3,103,4,103],[3,120,4,120],[3,121,4,121],[3,122,4,122],[3,123,4,123],[3,131,4,131],[3,132,4,132],[3,133,4,133],[3,134,4,134],[3,135,4,135],[3,136,4,136],[3,137,4,137],[3,138,4,138],[3,139,4,139],[3,140,4,140],[3,141,4,141],[3,142,4,142],[3,144,4,144],[3,145,4,145],[3,146,4,146],[3,147,4,147],[3,148,4,148],[3,149,4,149],[3,150,4,150],[3,151,4,151],[3,152,4,152],[3,153,4,153],[3,154,4,154],[3,155,4,155],[3,156,4,156],[3,157,4,157],[3,158,4,158],[3,159,4,159],[3,160,4,160],[3,161,4,161],[3,162,4,162],[3,163,4,163],[3,164,4,164]]}
[{"$nulls":104},"Мелкая моторика",{"$nulls":6},"Подвижные игры",null,"Спорт. игры",null,null,"Спортивные упражнения",{"$nulls":3},"КГН",{"$nulls":3},"ЗОЖ",null,null,"Спортивные упражнения"]
[null,"СОЦИАЛЬНО-КОММУНИКАТИВНОЕ РАЗВИТИЕ",{"$nulls":16},"СОЦИАЛЬНО-КОММУНИКАТИВНОЕ РАЗВИТИЕ",{"$nulls":12},"РЕЧЕВОЕ РАЗВИТИЕ",{"$nulls":22},"Сенсорные эталоны ",{"$nulls":4},"Познавательные действия",{"$nulls":3},"Математические представления",{"$nulls":8},"Окружающий мир",{"$nulls":4},"Природа ",{"$nulls":26},"Координация рук и глаз",null,null,"Графические навыки",{"$nulls":3},"Ребенок использует в самостоятельной деятельности разнообразные по содержанию подвижные игры, проявляет элементы творчества в двигательной деятельности","Ребенок может организовать знакомые подвижные игры со сверстниками, сплотить команду, стремится внести свой вклад в результат команды","Ребенок владеет элементами спортивных игр (городки, баскетбол, футбол, хоккей, бадминтон, настольный теннис), может контролировать свои движения и управлять ими","Ребенок имеет представление о разных видах спорта (санный спорт, борьба, теннис, синхронное плавание и др.)","Ребенок имеет представление о спортивных событиях и достижениях отечественных спортсменов","Ребенок умеет кататься",{"$nulls":3},"Навыки соблюдения чистоты тела (правила личной гигиены)","Навыки культуры еды (прием пищи) ","Навыки поддержания порядка (правила поведения в быту) ","Навыки ухода за собой (одевание, раздевание) ","Ребенок соблюдает элементарные правила здорового образа жизни и личной гигиены, следит за своей осанкой, может оценить свое самочувствие","Ребенок регулярно выполняет физические упражнения","Ребенок имеет начальные представления о том, что такое здоровье, понимает, как поддержать, укрепить и сохранить его","Ребенок умеет кататься",{"$nulls":3},"Музыкальная деятельность",{"$nulls":12},"Изобразительная деятельность",{"$nulls":12},"Приобщение к искусству",{"$nulls":5},"Конструктивная деятельность"]
[{"$nulls":18},"Область формирования основ гражданственности и патриотизма",{"$nulls":4},"Сфера трудового воспитания",null,null,"Область формирования основ безопасного поведения",{"$nulls":4},"Общее речевое развитие","Формирование словаря",null,null,"Грамматический строй",{"$nulls":3},"Звуковая культура речи","Связная речь",{"$nulls":4},"ЧХЛ",null,null,"Подготовка к обучению грамоте",{"$nulls":5},"Цвет, оттенки","Форма, геометрические фигуры",null,null,"Величина","Ребенок самостоятельно выбирает способ осуществления разных видов познавательной деятельности","Ребенок интересуется субъективно новым и неизвестным в окружающем мире","Ребенок способен применять в жизненных и игровых ситуациях знания о количестве, форме, величине предметов, пространстве, времени","Ребенок имеет разнообразные познавательные умения: определяет противоречия. Формулирует задачу исследования, использует разные способы и средства проверки предположений (сравнение с эталонами, классификацию, систематизацию и др.)","Количество и счет",null,null,"Ориентировка во времени",null,"Ориентировка в пространстве",null,"Пространственно-количественные связи и отношения","Сравнение","Ребенок имеет представления, может показать на картинке и в естественной среде, может рассказать",{"$nulls":4},"Объекты живой природы",{"$nulls":3},"Объекты неживой природы, природные явления",null,"Ребенок стремится к самостоятельному экспериментированию","Ребенок знает правила поведения в природе, проявляет осознанное, бережное отношение к природе и ее ресурсам","Бросание, катание, ловля, метание",null,"Ползанье, лазанье",null,null,"Ходьба",null,null,"Бег",null,null,"Прыжки",{"$nulls":3},"Равновесие",null,"Строевые упражнения",null,"Ребенок выполняет графический диктант","Ребенок обводит по шаблону, по трафарету","Ребенок чертит линии с помощью линейки","Ребенок обводит по контуру, по точкам","Ребенок выполняет штриховку в различных направлениях","Ребенок закрашивает, не выходя за контур","Ребенок свободно владеет карандашом при рисовании округлых линий, завитков в разном направлении",{"$nulls":5},"на санках","на лыжах","на двухколесном велосипеде","на самокате",{"$nulls":7},"на санках","на лыжах","на двухколесном велосипеде","на самокате","Слушание","Пение ","Музыкально-ритмические движения","Песенное творчество","Игра на детских музыкальных инструментах",null,"Театрализованная деятельность",{"$nulls":3},"Танцевально-игровое творчество",null,"У ребенка развит музыкальный вкус, музыкальная память","Рисование ",null,"Лепка ",null,"Аппликация ",null,"Народное ДПИ","Прикладное творчество"]
[{"$f":"Список!B4","v":0},"Отношение к самому себе",{"$nulls":3},"Отношение к сверстникам","Отношение к взрослым","Эмоции",null,null,"Поведение","Семья",null,"Игровое поведение",{"$nulls":4},"Ребенок имеет представление о признаках и характеристиках государства (территория государства и его границы, столица), атрибутах государственной власти, президенте, столице","Ребенок имеет представление о порядке использования государственной символики","Ребенок имеет представление о волонтерстве","Ребенок имеет представление о государственных праздниках, исторических событиях","Ребенок имеет представление о жизни людей в России, о многообразии стран и народов мира","Ребенок имеет представление об обмене ценностями в процессе производства и потребления товаров и услуг, о денежных отношениях, о реальной стоимости отдельных продуктов питания, игрушек, детских книг","Ребенок имеет представление о об основах финансовой грамоты, основах бережного потребления","Ребенок проявляет инициативность и самостоятельность в процессе самообслуживания, при выполнении трудовых поручений","Ребенок имеет представление о правила безопасного поведения в ситуациях, создающих угрозу жизни и здоровью (погас свет, остался один, потерялся, получил травму)","Ребенок имеет представление о правила безопасного поведения дома, на улице, в природе, в местах большого скопления людей, в магазине, на вокзале, в общественных метах, на праздниках и др.","Ребенок имеет представление о правилах безопасного использования цифровых ресурсов (мобильного телефона, планшета)","Ребенок имеет представление об элементарных правилах оказания первой помощи при первых признаках недомогания, травмах, ушибах","Ребенок проявляет самостоятельность при выполнении правил безопасного поведения","Ребенок владеет речью как средством коммуникации, ведет диалог, владеет коммуникативно-речевыми умениями","Ребенок подбирает точные слова для выражения мысли","Ребенок выполняет операцию классификации – деления освоенных понятий на группы на основе выявленных признаков","Ребенок использует в речи средства языковой выразительности: антонимы, синонимы, многозначные слова, метафоры, олицетворение","Ребенок образует сложные слова посредством слияния основ","Ребенок согласует в речи существительные с числительными, существительные с прилагательными","Ребенок образует по образцу существительные с суффиксами, глаголы с приставками","Ребенок образует в речи сравнительную и превосходную степени имен прилагательных","Ребенок правильно произносит все звуки","Ребенок может пересказать литературное произведение по ролям, близко к тексту, от лица литературного героя","Ребенок может составить описательный рассказ, соблюдая структуру описания","Ребенок может составить повествовательный рассказ по картине, из личного опыта, из коллективного опыта, по набору игрушек, соблюдая структуру повествования","Ребенок может составить рассказ -контаминацию (сочетание описания и повествования, описания и рассуждения)","Ребенок использует в процессе общения объяснительную речь, речь-доказательство, речевое планирование","Ребенок знает и осмысленно воспринимает литературные произведения различных жанров, имеет предпочтения","Ребенок определяет характеры персонажей, мотивы их поведения, оценивает поступки литературных героев","Ребенок проявляет интерес к книгам познавательного характера","Ребенок производит звуковой анализ четырехзвуковых и пятизвуковых слов","Ребенок может интонационно выделить звуки в слове, определить их последовательность, дать им характеристику, составить схему слова, выделить ударный гласный звук в слове","Ребенок может определить количество и последовательность слов в предложении","Ребенок может составить предложение с заданным количеством слов","Ребенок знает названия всех букв","Ребенок читает слоги","Ребенок различает и называет",{"$nulls":8},"Ребенок умеет считать в пределах 10 в прямом и обратном порядке","Ребенок знает состав чисел из двух меньших в пределах первого десятка","Ребенок решает простые арифметические задачи на сложение и вычитание","Ребенок имеет представление о календаре, как системе измерения времени","Ребенок умеет определять время по часам с точностью до четверти часа","Ребенок ориентируется на местности, по схеме, по плану","Ребенок знает способы ориентировки в двухмерном пространстве","Ребенок умеет измерять протяженность, массу и объем с помощью условной мерки; понимает взаимообратные отношения между мерой и результатом измерения","Ребенок сравнивает предметы по 4-6 основаниям с выделением сходства, отличия",{"$nulls":9},"Ребенок имеет представление об использовании человеком свойств неживой природы для хозяйственных нужд (ветряные мельницы, водохранилища, солнечные батареи, ледяные катки)",{"$nulls":3},"Ребенок выполняет различные упражнения с мячом, метание",null,"Ребенок выполняет разные виды ползанья, лазанья ",null,null,"Ребенок выполняет различные виды ходьбы",null,null,"Ребенок выполняет различные виды бега",null,null,"Ребенок выполняет различные виды прыжков",{"$nulls":3},"Ребенок выполняет",null,"Ребенок выполняет разные виды перестроений, построений, передвижений, размыкание и смыкание приставным шагом, повороты","Ребенок может рассчитаться на «первый – второй»",{"$nulls":16},"Ребенок владеет навыками личной гигиены","Ребенок владеет навыками культуры еды","Ребенок владеет навыками поддержания порядка","Ребенок владеет навыками ухода за собой",{"$nulls":7},"У ребенка развит навык восприятия звуков по высоте в пределах квинты-терции","У ребенка развиты певческий голос и вокально-слуховая координация","Ребёнок ритмично и выразительно двигается в соответствие с характером музыки","Ребенок способен самостоятельно придумать мелодию, используя в качестве образца русские народные песни","Ребенок может сыграть простую мелодию на металлофоне, свирели, ударных, и электронных музыкальных инструментах: трещотках, погремушках, треугольниках","Ребенок может исполнить музыкальное произведение в оркестре и в ансамбле","Ребенок проявляет самостоятельность при выборе литературного и музыкального материала для театральной постановки","Ребенок проявляет инициативу при изготовлении атрибутов и декораций к спектаклю","Ребенок имеет представление о средствах погружения в театральные образы (музыка, слова, декорации, грим, костюм и др.)","Ребенок умеет выразительно передавать образы в действии, мимике, пантомимике","Ребенок проявляет активность в доступных видах музыкальной исполнительской деятельности (игра в оркестре, пение, танцевальные движения и др.)","Ребенок помогает придумывать движения, отражающие содержание песни",null,"Ребенок может изобразить предметы по памяти и с натуры, передает их средствами рисунка (форма, пропорции, расположение)","Ребенок способен передавать в рисунке сюжет, строить композицию","Ребенок свободно использует приемы лепки, освоенные ранее (налеп, углубленный рельеф), применяет стеку","Ребенок умеет передавать пропорции, соотношение по величине, выразительность поз, движений, деталей","Ребенок умеет составлять узоры и декоративные композиции из геометрических и растительных элементов на листах бумаги разной формы","Ребенок может выполнить вырезание (симметричное из бумаги, сложенной вдвое; несколько предметов из частей бумаги, сложенной гармошкой)","Ребенок умеет создавать узоры по мотивам народных росписей","Ребенок может сложить бумагу в разных направлениях","Ребенок может сделать разметку с помощью шаблона","Ребенок может выполнить работу по образцу","Ребенок может создать объемную игрушку в технике «оригами»","Ребенок может создать объемную поделку из природного материала","Ребенок может вдеть нитку в иголку, завязать узелок, пришить пуговицу, петельку, выполнить шов «вперед иголка»","Ребенок умеет выделять, называть, группировать произведения по видам искусства: литература, музыка, изобразительное искусство, архитектура, театр, цирк","Ребенок имеет представление о видах изобразительного искусства: графика, декоративно-прикладное искусство, живопись, скульптура, архитектура, фотоискусство","Ребенок имеет представление о жанрах изобразительного искусства: натюрморт, пейзаж, портрет","Ребенок имеет представление о народном искусстве, фольклоре, музыке и художественных промыслах","Ребенок имеет представление о творческих профессиях: художник, композитор, музыкант, актер, артист балета","Ребенок имеет представление о культурно-досуговых местах: театр, музей, библиотека, выставка, кинотеатр, цирк и др.","Ребенок может провести анализ постройки (выделить основные части и характерные детали конструкций)","Ребенок может выполнить постройку по инструкции"]
[null,"Ребенок осознает и признает собственные ошибки, результат поставленных задач, определяет пути развития","Ребенок умеет договариваться и дружить, старается разрешать конфликтные ситуации конструктивными способами","Ребенок способен принимать собственные решения и проявлять инициативу","Ребенок осознанно относится к своему будущему, стремится быть полезным обществу","Ребенок без напоминаний использует в общении формулы словесной вежливости (приветствие, прощание, просьбы, извинения)","Ребенок без напоминаний использует в общении формулы словесной вежливости (приветствие, прощание, просьбы, извинения)","Ребенок понимает чувства и переживания окружающих по невербальным признакам; находит причины и следствия возникновения эмоций, проявляет эмпатию","Ребенок использует социально приемлемые способы проявления эмоций и доступные возрасту регуляции эмоциональных состояний","Ребенок распознает собственные чувства и эмоции, анализирует свои переживания и рассказывает о них","Ребенок самостоятельно соблюдает установленный порядок поведения в группе, регулирует собственную активность","Ребенок имеет представление о необходимости укрепления связи между поколениями, взаимной поддержке детей и взрослых","Ребенок имеет представление о семье, семейных и родственных отношениях (взаимные чувства, правила общения в семье, значимые и памятные события, досуг семьи, семейный бюджет)","Ребенок умеет сотрудничать со сверстниками (побуждает к обсуждению планов, советуется, поддерживает интерес к мнению, инициирует ситуации взаимопомощи, подчеркивает ценность каждого ребенка и его вклад в общее дело, выбирает партнеров по интересам, помогает устанавливать темп совместных действий)","Ребенок владеет разными способами и видами игры, различает условную и реальную ситуации, предлагает и объясняет замысел игры, комбинирует сюжеты на основе реальных, вымышленных ситуаций, выполняет несколько ролей в одной игре, подбирает разные средства для создания игровых образов, согласовывает свои интересы с интересами партнёров по игре","Ребенок имеет представление об изменениях позиции человека с возрастом","Ребенок имеет представление о школе, школьниках, учителях; стремится к школьному обучению, к познанию, освоению чтения, письма; демонстрирует формированные предпосылки к учебной деятельности и элементы готовности к школьному обучению","Ребенок имеет представление о нравственных качествах людей, их проявлении в поступках и взаимоотношениях",{"$nulls":36}," все цвета спектра и ахроматические цвета, оттенки","плоские и объемные геометрические фигуры; умеет выделять структуру геометрических фигур и устанавливать взаимосвязи между ними","Ребенок умеет классифицировать фигуры по внешним структурным признаками (округлые, многоугольники)","Ребенок владеет различными способами видоизменения геометрических фигур (наложение, соединение, разрезание и др.)","Ребенок умеет измерять длину, ширину, высоту с помощью условной мерки",{"$nulls":13}," о родном населенном пункте (название улиц, некоторых архитектурных особенностях, достопримечательностях), об истории, о выдающихся горожанах, традициях городской жизни"," о назначении общественных учреждений"," о разных видах специального транспорта"," о местах труда людей (завод, больница, магазин и др.)"," о местах отдыха людей","Ребенок имеет представление о наиболее ярких представителях животных и растений разных природных зон (пустыня, степь, тайга, тундра и др.), об их образе жизни, приспособлении к среде обитания, изменениях в жизни в разные сезоны года","Ребенок имеет представление о многообразии водных ресурсов (моря, океаны, реки, водопады и др.)","Ребенок имеет представление о многообразии полезных ископаемых (нефть, уголь, серебро, золото, алмазы и др.)","Ребенок имеет представление о жизненных потребностях, этапах роста и развития животных и растений",null,"Ребенок имеет представление о некоторых небесных телах (планеты, кометы, звезды)",null,null,"бросание вверх, о землю, ловля двумя руками, одной рукой, перебрасывание, передача, прокатывание, забрасывание, ведение","в цель из положения стоя, вдаль, в движущеюся цель","ползанье на четвереньках, на животе, на спине","влезание на гимнастическую стенку и спуск; перелезание с пролета на пролет по диагонали","лазанье по веревочной лестнице; выполнение упражнений на канате","обычная, гимнастическим шагом, скрестным шагом, спиной вперед, выпадами, с закрытыми глазами","приставными шагами назад, в приседе, с различными движениями рук","в различных построениях","в колонне по одному, врассыпную, парами, тройками, четверками","в сочетание с прыжками, высоко поднимая колени, захлестывая голени назад, выбрасывая прямые ноги вперед","челночный, наперегонки, из разных исходных положений, со скакалкой, по пересеченной местности, с наименьшим числом шагов, медленный, быстрый","подпрыгивания на двух ногах в чередовании с ходьбой, на месте и с поворот кругом","смещая ноги вправо-влево-вперед-назад","выпрыгивание на предметы; подпрыгивания вверх из глубокого приседа; прыжки на одной ноге","в длину с места/с разбега, в высоту с места/с разбега","стойка на носках, стойка на одной ноге с закрытыми глазами","кружение с закрытыми глазами, остановкой и сохранением заданной позы"]
["начало года",{"$f":"'Соц.ком.к 7г ч1 Н.г.'!E11","v":0},{"$f":"'Соц.ком.к 7г ч1 Н.г.'!F11","v":0},{"$f":"'Соц.ком.к 7г ч1 Н.г.'!G11","v":0},{"$f":"'Соц.ком.к 7г ч1 Н.г.'!H11","v":0},{"$f":"'Соц.ком.к 7г ч1 Н.г.'!I11","v":0},{"$f":"'Соц.ком.к 7г ч1 Н.г.'!J11","v":0},{"$f":"'Соц.ком.к 7г ч1 Н.г.'!K11","v":0},{"$f":"'Соц.ком.к 7г ч1 Н.г.'!L11","v":0},{"$f":"'Соц.ком.к 7г ч1 Н.г.'!M11","v":0},{"$f":"'Соц.ком.к 7г ч1 Н.г.'!N11","v":0},{"$f":"'Соц.ком.к 7г ч2 Н.г.'!E11","v":0},{"$f":"'Соц.ком.к 7г ч2 Н.г.'!F11","v":0},{"$f":"'Соц.ком.к 7г ч2 Н.г.'!G11","v":0},{"$f":"'Соц.ком.к 7г ч2 Н.г.'!H11","v":0},{"$f":"'Соц.ком.к 7г ч2 Н.г.'!I11","v":0},{"$f":"'Соц.ком.к 7г ч2 Н.г.'!J11","v":0},{"$f":"'Соц.ком.к 7г ч2 Н.г.'!K11","v":0},{"$f":"'Соц.ком. к 7г ч3 Н.г.'!E11","v":0},{"$f":"'Соц.ком. к 7г ч3 Н.г.'!F11","v":0},{"$f":"'Соц.ком. к 7г ч3 Н.г.'!G11","v":0},{"$f":"'Соц.ком. к 7г ч3 Н.г.'!H11","v":0},{"$f":"'Соц.ком. к 7г ч3 Н.г.'!I11","v":0},{"$f":"'Соц.ком. к 7г ч3 Н.г.'!J11","v":0},{"$f":"'Соц.ком. к 7г ч3 Н.г.'!K11","v":0},{"$f":"'Соц.ком. к 7г ч3 Н.г.'!L11","v":0},{"$f":"'Соц.ком. к 7г ч4 Н.г.'!E11","v":0},{"$f":"'Соц.ком. к 7г ч4 Н.г.'!F11","v":0},{"$f":"'Соц.ком. к 7г ч4 Н.г.'!G11","v":0},{"$f":"'Соц.ком. к 7г ч4 Н.г.'!H11","v":0},{"$f":"'Соц.ком. к 7г ч4 Н.г.'!I11","v":0},{"$f":"'Реч.разв.к 7г ч1 Н.г.'!E11","v":0},{"$f":"'Реч.разв.к 7г ч1 Н.г.'!F11","v":0},{"$f":"'Реч.разв.к 7г ч1 Н.г.'!G11","v":0},{"$f":"'Реч.разв.к 7г ч1 Н.г.'!H11","v":0},{"$f":"'Реч.разв.к 7г ч1 Н.г.'!I11","v":0},{"$f":"'Реч.разв.к 7г ч1 Н.г.'!J11","v":0},{"$f":"'Реч.разв.к 7г ч1 Н.г.'!K11","v":0},{"$f":"'Реч.разв.к 7г ч1 Н.г.'!L11","v":0},{"$f":"'Реч.разв.к 7г ч2 Н.г.'!E11","v":0},{"$f":"'Реч.разв.к 7г ч2 Н.г.'!F11","v":0},{"$f":"'Реч.разв.к 7г ч2 Н.г.'!G11","v":0},{"$f":"'Реч.разв.к 7г ч2 Н.г.'!H11","v":0},{"$f":"'Реч.разв.к 7г ч2 Н.г.'!I11","v":0},{"$f":"'Реч.разв.к 7г ч2 Н.г.'!J11","v":0},{"$f":"'Реч.разв.к 7г ч2 Н.г.'!K11","v":0},{"$f":"'Реч.разв.к 7г ч2 Н.г.'!L11","v":0},{"$f":"'Реч.разв.к 7г ч2 Н.г.'!M11","v":0},{"$f":"'Реч.разв.к 7г ч3. Н.г.'!E11","v":0},{"$f":"'Реч.разв.к 7г ч3. Н.г.'!F11","v":0},{"$f":"'Реч.разв.к 7г ч3. Н.г.'!G11","v":0},{"$f":"'Реч.разв.к 7г ч3. Н.г.'!H11","v":0},{"$f":"'Реч.разв.к 7г ч3. Н.г.'!I11","v":0},{"$f":"'Реч.разв.к 7г ч3. Н.г.'!J11","v":0},{"$f":"'Позн.разв. к 7г ч1. Н.г.'!E12","v":0},{"$f":"'Позн.разв. к 7г ч1. Н.г.'!F12","v":0},{"$f":"'Позн.разв. к 7г ч1. Н.г.'!G12","v":0},{"$f":"'Позн.разв. к 7г ч1. Н.г.'!H12","v":0},{"$f":"'Позн.разв. к 7г ч1. Н.г.'!I12","v":0},{"$f":"'Позн.разв. к 7г ч1. Н.г.'!J12","v":0},{"$f":"'Позн.разв. к 7г ч1. Н.г.'!K12","v":0},{"$f":"'Позн.разв. к 7г ч1. Н.г.'!L12","v":0},{"$f":"'Позн.разв. к 7г ч1. Н.г.'!M12","v":0},{"$f":"'Позн.разв. к 7г ч2. Н.г.'!E12","v":0},{"$f":"'Позн.разв. к 7г ч2. Н.г.'!F12","v":0},{"$f":"'Позн.разв. к 7г ч2. Н.г.'!G12","v":0},{"$f":"'Позн.разв. к 7г ч2. Н.г.'!H12","v":0},{"$f":"'Позн.разв. к 7г ч2. Н.г.'!I12","v":0},{"$f":"'Позн.разв. к 7г ч2. Н.г.'!J12","v":0},{"$f":"'Позн.разв. к 7г ч2. Н.г.'!K12","v":0},{"$f":"'Позн.разв. к 7г ч2. Н.г.'!L12","v":0},{"$f":"'Позн.разв. к 7г ч2. Н.г.'!M12","v":0},{"$f":"'Позн.разв. к 7г ч3. Н.г.'!E12","v":0},{"$f":"'Позн.разв. к 7г ч3. Н.г.'!F12","v":0},{"$f":"'Позн.разв. к 7г ч3. Н.г.'!G12","v":0},{"$f":"'Позн.разв. к 7г ч3. Н.г.'!H12","v":0},{"$f":"'Позн.разв. к 7г ч3. Н.г.'!I12","v":0},{"$f":"'Позн.разв. к 7г ч3. Н.г.'!J12","v":0},{"$f":"'Позн.разв. к 7г ч3. Н.г.'!K12","v":0},{"$f":"'Позн.разв. к 7г ч3. Н.г.'!L12","v":0},{"$f":"'Позн.разв. к 7г ч3. Н.г.'!M12","v":0},{"$f":"'Позн.разв. к 7г ч3. Н.г.'!N12","v":0},{"$f":"'Позн.разв. к 7г ч3. Н.г.'!O12","v":0},{"$f":"'Позн.разв. к 7г ч3. Н.г.'!P12","v":0},{"$f":"'Позн.разв. к 7г ч3. Н.г.'!Q12","v":0},{"$f":"'Физ.разв. к 7г ч1. Н.г.'!E12","v":0},{"$f":"'Физ.разв. к 7г ч1. Н.г.'!F12","v":0},{"$f":"'Физ.разв. к 7г ч1. Н.г.'!G12","v":0},{"$f":"'Физ.разв. к 7г ч1. Н.г.'!H12","v":0},{"$f":"'Физ.разв. к 7г ч1. Н.г.'!I12","v":0},{"$f":"'Физ.разв. к 7г ч1. Н.г.'!J12","v":0},{"$f":"'Физ.разв. к 7г ч1. Н.г.'!K12","v":0},{"$f":"'Физ.разв. к 7г ч1. Н.г.'!L12","v":0},{"$f":"'Физ.разв. к 7г ч1. Н.г.'!M12","v":0},{"$f":"'Физ.разв. к 7г ч1. Н.г.'!N12","v":0},{"$f":"'Физ.разв. к 7г ч1. Н.г.'!O12","v":0},{"$f":"'Физ.разв. к 7г ч1. Н.г.'!P12","v":0},{"$f":"'Физ.разв. к 7г ч1. Н.г.'!Q12","v":0},{"$f":"'Физ.разв. к 7г ч1. Н.г.'!R12","v":0},{"$f":"'Физ.разв. к 7г ч1. Н.г.'!S12","v":0},{"$f":"'Физ.разв. к 7г ч1. Н.г.'!T12","v":0},{"$f":"'Физ.разв. к 7г ч1. Н.г.'!U12","v":0},{"$f":"'Физ.разв. к 7г ч1. Н.г.'!V12","v":0},{"$f":"'Физ.разв. к 7г ч1. Н.г.'!W12","v":0},{"$f":"'Физ.разв. к 7г ч2. Н.г.'!E13","v":0},{"$f":"'Физ.разв. к 7г ч2. Н.г.'!F13","v":0},{"$f":"'Физ.разв. к 7г ч2. Н.г.'!G13","v":0},{"$f":"'Физ.разв. к 7г ч2. Н.г.'!H13","v":0},{"$f":"'Физ.разв. к 7г ч2. Н.г.'!I13","v":0},{"$f":"'Физ.разв. к 7г ч2. Н.г.'!J13","v":0},{"$f":"'Физ.разв. к 7г ч2. Н.г.'!K13","v":0},{"$f":"'Физ.разв. к 7г ч2. Н.г.'!L13","v":0},{"$f":"'Физ.разв. к 7г ч2. Н.г.'!M13","v":0},{"$f":"'Физ.разв. к 7г ч2. Н.г.'!N13","v":0},{"$f":"'Физ.разв. к 7г ч2. Н.г.'!O13","v":0},{"$f":"'Физ.разв. к 7г ч2. Н.г.'!P13","v":0},{"$f":"'Физ.разв. к 7г ч2. Н.г.'!Q13","v":0},{"$f":"'Физ.разв. к 7г ч2. Н.г.'!R13","v":0},{"$f":"'Физ.разв. к 7г ч2. Н.г.'!S13","v":0},{"$f":"'Физ.разв. к 7г ч2. Н.г.'!T13","v":0},{"$f":"'Физ.разв. к 7г ч3. Н.г.'!E13","v":0},{"$f":"'Физ.разв. к 7г ч3. Н.г.'!F13","v":0},{"$f":"'Физ.разв. к 7г ч3. Н.г.'!G13","v":0},{"$f":"'Физ.разв. к 7г ч3. Н.г.'!H13","v":0},{"$f":"'Физ.разв. к 7г ч3. Н.г.'!I13","v":0},{"$f":"'Физ.разв. к 7г ч3. Н.г.'!J13","v":0},{"$f":"'Физ.разв. к 7г ч3. Н.г.'!K13","v":0},{"$f":"'Физ.разв. к 7г ч3. Н.г.'!L13","v":0},{"$f":"'Физ.разв. к 7г ч3. Н.г.'!M13","v":0},{"$f":"'Физ.разв. к 7г ч3. Н.г.'!N13","v":0},{"$f":"'Физ.разв. к 7г ч3. Н.г.'!O13","v":0},{"$f":"'Худ.эст.к 7г ч1. Н.г.'!E12","v":0},{"$f":"'Худ.эст.к 7г ч1. Н.г.'!F12","v":0},{"$f":"'Худ.эст.к 7г ч1. Н.г.'!G12","v":0},{"$f":"'Худ.эст.к 7г ч1. Н.г.'!H12","v":0},{"$f":"'Худ.эст.к 7г ч1. Н.г.'!I12","v":0},{"$f":"'Худ.эст.к 7г ч1. Н.г.'!J12","v":0},{"$f":"'Худ.эст.к 7г ч1. Н.г.'!K12","v":0},{"$f":"'Худ.эст.к 7г ч1. Н.г.'!L12","v":0},{"$f":"'Худ.эст.к 7г ч1. Н.г.'!M12","v":0},{"$f":"'Худ.эст.к 7г ч1. Н.г.'!N12","v":0},{"$f":"'Худ.эст.к 7г ч1. Н.г.'!O12","v":0},{"$f":"'Худ.эст.к 7г ч1. Н.г.'!P12","v":0},{"$f":"'Худ.эст.к 7г ч1. Н.г.'!Q12","v":0},{"$f":"'Худ.эст.к 7г ч2. Н.г.'!E12","v":0},{"$f":"'Худ.эст.к 7г ч2. Н.г.'!F12","v":0},{"$f":"'Худ.эст.к 7г ч2. Н.г.'!G12","v":0},{"$f":"'Худ.эст.к 7г ч2. Н.г.'!H12","v":0},{"$f":"'Худ.эст.к 7г ч2. Н.г.'!I12","v":0},{"$f":"'Худ.эст.к 7г ч2. Н.г.'!J12","v":0},{"$f":"'Худ.эст.к 7г ч2. Н.г.'!K12","v":0},{"$f":"'Худ.эст.к 7г ч2. Н.г.'!L12","v":0},{"$f":"'Худ.эст.к 7г ч2. Н.г.'!M12","v":0},{"$f":"'Худ.эст.к 7г ч2. Н.г.'!N12","v":0},{"$f":"'Худ.эст.к 7г ч2. Н.г.'!O12","v":0},{"$f":"'Худ.эст.к 7г ч2. Н.г.'!P12","v":0},{"$f":"'Худ.эст.к 7г ч2. Н.г.'!Q12","v":0},{"$f":"'Худ.эст.к 7г ч3. Н.г.'!E12","v":0},{"$f":"'Худ.эст.к 7г ч3. Н.г.'!F12","v":0},{"$f":"'Худ.эст.к 7г ч3. Н.г.'!G12","v":0},{"$f":"'Худ.эст.к 7г ч3. Н.г.'!H12","v":0},{"$f":"'Худ.эст.к 7г ч3. Н.г.'!I12","v":0},{"$f":"'Худ.эст.к 7г ч3. Н.г.'!J12","v":0},{"$f":"'Худ.эст.к 7г ч3. Н.г.'!K12","v":0},{"$f":"'Худ.эст.к 7г ч3. Н.г.'!L12","v":0}]
["конец года",{"$f":"'Соц.ком.к 7г ч1 К.г.'!E11","v":0},{"$f":"'Соц.ком.к 7г ч1 К.г.'!F11","v":0},{"$f":"'Соц.ком.к 7г ч1 К.г.'!G11","v":0},{"$f":"'Соц.ком.к 7г ч1 К.г.'!H11","v":0},{"$f":"'Соц.ком.к 7г ч1 К.г.'!I11","v":0},{"$f":"'Соц.ком.к 7г ч1 К.г.'!J11","v":0},{"$f":"'Соц.ком.к 7г ч1 К.г.'!K11","v":0},{"$f":"'Соц.ком.к 7г ч1 К.г.'!L11","v":0},{"$f":"'Соц.ком.к 7г ч1 К.г.'!M11","v":0},{"$f":"'Соц.ком.к 7г ч1 К.г.'!N11","v":0},{"$f":"'Соц.ком.к 7г ч2 К.г.'!E11","v":0},{"$f":"'Соц.ком.к 7г ч2 К.г.'!F11","v":0},{"$f":"'Соц.ком.к 7г ч2 К.г.'!G11","v":0},{"$f":"'Соц.ком.к 7г ч2 К.г.'!H11","v":0},{"$f":"'Соц.ком.к 7г ч2 К.г.'!I11","v":0},{"$f":"'Соц.ком.к 7г ч2 К.г.'!J11","v":0},{"$f":"'Соц.ком.к 7г ч2 К.г.'!K11","v":0},{"$f":"'Соц.ком. к 7г ч3 К.г.'!E11","v":0},{"$f":"'Соц.ком. к 7г ч3 К.г.'!F11","v":0},{"$f":"'Соц.ком. к 7г ч3 К.г.'!G11","v":0},{"$f":"'Соц.ком. к 7г ч3 К.г.'!H11","v":0},{"$f":"'Соц.ком. к 7г ч3 К.г.'!I11","v":0},{"$f":"'Соц.ком. к 7г ч3 К.г.'!J11","v":0},{"$f":"'Соц.ком. к 7г ч3 К.г.'!K11","v":0},{"$f":"'Соц.ком. к 7г ч3 К.г.'!L11","v":0},{"$f":"'Соц.ком. к 7г ч4 К.г.'!E11","v":0},{"$f":"'Соц.ком. к 7г ч4 К.г.'!F11","v":0},{"$f":"'Соц.ком. к 7г ч4 К.г.'!G11","v":0},{"$f":"'Соц.ком. к 7г ч4 К.г.'!H11","v":0},{"$f":"'Соц.ком. к 7г ч4 К.г.'!I11","v":0},{"$f":"'Реч.разв.к 7г ч1 К.г.'!E11","v":0},{"$f":"'Реч.разв.к 7г ч1 К.г.'!F11","v":0},{"$f":"'Реч.разв.к 7г ч1 К.г.'!G11","v":0},{"$f":"'Реч.разв.к 7г ч1 К.г.'!H11","v":0},{"$f":"'Реч.разв.к 7г ч1 К.г.'!I11","v":0},{"$f":"'Реч.разв.к 7г ч1 К.г.'!J11","v":0},{"$f":"'Реч.разв.к 7г ч1 К.г.'!K11","v":0},{"$f":"'Реч.разв.к 7г ч1 К.г.'!L11","v":0},{"$f":"'Реч.разв.к 7г ч2 К.г. '!E11","v":0},{"$f":"'Реч.разв.к 7г ч2 К.г. '!F11","v":0},{"$f":"'Реч.разв.к 7г ч2 К.г. '!G11","v":0},{"$f":"'Реч.разв.к 7г ч2 К.г. '!H11","v":0},{"$f":"'Реч.разв.к 7г ч2 К.г. '!I11","v":0},{"$f":"'Реч.разв.к 7г ч2 К.г. '!J11","v":0},{"$f":"'Реч.разв.к 7г ч2 К.г. '!K11","v":0},{"$f":"'Реч.разв.к 7г ч2 К.г. '!L11","v":0},{"$f":"'Реч.разв.к 7г ч2 К.г. '!M11","v":0},{"$f":"'Реч.разв.к 7г ч3. К.г. '!E11","v":0},{"$f":"'Реч.разв.к 7г ч3. К.г. '!F11","v":0},{"$f":"'Реч.разв.к 7г ч3. К.г. '!G11","v":0},{"$f":"'Реч.разв.к 7г ч3. К.г. '!H11","v":0},{"$f":"'Реч.разв.к 7г ч3. К.г. '!I11","v":0},{"$f":"'Реч.разв.к 7г ч3. К.г. '!J11","v":0},{"$f":"'Позн.разв. к 7г ч1. К.г. '!E12","v":0},{"$f":"'Позн.разв. к 7г ч1. К.г. '!F12","v":0},{"$f":"'Позн.разв. к 7г ч1. К.г. '!G12","v":0},{"$f":"'Позн.разв. к 7г ч1. К.г. '!H12","v":0},{"$f":"'Позн.разв. к 7г ч1. К.г. '!I12","v":0},{"$f":"'Позн.разв. к 7г ч1. К.г. '!J12","v":0},{"$f":"'Позн.разв. к 7г ч1. К.г. '!K12","v":0},{"$f":"'Позн.разв. к 7г ч1. К.г. '!L12","v":0},{"$f":"'Позн.разв. к 7г ч1. К.г. '!M12","v":0},{"$f":"'Позн.разв. к 7г ч2. К.г.'!E12","v":0},{"$f":"'Позн.разв. к 7г ч2. К.г.'!F12","v":0},{"$f":"'Позн.разв. к 7г ч2. К.г.'!G12","v":0},{"$f":"'Позн.разв. к 7г ч2. К.г.'!H12","v":0},{"$f":"'Позн.разв. к 7г ч2. К.г.'!I12","v":0},{"$f":"'Позн.разв. к 7г ч2. К.г.'!J12","v":0},{"$f":"'Позн.разв. к 7г ч2. К.г.'!K12","v":0},{"$f":"'Позн.разв. к 7г ч2. К.г.'!L12","v":0},{"$f":"'Позн.разв. к 7г ч2. К.г.'!M12","v":0},{"$f":"'Позн.разв. к 7г ч3. К.г. '!E12","v":0},{"$f":"'Позн.разв. к 7г ч3. К.г. '!F12","v":0},{"$f":"'Позн.разв. к 7г ч3. К.г. '!G12","v":0},{"$f":"'Позн.разв. к 7г ч3. К.г. '!H12","v":0},{"$f":"'Позн.разв. к 7г ч3. К.г. '!I12","v":0},{"$f":"'Позн.разв. к 7г ч3. К.г. '!J12","v":0},{"$f":"'Позн.разв. к 7г ч3. К.г. '!K12","v":0},{"$f":"'Позн.разв. к 7г ч3. К.г. '!L12","v":0},{"$f":"'Позн.разв. к 7г ч3. К.г. '!M12","v":0},{"$f":"'Позн.разв. к 7г ч3. К.г. '!N12","v":0},{"$f":"'Позн.разв. к 7г ч3. К.г. '!O12","v":0},{"$f":"'Позн.разв. к 7г ч3. К.г. '!P12","v":0},{"$f":"'Позн.разв. к 7г ч3. К.г. '!Q12","v":0},{"$f":"'Физ.разв. к 7г ч1. К.г. '!E12","v":0},{"$f":"'Физ.разв. к 7г ч1. К.г. '!F12","v":0},{"$f":"'Физ.разв. к 7г ч1. К.г. '!G12","v":0},{"$f":"'Физ.разв. к 7г ч1. К.г. '!H12","v":0},{"$f":"'Физ.разв. к 7г ч1. К.г. '!I12","v":0},{"$f":"'Физ.разв. к 7г ч1. К.г. '!J12","v":0},{"$f":"'Физ.разв. к 7г ч1. К.г. '!K12","v":0},{"$f":"'Физ.разв. к 7г ч1. К.г. '!L12","v":0},{"$f":"'Физ.разв. к 7г ч1. К.г. '!M12","v":0},{"$f":"'Физ.разв. к 7г ч1. К.г. '!N12","v":0},{"$f":"'Физ.разв. к 7г ч1. К.г. '!O12","v":0},{"$f":"'Физ.разв. к 7г ч1. К.г. '!P12","v":0},{"$f":"'Физ.разв. к 7г ч1. К.г. '!Q12","v":0},{"$f":"'Физ.разв. к 7г ч1. К.г. '!R12","v":0},{"$f":"'Физ.разв. к 7г ч1. К.г. '!S12","v":0},{"$f":"'Физ.разв. к 7г ч1. К.г. '!T12","v":0},{"$f":"'Физ.разв. к 7г ч1. К.г. '!U12","v":0},{"$f":"'Физ.разв. к 7г ч1. К.г. '!V12","v":0},{"$f":"'Физ.разв. к 7г ч1. К.г. '!W12","v":0},{"$f":"'Физ.разв. к 7г ч2. К.г.'!E13","v":0},{"$f":"'Физ.разв. к 7г ч2. К.г.'!F13","v":0},{"$f":"'Физ.разв. к 7г ч2. К.г.'!G13","v":0},{"$f":"'Физ.разв. к 7г ч2. К.г.'!H13","v":0},{"$f":"'Физ.разв. к 7г ч2. К.г.'!I13","v":0},{"$f":"'Физ.разв. к 7г ч2. К.г.'!J13","v":0},{"$f":"'Физ.разв. к 7г ч2. К.г.'!K13","v":0},{"$f":"'Физ.разв. к 7г ч2. К.г.'!L13","v":0},{"$f":"'Физ.разв. к 7г ч2. К.г.'!M13","v":0},{"$f":"'Физ.разв. к 7г ч2. К.г.'!N13","v":0},{"$f":"'Физ.разв. к 7г ч2. К.г.'!O13","v":0},{"$f":"'Физ.разв. к 7г ч2. К.г.'!P13","v":0},{"$f":"'Физ.разв. к 7г ч2. К.г.'!Q13","v":0},{"$f":"'Физ.разв. к 7г ч2. К.г.'!R13","v":0},{"$f":"'Физ.разв. к 7г ч2. К.г.'!S13","v":0},{"$f":"'Физ.разв. к 7г ч2. К.г.'!T13","v":0},{"$f":"'Физ.разв. к 7г ч3. К.г. '!E13","v":0},{"$f":"'Физ.разв. к 7г ч3. К.г. '!F13","v":0},{"$f":"'Физ.разв. к 7г ч3. К.г. '!G13","v":0},{"$f":"'Физ.разв. к 7г ч3. К.г. '!H13","v":0},{"$f":"'Физ.разв. к 7г ч3. К.г. '!I13","v":0},{"$f":"'Физ.разв. к 7г ч3. К.г. '!J13","v":0},{"$f":"'Физ.разв. к 7г ч3. К.г. '!K13","v":0},{"$f":"'Физ.разв. к 7г ч3. К.г. '!L13","v":0},{"$f":"'Физ.разв. к 7г ч3. К.г. '!M13","v":0},{"$f":"'Физ.разв. к 7г ч3. К.г. '!N13","v":0},{"$f":"'Физ.разв. к 7г ч3. К.г. '!O13","v":0},{"$f":"'Худ.эст.к 7г ч1. К.г. '!E12","v":0},{"$f":"'Худ.эст.к 7г ч1. К.г. '!F12","v":0},{"$f":"'Худ.эст.к 7г ч1. К.г. '!G12","v":0},{"$f":"'Худ.эст.к 7г ч1. К.г. '!H12","v":0},{"$f":"'Худ.эст.к 7г ч1. К.г. '!I12","v":0},{"$f":"'Худ.эст.к 7г ч1. К.г. '!J12","v":0},{"$f":"'Худ.эст.к 7г ч1. К.г. '!K12","v":0},{"$f":"'Худ.эст.к 7г ч1. К.г. '!L12","v":0},{"$f":"'Худ.эст.к 7г ч1. К.г. '!M12","v":0},{"$f":"'Худ.эст.к 7г ч1. К.г. '!N12","v":0},{"$f":"'Худ.эст.к 7г ч1. К.г. '!O12","v":0},{"$f":"'Худ.эст.к 7г ч1. К.г. '!P12","v":0},{"$f":"'Худ.эст.к 7г ч1. К.г. '!Q12","v":0},{"$f":"'Худ.эст.к 7г ч2. К.г. '!E12","v":0},{"$f":"'Худ.эст.к 7г ч2. К.г. '!F12","v":0},{"$f":"'Худ.эст.к 7г ч2. К.г. '!G12","v":0},{"$f":"'Худ.эст.к 7г ч2. К.г. '!H12","v":0},{"$f":"'Худ.эст.к 7г ч2. К.г. '!I12","v":0},{"$f":"'Худ.эст.к 7г ч2. К.г. '!J12","v":0},{"$f":"'Худ.эст.к 7г ч2. К.г. '!K12","v":0},{"$f":"'Худ.эст.к 7г ч2. К.г. '!L12","v":0},{"$f":"'Худ.эст.к 7г ч2. К.г. '!M12","v":0},{"$f":"'Худ.эст.к 7г ч2. К.г. '!N12","v":0},{"$f":"'Худ.эст.к 7г ч2. К.г. '!O12","v":0},{"$f":"'Худ.эст.к 7г ч2. К.г. '!P12","v":0},{"$f":"'Худ.эст.к 7г ч2. К.г. '!Q12","v":0},{"$f":"'Худ.эст.к 7г ч3. К.г. '!E12","v":0},{"$f":"'Худ.эст.к 7г ч3. К.г. '!F12","v":0},{"$f":"'Худ.эст.к 7г ч3. К.г. '!G12","v":0},{"$f":"'Худ.эст.к 7г ч3. К.г. '!H12","v":0},{"$f":"'Худ.эст.к 7г ч3. К.г. '!I12","v":0},{"$f":"'Худ.эст.к 7г ч3. К.г. '!J12","v":0},{"$f":"'Худ.эст.к 7г ч3. К.г. '!K12","v":0},{"$f":"'Худ.эст.к 7г ч3. К.г. '!L12","v":0}]

{"sheet":"2","index":39,"n_rows":7,"n_cols":165,"rows_kept":7,"merged":[[0,104,0,110],[0,111,0,112],[0,113,0,115],[0,116,0,119],[0,120,0,123],[0,124,0,126],[0,127,0,130],[1,18,1,30],[1,31,1,38],[1,54,1,58],[1,59,1,62],[1,63,1,71],[1,72,1,76],[1,77,1,84],[1,104,1,106],[1,107,1,110],[1,111,4,111],[1,112,4,112],[1,113,4,113],[1,114,4,114],[1,115,4,115],[1,116,1,119],[1,120,2,120],[1,121,2,121],[1,122,2,122],[1,123,2,123],[1,124,4,124],[1,125,4,125],[1,126,4,126],[1,127,1,130],[1,131,1,143],[1,144,1,156],[1,157,2,162],[1,163,2,164],[2,1,2,17],[2,18,2,22],[2,23,2,25],[2,26,2,30],[2,32,2,34],[2,35,2,38],[2,40,2,44],[2,45,2,47],[2,48,2,53],[2,55,2,57],[2,59,4,59],[2,60,4,60],[2,61,4,61],[2,62,4,62],[2,63,2,65],[2,66,2,67],[2,68,2,69],[2,72,3,76],[2,77,2,80],[2,81,2,82],[2,83,4,83],[2,84,4,84],[2,85,2,86],[2,87,2,89],[2,90,2,92],[2,93,2,95],[2,96,2,99],[2,100,2,101],[2,102,2,103],[2,104,4,104],[2,105,4,105],[2,106,4,106],[2,107,4,107],[2,108,4,108],[2,109,4,109],[2,110,4,110],[2,116,4,116],[2,117,4,117],[2,118,4,118],[2,119,4,119],[2,127,4,127],[2,128,4,128],[2,129,4,129],[2,130,4,130],[2,135,2,136],[2,137,2,140],[2,141,2,142],[2,143,4,143],[2,144,2,145],[2,146,2,147],[2,148,2,149],[2,151,2,156],[3,0,4,0],[3,1,3,4],[3,7,3,9],[3,11,3,12],[3,13,3,14],[3,15,4,15],[3,16,4,16],[3,17,4,17],[3,18,4,18],[3,19,4,19],[3,20,4,20],[3,21,4,21],[3,22,4,22],[3,23,4,23],[3,24,4,24],[3,25,4,25],[3,26,4,26],[3,27,4,27],[3,28,4,28],[3,29,4,29],[3,30,4,30],[3,31,4,31],[3,32,4,32],[3,33,4,33],[3,34,4,34],[3,35,4,35],[3,36,4,36],[3,37,4,37],[3,38,4,38],[3,39,4,39],[3,40,4,40],[3,41,4,41],[3,42,4,42],[3,43,4,43],[3,44,4,44],[3,45,4,45],[3,46,4,46],[3,47,4,47],[3,48,4,48],[3,49,4,49],[3,50,4,50],[3,51,4,51],[3,52,4,52],[3,53,4,53],[3,54,3,58],[3,63,4,63],[3,64,4,64],[3,65,4,65],[3,66,4,66],[3,67,4,67],[3,68,4,68],[3,69,4,69],[3,70,4,70],[3,71,4,71],[3,81,4,81],[3,85,3,86],[3,87,3,89],[3,90,3,92],[3,93,3,95],[3,96,3,99],[3,100,3,101],[3,102,4,102],[3,103,4,103],[3,120,4,120],[3,121,4,121],[3,122,4,122],[3,123,4,123],[3,131,4,131],[3,132,4,132],[3,133,4,133],[3,134,4,134],[3,135,4,135],[3,136,4,136],[3,137,4,137],[3,138,4,138],[3,139,4,139],[3,140,4,140],[3,141,4,141],[3,142,4,142],[3,144,4,144],[3,145,4,145],[3,146,4,146],[3,147,4,147],[3,148,4,148],[3,149,4,149],[3,150,4,150],[3,151,4,151],[3,152,4,152],[3,153,4,153],[3,154,4,154],[3,155,4,155],[3,156,4,156],[3,157,4,157],[3,158,4,158],[3,159,4,159],[3,160,4,160],[3,161,4,161],[3,162,4,162],[3,163,4,163],[3,164,4,164]]}
[{"$nulls":104},"Мелкая моторика",{"$nulls":6},"Подвижные игры",null,"Спорт. игры",null,null,"Спортивные упражнения",{"$nulls":3},"КГН",{"$nulls":3},"ЗОЖ",null,null,"Спортивные упражнения"]
[{"$nulls":18},"СОЦИАЛЬНО-КОММУНИКАТИВНОЕ РАЗВИТИЕ",{"$nulls":12},"РЕЧЕВОЕ РАЗВИТИЕ",{"$nulls":22},"Сенсорные эталоны ",{"$nulls":4},"Познавательные действия",{"$nulls":3},"Математические представления",{"$nulls":8},"Окружающий мир",{"$nulls":4},"Природа ",{"$nulls":26},"Координация рук и глаз",null,null,"Графические навыки",{"$nulls":3},"Ребенок использует в самостоятельной деятельности разнообразные по содержанию подвижные игры, проявляет элементы творчества в двигательной деятельности","Ребенок может организовать знакомые подвижные игры со сверстниками, сплотить команду, стремится внести свой вклад в результат команды","Ребенок владеет элементами спортивных игр (городки, баскетбол, футбол, хоккей, бадминтон, настольный теннис), может контролировать свои движения и управлять ими","Ребенок имеет представление о разных видах спорта (санный спорт, борьба, теннис, синхронное плавание и др.)","Ребенок имеет представление о спортивных событиях и достижениях отечественных спортсменов","Ребенок умеет кататься",{"$nulls":3},"Навыки соблюдения чистоты тела (правила личной гигиены)","Навыки культуры еды (прием пищи) ","Навыки поддержания порядка (правила поведения в быту) ","Навыки ухода за собой (одевание, раздевание) ","Ребенок соблюдает элементарные правила здорового образа жизни и личной гигиены, следит за своей осанкой, может оценить свое самочувствие","Ребенок регулярно выполняет физические упражнения","Ребенок имеет начальные представления о том, что такое здоровье, понимает, как поддержать, укрепить и сохранить его","Ребенок умеет кататься",{"$nulls":3},"Музыкальная деятельность",{"$nulls":12},"Изобразительная деятельность",{"$nulls":12},"Приобщение к искусству",{"$nulls":5},"Конструктивная деятельность"]
[null,"СОЦИАЛЬНО-КОММУНИКАТИВНОЕ РАЗВИТИЕ",{"$nulls":16},"Область формирования основ гражданственности и патриотизма",{"$nulls":4},"Сфера трудового воспитания",null,null,"Область формирования основ безопасного поведения",{"$nulls":4},"Общее речевое развитие","Формирование словаря",null,null,"Грамматический строй",{"$nulls":3},"Звуковая культура речи","Связная речь",{"$nulls":4},"ЧХЛ",null,null,"Подготовка к обучению грамоте",{"$nulls":5},"Цвет, оттенки","Форма, геометрические фигуры",null,null,"Величина","Ребенок самостоятельно выбирает способ осуществления разных видов познавательной деятельности","Ребенок интересуется субъективно новым и неизвестным в окружающем мире","Ребенок способен применять в жизненных и игровых ситуациях знания о количестве, форме, величине предметов, пространстве, времени","Ребенок имеет разнообразные познавательные умения: определяет противоречия. Формулирует задачу исследования, использует разные способы и средства проверки предположений (сравнение с эталонами, классификацию, систематизацию и др.)","Количество и счет",null,null,"Ориентировка во времени",null,"Ориентировка в пространстве",null,"Пространственно-количественные связи и отношения","Сравнение","Ребенок имеет представления, может показать на картинке и в естественной среде, может рассказать",{"$nulls":4},"Объекты живой природы",{"$nulls":3},"Объекты неживой природы, природные явления",null,"Ребенок стремится к самостоятельному экспериментированию","Ребенок знает правила поведения в природе, проявляет осознанное, бережное отношение к природе и ее ресурсам","Бросание, катание, ловля, метание",null,"Ползанье, лазанье",null,null,"Ходьба",null,null,"Бег",null,null,"Прыжки",{"$nulls":3},"Равновесие",null,"Строевые упражнения",null,"Ребенок выполняет графический диктант","Ребенок обводит по шаблону, по трафарету","Ребенок чертит линии с помощью линейки","Ребенок обводит по контуру, по точкам","Ребенок выполняет штриховку в различных направлениях","Ребенок закрашивает, не выходя за контур","Ребенок свободно владеет карандашом при рисовании округлых линий, завитков в разном направлении",{"$nulls":5},"на санках","на лыжах","на двухколесном велосипеде","на самокате",{"$nulls":7},"на санках","на лыжах","на двухколесном велосипеде","на самокате","Слушание","Пение ","Музыкально-ритмические движения","Песенное творчество","Игра на детских музыкальных инструментах",null,"Театрализованная деятельность",{"$nulls":3},"Танцевально-игровое творчество",null,"У ребенка развит музыкальный вкус, музыкальная память","Рисование ",null,"Лепка ",null,"Аппликация ",null,"Народное ДПИ","Прикладное творчество"]
[{"$f":"Список!B5","v":0},"Отношение к самому себе",{"$nulls":3},"Отношение к сверстникам","Отношение к взрослым","Эмоции",null,null,"Поведение","Семья",null,"Игровое поведение",null,"Ребенок имеет представление об изменениях позиции человека с возрастом","Ребенок имеет представление о школе, школьниках, учителях; стремится к школьному обучению, к познанию, освоению чтения, письма; демонстрирует формированные предпосылки к учебной деятельности и элементы готовности к школьному обучению","Ребенок имеет представление о нравственных качествах людей, их проявлении в поступках и взаимоотношениях","Ребенок имеет представление о признаках и характеристиках государства (территория государства и его границы, столица), атрибутах государственной власти, президенте, столице","Ребенок имеет представление о порядке использования государственной символики","Ребенок имеет представление о волонтерстве","Ребенок имеет представление о государственных праздниках, исторических событиях","Ребенок имеет представление о жизни людей в России, о многообразии стран и народов мира","Ребенок имеет представление об обмене ценностями в процессе производства и потребления товаров и услуг, о денежных отношениях, о реальной стоимости отдельных продуктов питания, игрушек, детских книг","Ребенок имеет представление о об основах финансовой грамоты, основах бережного потребления","Ребенок проявляет инициативность и самостоятельность в процессе самообслуживания, при выполнении трудовых поручений","Ребенок имеет представление о правила безопасного поведения в ситуациях, создающих угрозу жизни и здоровью (погас свет, остался один, потерялся, получил травму)","Ребенок имеет представление о правила безопасного поведения дома, на улице, в природе, в местах большого скопления людей, в магазине, на вокзале, в общественных метах, на праздниках и др.","Ребенок имеет представление о правилах безопасного использования цифровых ресурсов (мобильного телефона, планшета)","Ребенок имеет представление об элементарных правилах оказания первой помощи при первых признаках недомогания, травмах, ушибах","Ребенок проявляет самостоятельность при выполнении правил безопасного поведения","Ребенок владеет речью как средством коммуникации, ведет диалог, владеет коммуникативно-речевыми умениями","Ребенок подбирает точные слова для выражения мысли","Ребенок выполняет операцию классификации – деления освоенных понятий на группы на основе выявленных признаков","Ребенок использует в речи средства языковой выразительности: антонимы, синонимы, многозначные слова, метафоры, олицетворение","Ребенок образует сложные слова посредством слияния основ","Ребенок согласует в речи существительные с числительными, существительные с прилагательными","Ребенок образует по образцу существительные с суффиксами, глаголы с приставками","Ребенок образует в речи сравнительную и превосходную степени имен прилагательных","Ребенок правильно произносит все звуки","Ребенок может пересказать литературное произведение по ролям, близко к тексту, от лица литературного героя","Ребенок может составить описательный рассказ, соблюдая структуру описания","Ребенок может составить повествовательный рассказ по картине, из личного опыта, из коллективного опыта, по набору игрушек, соблюдая структуру повествования","Ребенок может составить рассказ -контаминацию (сочетание описания и повествования, описания и рассуждения)","Ребенок использует в процессе общения объяснительную речь, речь-доказательство, речевое планирование","Ребенок знает и осмысленно воспринимает литературные произведения различных жанров, имеет предпочтения","Ребенок определяет характеры персонажей, мотивы их поведения, оценивает поступки литературных героев","Ребенок проявляет интерес к книгам познавательного характера","Ребенок производит звуковой анализ четырехзвуковых и пятизвуковых слов","Ребенок может интонационно выделить звуки в слове, определить их последовательность, дать им характеристику, составить схему слова, выделить ударный гласный звук в слове","Ребенок может определить количество и последовательность слов в предложении","Ребенок может составить предложение с заданным количеством слов","Ребенок знает названия всех букв","Ребенок читает слоги","Ребенок различает и называет",{"$nulls":8},"Ребенок умеет считать в пределах 10 в прямом и обратном порядке","Ребенок знает состав чисел из двух меньших в пределах первого десятка","Ребенок решает простые арифметические задачи на сложение и вычитание","Ребенок имеет представление о календаре, как системе измерения времени","Ребенок умеет определять время по часам с точностью до четверти часа","Ребенок ориентируется на местности, по схеме, по плану","Ребенок знает способы ориентировки в двухмерном пространстве","Ребенок умеет измерять протяженность, массу и объем с помощью условной мерки; понимает взаимообратные отношения между мерой и результатом измерения","Ребенок сравнивает предметы по 4-6 основаниям с выделением сходства, отличия",{"$nulls":9},"Ребенок имеет представление об использовании человеком свойств неживой природы для хозяйственных нужд (ветряные мельницы, водохранилища, солнечные батареи, ледяные катки)",{"$nulls":3},"Ребенок выполняет различные упражнения с мячом, метание",null,"Ребенок выполняет разные виды ползанья, лазанья ",null,null,"Ребенок выполняет различные виды ходьбы",null,null,"Ребенок выполняет различные виды бега",null,null,"Ребенок выполняет различные виды прыжков",{"$nulls":3},"Ребенок выполняет",null,"Ребенок выполняет разные виды перестроений, построений, передвижений, размыкание и смыкание приставным шагом, повороты","Ребенок может рассчитаться на «первый – второй»",{"$nulls":16},"Ребенок владеет навыками личной гигиены","Ребенок владеет навыками культуры еды","Ребенок владеет навыками поддержания порядка","Ребенок владеет навыками ухода за собой",{"$nulls":7},"У ребенка развит навык восприятия звуков по высоте в пределах квинты-терции","У ребенка развиты певческий голос и вокально-слуховая координация","Ребёнок ритмично и выразительно двигается в соответствие с характером музыки","Ребенок способен самостоятельно придумать мелодию, используя в качестве образца русские народные песни","Ребенок может сыграть простую мелодию на металлофоне, свирели, ударных, и электронных музыкальных инструментах: трещотках, погремушках, треугольниках","Ребенок может исполнить музыкальное произведение в оркестре и в ансамбле","Ребенок проявляет самостоятельность при выборе литературного и музыкального материала для театральной постановки","Ребенок проявляет инициативу при изготовлении атрибутов и декораций к спектаклю","Ребенок имеет представление о средствах погружения в театральные образы (музыка, слова, декорации, грим, костюм и др.)","Ребенок умеет выразительно передавать образы в действии, мимике, пантомимике","Ребенок проявляет активность в доступных видах музыкальной исполнительской деятельности (игра в оркестре, пение, танцевальные движения и др.)","Ребенок помогает придумывать движения, отражающие содержание песни",null,"Ребенок может изобразить предметы по памяти и с натуры, передает их средствами рисунка (форма, пропорции, расположение)","Ребенок способен передавать в рисунке сюжет, строить композицию","Ребенок свободно использует приемы лепки, освоенные ранее (налеп, углубленный рельеф), применяет стеку","Ребенок умеет передавать пропорции, соотношение по величине, выразительность поз, движений, деталей","Ребенок умеет составлять узоры и декоративные композиции из геометрических и растительных элементов на листах бумаги разной формы","Ребенок может выполнить вырезание (симметричное из бумаги, сложенной вдвое; несколько предметов из частей бумаги, сложенной гармошкой)","Ребенок умеет создавать узоры по мотивам народных росписей","Ребенок может сложить бумагу в разных направлениях","Ребенок может сделать разметку с помощью шаблона","Ребенок может выполнить работу по образцу","Ребенок может создать объемную игрушку в технике «оригами»","Ребенок может создать объемную поделку из природного материала","Ребенок может вдеть нитку в иголку, завязать узелок, пришить пуговицу, петельку, выполнить шов «вперед иголка»","Ребенок умеет выделять, называть, группировать произведения по видам искусства: литература, музыка, изобразительное искусство, архитектура, театр, цирк","Ребенок имеет представление о видах изобразительного искусства: графика, декоративно-прикладное искусство, живопись, скульптура, архитектура, фотоискусство","Ребенок имеет представление о жанрах изобразительного искусства: натюрморт, пейзаж, портрет","Ребенок имеет представление о народном искусстве, фольклоре, музыке и художественных промыслах","Ребенок имеет представление о творческих профессиях: художник, композитор, музыкант, актер, артист балета","Ребенок имеет представление о культурно-досуговых местах: театр, музей, библиотека, выставка, кинотеатр, цирк и др.","Ребенок может провести анализ постройки (выделить основные части и характерные детали конструкций)","Ребенок может выполнить постройку по инструкции"]
[null,"Ребенок осознает и признает собственные ошибки, результат поставленных задач, определяет пути развития","Ребенок умеет договариваться и дружить, старается разрешать конфликтные ситуации конструктивными способами","Ребенок способен принимать собственные решения и проявлять инициативу","Ребенок осознанно относится к своему будущему, стремится быть полезным обществу","Ребенок без напоминаний использует в общении формулы словесной вежливости (приветствие, прощание, просьбы, извинения)","Ребенок без напоминаний использует в общении формулы словесной вежливости (приветствие, прощание, просьбы, извинения)","Ребенок понимает чувства и переживания окружающих по невербальным признакам; находит причины и следствия возникновения эмоций, проявляет эмпатию","Ребенок использует социально приемлемые способы проявления эмоций и доступные возрасту регуляции эмоциональных состояний","Ребенок распознает собственные чувства и эмоции, анализирует свои переживания и рассказывает о них","Ребенок самостоятельно соблюдает установленный порядок поведения в группе, регулирует собственную активность","Ребенок имеет представление о необходимости укрепления связи между поколениями, взаимной поддержке детей и взрослых","Ребенок имеет представление о семье, семейных и родственных отношениях (взаимные чувства, правила общения в семье, значимые и памятные события, досуг семьи, семейный бюджет)","Ребенок умеет сотрудничать со сверстниками (побуждает к обсуждению планов, советуется, поддерживает интерес к мнению, инициирует ситуации взаимопомощи, подчеркивает ценность каждого ребенка и его вклад в общее дело, выбирает партнеров по интересам, помогает устанавливать темп совместных действий)","Ребенок владеет разными способами и видами игры, различает условную и реальную ситуации, предлагает и объясняет замысел игры, комбинирует сюжеты на основе реальных, вымышленных ситуаций, выполняет несколько ролей в одной игре, подбирает разные средства для создания игровых образов, согласовывает свои интересы с интересами партнёров по игре",{"$nulls":39}," все цвета спектра и ахроматические цвета, оттенки","плоские и объемные геометрические фигуры; умеет выделять структуру геометрических фигур и устанавливать взаимосвязи между ними","Ребенок умеет классифицировать фигуры по внешним структурным признаками (округлые, многоугольники)","Ребенок владеет различными способами видоизменения геометрических фигур (наложение, соединение, разрезание и др.)","Ребенок умеет измерять длину, ширину, высоту с помощью условной мерки",{"$nulls":13}," о родном населенном пункте (название улиц, некоторых архитектурных особенностях, достопримечательностях), об истории, о выдающихся горожанах, традициях городской жизни"," о назначении общественных учреждений"," о разных видах специального транспорта"," о местах труда людей (завод, больница, магазин и др.)"," о местах отдыха людей","Ребенок имеет представление о наиболее ярких представителях животных и растений разных природных зон (пустыня, степь, тайга, тундра и др.), об их образе жизни, приспособлении к среде обитания, изменениях в жизни в разные сезоны года","Ребенок имеет представление о многообразии водных ресурсов (моря, океаны, реки, водопады и др.)","Ребенок имеет представление о многообразии полезных ископаемых (нефть, уголь, серебро, золото, алмазы и др.)","Ребенок имеет представление о жизненных потребностях, этапах роста и развития животных и растений",null,"Ребенок имеет представление о некоторых небесных телах (планеты, кометы, звезды)",null,null,"бросание вверх, о землю, ловля двумя руками, одной рукой, перебрасывание, передача, прокатывание, забрасывание, ведение","в цель из положения стоя, вдаль, в движущеюся цель","ползанье на четвереньках, на животе, на спине","влезание на гимнастическую стенку и спуск; перелезание с пролета на пролет по диагонали","лазанье по веревочной лестнице; выполнение упражнений на канате","обычная, гимнастическим шагом, скрестным шагом, спиной вперед, выпадами, с закрытыми глазами","приставными шагами назад, в приседе, с различными движениями рук","в различных построениях","в колонне по одному, врассыпную, парами, тройками, четверками","в сочетание с прыжками, высоко поднимая колени, захлестывая голени назад, выбрасывая прямые ноги вперед","челночный, наперегонки, из разных исходных положений, со скакалкой, по пересеченной местности, с наименьшим числом шагов, медленный, быстрый","подпрыгивания на двух ногах в чередовании с ходьбой, на месте и с поворот кругом","смещая ноги вправо-влево-вперед-назад","выпрыгивание на предметы; подпрыгивания вверх из глубокого приседа; прыжки на одной ноге","в длину с места/с разбега, в высоту с места/с разбега","стойка на носках, стойка на одной ноге с закрытыми глазами","кружение с закрытыми глазами, остановкой и сохранением заданной позы"]
["начало года",{"$f":"'Соц.ком.к 7г ч1 Н.г.'!E12","v":0},{"$f":"'Соц.ком.к 7г ч1 Н.г.'!F12","v":0},{"$f":"'Соц.ком.к 7г ч1 Н.г.'!G12","v":0},{"$f":"'Соц.ком.к 7г ч1 Н.г.'!H12","v":0},{"$f":"'Соц.ком.к 7г ч1 Н.г.'!I12","v":0},{"$f":"'Соц.ком.к 7г ч1 Н.г.'!J12","v":0},{"$f":"'Соц.ком.к 7г ч1 Н.г.'!K12","v":0},{"$f":"'Соц.ком.к 7г ч1 Н.г.'!L12","v":0},{"$f":"'Соц.ком.к 7г ч1 Н.г.'!M12","v":0},{"$f":"'Соц.ком.к 7г ч1 Н.г.'!N12","v":0},{"$f":"'Соц.ком.к 7г ч2 Н.г.'!E12","v":0},{"$f":"'Соц.ком.к 7г ч2 Н.г.'!F12","v":0},{"$f":"'Соц.ком.к 7г ч2 Н.г.'!G12","v":0},{"$f":"'Соц.ком.к 7г ч2 Н.г.'!H12","v":0},{"$f":"'Соц.ком.к 7г ч2 Н.г.'!I12","v":0},{"$f":"'Соц.ком.к 7г ч2 Н.г.'!J12","v":0},{"$f":"'Соц.ком.к 7г ч2 Н.г.'!K12","v":0},{"$f":"'Соц.ком. к 7г ч3 Н.г.'!E12","v":0},{"$f":"'Соц.ком. к 7г ч3 Н.г.'!F12","v":0},{"$f":"'Соц.ком. к 7г ч3 Н.г.'!G12","v":0},{"$f":"'Соц.ком. к 7г ч3 Н.г.'!H12","v":0},{"$f":"'Соц.ком. к 7г ч3 Н.г.'!I12","v":0},{"$f":"'Соц.ком. к 7г ч3 Н.г.'!J12","v":0},{"$f":"'Соц.ком. к 7г ч3 Н.г.'!K12","v":0},{"$f":"'Соц.ком. к 7г ч3 Н.г.'!L12","v":0},{"$f":"'Соц.ком. к 7г ч4 Н.г.'!E12","v":0},{"$f":"'Соц.ком. к 7г ч4 Н.г.'!F12","v":0},{"$f":"'Соц.ком. к 7г ч4 Н.г.'!G12","v":0},{"$f":"'Соц.ком. к 7г ч4 Н.г.'!H12","v":0},{"$f":"'Соц.ком. к 7г ч4 Н.г.'!I12","v":0},{"$f":"'Реч.разв.к 7г ч1 Н.г.'!E12","v":0},{"$f":"'Реч.разв.к 7г ч1 Н.г.'!F12","v":0},{"$f":"'Реч.разв.к 7г ч1 Н.г.'!G12","v":0},{"$f":"'Реч.разв.к 7г ч1 Н.г.'!H12","v":0},{"$f":"'Реч.разв.к 7г ч1 Н.г.'!I12","v":0},{"$f":"'Реч.разв.к 7г ч1 Н.г.'!J12","v":0},{"$f":"'Реч.разв.к 7г ч1 Н.г.'!K12","v":0},{"$f":"'Реч.разв.к 7г ч1 Н.г.'!L12","v":0},{"$f":"'Реч.разв.к 7г ч2 Н.г.'!E12","v":0},{"$f":"'Реч.разв.к 7г ч2 Н.г.'!F12","v":0},{"$f":"'Реч.разв.к 7г ч2 Н.г.'!G12","v":0},{"$f":"'Реч.разв.к 7г ч2 Н.г.'!H12","v":0},{"$f":"'Реч.разв.к 7г ч2 Н.г.'!I12","v":0},{"$f":"'Реч.разв.к 7г ч2 Н.г.'!J12","v":0},{"$f":"'Реч.разв.к 7г ч2 Н.г.'!K12","v":0},{"$f":"'Реч.разв.к 7г ч2 Н.г.'!L12","v":0},{"$f":"'Реч.разв.к 7г ч2 Н.г.'!M12","v":0},{"$f":"'Реч.разв.к 7г ч3. Н.г.'!E12","v":0},{"$f":"'Реч.разв.к 7г ч3. Н.г.'!F12","v":0},{"$f":"'Реч.разв.к 7г ч3. Н.г.'!G12","v":0},{"$f":"'Реч.разв.к 7г ч3. Н.г.'!H12","v":0},{"$f":"'Реч.разв.к 7г ч3. Н.г.'!I12","v":0},{"$f":"'Реч.разв.к 7г ч3. Н.г.'!J12","v":0},{"$f":"'Позн.разв. к 7г ч1. Н.г.'!E13","v":0},{"$f":"'Позн.разв. к 7г ч1. Н.г.'!F13","v":0},{"$f":"'Позн.разв. к 7г ч1. Н.г.'!G13","v":0},{"$f":"'Позн.разв. к 7г ч1. Н.г.'!H13","v":0},{"$f":"'Позн.разв. к 7г ч1. Н.г.'!I13","v":0},{"$f":"'Позн.разв. к 7г ч1. Н.г.'!J13","v":0},{"$f":"'Позн.разв. к 7г ч1. Н.г.'!K13","v":0},{"$f":"'Позн.разв. к 7г ч1. Н.г.'!L13","v":0},{"$f":"'Позн.разв. к 7г ч1. Н.г.'!M13","v":0},{"$f":"'Позн.разв. к 7г ч2. Н.г.'!E13","v":0},{"$f":"'Позн.разв. к 7г ч2. Н.г.'!F13","v":0},{"$f":"'Позн.разв. к 7г ч2. Н.г.'!G13","v":0},{"$f":"'Позн.разв. к 7г ч2. Н.г.'!H13","v":0},{"$f":"'Позн.разв. к 7г ч2. Н.г.'!I13","v":0},{"$f":"'Позн.разв. к 7г ч2. Н.г.'!J13","v":0},{"$f":"'Позн.разв. к 7г ч2. Н.г.'!K13","v":0},{"$f":"'Позн.разв. к 7г ч2. Н.г.'!L13","v":0},{"$f":"'Позн.разв. к 7г ч2. Н.г.'!M13","v":0},{"$f":"'Позн.разв. к 7г ч3. Н.г.'!E13","v":0},{"$f":"'Позн.разв. к 7г ч3. Н.г.'!F13","v":0},{"$f":"'Позн.разв. к 7г ч3. Н.г.'!G13","v":0},{"$f":"'Позн.разв. к 7г ч3. Н.г.'!H13","v":0},{"$f":"'Позн.разв. к 7г ч3. Н.г.'!I13","v":0},{"$f":"'Позн.разв. к 7г ч3. Н.г.'!J13","v":0},{"$f":"'Позн.разв. к 7г ч3. Н.г.'!K13","v":0},{"$f":"'Позн.разв. к 7г ч3. Н.г.'!L13","v":0},{"$f":"'Позн.разв. к 7г ч3. Н.г.'!M13","v":0},{"$f":"'Позн.разв. к 7г ч3. Н.г.'!N13","v":0},{"$f":"'Позн.разв. к 7г ч3. Н.г.'!O13","v":0},{"$f":"'Позн.разв. к 7г ч3. Н.г.'!P13","v":0},{"$f":"'Позн.разв. к 7г ч3. Н.г.'!Q13","v":0},{"$f":"'Физ.разв. к 7г ч1. Н.г.'!E13","v":0},{"$f":"'Физ.разв. к 7г ч1. Н.г.'!F13","v":0},{"$f":"'Физ.разв. к 7г ч1. Н.г.'!G13","v":0},{"$f":"'Физ.разв. к 7г ч1. Н.г.'!H13","v":0},{"$f":"'Физ.разв. к 7г ч1. Н.г.'!I13","v":0},{"$f":"'Физ.разв. к 7г ч1. Н.г.'!J13","v":0},{"$f":"'Физ.разв. к 7г ч1. Н.г.'!K13","v":0},{"$f":"'Физ.разв. к 7г ч1. Н.г.'!L13","v":0},{"$f":"'Физ.разв. к 7г ч1. Н.г.'!M13","v":0},{"$f":"'Физ.разв. к 7г ч1. Н.г.'!N13","v":0},{"$f":"'Физ.разв. к 7г ч1. Н.г.'!O13","v":0},{"$f":"'Физ.разв. к 7г ч1. Н.г.'!P13","v":0},{"$f":"'Физ.разв. к 7г ч1. Н.г.'!Q13","v":0},{"$f":"'Физ.разв. к 7г ч1. Н.г.'!R13","v":0},{"$f":"'Физ.разв. к 7г ч1. Н.г.'!S13","v":0},{"$f":"'Физ.разв. к 7г ч1. Н.г.'!T13","v":0},{"$f":"'Физ.разв. к 7г ч1. Н.г.'!U13","v":0},{"$f":"'Физ.разв. к 7г ч1. Н.г.'!V13","v":0},{"$f":"'Физ.разв. к 7г ч1. Н.г.'!W13","v":0},{"$f":"'Физ.разв. к 7г ч2. Н.г.'!E14","v":0},{"$f":"'Физ.разв. к 7г ч2. Н.г.'!F14","v":0},{"$f":"'Физ.разв. к 7г ч2. Н.г.'!G14","v":0},{"$f":"'Физ.разв. к 7г ч2. Н.г.'!H14","v":0},{"$f":"'Физ.разв. к 7г ч2. Н.г.'!I14","v":0},{"$f":"'Физ.разв. к 7г ч2. Н.г.'!J14","v":0},{"$f":"'Физ.разв. к 7г ч2. Н.г.'!K14","v":0},{"$f":"'Физ.разв. к 7г ч2. Н.г.'!L14","v":0},{"$f":"'Физ.разв. к 7г ч2. Н.г.'!M14","v":0},{"$f":"'Физ.разв. к 7г ч2. Н.г.'!N14","v":0},{"$f":"'Физ.разв. к 7г ч2. Н.г.'!O14","v":0},{"$f":"'Физ.разв. к 7г ч2. Н.г.'!P14","v":0},{"$f":"'Физ.разв. к 7г ч2. Н.г.'!Q14","v":0},{"$f":"'Физ.разв. к 7г ч2. Н.г.'!R14","v":0},{"$f":"'Физ.разв. к 7г ч2. Н.г.'!S14","v":0},{"$f":"'Физ.разв. к 7г ч2. Н.г.'!T14","v":0},{"$f":"'Физ.разв. к 7г ч3. Н.г.'!E14","v":0},{"$f":"'Физ.разв. к 7г ч3. Н.г.'!F14","v":0},{"$f":"'Физ.разв. к 7г ч3. Н.г.'!G14","v":0},{"$f":"'Физ.разв. к 7г ч3. Н.г.'!H14","v":0},{"$f":"'Физ.разв. к 7г ч3. Н.г.'!I14","v":0},{"$f":"'Физ.разв. к 7г ч3. Н.г.'!J14","v":0},{"$f":"'Физ.разв. к 7г ч3. Н.г.'!K14","v":0},{"$f":"'Физ.разв. к 7г ч3. Н.г.'!L14","v":0},{"$f":"'Физ.разв. к 7г ч3. Н.г.'!M14","v":0},{"$f":"'Физ.разв. к 7г ч3. Н.г.'!N14","v":0},{"$f":"'Физ.разв. к 7г ч3. Н.г.'!O14","v":0},{"$f":"'Худ.эст.к 7г ч1. Н.г.'!E13","v":0},{"$f":"'Худ.эст.к 7г ч1. Н.г.'!F13","v":0},{"$f":"'Худ.эст.к 7г ч1. Н.г.'!G13","v":0},{"$f":"'Худ.эст.к 7г ч1. Н.г.'!H13","v":0},{"$f":"'Худ.эст.к 7г ч1. Н.г.'!I13","v":0},{"$f":"'Худ.эст.к 7г ч1. Н.г.'!J13","v":0},{"$f":"'Худ.эст.к 7г ч1. Н.г.'!K13","v":0},{"$f":"'Худ.эст.к 7г ч1. Н.г.'!L13","v":0},{"$f":"'Худ.эст.к 7г ч1. Н.г.'!M13","v":0},{"$f":"'Худ.эст.к 7г ч1. Н.г.'!N13","v":0},{"$f":"'Худ.эст.к 7г ч1. Н.г.'!O13","v":0},{"$f":"'Худ.эст.к 7г ч1. Н.г.'!P13","v":0},{"$f":"'Худ.эст.к 7г ч1. Н.г.'!Q13","v":0},{"$f":"'Худ.эст.к 7г ч2. Н.г.'!E13","v":0},{"$f":"'Худ.эст.к 7г ч2. Н.г.'!F13","v":0},{"$f":"'Худ.эст.к 7г ч2. Н.г.'!G13","v":0},{"$f":"'Худ.эст.к 7г ч2. Н.г.'!H13","v":0},{"$f":"'Худ.эст.к 7г ч2. Н.г.'!I13","v":0},{"$f":"'Худ.эст.к 7г ч2. Н.г.'!J13","v":0},{"$f":"'Худ.эст.к 7г ч2. Н.г.'!K13","v":0},{"$f":"'Худ.эст.к 7г ч2. Н.г.'!L13","v":0},{"$f":"'Худ.эст.к 7г ч2. Н.г.'!M13","v":0},{"$f":"'Худ.эст.к 7г ч2. Н.г.'!N13","v":0},{"$f":"'Худ.эст.к 7г ч2. Н.г.'!O13","v":0},{"$f":"'Худ.эст.к 7г ч2. Н.г.'!P13","v":0},{"$f":"'Худ.эст.к 7г ч2. Н.г.'!Q13","v":0},{"$f":"'Худ.эст.к 7г ч3. Н.г.'!E13","v":0},{"$f":"'Худ.эст.к 7г ч3. Н.г.'!F13","v":0},{"$f":"'Худ.эст.к 7г ч3. Н.г.'!G13","v":0},{"$f":"'Худ.эст.к 7г ч3. Н.г.'!H13","v":0},{"$f":"'Худ.эст.к 7г ч3. Н.г.'!I13","v":0},{"$f":"'Худ.эст.к 7г ч3. Н.г.'!J13","v":0},{"$f":"'Худ.эст.к 7г ч3. Н.г.'!K13","v":0},{"$f":"'Худ.эст.к 7г ч3. Н.г.'!L13","v":0}]
["конец года",{"$f":"'Соц.ком.к 7г ч1 К.г.'!E12","v":0},{"$f":"'Соц.ком.к 7г ч1 К.г.'!F12","v":0},{"$f":"'Соц.ком.к 7г ч1 К.г.'!G12","v":0},{"$f":"'Соц.ком.к 7г ч1 К.г.'!H12","v":0},{"$f":"'Соц.ком.к 7г ч1 К.г.'!I12","v":0},{"$f":"'Соц.ком.к 7г ч1 К.г.'!J12","v":0},{"$f":"'Соц.ком.к 7г ч1 К.г.'!K12","v":0},{"$f":"'Соц.ком.к 7г ч1 К.г.'!L12","v":0},{"$f":"'Соц.ком.к 7г ч1 К.г.'!M12","v":0},{"$f":"'Соц.ком.к 7г ч1 К.г.'!N12","v":0},{"$f":"'Соц.ком.к 7г ч2 К.г.'!E12","v":0},{"$f":"'Соц.ком.к 7г ч2 К.г.'!F12","v":0},{"$f":"'Соц.ком.к 7г ч2 К.г.'!G12","v":0},{"$f":"'Соц.ком.к 7г ч2 К.г.'!H12","v":0},{"$f":"'Соц.ком.к 7г ч2 К.г.'!I12","v":0},{"$f":"'Соц.ком.к 7г ч2 К.г.'!J12","v":0},{"$f":"'Соц.ком.к 7г ч2 К.г.'!K12","v":0},{"$f":"'Соц.ком. к 7г ч3 К.г.'!E12","v":0},{"$f":"'Соц.ком. к 7г ч3 К.г.'!F12","v":0},{"$f":"'Соц.ком. к 7г ч3 К.г.'!G12","v":0},{"$f":"'Соц.ком. к 7г ч3 К.г.'!H12","v":0},{"$f":"'Соц.ком. к 7г ч3 К.г.'!I12","v":0},{"$f":"'Соц.ком. к 7г ч3 К.г.'!J12","v":0},{"$f":"'Соц.ком. к 7г ч3 К.г.'!K12","v":0},{"$f":"'Соц.ком. к 7г ч3 К.г.'!L12","v":0},{"$f":"'Соц.ком. к 7г ч4 К.г.'!E12","v":0},{"$f":"'Соц.ком. к 7г ч4 К.г.'!F12","v":0},{"$f":"'Соц.ком. к 7г ч4 К.г.'!G12","v":0},{"$f":"'Соц.ком. к 7г ч4 К.г.'!H12","v":0},{"$f":"'Соц.ком. к 7г ч4 К.г.'!I12","v":0},{"$f":"'Реч.разв.к 7г ч1 К.г.'!E12","v":0},{"$f":"'Реч.разв.к 7г ч1 К.г.'!F12","v":0},{"$f":"'Реч.разв.к 7г ч1 К.г.'!G12","v":0},{"$f":"'Реч.разв.к 7г ч1 К.г.'!H12","v":0},{"$f":"'Реч.разв.к 7г ч1 К.г.'!I12","v":0},{"$f":"'Реч.разв.к 7г ч1 К.г.'!J12","v":0},{"$f":"'Реч.разв.к 7г ч1 К.г.'!K12","v":0},{"$f":"'Реч.разв.к 7г ч1 К.г.'!L12","v":0},{"$f":"'Реч.разв.к 7г ч2 К.г. '!E12","v":0},{"$f":"'Реч.разв.к 7г ч2 К.г. '!F12","v":0},{"$f":"'Реч.разв.к 7г ч2 К.г. '!G12","v":0},{"$f":"'Реч.разв.к 7г ч2 К.г. '!H12","v":0},{"$f":"'Реч.разв.к 7г ч2 К.г. '!I12","v":0},{"$f":"'Реч.разв.к 7г ч2 К.г. '!J12","v":0},{"$f":"'Реч.разв.к 7г ч2 К.г. '!K12","v":0},{"$f":"'Реч.разв.к 7г ч2 К.г. '!L12","v":0},{"$f":"'Реч.разв.к 7г ч2 К.г. '!M12","v":0},{"$f":"'Реч.разв.к 7г ч3. К.г. '!E12","v":0},{"$f":"'Реч.разв.к 7г ч3. К.г. '!F12","v":0},{"$f":"'Реч.разв.к 7г ч3. К.г. '!G12","v":0},{"$f":"'Реч.разв.к 7г ч3. К.г. '!H12","v":0},{"$f":"'Реч.разв.к 7г ч3. К.г. '!I12","v":0},{"$f":"'Реч.разв.к 7г ч3. К.г. '!J12","v":0},{"$f":"'Позн.разв. к 7г ч1. К.г. '!E13","v":0},{"$f":"'Позн.разв. к 7г ч1. К.г. '!F13","v":0},{"$f":"'Позн.разв. к 7г ч1. К.г. '!G13","v":0},{"$f":"'Позн.разв. к 7г ч1. К.г. '!H13","v":0},{"$f":"'Позн.разв. к 7г ч1. К.г. '!I13","v":0},{"$f":"'Позн.разв. к 7г ч1. К.г. '!J13","v":0},{"$f":"'Позн.разв. к 7г ч1. К.г. '!K13","v":0},{"$f":"'Позн.разв. к 7г ч1. К.г. '!L13","v":0},{"$f":"'Позн.разв. к 7г ч1. К.г. '!M13","v":0},{"$f":"'Позн.разв. к 7г ч2. К.г.'!E13","v":0},{"$f":"'Позн.разв. к 7г ч2. К.г.'!F13","v":0},{"$f":"'Позн.разв. к 7г ч2. К.г.'!G13","v":0},{"$f":"'Позн.разв. к 7г ч2. К.г.'!H13","v":0},{"$f":"'Позн.разв. к 7г ч2. К.г.'!I13","v":0},{"$f":"'Позн.разв. к 7г ч2. К.г.'!J13","v":0},{"$f":"'Позн.разв. к 7г ч2. К.г.'!K13","v":0},{"$f":"'Позн.разв. к 7г ч2. К.г.'!L13","v":0},{"$f":"'Позн.разв. к 7г ч2. К.г.'!M13","v":0},{"$f":"'Позн.разв. к 7г ч3. К.г. '!E13","v":0},{"$f":"'Позн.разв. к 7г ч3. К.г. '!F13","v":0},{"$f":"'Позн.разв. к 7г ч3. К.г. '!G13","v":0},{"$f":"'Позн.разв. к 7г ч3. К.г. '!H13","v":0},{"$f":"'Позн.разв. к 7г ч3. К.г. '!I13","v":0},{"$f":"'Позн.разв. к 7г ч3. К.г. '!J13","v":0},{"$f":"'Позн.разв. к 7г ч3. К.г. '!K13","v":0},{"$f":"'Позн.разв. к 7г ч3. К.г. '!L13","v":0},{"$f":"'Позн.разв. к 7г ч3. К.г. '!M13","v":0},{"$f":"'Позн.разв. к 7г ч3. К.г. '!N13","v":0},{"$f":"'Позн.разв. к 7г ч3. К.г. '!O13","v":0},{"$f":"'Позн.разв. к 7г ч3. К.г. '!P13","v":0},{"$f":"'Позн.разв. к 7г ч3. К.г. '!Q13","v":0},{"$f":"'Физ.разв. к 7г ч1. К.г. '!E13","v":0},{"$f":"'Физ.разв. к 7г ч1. К.г. '!F13","v":0},{"$f":"'Физ.разв. к 7г ч1. К.г. '!G13","v":0},{"$f":"'Физ.разв. к 7г ч1. К.г. '!H13","v":0},{"$f":"'Физ.разв. к 7г ч1. К.г. '!I13","v":0},{"$f":"'Физ.разв. к 7г ч1. К.г. '!J13","v":0},{"$f":"'Физ.разв. к 7г ч1. К.г. '!K13","v":0},{"$f":"'Физ.разв. к 7г ч1. К.г. '!L13","v":0},{"$f":"'Физ.разв. к 7г ч1. К.г. '!M13","v":0},{"$f":"'Физ.разв. к 7г ч1. К.г. '!N13","v":0},{"$f":"'Физ.разв. к 7г ч1. К.г. '!O13","v":0},{"$f":"'Физ.разв. к 7г ч1. К.г. '!P13","v":0},{"$f":"'Физ.разв. к 7г ч1. К.г. '!Q13","v":0},{"$f":"'Физ.разв. к 7г ч1. К.г. '!R13","v":0},{"$f":"'Физ.разв. к 7г ч1. К.г. '!S13","v":0},{"$f":"'Физ.разв. к 7г ч1. К.г. '!T13","v":0},{"$f":"'Физ.разв. к 7г ч1. К.г. '!U13","v":0},{"$f":"'Физ.разв. к 7г ч1. К.г. '!V13","v":0},{"$f":"'Физ.разв. к 7г ч1. К.г. '!W13","v":0},{"$f":"'Физ.разв. к 7г ч2. К.г.'!E14","v":0},{"$f":"'Физ.разв. к 7г ч2. К.г.'!F14","v":0},{"$f":"'Физ.разв. к 7г ч2. К.г.'!G14","v":0},{"$f":"'Физ.разв. к 7г ч2. К.г.'!H14","v":0},{"$f":"'Физ.разв. к 7г ч2. К.г.'!I14","v":0},{"$f":"'Физ.разв. к 7г ч2. К.г.'!J14","v":0},{"$f":"'Физ.разв. к 7г ч2. К.г.'!K14","v":0},{"$f":"'Физ.разв. к 7г ч2. К.г.'!L14","v":0},{"$f":"'Физ.разв. к 7г ч2. К.г.'!M14","v":0},{"$f":"'Физ.разв. к 7г ч2. К.г.'!N14","v":0},{"$f":"'Физ.разв. к 7г ч2. К.г.'!O14","v":0},{"$f":"'Физ.разв. к 7г ч2. К.г.'!P14","v":0},{"$f":"'Физ.разв. к 7г ч2. К.г.'!Q14","v":0},{"$f":"'Физ.разв. к 7г ч2. К.г.'!R14","v":0},{"$f":"'Физ.разв. к 7г ч2. К.г.'!S14","v":0},{"$f":"'Физ.разв. к 7г ч2. К.г.'!T14","v":0},{"$f":"'Физ.разв. к 7г ч3. К.г. '!E14","v":0},{"$f":"'Физ.разв. к 7г ч3. К.г. '!F14","v":0},{"$f":"'Физ.разв. к 7г ч3. К.г. '!G14","v":0},{"$f":"'Физ.разв. к 7г ч3. К.г. '!H14","v":0},{"$f":"'Физ.разв. к 7г ч3. К.г. '!I14","v":0},{"$f":"'Физ.разв. к 7г ч3. К.г. '!J14","v":0},{"$f":"'Физ.разв. к 7г ч3. К.г. '!K14","v":0},{"$f":"'Физ.разв. к 7г ч3. К.г. '!L14","v":0},{"$f":"'Физ.разв. к 7г ч3. К.г. '!M14","v":0},{"$f":"'Физ.разв. к 7г ч3. К.г. '!N14","v":0},{"$f":"'Физ.разв. к 7г ч3. К.г. '!O14","v":0},{"$f":"'Худ.эст.к 7г ч1. К.г. '!E13","v":0},{"$f":"'Худ.эст.к 7г ч1. К.г. '!F13","v":0},{"$f":"'Худ.эст.к 7г ч1. К.г. '!G13","v":0},{"$f":"'Худ.эст.к 7г ч1. К.г. '!H13","v":0},{"$f":"'Худ.эст.к 7г ч1. К.г. '!I13","v":0},{"$f":"'Худ.эст.к 7г ч1. К.г. '!J13","v":0},{"$f":"'Худ.эст.к 7г ч1. К.г. '!K13","v":0},{"$f":"'Худ.эст.к 7г ч1. К.г. '!L13","v":0},{"$f":"'Худ.эст.к 7г ч1. К.г. '!M13","v":0},{"$f":"'Худ.эст.к 7г ч1. К.г. '!N13","v":0},{"$f":"'Худ.эст.к 7г ч1. К.г. '!O13","v":0},{"$f":"'Худ.эст.к 7г ч1. К.г. '!P13","v":0},{"$f":"'Худ.эст.к 7г ч1. К.г. '!Q13","v":0},{"$f":"'Худ.эст.к 7г ч2. К.г. '!E13","v":0},{"$f":"'Худ.эст.к 7г ч2. К.г. '!F13","v":0},{"$f":"'Худ.эст.к 7г ч2. К.г. '!G13","v":0},{"$f":"'Худ.эст.к 7г ч2. К.г. '!H13","v":0},{"$f":"'Худ.эст.к 7г ч2. К.г. '!I13","v":0},{"$f":"'Худ.эст.к 7г ч2. К.г. '!J13","v":0},{"$f":"'Худ.эст.к 7г ч2. К.г. '!K13","v":0},{"$f":"'Худ.эст.к 7г ч2. К.г. '!L13","v":0},{"$f":"'Худ.эст.к 7г ч2. К.г. '!M13","v":0},{"$f":"'Худ.эст.к 7г ч2. К.г. '!N13","v":0},{"$f":"'Худ.эст.к 7г ч2. К.г. '!O13","v":0},{"$f":"'Худ.эст.к 7г ч2. К.г. '!P13","v":0},{"$f":"'Худ.эст.к 7г ч2. К.г. '!Q13","v":0},{"$f":"'Худ.эст.к 7г ч3. К.г. '!E13","v":0},{"$f":"'Худ.эст.к 7г ч3. К.г. '!F13","v":0},{"$f":"'Худ.эст.к 7г ч3. К.г. '!G13","v":0},{"$f":"'Худ.эст.к 7г ч3. К.г. '!H13","v":0},{"$f":"'Худ.эст.к 7г ч3. К.г. '!I13","v":0},{"$f":"'Худ.эст.к 7г ч3. К.г. '!J13","v":0},{"$f":"'Худ.эст.к 7г ч3. К.г. '!K13","v":0},{"$f":"'Худ.эст.к 7г ч3. К.г. '!L13","v":0}]

{"sheet":"3","index":40,"n_rows":7,"n_cols":165,"rows_kept":7,"merged":[[0,104,0,110],[0,111,0,112],[0,113,0,115],[0,116,0,119],[0,120,0,123],[0,124,0,126],[0,127,0,130],[1,18,1,30],[1,31,1,38],[1,54,1,58],[1,59,1,62],[1,63,1,71],[1,72,1,76],[1,77,1,84],[1,104,1,106],[1,107,1,110],[1,111,4,111],[1,112,4,112],[1,113,4,113],[1,114,4,114],[1,115,4,115],[1,116,1,119],[1,120,2,120],[1,121,2,121],[1,122,2,122],[1,123,2,123],[1,124,4,124],[1,125,4,125],[1,126,4,126],[1,127,1,130],[1,131,1,143],[1,144,1,156],[1,157,2,162],[1,163,2,164],[2,1,2,17],[2,18,2,22],[2,23,2,25],[2,26,2,30],[2,32,2,34],[2,35,2,38],[2,40,2,44],[2,45,2,47],[2,48,2,53],[2,55,2,57],[2,59,4,59],[2,60,4,60],[2,61,4,61],[2,62,4,62],[2,63,2,65],[2,66,2,67],[2,68,2,69],[2,72,3,76],[2,77,2,80],[2,81,2,82],[2,83,4,83],[2,84,4,84],[2,85,2,86],[2,87,2,89],[2,90,2,92],[2,93,2,95],[2,96,2,99],[2,100,2,101],[2,102,2,103],[2,104,4,104],[2,105,4,105],[2,106,4,106],[2,107,4,107],[2,108,4,108],[2,109,4,109],[2,110,4,110],[2,116,4,116],[2,117,4,117],[2,118,4,118],[2,119,4,119],[2,127,4,127],[2,128,4,128],[2,129,4,129],[2,130,4,130],[2,135,2,136],[2,137,2,140],[2,141,2,142],[2,143,4,143],[2,144,2,145],[2,146,2,147],[2,148,2,149],[2,151,2,156],[3,0,4,0],[3,1,3,4],[3,7,3,9],[3,11,3,12],[3,13,3,14],[3,15,4,15],[3,16,4,16],[3,17,4,17],[3,18,4,18],[3,19,4,19],[3,20,4,20],[3,21,4,21],[3,22,4,22],[3,23,4,23],[3,24,4,24],[3,25,4,25],[3,26,4,26],[3,27,4,27],[3,28,4,28],[3,29,4,29],[3,30,4,30],[3,31,4,31],[3,32,4,32],[3,33,4,33],[3,34,4,34],[3,35,4,35],[3,36,4,36],[3,37,4,37],[3,38,4,38],[3,39,4,39],[3,40,4,40],[3,41,4,41],[3,42,4,42],[3,43,4,43],[3,44,4,44],[3,45,4,45],[3,46,4,46],[3,47,4,47],[3,48,4,48],[3,49,4,49],[3,50,4,50],[3,51,4,51],[3,52,4,52],[3,53,4,53],[3,54,3,58],[3,63,4,63],[3,64,4,64],[3,65,4,65],[3,66,4,66],[3,67,4,67],[3,68,4,68],[3,69,4,69],[3,70,4,70],[3,71,4,71],[3,81,4,81],[3,85,3,86],[3,87,3,89],[3,90,3,92],[3,93,3,95],[3,96,3,99],[3,100,3,101],[3,102,4,102],[3,103,4,103],[3,120,4,120],[3,121,4,121],[3,122,4,122],[3,123,4,123],[3,131,4,131],[3,132,4,132],[3,133,4,133],[3,134,4,134],[3,135,4,135],[3,136,4,136],[3,137,4,137],[3,138,4,138],[3,139,4,139],[3,140,4,140],[3,141,4,141],[3,142,4,142],[3,144,4,144],[3,145,4,145],[3,146,4,146],[3,147,4,147],[3,148,4,148],[3,149,4,149],[3,150,4,150],[3,151,4,151],[3,152,4,152],[3,153,4,153],[3,154,4,154],[3,155,4,155],[3,156,4,156],[3,157,4,157],[3,158,4,158],[3,159,4,159],[3,160,4,160],[3,161,4,161],[3,162,4,162],[3,163,4,163],[3,164,4,164]]}
[{"$nulls":104},"Мелкая моторика",{"$nulls":6},"Подвижные игры",null,"Спорт. игры",null,null,"Спортивные упражнения",{"$nulls":3},"КГН",{"$nulls":3},"ЗОЖ",null,null,"Спортивные упражнения"]
[{"$nulls":18},"СОЦИАЛЬНО-КОММУНИКАТИВНОЕ РАЗВИТИЕ",{"$nulls":12},"РЕЧЕВОЕ РАЗВИТИЕ",{"$nulls":22},"Сенсорные эталоны ",{"$nulls":4},"Познавательные действия",{"$nulls":3},"Математические представления",{"$nulls":8},"Окружающий мир",{"$nulls":4},"Природа ",{"$nulls":26},"Координация рук и глаз",null,null,"Графические навыки",{"$nulls":3},"Ребенок использует в самостоятельной деятельности разнообразные по содержанию подвижные игры, проявляет элементы творчества в двигательной деятельности","Ребенок может организовать знакомые подвижные игры со сверстниками, сплотить команду, стремится внести свой вклад в результат команды","Ребенок владеет элементами спортивных игр (городки, баскетбол, футбол, хоккей, бадминтон, настольный теннис), может контролировать свои движения и управлять ими","Ребенок имеет представление о разных видах спорта (санный спорт, борьба, теннис, синхронное плавание и др.)","Ребенок имеет представление о спортивных событиях и достижениях отечественных спортсменов","Ребенок умеет кататься",{"$nulls":3},"Навыки соблюдения чистоты тела (правила личной гигиены)","Навыки культуры еды (прием пищи) ","Навыки поддержания порядка (правила поведения в быту) ","Навыки ухода за собой (одевание, раздевание) ","Ребенок соблюдает элементарные правила здорового образа жизни и личной гигиены, следит за своей осанкой, может оценить свое самочувствие","Ребенок регулярно выполняет физические упражнения","Ребенок имеет начальные представления о том, что такое здоровье, понимает, как поддержать, укрепить и сохранить его","Ребенок умеет кататься",{"$nulls":3},"Музыкальная деятельность",{"$nulls":12},"Изобразительная деятельность",{"$nulls":12},"Приобщение к искусству",{"$nulls":5},"Конструктивная деятельность"]
[null,"СОЦИАЛЬНО-КОММУНИКАТИВНОЕ РАЗВИТИЕ",{"$nulls":16},"Область формирования основ гражданственности и патриотизма",{"$nulls":4},"Сфера трудового воспитания",null,null,"Область формирования основ безопасного поведения",{"$nulls":4},"Общее речевое развитие","Формирование словаря",null,null,"Грамматический строй",{"$nulls":3},"Звуковая культура речи","Связная речь",{"$nulls":4},"ЧХЛ",null,null,"Подготовка к обучению грамоте",{"$nulls":5},"Цвет, оттенки","Форма, геометрические фигуры",null,null,"Величина","Ребенок самостоятельно выбирает способ осуществления разных видов познавательной деятельности","Ребенок интересуется субъективно новым и неизвестным в окружающем мире","Ребенок способен применять в жизненных и игровых ситуациях знания о количестве, форме, величине предметов, пространстве, времени","Ребенок имеет разнообразные познавательные умения: определяет противоречия. Формулирует задачу исследования, использует разные способы и средства проверки предположений (сравнение с эталонами, классификацию, систематизацию и др.)","Количество и счет",null,null,"Ориентировка во времени",null,"Ориентировка в пространстве",null,"Пространственно-количественные связи и отношения","Сравнение","Ребенок имеет представления, может показать на картинке и в естественной среде, может рассказать",{"$nulls":4},"Объекты живой природы",{"$nulls":3},"Объекты неживой природы, природные явления",null,"Ребенок стремится к самостоятельному экспериментированию","Ребенок знает правила поведения в природе, проявляет осознанное, бережное отношение к природе и ее ресурсам","Бросание, катание, ловля, метание",null,"Ползанье, лазанье",null,null,"Ходьба",null,null,"Бег",null,null,"Прыжки",{"$nulls":3},"Равновесие",null,"Строевые упражнения",null,"Ребенок выполняет графический диктант","Ребенок обводит по шаблону, по трафарету","Ребенок чертит линии с помощью линейки","Ребенок обводит по контуру, по точкам","Ребенок выполняет штриховку в различных направлениях","Ребенок закрашивает, не выходя за контур","Ребенок свободно владеет карандашом при рисовании округлых линий, завитков в разном направлении",{"$nulls":5},"на санках","на лыжах","на двухколесном велосипеде","на самокате",{"$nulls":7},"на санках","на лыжах","на двухколесном велосипеде","на самокате","Слушание","Пение ","Музыкально-ритмические движения","Песенное творчество","Игра на детских музыкальных инструментах",null,"Театрализованная деятельность",{"$nulls":3},"Танцевально-игровое творчество",null,"У ребенка развит музыкальный вкус, музыкальная память","Рисование ",null,"Лепка ",null,"Аппликация ",null,"Народное ДПИ","Прикладное творчество"]
[{"$f":"Список!B6","v":0},"Отношение к самому себе",{"$nulls":3},"Отношение к сверстникам","Отношение к взрослым","Эмоции",null,null,"Поведение","Семья",null,"Игровое поведение",null,"Ребенок имеет представление об изменениях позиции человека с возрастом","Ребенок имеет представление о школе, школьниках, учителях; стремится к школьному обучению, к познанию, освоению чтения, письма; демонстрирует формированные предпосылки к учебной деятельности и элементы готовности к школьному обучению","Ребенок имеет представление о нравственных качествах людей, их проявлении в поступках и взаимоотношениях","Ребенок имеет представление о признаках и характеристиках государства (территория государства и его границы, столица), атрибутах государственной власти, президенте, столице","Ребенок имеет представление о порядке использования государственной символики","Ребенок имеет представление о волонтерстве","Ребенок имеет представление о государственных праздниках, исторических событиях","Ребенок имеет представление о жизни людей в России, о многообразии стран и народов мира","Ребенок имеет представление об обмене ценностями в процессе производства и потребления товаров и услуг, о денежных отношениях, о реальной стоимости отдельных продуктов питания, игрушек, детских книг","Ребенок имеет представление о об основах финансовой грамоты, основах бережного потребления","Ребенок проявляет инициативность и самостоятельность в процессе самообслуживания, при выполнении трудовых поручений","Ребенок имеет представление о правила безопасного поведения в ситуациях, создающих угрозу жизни и здоровью (погас свет, остался один, потерялся, получил травму)","Ребенок имеет представление о правила безопасного поведения дома, на улице, в природе, в местах большого скопления людей, в магазине, на вокзале, в общественных метах, на праздниках и др.","Ребенок имеет представление о правилах безопасного использования цифровых ресурсов (мобильного телефона, планшета)","Ребенок имеет представление об элементарных правилах оказания первой помощи при первых признаках недомогания, травмах, ушибах","Ребенок проявляет самостоятельность при выполнении правил безопасного поведения","Ребенок владеет речью как средством коммуникации, ведет диалог, владеет коммуникативно-речевыми умениями","Ребенок подбирает точные слова для выражения мысли","Ребенок выполняет операцию классификации – деления освоенных понятий на группы на основе выявленных признаков","Ребенок использует в речи средства языковой выразительности: антонимы, синонимы, многозначные слова, метафоры, олицетворение","Ребенок образует сложные слова посредством слияния основ","Ребенок согласует в речи существительные с числительными, существительные с прилагательными","Ребенок образует по образцу существительные с суффиксами, глаголы с приставками","Ребенок образует в речи сравнительную и превосходную степени имен прилагательных","Ребенок правильно произносит все звуки","Ребенок может пересказать литературное произведение по ролям, близко к тексту, от лица литературного героя","Ребенок может составить описательный рассказ, соблюдая структуру описания","Ребенок может составить повествовательный рассказ по картине, из личного опыта, из коллективного опыта, по набору игрушек, соблюдая структуру повествования","Ребенок может составить рассказ -контаминацию (сочетание описания и повествования, описания и рассуждения)","Ребенок использует в процессе общения объяснительную речь, речь-доказательство, речевое планирование","Ребенок знает и осмысленно воспринимает литературные произведения различных жанров, имеет предпочтения","Ребенок определяет характеры персонажей, мотивы их поведения, оценивает поступки литературных героев","Ребенок проявляет интерес к книгам познавательного характера","Ребенок производит звуковой анализ четырехзвуковых и пятизвуковых слов","Ребенок может интонационно выделить звуки в слове, определить их последовательность, дать им характеристику, составить схему слова, выделить ударный гласный звук в слове","Ребенок может определить количество и последовательность слов в предложении","Ребенок может составить предложение с заданным количеством слов","Ребенок знает названия всех букв","Ребенок читает слоги","Ребенок различает и называет",{"$nulls":8},"Ребенок умеет считать в пределах 10 в прямом и обратном порядке","Ребенок знает состав чисел из двух меньших в пределах первого десятка","Ребенок решает простые арифметические задачи на сложение и вычитание","Ребенок имеет представление о календаре, как системе измерения времени","Ребенок умеет определять время по часам с точностью до четверти часа","Ребенок ориентируется на местности, по схеме, по плану","Ребенок знает способы ориентировки в двухмерном пространстве","Ребенок умеет измерять протяженность, массу и объем с помощью условной мерки; понимает взаимообратные отношения между мерой и результатом измерения","Ребенок сравнивает предметы по 4-6 основаниям с выделением сходства, отличия",{"$nulls":9},"Ребенок имеет представление об использовании человеком свойств неживой природы для хозяйственных нужд (ветряные мельницы, водохранилища, солнечные батареи, ледяные катки)",{"$nulls":3},"Ребенок выполняет различные упражнения с мячом, метание",null,"Ребенок выполняет разные виды ползанья, лазанья ",null,null,"Ребенок выполняет различные виды ходьбы",null,null,"Ребенок выполняет различные виды бега",null,null,"Ребенок выполняет различные виды прыжков",{"$nulls":3},"Ребенок выполняет",null,"Ребенок выполняет разные виды перестроений, построений, передвижений, размыкание и смыкание приставным шагом, повороты","Ребенок может рассчитаться на «первый – второй»",{"$nulls":16},"Ребенок владеет навыками личной гигиены","Ребенок владеет навыками культуры еды","Ребенок владеет навыками поддержания порядка","Ребенок владеет навыками ухода за собой",{"$nulls":7},"У ребенка развит навык восприятия звуков по высоте в пределах квинты-терции","У ребенка развиты певческий голос и вокально-слуховая координация","Ребёнок ритмично и выразительно двигается в соответствие с характером музыки","Ребенок способен самостоятельно придумать мелодию, используя в качестве образца русские народные песни","Ребенок может сыграть простую мелодию на металлофоне, свирели, ударных, и электронных музыкальных инструментах: трещотках, погремушках, треугольниках","Ребенок может исполнить музыкальное произведение в оркестре и в ансамбле","Ребенок проявляет самостоятельность при выборе литературного и музыкального материала для театральной постановки","Ребенок проявляет инициативу при изготовлении атрибутов и декораций к спектаклю","Ребенок имеет представление о средствах погружения в театральные образы (музыка, слова, декорации, грим, костюм и др.)","Ребенок умеет выразительно передавать образы в действии, мимике, пантомимике","Ребенок проявляет активность в доступных видах музыкальной исполнительской деятельности (игра в оркестре, пение, танцевальные движения и др.)","Ребенок помогает придумывать движения, отражающие содержание песни",null,"Ребенок может изобразить предметы по памяти и с натуры, передает их средствами рисунка (форма, пропорции, расположение)","Ребенок способен передавать в рисунке сюжет, строить композицию","Ребенок свободно использует приемы лепки, освоенные ранее (налеп, углубленный рельеф), применяет стеку","Ребенок умеет передавать пропорции, соотношение по величине, выразительность поз, движений, деталей","Ребенок умеет составлять узоры и декоративные композиции из геометрических и растительных элементов на листах бумаги разной формы","Ребенок может выполнить вырезание (симметричное из бумаги, сложенной вдвое; несколько предметов из частей бумаги, сложенной гармошкой)","Ребенок умеет создавать узоры по мотивам народных росписей","Ребенок может сложить бумагу в разных направлениях","Ребенок может сделать разметку с помощью шаблона","Ребенок может выполнить работу по образцу","Ребенок может создать объемную игрушку в технике «оригами»","Ребенок может создать объемную поделку из природного материала","Ребенок может вдеть нитку в иголку, завязать узелок, пришить пуговицу, петельку, выполнить шов «вперед иголка»","Ребенок умеет выделять, называть, группировать произведения по видам искусства: литература, музыка, изобразительное искусство, архитектура, театр, цирк","Ребенок имеет представление о видах изобразительного искусства: графика, декоративно-прикладное искусство, живопись, скульптура, архитектура, фотоискусство","Ребенок имеет представление о жанрах изобразительного искусства: натюрморт, пейзаж, портрет","Ребенок имеет представление о народном искусстве, фольклоре, музыке и художественных промыслах","Ребенок имеет представление о творческих профессиях: художник, композитор, музыкант, актер, артист балета","Ребенок имеет представление о культурно-досуговых местах: театр, музей, библиотека, выставка, кинотеатр, цирк и др.","Ребенок может провести анализ постройки (выделить основные части и характерные детали конструкций)","Ребенок может выполнить постройку по инструкции"]
[null,"Ребенок осознает и признает собственные ошибки, результат поставленных задач, определяет пути развития","Ребенок умеет договариваться и дружить, старается разрешать конфликтные ситуации конструктивными способами","Ребенок способен принимать собственные решения и проявлять инициативу","Ребенок осознанно относится к своему будущему, стремится быть полезным обществу","Ребенок без напоминаний использует в общении формулы словесной вежливости (приветствие, прощание, просьбы, извинения)","Ребенок без напоминаний использует в общении формулы словесной вежливости (приветствие, прощание, просьбы, извинения)","Ребенок понимает чувства и переживания окружающих по невербальным признакам; находит причины и следствия возникновения эмоций, проявляет эмпатию","Ребенок использует социально приемлемые способы проявления эмоций и доступные возрасту регуляции эмоциональных состояний","Ребенок распознает собственные чувства и эмоции, анализирует свои переживания и рассказывает о них","Ребенок самостоятельно соблюдает установленный порядок поведения в группе, регулирует собственную активность","Ребенок имеет представление о необходимости укрепления связи между поколениями, взаимной поддержке детей и взрослых","Ребенок имеет представление о семье, семейных и родственных отношениях (взаимные чувства, правила общения в семье, значимые и памятные события, досуг семьи, семейный бюджет)","Ребенок умеет сотрудничать со сверстниками (побуждает к обсуждению планов, советуется, поддерживает интерес к мнению, инициирует ситуации взаимопомощи, подчеркивает ценность каждого ребенка и его вклад в общее дело, выбирает партнеров по интересам, помогает устанавливать темп совместных действий)","Ребенок владеет разными способами и видами игры, различает условную и реальную ситуации, предлагает и объясняет замысел игры, комбинирует сюжеты на основе реальных, вымышленных ситуаций, выполняет несколько ролей в одной игре, подбирает разные средства для создания игровых образов, согласовывает свои интересы с интересами партнёров по игре",{"$nulls":39}," все цвета спектра и ахроматические цвета, оттенки","плоские и объемные геометрические фигуры; умеет выделять структуру геометрических фигур и устанавливать взаимосвязи между ними","Ребенок умеет классифицировать фигуры по внешним структурным признаками (округлые, многоугольники)","Ребенок владеет различными способами видоизменения геометрических фигур (наложение, соединение, разрезание и др.)","Ребенок умеет измерять длину, ширину, высоту с помощью условной мерки",{"$nulls":13}," о родном населенном пункте (название улиц, некоторых архитектурных особенностях, достопримечательностях), об истории, о выдающихся горожанах, традициях городской жизни"," о назначении общественных учреждений"," о разных видах специального транспорта"," о местах труда людей (завод, больница, магазин и др.)"," о местах отдыха людей","Ребенок имеет представление о наиболее ярких представителях животных и растений разных природных зон (пустыня, степь, тайга, тундра и др.), об их образе жизни, приспособлении к среде обитания, изменениях в жизни в разные сезоны года","Ребенок имеет представление о многообразии водных ресурсов (моря, океаны, реки, водопады и др.)","Ребенок имеет представление о многообразии полезных ископаемых (нефть, уголь, серебро, золото, алмазы и др.)","Ребенок имеет представление о жизненных потребностях, этапах роста и развития животных и растений",null,"Ребенок имеет представление о некоторых небесных телах (планеты, кометы, звезды)",null,null,"бросание вверх, о землю, ловля двумя руками, одной рукой, перебрасывание, передача, прокатывание, забрасывание, ведение","в цель из положения стоя, вдаль, в движущеюся цель","ползанье на четвереньках, на животе, на спине","влезание на гимнастическую стенку и спуск; перелезание с пролета на пролет по диагонали","лазанье по веревочной лестнице; выполнение упражнений на канате","обычная, гимнастическим шагом, скрестным шагом, спиной вперед, выпадами, с закрытыми глазами","приставными шагами назад, в приседе, с различными движениями рук","в различных построениях","в колонне по одному, врассыпную, парами, тройками, четверками","в сочетание с прыжками, высоко поднимая колени, захлестывая голени назад, выбрасывая прямые ноги вперед","челночный, наперегонки, из разных исходных положений, со скакалкой, по пересеченной местности, с наименьшим числом шагов, медленный, быстрый","подпрыгивания на двух ногах в чередовании с ходьбой, на месте и с поворот кругом","смещая ноги вправо-влево-вперед-назад","выпрыгивание на предметы; подпрыгивания вверх из глубокого приседа; прыжки на одной ноге","в длину с места/с разбега, в высоту с места/с разбега","стойка на носках, стойка на одной ноге с закрытыми глазами","кружение с закрытыми глазами, остановкой и сохранением заданной позы"]
["начало года",{"$f":"'Соц.ком.к 7г ч1 Н.г.'!E13","v":0},{"$f":"'Соц.ком.к 7г ч1 Н.г.'!F13","v":0},{"$f":"'Соц.ком.к 7г ч1 Н.г.'!G13","v":0},{"$f":"'Соц.ком.к 7г ч1 Н.г.'!H13","v":0},{"$f":"'Соц.ком.к 7г ч1 Н.г.'!I13","v":0},{"$f":"'Соц.ком.к 7г ч1 Н.г.'!J13","v":0},{"$f":"'Соц.ком.к 7г ч1 Н.г.'!K13","v":0},{"$f":"'Соц.ком.к 7г ч1 Н.г.'!L13","v":0},{"$f":"'Соц.ком.к 7г ч1 Н.г.'!M13","v":0},{"$f":"'Соц.ком.к 7г ч1 Н.г.'!N13","v":0},{"$f":"'Соц.ком.к 7г ч2 Н.г.'!E13","v":0},{"$f":"'Соц.ком.к 7г ч2 Н.г.'!F13","v":0},{"$f":"'Соц.ком.к 7г ч2 Н.г.'!G13","v":0},{"$f":"'Соц.ком.к 7г ч2 Н.г.'!H13","v":0},{"$f":"'Соц.ком.к 7г ч2 Н.г.'!I13","v":0},{"$f":"'Соц.ком.к 7г ч2 Н.г.'!J13","v":0},{"$f":"'Соц.ком.к 7г ч2 Н.г.'!K13","v":0},{"$f":"'Соц.ком. к 7г ч3 Н.г.'!E13","v":0},{"$f":"'Соц.ком. к 7г ч3 Н.г.'!F13","v":0},{"$f":"'Соц.ком. к 7г ч3 Н.г.'!G13","v":0},{"$f":"'Соц.ком. к 7г ч3 Н.г.'!H13","v":0},{"$f":"'Соц.ком. к 7г ч3 Н.г.'!I13","v":0},{"$f":"'Соц.ком. к 7г ч3 Н.г.'!J13","v":0},{"$f":"'Соц.ком. к 7г ч3 Н.г.'!K13","v":0},{"$f":"'Соц.ком. к 7г ч3 Н.г.'!L13","v":0},{"$f":"'Соц.ком. к 7г ч4 Н.г.'!E13","v":0},{"$f":"'Соц.ком. к 7г ч4 Н.г.'!F13","v":0},{"$f":"'Соц.ком. к 7г ч4 Н.г.'!G13","v":0},{"$f":"'Соц.ком. к 7г ч4 Н.г.'!H13","v":0},{"$f":"'Соц.ком. к 7г ч4 Н.г.'!I13","v":0},{"$f":"'Реч.разв.к 7г ч1 Н.г.'!E13","v":0},{"$f":"'Реч.разв.к 7г ч1 Н.г.'!F13","v":0},{"$f":"'Реч.разв.к 7г ч1 Н.г.'!G13","v":0},{"$f":"'Реч.разв.к 7г ч1 Н.г.'!H13","v":0},{"$f":"'Реч.разв.к 7г ч1 Н.г.'!I13","v":0},{"$f":"'Реч.разв.к 7г ч1 Н.г.'!J13","v":0},{"$f":"'Реч.разв.к 7г ч1 Н.г.'!K13","v":0},{"$f":"'Реч.разв.к 7г ч1 Н.г.'!L13","v":0},{"$f":"'Реч.разв.к 7г ч2 Н.г.'!E13","v":0},{"$f":"'Реч.разв.к 7г ч2 Н.г.'!F13","v":0},{"$f":"'Реч.разв.к 7г ч2 Н.г.'!G13","v":0},{"$f":"'Реч.разв.к 7г ч2 Н.г.'!H13","v":0},{"$f":"'Реч.разв.к 7г ч2 Н.г.'!I13","v":0},{"$f":"'Реч.разв.к 7г ч2 Н.г.'!J13","v":0},{"$f":"'Реч.разв.к 7г ч2 Н.г.'!K13","v":0},{"$f":"'Реч.разв.к 7г ч2 Н.г.'!L13","v":0},{"$f":"'Реч.разв.к 7г ч2 Н.г.'!M13","v":0},{"$f":"'Реч.разв.к 7г ч3. Н.г.'!E13","v":0},{"$f":"'Реч.разв.к 7г ч3. Н.г.'!F13","v":0},{"$f":"'Реч.разв.к 7г ч3. Н.г.'!G13","v":0},{"$f":"'Реч.разв.к 7г ч3. Н.г.'!H13","v":0},{"$f":"'Реч.разв.к 7г ч3. Н.г.'!I13","v":0},{"$f":"'Реч.разв.к 7г ч3. Н.г.'!J13","v":0},{"$f":"'Позн.разв. к 7г ч1. Н.г.'!E14","v":0},{"$f":"'Позн.разв. к 7г ч1. Н.г.'!F14","v":0},{"$f":"'Позн.разв. к 7г ч1. Н.г.'!G14","v":0},{"$f":"'Позн.разв. к 7г ч1. Н.г.'!H14","v":0},{"$f":"'Позн.разв. к 7г ч1. Н.г.'!I14","v":0},{"$f":"'Позн.разв. к 7г ч1. Н.г.'!J14","v":0},{"$f":"'Позн.разв. к 7г ч1. Н.г.'!K14","v":0},{"$f":"'Позн.разв. к 7г ч1. Н.г.'!L14","v":0},{"$f":"'Позн.разв. к 7г ч1. Н.г.'!M14","v":0},{"$f":"'Позн.разв. к 7г ч2. Н.г.'!E14","v":0},{"$f":"'Позн.разв. к 7г ч2. Н.г.'!F14","v":0},{"$f":"'Позн.разв. к 7г ч2. Н.г.'!G14","v":0},{"$f":"'Позн.разв. к 7г ч2. Н.г.'!H14","v":0},{"$f":"'Позн.разв. к 7г ч2. Н.г.'!I14","v":0},{"$f":"'Позн.разв. к 7г ч2. Н.г.'!J14","v":0},{"$f":"'Позн.разв. к 7г ч2. Н.г.'!K14","v":0},{"$f":"'Позн.разв. к 7г ч2. Н.г.'!L14","v":0},{"$f":"'Позн.разв. к 7г ч2. Н.г.'!M14","v":0},{"$f":"'Позн.разв. к 7г ч3. Н.г.'!E14","v":0},{"$f":"'Позн.разв. к 7г ч3. Н.г.'!F14","v":0},{"$f":"'Позн.разв. к 7г ч3. Н.г.'!G14","v":0},{"$f":"'Позн.разв. к 7г ч3. Н.г.'!H14","v":0},{"$f":"'Позн.разв. к 7г ч3. Н.г.'!I14","v":0},{"$f":"'Позн.разв. к 7г ч3. Н.г.'!J14","v":0},{"$f":"'Позн.разв. к 7г ч3. Н.г.'!K14","v":0},{"$f":"'Позн.разв. к 7г ч3. Н.г.'!L14","v":0},{"$f":"'Позн.разв. к 7г ч3. Н.г.'!M14","v":0},{"$f":"'Позн.разв. к 7г ч3. Н.г.'!N14","v":0},{"$f":"'Позн.разв. к 7г ч3. Н.г.'!O14","v":0},{"$f":"'Позн.разв. к 7г ч3. Н.г.'!P14","v":0},{"$f":"'Позн.разв. к 7г ч3. Н.г.'!Q14","v":0},{"$f":"'Физ.разв. к 7г ч1. Н.г.'!E14","v":0},{"$f":"'Физ.разв. к 7г ч1. Н.г.'!F14","v":0},{"$f":"'Физ.разв. к 7г ч1. Н.г.'!G14","v":0},{"$f":"'Физ.разв. к 7г ч1. Н.г.'!H14","v":0},{"$f":"'Физ.разв. к 7г ч1. Н.г.'!I14","v":0},{"$f":"'Физ.разв. к 7г ч1. Н.г.'!J14","v":0},{"$f":"'Физ.разв. к 7г ч1. Н.г.'!K14","v":0},{"$f":"'Физ.разв. к 7г ч1. Н.г.'!L14","v":0},{"$f":"'Физ.разв. к 7г ч1. Н.г.'!M14","v":0},{"$f":"'Физ.разв. к 7г ч1. Н.г.'!N14","v":0},{"$f":"'Физ.разв. к 7г ч1. Н.г.'!O14","v":0},{"$f":"'Физ.разв. к 7г ч1. Н.г.'!P14","v":0},{"$f":"'Физ.разв. к 7г ч1. Н.г.'!Q14","v":0},{"$f":"'Физ.разв. к 7г ч1. Н.г.'!R14","v":0},{"$f":"'Физ.разв. к 7г ч1. Н.г.'!S14","v":0},{"$f":"'Физ.разв. к 7г ч1. Н.г.'!T14","v":0},{"$f":"'Физ.разв. к 7г ч1. Н.г.'!U14","v":0},{"$f":"'Физ.разв. к 7г ч1. Н.г.'!V14","v":0},{"$f":"'Физ.разв. к 7г ч1. Н.г.'!W14","v":0},{"$f":"'Физ.разв. к 7г ч2. Н.г.'!E15","v":0},{"$f":"'Физ.разв. к 7г ч2. Н.г.'!F15","v":0},{"$f":"'Физ.разв. к 7г ч2. Н.г.'!G15","v":0},{"$f":"'Физ.разв. к 7г ч2. Н.г.'!H15","v":0},{"$f":"'Физ.разв. к 7г ч2. Н.г.'!I15","v":0},{"$f":"'Физ.разв. к 7г ч2. Н.г.'!J15","v":0},{"$f":"'Физ.разв. к 7г ч2. Н.г.'!K15","v":0},{"$f":"'Физ.разв. к 7г ч2. Н.г.'!L15","v":0},{"$f":"'Физ.разв. к 7г ч2. Н.г.'!M15","v":0},{"$f":"'Физ.разв. к 7г ч2. Н.г.'!N15","v":0},{"$f":"'Физ.разв. к 7г ч2. Н.г.'!O15","v":0},{"$f":"'Физ.разв. к 7г ч2. Н.г.'!P15","v":0},{"$f":"'Физ.разв. к 7г ч2. Н.г.'!Q15","v":0},{"$f":"'Физ.разв. к 7г ч2. Н.г.'!R15","v":0},{"$f":"'Физ.разв. к 7г ч2. Н.г.'!S15","v":0},{"$f":"'Физ.разв. к 7г ч2. Н.г.'!T15","v":0},{"$f":"'Физ.разв. к 7г ч3. Н.г.'!E15","v":0},{"$f":"'Физ.разв. к 7г ч3. Н.г.'!F15","v":0},{"$f":"'Физ.разв. к 7г ч3. Н.г.'!G15","v":0},{"$f":"'Физ.разв. к 7г ч3. Н.г.'!H15","v":0},{"$f":"'Физ.разв. к 7г ч3. Н.г.'!I15","v":0},{"$f":"'Физ.разв. к 7г ч3. Н.г.'!J15","v":0},{"$f":"'Физ.разв. к 7г ч3. Н.г.'!K15","v":0},{"$f":"'Физ.разв. к 7г ч3. Н.г.'!L15","v":0},{"$f":"'Физ.разв. к 7г ч3. Н.г.'!M15","v":0},{"$f":"'Физ.разв. к 7г ч3. Н.г.'!N15","v":0},{"$f":"'Физ.разв. к 7г ч3. Н.г.'!O15","v":0},{"$f":"'Худ.эст.к 7г ч1. Н.г.'!E14","v":0},{"$f":"'Худ.эст.к 7г ч1. Н.г.'!F14","v":0},{"$f":"'Худ.эст.к 7г ч1. Н.г.'!G14","v":0},{"$f":"'Худ.эст.к 7г ч1. Н.г.'!H14","v":0},{"$f":"'Худ.эст.к 7г ч1. Н.г.'!I14","v":0},{"$f":"'Худ.эст.к 7г ч1. Н.г.'!J14","v":0},{"$f":"'Худ.эст.к 7г ч1. Н.г.'!K14","v":0},{"$f":"'Худ.эст.к 7г ч1. Н.г.'!L14","v":0},{"$f":"'Худ.эст.к 7г ч1. Н.г.'!M14","v":0},{"$f":"'Худ.эст.к 7г ч1. Н.г.'!N14","v":0},{"$f":"'Худ.эст.к 7г ч1. Н.г.'!O14","v":0},{"$f":"'Худ.эст.к 7г ч1. Н.г.'!P14","v":0},{"$f":"'Худ.эст.к 7г ч1. Н.г.'!Q14","v":0},{"$f":"'Худ.эст.к 7г ч2. Н.г.'!E14","v":0},{"$f":"'Худ.эст.к 7г ч2. Н.г.'!F14","v":0},{"$f":"'Худ.эст.к 7г ч2. Н.г.'!G14","v":0},{"$f":"'Худ.эст.к 7г ч2. Н.г.'!H14","v":0},{"$f":"'Худ.эст.к 7г ч2. Н.г.'!I14","v":0},{"$f":"'Худ.эст.к 7г ч2. Н.г.'!J14","v":0},{"$f":"'Худ.эст.к 7г ч2. Н.г.'!K14","v":0},{"$f":"'Худ.эст.к 7г ч2. Н.г.'!L14","v":0},{"$f":"'Худ.эст.к 7г ч2. Н.г.'!M14","v":0},{"$f":"'Худ.эст.к 7г ч2. Н.г.'!N14","v":0},{"$f":"'Худ.эст.к 7г ч2. Н.г.'!O14","v":0},{"$f":"'Худ.эст.к 7г ч2. Н.г.'!P14","v":0},{"$f":"'Худ.эст.к 7г ч2. Н.г.'!Q14","v":0},{"$f":"'Худ.эст.к 7г ч3. Н.г.'!E14","v":0},{"$f":"'Худ.эст.к 7г ч3. Н.г.'!F14","v":0},{"$f":"'Худ.эст.к 7г ч3. Н.г.'!G14","v":0},{"$f":"'Худ.эст.к 7г ч3. Н.г.'!H14","v":0},{"$f":"'Худ.эст.к 7г ч3. Н.г.'!I14","v":0},{"$f":"'Худ.эст.к 7г ч3. Н.г.'!J14","v":0},{"$f":"'Худ.эст.к 7г ч3. Н.г.'!K14","v":0},{"$f":"'Худ.эст.к 7г ч3. Н.г.'!L14","v":0}]
["конец года",{"$f":"'Соц.ком.к 7г ч1 К.г.'!E13","v":0},{"$f":"'Соц.ком.к 7г ч1 К.г.'!F13","v":0},{"$f":"'Соц.ком.к 7г ч1 К.г.'!G13","v":0},{"$f":"'Соц.ком.к 7г ч1 К.г.'!H13","v":0},{"$f":"'Соц.ком.к 7г ч1 К.г.'!I13","v":0},{"$f":"'Соц.ком.к 7г ч1 К.г.'!J13","v":0},{"$f":"'Соц.ком.к 7г ч1 К.г.'!K13","v":0},{"$f":"'Соц.ком.к 7г ч1 К.г.'!L13","v":0},{"$f":"'Соц.ком.к 7г ч1 К.г.'!M13","v":0},{"$f":"'Соц.ком.к 7г ч1 К.г.'!N13","v":0},{"$f":"'Соц.ком.к 7г ч2 К.г.'!E13","v":0},{"$f":"'Соц.ком.к 7г ч2 К.г.'!F13","v":0},{"$f":"'Соц.ком.к 7г ч2 К.г.'!G13","v":0},{"$f":"'Соц.ком.к 7г ч2 К.г.'!H13","v":0},{"$f":"'Соц.ком.к 7г ч2 К.г.'!I13","v":0},{"$f":"'Соц.ком.к 7г ч2 К.г.'!J13","v":0},{"$f":"'Соц.ком.к 7г ч2 К.г.'!K13","v":0},{"$f":"'Соц.ком. к 7г ч3 К.г.'!E13","v":0},{"$f":"'Соц.ком. к 7г ч3 К.г.'!F13","v":0},{"$f":"'Соц.ком. к 7г ч3 К.г.'!G13","v":0},{"$f":"'Соц.ком. к 7г ч3 К.г.'!H13","v":0},{"$f":"'Соц.ком. к 7г ч3 К.г.'!I13","v":0},{"$f":"'Соц.ком. к 7г ч3 К.г.'!J13","v":0},{"$f":"'Соц.ком. к 7г ч3 К.г.'!K13","v":0},{"$f":"'Соц.ком. к 7г ч3 К.г.'!L13","v":0},{"$f":"'Соц.ком. к 7г ч4 К.г.'!E13","v":0},{"$f":"'Соц.ком. к 7г ч4 К.г.'!F13","v":0},{"$f":"'Соц.ком. к 7г ч4 К.г.'!G13","v":0},{"$f":"'Соц.ком. к 7г ч4 К.г.'!H13","v":0},{"$f":"'Соц.ком. к 7г ч4 К.г.'!I13","v":0},{"$f":"'Реч.разв.к 7г ч1 К.г.'!E13","v":0},{"$f":"'Реч.разв.к 7г ч1 К.г.'!F13","v":0},{"$f":"'Реч.разв.к 7г ч1 К.г.'!G13","v":0},{"$f":"'Реч.разв.к 7г ч1 К.г.'!H13","v":0},{"$f":"'Реч.разв.к 7г ч1 К.г.'!I13","v":0},{"$f":"'Реч.разв.к 7г ч1 К.г.'!J13","v":0},{"$f":"'Реч.разв.к 7г ч1 К.г.'!K13","v":0},{"$f":"'Реч.разв.к 7г ч1 К.г.'!L13","v":0},{"$f":"'Реч.разв.к 7г ч2 К.г. '!E13","v":0},{"$f":"'Реч.разв.к 7г ч2 К.г. '!F13","v":0},{"$f":"'Реч.разв.к 7г ч2 К.г. '!G13","v":0},{"$f":"'Реч.разв.к 7г ч2 К.г. '!H13","v":0},{"$f":"'Реч.разв.к 7г ч2 К.г. '!I13","v":0},{"$f":"'Реч.разв.к 7г ч2 К.г. '!J13","v":0},{"$f":"'Реч.разв.к 7г ч2 К.г. '!K13","v":0},{"$f":"'Реч.разв.к 7г ч2 К.г. '!L13","v":0},{"$f":"'Реч.разв.к 7г ч2 К.г. '!M13","v":0},{"$f":"'Реч.разв.к 7г ч3. К.г. '!E13","v":0},{"$f":"'Реч.разв.к 7г ч3. К.г. '!F13","v":0},{"$f":"'Реч.разв.к 7г ч3. К.г. '!G13","v":0},{"$f":"'Реч.разв.к 7г ч3. К.г. '!H13","v":0},{"$f":"'Реч.разв.к 7г ч3. К.г. '!I13","v":0},{"$f":"'Реч.разв.к 7г ч3. К.г. '!J13","v":0},{"$f":"'Позн.разв. к 7г ч1. К.г. '!E14","v":0},{"$f":"'Позн.разв. к 7г ч1. К.г. '!F14","v":0},{"$f":"'Позн.разв. к 7г ч1. К.г. '!G14","v":0},{"$f":"'Позн.разв. к 7г ч1. К.г. '!H14","v":0},{"$f":"'Позн.разв. к 7г ч1. К.г. '!I14","v":0},{"$f":"'Позн.разв. к 7г ч1. К.г. '!J14","v":0},{"$f":"'Позн.разв. к 7г ч1. К.г. '!K14","v":0},{"$f":"'Позн.разв. к 7г ч1. К.г. '!L14","v":0},{"$f":"'Позн.разв. к 7г ч1. К.г. '!M14","v":0},{"$f":"'Позн.разв. к 7г ч2. К.г.'!E14","v":0},{"$f":"'Позн.разв. к 7г ч2. К.г.'!F14","v":0},{"$f":"'Позн.разв. к 7г ч2. К.г.'!G14","v":0},{"$f":"'Позн.разв. к 7г ч2. К.г.'!H14","v":0},{"$f":"'Позн.разв. к 7г ч2. К.г.'!I14","v":0},{"$f":"'Позн.разв. к 7г ч2. К.г.'!J14","v":0},{"$f":"'Позн.разв. к 7г ч2. К.г.'!K14","v":0},{"$f":"'Позн.разв. к 7г ч2. К.г.'!L14","v":0},{"$f":"'Позн.разв. к 7г ч2. К.г.'!M14","v":0},{"$f":"'Позн.разв. к 7г ч3. К.г. '!E14","v":0},{"$f":"'Позн.разв. к 7г ч3. К.г. '!F14","v":0},{"$f":"'Позн.разв. к 7г ч3. К.г. '!G14","v":0},{"$f":"'Позн.разв. к 7г ч3. К.г. '!H14","v":0},{"$f":"'Позн.разв. к 7г ч3. К.г. '!I14","v":0},{"$f":"'Позн.разв. к 7г ч3. К.г. '!J14","v":0},{"$f":"'Позн.разв. к 7г ч3. К.г. '!K14","v":0},{"$f":"'Позн.разв. к 7г ч3. К.г. '!L14","v":0},{"$f":"'Позн.разв. к 7г ч3. К.г. '!M14","v":0},{"$f":"'Позн.разв. к 7г ч3. К.г. '!N14","v":0},{"$f":"'Позн.разв. к 7г ч3. К.г. '!O14","v":0},{"$f":"'Позн.разв. к 7г ч3. К.г. '!P14","v":0},{"$f":"'Позн.разв. к 7г ч3. К.г. '!Q14","v":0},{"$f":"'Физ.разв. к 7г ч1. К.г. '!E14","v":0},{"$f":"'Физ.разв. к 7г ч1. К.г. '!F14","v":0},{"$f":"'Физ.разв. к 7г ч1. К.г. '!G14","v":0},{"$f":"'Физ.разв. к 7г ч1. К.г. '!H14","v":0},{"$f":"'Физ.разв. к 7г ч1. К.г. '!I14","v":0},{"$f":"'Физ.разв. к 7г ч1. К.г. '!J14","v":0},{"$f":"'Физ.разв. к 7г ч1. К.г. '!K14","v":0},{"$f":"'Физ.разв. к 7г ч1. К.г. '!L14","v":0},{"$f":"'Физ.разв. к 7г ч1. К.г. '!M14","v":0},{"$f":"'Физ.разв. к 7г ч1. К.г. '!N14","v":0},{"$f":"'Физ.разв. к 7г ч1. К.г. '!O14","v":0},{"$f":"'Физ.разв. к 7г ч1. К.г. '!P14","v":0},{"$f":"'Физ.разв. к 7г ч1. К.г. '!Q14","v":0},{"$f":"'Физ.разв. к 7г ч1. К.г. '!R14","v":0},{"$f":"'Физ.разв. к 7г ч1. К.г. '!S14","v":0},{"$f":"'Физ.разв. к 7г ч1. К.г. '!T14","v":0},{"$f":"'Физ.разв. к 7г ч1. К.г. '!U14","v":0},{"$f":"'Физ.разв. к 7г ч1. К.г. '!V14","v":0},{"$f":"'Физ.разв. к 7г ч1. К.г. '!W14","v":0},{"$f":"'Физ.разв. к 7г ч2. К.г.'!E15","v":0},{"$f":"'Физ.разв. к 7г ч2. К.г.'!F15","v":0},{"$f":"'Физ.разв. к 7г ч2. К.г.'!G15","v":0},{"$f":"'Физ.разв. к 7г ч2. К.г.'!H15","v":0},{"$f":"'Физ.разв. к 7г ч2. К.г.'!I15","v":0},{"$f":"'Физ.разв. к 7г ч2. К.г.'!J15","v":0},{"$f":"'Физ.разв. к 7г ч2. К.г.'!K15","v":0},{"$f":"'Физ.разв. к 7г ч2. К.г.'!L15","v":0},{"$f":"'Физ.разв. к 7г ч2. К.г.'!M15","v":0},{"$f":"'Физ.разв. к 7г ч2. К.г.'!N15","v":0},{"$f":"'Физ.разв. к 7г ч2. К.г.'!O15","v":0},{"$f":"'Физ.разв. к 7г ч2. К.г.'!P15","v":0},{"$f":"'Физ.разв. к 7г ч2. К.г.'!Q15","v":0},{"$f":"'Физ.разв. к 7г ч2. К.г.'!R15","v":0},{"$f":"'Физ.разв. к 7г ч2. К.г.'!S15","v":0},{"$f":"'Физ.разв. к 7г ч2. К.г.'!T15","v":0},{"$f":"'Физ.разв. к 7г ч3. К.г. '!E15","v":0},{"$f":"'Физ.разв. к 7г ч3. К.г. '!F15","v":0},{"$f":"'Физ.разв. к 7г ч3. К.г. '!G15","v":0},{"$f":"'Физ.разв. к 7г ч3. К.г. '!H15","v":0},{"$f":"'Физ.разв. к 7г ч3. К.г. '!I15","v":0},{"$f":"'Физ.разв. к 7г ч3. К.г. '!J15","v":0},{"$f":"'Физ.разв. к 7г ч3. К.г. '!K15","v":0},{"$f":"'Физ.разв. к 7г ч3. К.г. '!L15","v":0},{"$f":"'Физ.разв. к 7г ч3. К.г. '!M15","v":0},{"$f":"'Физ.разв. к 7г ч3. К.г. '!N15","v":0},{"$f":"'Физ.разв. к 7г ч3. К.г. '!O15","v":0},{"$f":"'Худ.эст.к 7г ч1. К.г. '!E14","v":0},{"$f":"'Худ.эст.к 7г ч1. К.г. '!F14","v":0},{"$f":"'Худ.эст.к 7г ч1. К.г. '!G14","v":0},{"$f":"'Худ.эст.к 7г ч1. К.г. '!H14","v":0},{"$f":"'Худ.эст.к 7г ч1. К.г. '!I14","v":0},{"$f":"'Худ.эст.к 7г ч1. К.г. '!J14","v":0},{"$f":"'Худ.эст.к 7г ч1. К.г. '!K14","v":0},{"$f":"'Худ.эст.к 7г ч1. К.г. '!L14","v":0},{"$f":"'Худ.эст.к 7г ч1. К.г. '!M14","v":0},{"$f":"'Худ.эст.к 7г ч1. К.г. '!N14","v":0},{"$f":"'Худ.эст.к 7г ч1. К.г. '!O14","v":0},{"$f":"'Худ.эст.к 7г ч1. К.г. '!P14","v":0},{"$f":"'Худ.эст.к 7г ч1. К.г. '!Q14","v":0},{"$f":"'Худ.эст.к 7г ч2. К.г. '!E14","v":0},{"$f":"'Худ.эст.к 7г ч2. К.г. '!F14","v":0},{"$f":"'Худ.эст.к 7г ч2. К.г. '!G14","v":0},{"$f":"'Худ.эст.к 7г ч2. К.г. '!H14","v":0},{"$f":"'Худ.эст.к 7г ч2. К.г. '!I14","v":0},{"$f":"'Худ.эст.к 7г ч2. К.г. '!J14","v":0},{"$f":"'Худ.эст.к 7г ч2. К.г. '!K14","v":0},{"$f":"'Худ.эст.к 7г ч2. К.г. '!L14","v":0},{"$f":"'Худ.эст.к 7г ч2. К.г. '!M14","v":0},{"$f":"'Худ.эст.к 7г ч2. К.г. '!N14","v":0},{"$f":"'Худ.эст.к 7г ч2. К.г. '!O14","v":0},{"$f":"'Худ.эст.к 7г ч2. К.г. '!P14","v":0},{"$f":"'Худ.эст.к 7г ч2. К.г. '!Q14","v":0},{"$f":"'Худ.эст.к 7г ч3. К.г. '!E14","v":0},{"$f":"'Худ.эст.к 7г ч3. К.г. '!F14","v":0},{"$f":"'Худ.эст.к 7г ч3. К.г. '!G14","v":0},{"$f":"'Худ.эст.к 7г ч3. К.г. '!H14","v":0},{"$f":"'Худ.эст.к 7г ч3. К.г. '!I14","v":0},{"$f":"'Худ.эст.к 7г ч3. К.г. '!J14","v":0},{"$f":"'Худ.эст.к 7г ч3. К.г. '!K14","v":0},{"$f":"'Худ.эст.к 7г ч3. К.г. '!L14","v":0}]

{"sheet":"4","index":41,"n_rows":10,"n_cols":165,"rows_kept":10,"merged":[[3,104,3,110],[3,111,3,112],[3,113,3,115],[3,116,3,119],[3,120,3,123],[3,124,3,126],[3,127,3,130],[4,18,4,30],[4,31,4,38],[4,54,4,58],[4,59,4,62],[4,63,4,71],[4,72,4,76],[4,77,4,84],[4,104,4,106],[4,107,4,110],[4,111,7,111],[4,112,7,112],[4,113,7,113],[4,114,7,114],[4,115,7,115],[4,116,4,119],[4,120,5,120],[4,121,5,121],[4,122,5,122],[4,123,5,123],[4,124,7,124],[4,125,7,125],[4,126,7,126],[4,127,4,130],[4,131,4,143],[4,144,4,156],[4,157,5,162],[4,163,5,164],[5,1,5,17],[5,18,5,22],[5,23,5,25],[5,26,5,30],[5,32,5,34],[5,35,5,38],[5,40,5,44],[5,45,5,47],[5,48,5,53],[5,55,5,57],[5,59,7,59],[5,60,7,60],[5,61,7,61],[5,62,7,62],[5,63,5,65],[5,66,5,67],[5,68,5,69],[5,72,6,76],[5,77,5,80],[5,81,5,82],[5,83,7,83],[5,84,7,84],[5,85,5,86],[5,87,5,89],[5,90,5,92],[5,93,5,95],[5,96,5,99],[5,100,5,101],[5,102,5,103],[5,104,7,104],[5,105,7,105],[5,106,7,106],[5,107,7,107],[5,108,7,108],[5,109,7,109],[5,110,7,110],[5,116,7,116],[5,117,7,117],[5,118,7,118],[5,119,7,119],[5,127,7,127],[5,128,7,128],[5,129,7,129],[5,130,7,130],[5,135,5,136],[5,137,5,140],[5,141,5,142],[5,143,7,143],[5,144,5,145],[5,146,5,147],[5,148,5,149],[5,151,5,156],[6,0,7,0],[6,1,6,4],[6,7,6,9],[6,11,6,12],[6,13,6,14],[6,15,7,15],[6,16,7,16],[6,17,7,17],[6,18,7,18],[6,19,7,19],[6,20,7,20],[6,21,7,21],[6,22,7,22],[6,23,7,23],[6,24,7,24],[6,25,7,25],[6,26,7,26],[6,27,7,27],[6,28,7,28],[6,29,7,29],[6,30,7,30],[6,31,7,31],[6,32,7,32],[6,33,7,33],[6,34,7,34],[6,35,7,35],[6,36,7,36],[6,37,7,37],[6,38,7,38],[6,39,7,39],[6,40,7,40],[6,41,7,41],[6,42,7,42],[6,43,7,43],[6,44,7,44],[6,45,7,45],[6,46,7,46],[6,47,7,47],[6,48,7,48],[6,49,7,49],[6,50,7,50],[6,51,7,51],[6,52,7,52],[6,53,7,53],[6,54,6,58],[6,63,7,63],[6,64,7,64],[6,65,7,65],[6,66,7,66],[6,67,7,67],[6,68,7,68],[6,69,7,69],[6,70,7,70],[6,71,7,71],[6,81,7,81],[6,85,6,86],[6,87,6,89],[6,90,6,92],[6,93,6,95],[6,96,6,99],[6,100,6,101],[6,102,7,102],[6,103,7,103],[6,120,7,120],[6,121,7,121],[6,122,7,122],[6,123,7,123],[6,131,7,131],[6,132,7,132],[6,133,7,133],[6,134,7,134],[6,135,7,135],[6,136,7,136],[6,137,7,137],[6,138,7,138],[6,139,7,139],[6,140,7,140],[6,141,7,141],[6,142,7,142],[6,144,7,144],[6,145,7,145],[6,146,7,146],[6,147,7,147],[6,148,7,148],[6,149,7,149],[6,150,7,150],[6,151,7,151],[6,152,7,152],[6,153,7,153],[6,154,7,154],[6,155,7,155],[6,156,7,156],[6,157,7,157],[6,158,7,158],[6,159,7,159],[6,160,7,160],[6,161,7,161],[6,162,7,162],[6,163,7,163],[6,164,7,164]]}
[]
[]
[]
[{"$nulls":104},"Мелкая моторика",{"$nulls":6},"Подвижные игры",null,"Спорт. игры",null,null,"Спортивные упражнения",{"$nulls":3},"КГН",{"$nulls":3},"ЗОЖ",null,null,"Спортивные упражнения"]
[{"$nulls":18},"СОЦИАЛЬНО-КОММУНИКАТИВНОЕ РАЗВИТИЕ",{"$nulls":12},"РЕЧЕВОЕ РАЗВИТИЕ",{"$nulls":22},"Сенсорные эталоны ",{"$nulls":4},"Познавательные действия",{"$nulls":3},"Математические представления",{"$nulls":8},"Окружающий мир",{"$nulls":4},"Природа ",{"$nulls":26},"Координация рук и глаз",null,null,"Графические навыки",{"$nulls":3},"Ребенок использует в самостоятельной деятельности разнообразные по содержанию подвижные игры, проявляет элементы творчества в двигательной деятельности","Ребенок может организовать знакомые подвижные игры со сверстниками, сплотить команду, стремится внести свой вклад в результат команды","Ребенок владеет элементами спортивных игр (городки, баскетбол, футбол, хоккей, бадминтон, настольный теннис), может контролировать свои движения и управлять ими","Ребенок имеет представление о разных видах спорта (санный спорт, борьба, теннис, синхронное плавание и др.)","Ребенок имеет представление о спортивных событиях и достижениях отечественных спортсменов","Ребенок умеет кататься",{"$nulls":3},"Навыки соблюдения чистоты тела (правила личной гигиены)","Навыки культуры еды (прием пищи) ","Навыки поддержания порядка (правила поведения в быту) ","Навыки ухода за собой (одевание, раздевание) ","Ребенок соблюдает элементарные правила здорового образа жизни и личной гигиены, следит за своей осанкой, может оценить свое самочувствие","Ребенок регулярно выполняет физические упражнения","Ребенок имеет начальные представления о том, что такое здоровье, понимает, как поддержать, укрепить и сохранить его","Ребенок умеет кататься",{"$nulls":3},"Музыкальная деятельность",{"$nulls":12},"Изобразительная деятельность",{"$nulls":12},"Приобщение к искусству",{"$nulls":5},"Конструктивная деятельность"]
[null,"СОЦИАЛЬНО-КОММУНИКАТИВНОЕ РАЗВИТИЕ",{"$nulls":16},"Область формирования основ гражданственности и патриотизма",{"$nulls":4},"Сфера трудового воспитания",null,null,"Область формирования основ безопасного поведения",{"$nulls":4},"Общее речевое развитие","Формирование словаря",null,null,"Грамматический строй",{"$nulls":3},"Звуковая культура речи","Связная речь",{"$nulls":4},"ЧХЛ",null,null,"Подготовка к обучению грамоте",{"$nulls":5},"Цвет, оттенки","Форма, геометрические фигуры",null,null,"Величина","Ребенок самостоятельно выбирает способ осуществления разных видов познавательной деятельности","Ребенок интересуется субъективно новым и неизвестным в окружающем мире","Ребенок способен применять в жизненных и игровых ситуациях знания о количестве, форме, величине предметов, пространстве, времени","Ребенок имеет разнообразные познавательные умения: определяет противоречия. Формулирует задачу исследования, использует разные способы и средства проверки предположений (сравнение с эталонами, классификацию, систематизацию и др.)","Количество и счет",null,null,"Ориентировка во времени",null,"Ориентировка в пространстве",null,"Пространственно-количественные связи и отношения","Сравнение","Ребенок имеет представления, может показать на картинке и в естественной среде, может рассказать",{"$nulls":4},"Объекты живой природы",{"$nulls":3},"Объекты неживой природы, природные явления",null,"Ребенок стремится к самостоятельному экспериментированию","Ребенок знает правила поведения в природе, проявляет осознанное, бережное отношение к природе и ее ресурсам","Бросание, катание, ловля, метание",null,"Ползанье, лазанье",null,null,"Ходьба",null,null,"Бег",null,null,"Прыжки",{"$nulls":3},"Равновесие",null,"Строевые упражнения",null,"Ребенок выполняет графический диктант","Ребенок обводит по шаблону, по трафарету","Ребенок чертит линии с помощью линейки","Ребенок обводит по контуру, по точкам","Ребенок выполняет штриховку в различных направлениях","Ребенок закрашивает, не выходя за контур","Ребенок свободно владеет карандашом при рисовании округлых линий, завитков в разном направлении",{"$nulls":5},"на санках","на лыжах","на двухколесном велосипеде","на самокате",{"$nulls":7},"на санках","на лыжах","на двухколесном велосипеде","на самокате","Слушание","Пение ","Музыкально-ритмические движения","Песенное творчество","Игра на детских музыкальных инструментах",null,"Театрализованная деятельность",{"$nulls":3},"Танцевально-игровое творчество",null,"У ребенка развит музыкальный вкус, музыкальная память","Рисование ",null,"Лепка ",null,"Аппликация ",null,"Народное ДПИ","Прикладное творчество"]
[{"$f":"Список!B7","v":0},"Отношение к самому себе",{"$nulls":3},"Отношение к сверстникам","Отношение к взрослым","Эмоции",null,null,"Поведение","Семья",null,"Игровое поведение",null,"Ребенок имеет представление об изменениях позиции человека с возрастом","Ребенок имеет представление о школе, школьниках, учителях; стремится к школьному обучению, к познанию, освоению чтения, письма; демонстрирует формированные предпосылки к учебной деятельности и элементы готовности к школьному обучению","Ребенок имеет представление о нравственных качествах людей, их проявлении в поступках и взаимоотношениях","Ребенок имеет представление о признаках и характеристиках государства (территория государства и его границы, столица), атрибутах государственной власти, президенте, столице","Ребенок имеет представление о порядке использования государственной символики","Ребенок имеет представление о волонтерстве","Ребенок имеет представление о государственных праздниках, исторических событиях","Ребенок имеет представление о жизни людей в России, о многообразии стран и народов мира","Ребенок имеет представление об обмене ценностями в процессе производства и потребления товаров и услуг, о денежных отношениях, о реальной стоимости отдельных продуктов питания, игрушек, детских книг","Ребенок имеет представление о об основах финансовой грамоты, основах бережного потребления","Ребенок проявляет инициативность и самостоятельность в процессе самообслуживания, при выполнении трудовых поручений","Ребенок имеет представление о правила безопасного поведения в ситуациях, создающих угрозу жизни и здоровью (погас свет, остался один, потерялся, получил травму)","Ребенок имеет представление о правила безопасного поведения дома, на улице, в природе, в местах большого скопления людей, в магазине, на вокзале, в общественных метах, на праздниках и др.","Ребенок имеет представление о правилах безопасного использования цифровых ресурсов (мобильного телефона, планшета)","Ребенок имеет представление об элементарных правилах оказания первой помощи при первых признаках недомогания, травмах, ушибах","Ребенок проявляет самостоятельность при выполнении правил безопасного поведения","Ребенок владеет речью как средством коммуникации, ведет диалог, владеет коммуникативно-речевыми умениями","Ребенок подбирает точные слова для выражения мысли","Ребенок выполняет операцию классификации – деления освоенных понятий на группы на основе выявленных признаков","Ребенок использует в речи средства языковой выразительности: антонимы, синонимы, многозначные слова, метафоры, олицетворение","Ребенок образует сложные слова посредством слияния основ","Ребенок согласует в речи существительные с числительными, существительные с прилагательными","Ребенок образует по образцу существительные с суффиксами, глаголы с приставками","Ребенок образует в речи сравнительную и превосходную степени имен прилагательных","Ребенок правильно произносит все звуки","Ребенок может пересказать литературное произведение по ролям, близко к тексту, от лица литературного героя","Ребенок может составить описательный рассказ, соблюдая структуру описания","Ребенок может составить повествовательный рассказ по картине, из личного опыта, из коллективного опыта, по набору игрушек, соблюдая структуру повествования","Ребенок может составить рассказ -контаминацию (сочетание описания и повествования, описания и рассуждения)","Ребенок использует в процессе общения объяснительную речь, речь-доказательство, речевое планирование","Ребенок знает и осмысленно воспринимает литературные произведения различных жанров, имеет предпочтения","Ребенок определяет характеры персонажей, мотивы их поведения, оценивает поступки литературных героев","Ребенок проявляет интерес к книгам познавательного характера","Ребенок производит звуковой анализ четырехзвуковых и пятизвуковых слов","Ребенок может интонационно выделить звуки в слове, определить их последовательность, дать им характеристику, составить схему слова, выделить ударный гласный звук в слове","Ребенок может определить количество и последовательность слов в предложении","Ребенок может составить предложение с заданным количеством слов","Ребенок знает названия всех букв","Ребенок читает слоги","Ребенок различает и называет",{"$nulls":8},"Ребенок умеет считать в пределах 10 в прямом и обратном порядке","Ребенок знает состав чисел из двух меньших в пределах первого десятка","Ребенок решает простые арифметические задачи на сложение и вычитание","Ребенок имеет представление о календаре, как системе измерения времени","Ребенок умеет определять время по часам с точностью до четверти часа","Ребенок ориентируется на местности, по схеме, по плану","Ребенок знает способы ориентировки в двухмерном пространстве","Ребенок умеет измерять протяженность, массу и объем с помощью условной мерки; понимает взаимообратные отношения между мерой и результатом измерения","Ребенок сравнивает предметы по 4-6 основаниям с выделением сходства, отличия",{"$nulls":9},"Ребенок имеет представление об использовании человеком свойств неживой природы для хозяйственных нужд (ветряные мельницы, водохранилища, солнечные батареи, ледяные катки)",{"$nulls":3},"Ребенок выполняет различные упражнения с мячом, метание",null,"Ребенок выполняет разные виды ползанья, лазанья ",null,null,"Ребенок выполняет различные виды ходьбы",null,null,"Ребенок выполняет различные виды бега",null,null,"Ребенок выполняет различные виды прыжков",{"$nulls":3},"Ребенок выполняет",null,"Ребенок выполняет разные виды перестроений, построений, передвижений, размыкание и смыкание приставным шагом, повороты","Ребенок может рассчитаться на «первый – второй»",{"$nulls":16},"Ребенок владеет навыками личной гигиены","Ребенок владеет навыками культуры еды","Ребенок владеет навыками поддержания порядка","Ребенок владеет навыками ухода за собой",{"$nulls":7},"У ребенка развит навык восприятия звуков по высоте в пределах квинты-терции","У ребенка развиты певческий голос и вокально-слуховая координация","Ребёнок ритмично и выразительно двигается в соответствие с характером музыки","Ребенок способен самостоятельно придумать мелодию, используя в качестве образца русские народные песни","Ребенок может сыграть простую мелодию на металлофоне, свирели, ударных, и электронных музыкальных инструментах: трещотках, погремушках, треугольниках","Ребенок может исполнить музыкальное произведение в оркестре и в ансамбле","Ребенок проявляет самостоятельность при выборе литературного и музыкального материала для театральной постановки","Ребенок проявляет инициативу при изготовлении атрибутов и декораций к спектаклю","Ребенок имеет представление о средствах погружения в театральные образы (музыка, слова, декорации, грим, костюм и др.)","Ребенок умеет выразительно передавать образы в действии, мимике, пантомимике","Ребенок проявляет активность в доступных видах музыкальной исполнительской деятельности (игра в оркестре, пение, танцевальные движения и др.)","Ребенок помогает придумывать движения, отражающие содержание песни",null,"Ребенок может изобразить предметы по памяти и с натуры, передает их средствами рисунка (форма, пропорции, расположение)","Ребенок способен передавать в рисунке сюжет, строить композицию","Ребенок свободно использует приемы лепки, освоенные ранее (налеп, углубленный рельеф), применяет стеку","Ребенок умеет передавать пропорции, соотношение по величине, выразительность поз, движений, деталей","Ребенок умеет составлять узоры и декоративные композиции из геометрических и растительных элементов на листах бумаги разной формы","Ребенок может выполнить вырезание (симметричное из бумаги, сложенной вдвое; несколько предметов из частей бумаги, сложенной гармошкой)","Ребенок умеет создавать узоры по мотивам народных росписей","Ребенок может сложить бумагу в разных направлениях","Ребенок может сделать разметку с помощью шаблона","Ребенок может выполнить работу по образцу","Ребенок может создать объемную игрушку в технике «оригами»","Ребенок может создать объемную поделку из природного материала","Ребенок может вдеть нитку в иголку, завязать узелок, пришить пуговицу, петельку, выполнить шов «вперед иголка»","Ребенок умеет выделять, называть, группировать произведения по видам искусства: литература, музыка, изобразительное искусство, архитектура, театр, цирк","Ребенок имеет представление о видах изобразительного искусства: графика, декоративно-прикладное искусство, живопись, скульптура, архитектура, фотоискусство","Ребенок имеет представление о жанрах изобразительного искусства: натюрморт, пейзаж, портрет","Ребенок имеет представление о народном искусстве, фольклоре, музыке и художественных промыслах","Ребенок имеет представление о творческих профессиях: художник, композитор, музыкант, актер, артист балета","Ребенок имеет представление о культурно-досуговых местах: театр, музей, библиотека, выставка, кинотеатр, цирк и др.","Ребенок может провести анализ постройки (выделить основные части и характерные детали конструкций)","Ребенок может выполнить постройку по инструкции"]
[null,"Ребенок осознает и признает собственные ошибки, результат поставленных задач, определяет пути развития","Ребенок умеет договариваться и дружить, старается разрешать конфликтные ситуации конструктивными способами","Ребенок способен принимать собственные решения и проявлять инициативу","Ребенок осознанно относится к своему будущему, стремится быть полезным обществу","Ребенок без напоминаний использует в общении формулы словесной вежливости (приветствие, прощание, просьбы, извинения)","Ребенок без напоминаний использует в общении формулы словесной вежливости (приветствие, прощание, просьбы, извинения)","Ребенок понимает чувства и переживания окружающих по невербальным признакам; находит причины и следствия возникновения эмоций, проявляет эмпатию","Ребенок использует социально приемлемые способы проявления эмоций и доступные возрасту регуляции эмоциональных состояний","Ребенок распознает собственные чувства и эмоции, анализирует свои переживания и рассказывает о них","Ребенок самостоятельно соблюдает установленный порядок поведения в группе, регулирует собственную активность","Ребенок имеет представление о необходимости укрепления связи между поколениями, взаимной поддержке детей и взрослых","Ребенок имеет представление о семье, семейных и родственных отношениях (взаимные чувства, правила общения в семье, значимые и памятные события, досуг семьи, семейный бюджет)","Ребенок умеет сотрудничать со сверстниками (побуждает к обсуждению планов, советуется, поддерживает интерес к мнению, инициирует ситуации взаимопомощи, подчеркивает ценность каждого ребенка и его вклад в общее дело, выбирает партнеров по интересам, помогает устанавливать темп совместных действий)","Ребенок владеет разными способами и видами игры, различает условную и реальную ситуации, предлагает и объясняет замысел игры, комбинирует сюжеты на основе реальных, вымышленных ситуаций, выполняет несколько ролей в одной игре, подбирает разные средства для создания игровых образов, согласовывает свои интересы с интересами партнёров по игре",{"$nulls":39}," все цвета спектра и ахроматические цвета, оттенки","плоские и объемные геометрические фигуры; умеет выделять структуру геометрических фигур и устанавливать взаимосвязи между ними","Ребенок умеет классифицировать фигуры по внешним структурным признаками (округлые, многоугольники)","Ребенок владеет различными способами видоизменения геометрических фигур (наложение, соединение, разрезание и др.)","Ребенок умеет измерять длину, ширину, высоту с помощью условной мерки",{"$nulls":13}," о родном населенном пункте (название улиц, некоторых архитектурных особенностях, достопримечательностях), об истории, о выдающихся горожанах, традициях городской жизни"," о назначении общественных учреждений"," о разных видах специального транспорта"," о местах труда людей (завод, больница, магазин и др.)"," о местах отдыха людей","Ребенок имеет представление о наиболее ярких представителях животных и растений разных природных зон (пустыня, степь, тайга, тундра и др.), об их образе жизни, приспособлении к среде обитания, изменениях в жизни в разные сезоны года","Ребенок имеет представление о многообразии водных ресурсов (моря, океаны, реки, водопады и др.)","Ребенок имеет представление о многообразии полезных ископаемых (нефть, уголь, серебро, золото, алмазы и др.)","Ребенок имеет представление о жизненных потребностях, этапах роста и развития животных и растений",null,"Ребенок имеет представление о некоторых небесных телах (планеты, кометы, звезды)",null,null,"бросание вверх, о землю, ловля двумя руками, одной рукой, перебрасывание, передача, прокатывание, забрасывание, ведение","в цель из положения стоя, вдаль, в движущеюся цель","ползанье на четвереньках, на животе, на спине","влезание на гимнастическую стенку и спуск; перелезание с пролета на пролет по диагонали","лазанье по веревочной лестнице; выполнение упражнений на канате","обычная, гимнастическим шагом, скрестным шагом, спиной вперед, выпадами, с закрытыми глазами","приставными шагами назад, в приседе, с различными движениями рук","в различных построениях","в колонне по одному, врассыпную, парами, тройками, четверками","в сочетание с прыжками, высоко поднимая колени, захлестывая голени назад, выбрасывая прямые ноги вперед","челночный, наперегонки, из разных исходных положений, со скакалкой, по пересеченной местности, с наименьшим числом шагов, медленный, быстрый","подпрыгивания на двух ногах в чередовании с ходьбой, на месте и с поворот кругом","смещая ноги вправо-влево-вперед-назад","выпрыгивание на предметы; подпрыгивания вверх из глубокого приседа; прыжки на одной ноге","в длину с места/с разбега, в высоту с места/с разбега","стойка на носках, стойка на одной ноге с закрытыми глазами","кружение с закрытыми глазами, остановкой и сохранением заданной позы"]
["начало года",{"$f":"'Соц.ком.к 7г ч1 Н.г.'!E14","v":0},{"$f":"'Соц.ком.к 7г ч1 Н.г.'!F14","v":0},{"$f":"'Соц.ком.к 7г ч1 Н.г.'!G14","v":0},{"$f":"'Соц.ком.к 7г ч1 Н.г.'!H14","v":0},{"$f":"'Соц.ком.к 7г ч1 Н.г.'!I14","v":0},{"$f":"'Соц.ком.к 7г ч1 Н.г.'!J14","v":0},{"$f":"'Соц.ком.к 7г ч1 Н.г.'!K14","v":0},{"$f":"'Соц.ком.к 7г ч1 Н.г.'!L14","v":0},{"$f":"'Соц.ком.к 7г ч1 Н.г.'!M14","v":0},{"$f":"'Соц.ком.к 7г ч1 Н.г.'!N14","v":0},{"$f":"'Соц.ком.к 7г ч2 Н.г.'!E14","v":0},{"$f":"'Соц.ком.к 7г ч2 Н.г.'!F14","v":0},{"$f":"'Соц.ком.к 7г ч2 Н.г.'!G14","v":0},{"$f":"'Соц.ком.к 7г ч2 Н.г.'!H14","v":0},{"$f":"'Соц.ком.к 7г ч2 Н.г.'!I14","v":0},{"$f":"'Соц.ком.к 7г ч2 Н.г.'!J14","v":0},{"$f":"'Соц.ком.к 7г ч2 Н.г.'!K14","v":0},{"$f":"'Соц.ком. к 7г ч3 Н.г.'!E14","v":0},{"$f":"'Соц.ком. к 7г ч3 Н.г.'!F14","v":0},{"$f":"'Соц.ком. к 7г ч3 Н.г.'!G14","v":0},{"$f":"'Соц.ком. к 7г ч3 Н.г.'!H14","v":0},{"$f":"'Соц.ком. к 7г ч3 Н.г.'!I14","v":0},{"$f":"'Соц.ком. к 7г ч3 Н.г.'!J14","v":0},{"$f":"'Соц.ком. к 7г ч3 Н.г.'!K14","v":0},{"$f":"'Соц.ком. к 7г ч3 Н.г.'!L14","v":0},{"$f":"'Соц.ком. к 7г ч4 Н.г.'!E14","v":0},{"$f":"'Соц.ком. к 7г ч4 Н.г.'!F14","v":0},{"$f":"'Соц.ком. к 7г ч4 Н.г.'!G14","v":0},{"$f":"'Соц.ком. к 7г ч4 Н.г.'!H14","v":0},{"$f":"'Соц.ком. к 7г ч4 Н.г.'!I14","v":0},{"$f":"'Реч.разв.к 7г ч1 Н.г.'!E14","v":0},{"$f":"'Реч.разв.к 7г ч1 Н.г.'!F14","v":0},{"$f":"'Реч.разв.к 7г ч1 Н.г.'!G14","v":0},{"$f":"'Реч.разв.к 7г ч1 Н.г.'!H14","v":0},{"$f":"'Реч.разв.к 7г ч1 Н.г.'!I14","v":0},{"$f":"'Реч.разв.к 7г ч1 Н.г.'!J14","v":0},{"$f":"'Реч.разв.к 7г ч1 Н.г.'!K14","v":0},{"$f":"'Реч.разв.к 7г ч1 Н.г.'!L14","v":0},{"$f":"'Реч.разв.к 7г ч2 Н.г.'!E14","v":0},{"$f":"'Реч.разв.к 7г ч2 Н.г.'!F14","v":0},{"$f":"'Реч.разв.к 7г ч2 Н.г.'!G14","v":0},{"$f":"'Реч.разв.к 7г ч2 Н.г.'!H14","v":0},{"$f":"'Реч.разв.к 7г ч2 Н.г.'!I14","v":0},{"$f":"'Реч.разв.к 7г ч2 Н.г.'!J14","v":0},{"$f":"'Реч.разв.к 7г ч2 Н.г.'!K14","v":0},{"$f":"'Реч.разв.к 7г ч2 Н.г.'!L14","v":0},{"$f":"'Реч.разв.к 7г ч2 Н.г.'!M14","v":0},{"$f":"'Реч.разв.к 7г ч3. Н.г.'!E14","v":0},{"$f":"'Реч.разв.к 7г ч3. Н.г.'!F14","v":0},{"$f":"'Реч.разв.к 7г ч3. Н.г.'!G14","v":0},{"$f":"'Реч.разв.к 7г ч3. Н.г.'!H14","v":0},{"$f":"'Реч.разв.к 7г ч3. Н.г.'!I14","v":0},{"$f":"'Реч.разв.к 7г ч3. Н.г.'!J14","v":0},{"$f":"'Позн.разв. к 7г ч1. Н.г.'!E15","v":0},{"$f":"'Позн.разв. к 7г ч1. Н.г.'!F15","v":0},{"$f":"'Позн.разв. к 7г ч1. Н.г.'!G15","v":0},{"$f":"'Позн.разв. к 7г ч1. Н.г.'!H15","v":0},{"$f":"'Позн.разв. к 7г ч1. Н.г.'!I15","v":0},{"$f":"'Позн.разв. к 7г ч1. Н.г.'!J15","v":0},{"$f":"'Позн.разв. к 7г ч1. Н.г.'!K15","v":0},{"$f":"'Позн.разв. к 7г ч1. Н.г.'!L15","v":0},{"$f":"'Позн.разв. к 7г ч1. Н.г.'!M15","v":0},{"$f":"'Позн.разв. к 7г ч2. Н.г.'!E15","v":0},{"$f":"'Позн.разв. к 7г ч2. Н.г.'!F15","v":0},{"$f":"'Позн.разв. к 7г ч2. Н.г.'!G15","v":0},{"$f":"'Позн.разв. к 7г ч2. Н.г.'!H15","v":0},{"$f":"'Позн.разв. к 7г ч2. Н.г.'!I15","v":0},{"$f":"'Позн.разв. к 7г ч2. Н.г.'!J15","v":0},{"$f":"'Позн.разв. к 7г ч2. Н.г.'!K15","v":0},{"$f":"'Позн.разв. к 7г ч2. Н.г.'!L15","v":0},{"$f":"'Позн.разв. к 7г ч2. Н.г.'!M15","v":0},{"$f":"'Позн.разв. к 7г ч3. Н.г.'!E15","v":0},{"$f":"'Позн.разв. к 7г ч3. Н.г.'!F15","v":0},{"$f":"'Позн.разв. к 7г ч3. Н.г.'!G15","v":0},{"$f":"'Позн.разв. к 7г ч3. Н.г.'!H15","v":0},{"$f":"'Позн.разв. к 7г ч3. Н.г.'!I15","v":0},{"$f":"'Позн.разв. к 7г ч3. Н.г.'!J15","v":0},{"$f":"'Позн.разв. к 7г ч3. Н.г.'!K15","v":0},{"$f":"'Позн.разв. к 7г ч3. Н.г.'!L15","v":0},{"$f":"'Позн.разв. к 7г ч3. Н.г.'!M15","v":0},{"$f":"'Позн.разв. к 7г ч3. Н.г.'!N15","v":0},{"$f":"'Позн.разв. к 7г ч3. Н.г.'!O15","v":0},{"$f":"'Позн.разв. к 7г ч3. Н.г.'!P15","v":0},{"$f":"'Позн.разв. к 7г ч3. Н.г.'!Q15","v":0},{"$f":"'Физ.разв. к 7г ч1. Н.г.'!E15","v":0},{"$f":"'Физ.разв. к 7г ч1. Н.г.'!F15","v":0},{"$f":"'Физ.разв. к 7г ч1. Н.г.'!G15","v":0},{"$f":"'Физ.разв. к 7г ч1. Н.г.'!H15","v":0},{"$f":"'Физ.разв. к 7г ч1. Н.г.'!I15","v":0},{"$f":"'Физ.разв. к 7г ч1. Н.г.'!J15","v":0},{"$f":"'Физ.разв. к 7г ч1. Н.г.'!K15","v":0},{"$f":"'Физ.разв. к 7г ч1. Н.г.'!L15","v":0},{"$f":"'Физ.разв. к 7г ч1. Н.г.'!M15","v":0},{"$f":"'Физ.разв. к 7г ч1. Н.г.'!N15","v":0},{"$f":"'Физ.разв. к 7г ч1. Н.г.'!O15","v":0},{"$f":"'Физ.разв. к 7г ч1. Н.г.'!P15","v":0},{"$f":"'Физ.разв. к 7г ч1. Н.г.'!Q15","v":0},{"$f":"'Физ.разв. к 7г ч1. Н.г.'!R15","v":0},{"$f":"'Физ.разв. к 7г ч1. Н.г.'!S15","v":0},{"$f":"'Физ.разв. к 7г ч1. Н.г.'!T15","v":0},{"$f":"'Физ.разв. к 7г ч1. Н.г.'!U15","v":0},{"$f":"'Физ.разв. к 7г ч1. Н.г.'!V15","v":0},{"$f":"'Физ.разв. к 7г ч1. Н.г.'!W15","v":0},{"$f":"'Физ.разв. к 7г ч2. Н.г.'!E16","v":0},{"$f":"'Физ.разв. к 7г ч2. Н.г.'!F16","v":0},{"$f":"'Физ.разв. к 7г ч2. Н.г.'!G16","v":0},{"$f":"'Физ.разв. к 7г ч2. Н.г.'!H16","v":0},{"$f":"'Физ.разв. к 7г ч2. Н.г.'!I16","v":0},{"$f":"'Физ.разв. к 7г ч2. Н.г.'!J16","v":0},{"$f":"'Физ.разв. к 7г ч2. Н.г.'!K16","v":0},{"$f":"'Физ.разв. к 7г ч2. Н.г.'!L16","v":0},{"$f":"'Физ.разв. к 7г ч2. Н.г.'!M16","v":0},{"$f":"'Физ.разв. к 7г ч2. Н.г.'!N16","v":0},{"$f":"'Физ.разв. к 7г ч2. Н.г.'!O16","v":0},{"$f":"'Физ.разв. к 7г ч2. Н.г.'!P16","v":0},{"$f":"'Физ.разв. к 7г ч2. Н.г.'!Q16","v":0},{"$f":"'Физ.разв. к 7г ч2. Н.г.'!R16","v":0},{"$f":"'Физ.разв. к 7г ч2. Н.г.'!S16","v":0},{"$f":"'Физ.разв. к 7г ч2. Н.г.'!T16","v":0},{"$f":"'Физ.разв. к 7г ч3. Н.г.'!E16","v":0},{"$f":"'Физ.разв. к 7г ч3. Н.г.'!F16","v":0},{"$f":"'Физ.разв. к 7г ч3. Н.г.'!G16","v":0},{"$f":"'Физ.разв. к 7г ч3. Н.г.'!H16","v":0},{"$f":"'Физ.разв. к 7г ч3. Н.г.'!I16","v":0},{"$f":"'Физ.разв. к 7г ч3. Н.г.'!J16","v":0},{"$f":"'Физ.разв. к 7г ч3. Н.г.'!K16","v":0},{"$f":"'Физ.разв. к 7г ч3. Н.г.'!L16","v":0},{"$f":"'Физ.разв. к 7г ч3. Н.г.'!M16","v":0},{"$f":"'Физ.разв. к 7г ч3. Н.г.'!N16","v":0},{"$f":"'Физ.разв. к 7г ч3. Н.г.'!O16","v":0},{"$f":"'Худ.эст.к 7г ч1. Н.г.'!E15","v":0},{"$f":"'Худ.эст.к 7г ч1. Н.г.'!F15","v":0},{"$f":"'Худ.эст.к 7г ч1. Н.г.'!G15","v":0},{"$f":"'Худ.эст.к 7г ч1. Н.г.'!H15","v":0},{"$f":"'Худ.эст.к 7г ч1. Н.г.'!I15","v":0},{"$f":"'Худ.эст.к 7г ч1. Н.г.'!J15","v":0},{"$f":"'Худ.эст.к 7г ч1. Н.г.'!K15","v":0},{"$f":"'Худ.эст.к 7г ч1. Н.г.'!L15","v":0},{"$f":"'Худ.эст.к 7г ч1. Н.г.'!M15","v":0},{"$f":"'Худ.эст.к 7г ч1. Н.г.'!N15","v":0},{"$f":"'Худ.эст.к 7г ч1. Н.г.'!O15","v":0},{"$f":"'Худ.эст.к 7г ч1. Н.г.'!P15","v":0},{"$f":"'Худ.эст.к 7г ч1. Н.г.'!Q15","v":0},{"$f":"'Худ.эст.к 7г ч2. Н.г.'!E15","v":0},{"$f":"'Худ.эст.к 7г ч2. Н.г.'!F15","v":0},{"$f":"'Худ.эст.к 7г ч2. Н.г.'!G15","v":0},{"$f":"'Худ.эст.к 7г ч2. Н.г.'!H15","v":0},{"$f":"'Худ.эст.к 7г ч2. Н.г.'!I15","v":0},{"$f":"'Худ.эст.к 7г ч2. Н.г.'!J15","v":0},{"$f":"'Худ.эст.к 7г ч2. Н.г.'!K15","v":0},{"$f":"'Худ.эст.к 7г ч2. Н.г.'!L15","v":0},{"$f":"'Худ.эст.к 7г ч2. Н.г.'!M15","v":0},{"$f":"'Худ.эст.к 7г ч2. Н.г.'!N15","v":0},{"$f":"'Худ.эст.к 7г ч2. Н.г.'!O15","v":0},{"$f":"'Худ.эст.к 7г ч2. Н.г.'!P15","v":0},{"$f":"'Худ.эст.к 7г ч2. Н.г.'!Q15","v":0},{"$f":"'Худ.эст.к 7г ч3. Н.г.'!E15","v":0},{"$f":"'Худ.эст.к 7г ч3. Н.г.'!F15","v":0},{"$f":"'Худ.эст.к 7г ч3. Н.г.'!G15","v":0},{"$f":"'Худ.эст.к 7г ч3. Н.г.'!H15","v":0},{"$f":"'Худ.эст.к 7г ч3. Н.г.'!I15","v":0},{"$f":"'Худ.эст.к 7г ч3. Н.г.'!J15","v":0},{"$f":"'Худ.эст.к 7г ч3. Н.г.'!K15","v":0},{"$f":"'Худ.эст.к 7г ч3. Н.г.'!L15","v":0}]
["конец года",{"$f":"'Соц.ком.к 7г ч1 К.г.'!E14","v":0},{"$f":"'Соц.ком.к 7г ч1 К.г.'!F14","v":0},{"$f":"'Соц.ком.к 7г ч1 К.г.'!G14","v":0},{"$f":"'Соц.ком.к 7г ч1 К.г.'!H14","v":0},{"$f":"'Соц.ком.к 7г ч1 К.г.'!I14","v":0},{"$f":"'Соц.ком.к 7г ч1 К.г.'!J14","v":0},{"$f":"'Соц.ком.к 7г ч1 К.г.'!K14","v":0},{"$f":"'Соц.ком.к 7г ч1 К.г.'!L14","v":0},{"$f":"'Соц.ком.к 7г ч1 К.г.'!M14","v":0},{"$f":"'Соц.ком.к 7г ч1 К.г.'!N14","v":0},{"$f":"'Соц.ком.к 7г ч2 К.г.'!E14","v":0},{"$f":"'Соц.ком.к 7г ч2 К.г.'!F14","v":0},{"$f":"'Соц.ком.к 7г ч2 К.г.'!G14","v":0},{"$f":"'Соц.ком.к 7г ч2 К.г.'!H14","v":0},{"$f":"'Соц.ком.к 7г ч2 К.г.'!I14","v":0},{"$f":"'Соц.ком.к 7г ч2 К.г.'!J14","v":0},{"$f":"'Соц.ком.к 7г ч2 К.г.'!K14","v":0},{"$f":"'Соц.ком. к 7г ч3 К.г.'!E14","v":0},{"$f":"'Соц.ком. к 7г ч3 К.г.'!F14","v":0},{"$f":"'Соц.ком. к 7г ч3 К.г.'!G14","v":0},{"$f":"'Соц.ком. к 7г ч3 К.г.'!H14","v":0},{"$f":"'Соц.ком. к 7г ч3 К.г.'!I14","v":0},{"$f":"'Соц.ком. к 7г ч3 К.г.'!J14","v":0},{"$f":"'Соц.ком. к 7г ч3 К.г.'!K14","v":0},{"$f":"'Соц.ком. к 7г ч3 К.г.'!L14","v":0},{"$f":"'Соц.ком. к 7г ч4 К.г.'!E14","v":0},{"$f":"'Соц.ком. к 7г ч4 К.г.'!F14","v":0},{"$f":"'Соц.ком. к 7г ч4 К.г.'!G14","v":0},{"$f":"'Соц.ком. к 7г ч4 К.г.'!H14","v":0},{"$f":"'Соц.ком. к 7г ч4 К.г.'!I14","v":0},{"$f":"'Реч.разв.к 7г ч1 К.г.'!E14","v":0},{"$f":"'Реч.разв.к 7г ч1 К.г.'!F14","v":0},{"$f":"'Реч.разв.к 7г ч1 К.г.'!G14","v":0},{"$f":"'Реч.разв.к 7г ч1 К.г.'!H14","v":0},{"$f":"'Реч.разв.к 7г ч1 К.г.'!I14","v":0},{"$f":"'Реч.разв.к 7г ч1 К.г.'!J14","v":0},{"$f":"'Реч.разв.к 7г ч1 К.г.'!K14","v":0},{"$f":"'Реч.разв.к 7г ч1 К.г.'!L14","v":0},{"$f":"'Реч.разв.к 7г ч2 К.г. '!E14","v":0},{"$f":"'Реч.разв.к 7г ч2 К.г. '!F14","v":0},{"$f":"'Реч.разв.к 7г ч2 К.г. '!G14","v":0},{"$f":"'Реч.разв.к 7г ч2 К.г. '!H14","v":0},{"$f":"'Реч.разв.к 7г ч2 К.г. '!I14","v":0},{"$f":"'Реч.разв.к 7г ч2 К.г. '!J14","v":0},{"$f":"'Реч.разв.к 7г ч2 К.г. '!K14","v":0},{"$f":"'Реч.разв.к 7г ч2 К.г. '!L14","v":0},{"$f":"'Реч.разв.к 7г ч2 К.г. '!M14","v":0},{"$f":"'Реч.разв.к 7г ч3. К.г. '!E14","v":0},{"$f":"'Реч.разв.к 7г ч3. К.г. '!F14","v":0},{"$f":"'Реч.разв.к 7г ч3. К.г. '!G14","v":0},{"$f":"'Реч.разв.к 7г ч3. К.г. '!H14","v":0},{"$f":"'Реч.разв.к 7г ч3. К.г. '!I14","v":0},{"$f":"'Реч.разв.к 7г ч3. К.г. '!J14","v":0},{"$f":"'Позн.разв. к 7г ч1. К.г. '!E15","v":0},{"$f":"'Позн.разв. к 7г ч1. К.г. '!F15","v":0},{"$f":"'Позн.разв. к 7г ч1. К.г. '!G15","v":0},{"$f":"'Позн.разв. к 7г ч1. К.г. '!H15","v":0},{"$f":"'Позн.разв. к 7г ч1. К.г. '!I15","v":0},{"$f":"'Позн.разв. к 7г ч1. К.г. '!J15","v":0},{"$f":"'Позн.разв. к 7г ч1. К.г. '!K15","v":0},{"$f":"'Позн.разв. к 7г ч1. К.г. '!L15","v":0},{"$f":"'Позн.разв. к 7г ч1. К.г. '!M15","v":0},{"$f":"'Позн.разв. к 7г ч2. К.г.'!E15","v":0},{"$f":"'Позн.разв. к 7г ч2. К.г.'!F15","v":0},{"$f":"'Позн.разв. к 7г ч2. К.г.'!G15","v":0},{"$f":"'Позн.разв. к 7г ч2. К.г.'!H15","v":0},{"$f":"'Позн.разв. к 7г ч2. К.г.'!I15","v":0},{"$f":"'Позн.разв. к 7г ч2. К.г.'!J15","v":0},{"$f":"'Позн.разв. к 7г ч2. К.г.'!K15","v":0},{"$f":"'Позн.разв. к 7г ч2. К.г.'!L15","v":0},{"$f":"'Позн.разв. к 7г ч2. К.г.'!M15","v":0},{"$f":"'Позн.разв. к 7г ч3. К.г. '!E15","v":0},{"$f":"'Позн.разв. к 7г ч3. К.г. '!F15","v":0},{"$f":"'Позн.разв. к 7г ч3. К.г. '!G15","v":0},{"$f":"'Позн.разв. к 7г ч3. К.г. '!H15","v":0},{"$f":"'Позн.разв. к 7г ч3. К.г. '!I15","v":0},{"$f":"'Позн.разв. к 7г ч3. К.г. '!J15","v":0},{"$f":"'Позн.разв. к 7г ч3. К.г. '!K15","v":0},{"$f":"'Позн.разв. к 7г ч3. К.г. '!L15","v":0},{"$f":"'Позн.разв. к 7г ч3. К.г. '!M15","v":0},{"$f":"'Позн.разв. к 7г ч3. К.г. '!N15","v":0},{"$f":"'Позн.разв. к 7г ч3. К.г. '!O15","v":0},{"$f":"'Позн.разв. к 7г ч3. К.г. '!P15","v":0},{"$f":"'Позн.разв. к 7г ч3. К.г. '!Q15","v":0},{"$f":"'Физ.разв. к 7г ч1. К.г. '!E15","v":0},{"$f":"'Физ.разв. к 7г ч1. К.г. '!F15","v":0},{"$f":"'Физ.разв. к 7г ч1. К.г. '!G15","v":0},{"$f":"'Физ.разв. к 7г ч1. К.г. '!H15","v":0},{"$f":"'Физ.разв. к 7г ч1. К.г. '!I15","v":0},{"$f":"'Физ.разв. к 7г ч1. К.г. '!J15","v":0},{"$f":"'Физ.разв. к 7г ч1. К.г. '!K15","v":0},{"$f":"'Физ.разв. к 7г ч1. К.г. '!L15","v":0},{"$f":"'Физ.разв. к 7г ч1. К.г. '!M15","v":0},{"$f":"'Физ.разв. к 7г ч1. К.г. '!N15","v":0},{"$f":"'Физ.разв. к 7г ч1. К.г. '!O15","v":0},{"$f":"'Физ.разв. к 7г ч1. К.г. '!P15","v":0},{"$f":"'Физ.разв. к 7г ч1. К.г. '!Q15","v":0},{"$f":"'Физ.разв. к 7г ч1. К.г. '!R15","v":0},{"$f":"'Физ.разв. к 7г ч1. К.г. '!S15","v":0},{"$f":"'Физ.разв. к 7г ч1. К.г. '!T15","v":0},{"$f":"'Физ.разв. к 7г ч1. К.г. '!U15","v":0},{"$f":"'Физ.разв. к 7г ч1. К.г. '!V15","v":0},{"$f":"'Физ.разв. к 7г ч1. К.г. '!W15","v":0},{"$f":"'Физ.разв. к 7г ч2. К.г.'!E16","v":0},{"$f":"'Физ.разв. к 7г ч2. К.г.'!F16","v":0},{"$f":"'Физ.разв. к 7г ч2. К.г.'!G16","v":0},{"$f":"'Физ.разв. к 7г ч2. К.г.'!H16","v":0},{"$f":"'Физ.разв. к 7г ч2. К.г.'!I16","v":0},{"$f":"'Физ.разв. к 7г ч2. К.г.'!J16","v":0},{"$f":"'Физ.разв. к 7г ч2. К.г.'!K16","v":0},{"$f":"'Физ.разв. к 7г ч2. К.г.'!L16","v":0},{"$f":"'Физ.разв. к 7г ч2. К.г.'!M16","v":0},{"$f":"'Физ.разв. к 7г ч2. К.г.'!N16","v":0},{"$f":"'Физ.разв. к 7г ч2. К.г.'!O16","v":0},{"$f":"'Физ.разв. к 7г ч2. К.г.'!P16","v":0},{"$f":"'Физ.разв. к 7г ч2. К.г.'!Q16","v":0},{"$f":"'Физ.разв. к 7г ч2. К.г.'!R16","v":0},{"$f":"'Физ.разв. к 7г ч2. К.г.'!S16","v":0},{"$f":"'Физ.разв. к 7г ч2. К.г.'!T16","v":0},{"$f":"'Физ.разв. к 7г ч3. К.г. '!E16","v":0},{"$f":"'Физ.разв. к 7г ч3. К.г. '!F16","v":0},{"$f":"'Физ.разв. к 7г ч3. К.г. '!G16","v":0},{"$f":"'Физ.разв. к 7г ч3. К.г. '!H16","v":0},{"$f":"'Физ.разв. к 7г ч3. К.г. '!I16","v":0},{"$f":"'Физ.разв. к 7г ч3. К.г. '!J16","v":0},{"$f":"'Физ.разв. к 7г ч3. К.г. '!K16","v":0},{"$f":"'Физ.разв. к 7г ч3. К.г. '!L16","v":0},{"$f":"'Физ.разв. к 7г ч3. К.г. '!M16","v":0},{"$f":"'Физ.разв. к 7г ч3. К.г. '!N16","v":0},{"$f":"'Физ.разв. к 7г ч3. К.г. '!O16","v":0},{"$f":"'Худ.эст.к 7г ч1. К.г. '!E15","v":0},{"$f":"'Худ.эст.к 7г ч1. К.г. '!F15","v":0},{"$f":"'Худ.эст.к 7г ч1. К.г. '!G15","v":0},{"$f":"'Худ.эст.к 7г ч1. К.г. '!H15","v":0},{"$f":"'Худ.эст.к 7г ч1. К.г. '!I15","v":0},{"$f":"'Худ.эст.к 7г ч1. К.г. '!J15","v":0},{"$f":"'Худ.эст.к 7г ч1. К.г. '!K15","v":0},{"$f":"'Худ.эст.к 7г ч1. К.г. '!L15","v":0},{"$f":"'Худ.эст.к 7г ч1. К.г. '!M15","v":0},{"$f":"'Худ.эст.к 7г ч1. К.г. '!N15","v":0},{"$f":"'Худ.эст.к 7г ч1. К.г. '!O15","v":0},{"$f":"'Худ.эст.к 7г ч1. К.г. '!P15","v":0},{"$f":"'Худ.эст.к 7г ч1. К.г. '!Q15","v":0},{"$f":"'Худ.эст.к 7г ч2. К.г. '!E15","v":0},{"$f":"'Худ.эст.к 7г ч2. К.г. '!F15","v":0},{"$f":"'Худ.эст.к 7г ч2. К.г. '!G15","v":0},{"$f":"'Худ.эст.к 7г ч2. К.г. '!H15","v":0},{"$f":"'Худ.эст.к 7г ч2. К.г. '!I15","v":0},{"$f":"'Худ.эст.к 7г ч2. К.г. '!J15","v":0},{"$f":"'Худ.эст.к 7г ч2. К.г. '!K15","v":0},{"$f":"'Худ.эст.к 7г ч2. К.г. '!L15","v":0},{"$f":"'Худ.эст.к 7г ч2. К.г. '!M15","v":0},{"$f":"'Худ.эст.к 7г ч2. К.г. '!N15","v":0},{"$f":"'Худ.эст.к 7г ч2. К.г. '!O15","v":0},{"$f":"'Худ.эст.к 7г ч2. К.г. '!P15","v":0},{"$f":"'Худ.эст.к 7г ч2. К.г. '!Q15","v":0},{"$f":"'Худ.эст.к 7г ч3. К.г. '!E15","v":0},{"$f":"'Худ.эст.к 7г ч3. К.г. '!F15","v":0},{"$f":"'Худ.эст.к 7г ч3. К.г. '!G15","v":0},{"$f":"'Худ.эст.к 7г ч3. К.г. '!H15","v":0},{"$f":"'Худ.эст.к 7г ч3. К.г. '!I15","v":0},{"$f":"'Худ.эст.к 7г ч3. К.г. '!J15","v":0},{"$f":"'Худ.эст.к 7г ч3. К.г. '!K15","v":0},{"$f":"'Худ.эст.к 7г ч3. К.г. '!L15","v":0}]

{"sheet":"5","index":42,"n_rows":7,"n_cols":165,"rows_kept":7,"merged":[[0,104,0,110],[0,111,0,112],[0,113,0,115],[0,116,0,119],[0,120,0,123],[0,124,0,126],[0,127,0,130],[1,18,1,30],[1,31,1,38],[1,54,1,58],[1,59,1,62],[1,63,1,71],[1,72,1,76],[1,77,1,84],[1,104,1,106],[1,107,1,110],[1,111,4,111],[1,112,4,112],[1,113,4,113],[1,114,4,114],[1,115,4,115],[1,116,1,119],[1,120,2,120],[1,121,2,121],[1,122,2,122],[1,123,2,123],[1,124,4,124],[1,125,4,125],[1,126,4,126],[1,127,1,130],[1,131,1,143],[1,144,1,156],[1,157,2,162],[1,163,2,164],[2,1,2,17],[2,18,2,22],[2,23,2,25],[2,26,2,30],[2,32,2,34],[2,35,2,38],[2,40,2,44],[2,45,2,47],[2,48,2,53],[2,55,2,57],[2,59,4,59],[2,60,4,60],[2,61,4,61],[2,62,4,62],[2,63,2,65],[2,66,2,67],[2,68,2,69],[2,72,3,76],[2,77,2,80],[2,81,2,82],[2,83,4,83],[2,84,4,84],[2,85,2,86],[2,87,2,89],[2,90,2,92],[2,93,2,95],[2,96,2,99],[2,100,2,101],[2,102,2,103],[2,104,4,104],[2,105,4,105],[2,106,4,106],[2,107,4,107],[2,108,4,108],[2,109,4,109],[2,110,4,110],[2,116,4,116],[2,117,4,117],[2,118,4,118],[2,119,4,119],[2,127,4,127],[2,128,4,128],[2,129,4,129],[2,130,4,130],[2,135,2,136],[2,137,2,140],[2,141,2,142],[2,143,4,143],[2,144,2,145],[2,146,2,147],[2,148,2,149],[2,151,2,156],[3,0,4,0],[3,1,3,4],[3,7,3,9],[3,11,3,12],[3,13,3,14],[3,15,4,15],[3,16,4,16],[3,17,4,17],[3,18,4,18],[3,19,4,19],[3,20,4,20],[3,21,4,21],[3,22,4,22],[3,23,4,23],[3,24,4,24],[3,25,4,25],[3,26,4,26],[3,27,4,27],[3,28,4,28],[3,29,4,29],[3,30,4,30],[3,31,4,31],[3,32,4,32],[3,33,4,33],[3,34,4,34],[3,35,4,35],[3,36,4,36],[3,37,4,37],[3,38,4,38],[3,39,4,39],[3,40,4,40],[3,41,4,41],[3,42,4,42],[3,43,4,43],[3,44,4,44],[3,45,4,45],[3,46,4,46],[3,47,4,47],[3,48,4,48],[3,49,4,49],[3,50,4,50],[3,51,4,51],[3,52,4,52],[3,53,4,53],[3,54,3,58],[3,63,4,63],[3,64,4,64],[3,65,4,65],[3,66,4,66],[3,67,4,67],[3,68,4,68],[3,69,4,69],[3,70,4,70],[3,71,4,71],[3,81,4,81],[3,85,3,86],[3,87,3,89],[3,90,3,92],[3,93,3,95],[3,96,3,99],[3,100,3,101],[3,102,4,102],[3,103,4,103],[3,120,4,120],[3,121,4,121],[3,122,4,122],[3,123,4,123],[3,131,4,131],[3,132,4,132],[3,133,4,133],[3,134,4,134],[3,135,4,135],[3,136,4,136],[3,137,4,137],[3,138,4,138],[3,139,4,139],[3,140,4,140],[3,141,4,141],[3,142,4,142],[3,144,4,144],[3,145,4,145],[3,146,4,146],[3,147,4,147],[3,148,4,148],[3,149,4,149],[3,150,4,150],[3,151,4,151],[3,152,4,152],[3,153,4,153],[3,154,4,154],[3,155,4,155],[3,156,4,156],[3,157,4,157],[3,158,4,158],[3,159,4,159],[3,160,4,160],[3,161,4,161],[3,162,4,162],[3,163,4,163],[3,164,4,164]]}
[{"$nulls":104},"Мелкая моторика",{"$nulls":6},"Подвижные игры",null,"Спорт. игры",null,null,"Спортивные упражнения",{"$nulls":3},"КГН",{"$nulls":3},"ЗОЖ",null,null,"Спортивные упражнения"]
[{"$nulls":18},"СОЦИАЛЬНО-КОММУНИКАТИВНОЕ РАЗВИТИЕ",{"$nulls":12},"РЕЧЕВОЕ РАЗВИТИЕ",{"$nulls":22},"Сенсорные эталоны ",{"$nulls":4},"Познавательные действия",{"$nulls":3},"Математические представления",{"$nulls":8},"Окружающий мир",{"$nulls":4},"Природа ",{"$nulls":26},"Координация рук и глаз",null,null,"Графические навыки",{"$nulls":3},"Ребенок использует в самостоятельной деятельности разнообразные по содержанию подвижные игры, проявляет элементы творчества в двигательной деятельности","Ребенок может организовать знакомые подвижные игры со сверстниками, сплотить команду, стремится внести свой вклад в результат команды","Ребенок владеет элементами спортивных игр (городки, баскетбол, футбол, хоккей, бадминтон, настольный теннис), может контролировать свои движения и управлять ими","Ребенок имеет представление о разных видах спорта (санный спорт, борьба, теннис, синхронное плавание и др.)","Ребенок имеет представление о спортивных событиях и достижениях отечественных спортсменов","Ребенок умеет кататься",{"$nulls":3},"Навыки соблюдения чистоты тела (правила личной гигиены)","Навыки культуры еды (прием пищи) ","Навыки поддержания порядка (правила поведения в быту) ","Навыки ухода за собой (одевание, раздевание) ","Ребенок соблюдает элементарные правила здорового образа жизни и личной гигиены, следит за своей осанкой, может оценить свое самочувствие","Ребенок регулярно выполняет физические упражнения","Ребенок имеет начальные представления о том, что такое здоровье, понимает, как поддержать, укрепить и сохранить его","Ребенок умеет кататься",{"$nulls":3},"Музыкальная деятельность",{"$nulls":12},"Изобразительная деятельность",{"$nulls":12},"Приобщение к искусству",{"$nulls":5},"Конструктивная деятельность"]
[null,"СОЦИАЛЬНО-КОММУНИКАТИВНОЕ РАЗВИТИЕ",{"$nulls":16},"Область формирования основ гражданственности и патриотизма",{"$nulls":4},"Сфера трудового воспитания",null,null,"Область формирования основ безопасного поведения",{"$nulls":4},"Общее речевое развитие","Формирование словаря",null,null,"Грамматический строй",{"$nulls":3},"Звуковая культура речи","Связная речь",{"$nulls":4},"ЧХЛ",null,null,"Подготовка к обучению грамоте",{"$nulls":5},"Цвет, оттенки","Форма, геометрические фигуры",null,null,"Величина","Ребенок самостоятельно выбирает способ осуществления разных видов познавательной деятельности","Ребенок интересуется субъективно новым и неизвестным в окружающем мире","Ребенок способен применять в жизненных и игровых ситуациях знания о количестве, форме, величине предметов, пространстве, времени","Ребенок имеет разнообразные познавательные умения: определяет противоречия. Формулирует задачу исследования, использует разные способы и средства проверки предположений (сравнение с эталонами, классификацию, систематизацию и др.)","Количество и счет",null,null,"Ориентировка во времени",null,"Ориентировка в пространстве",null,"Пространственно-количественные связи и отношения","Сравнение","Ребенок имеет представления, может показать на картинке и в естественной среде, может рассказать",{"$nulls":4},"Объекты живой природы",{"$nulls":3},"Объекты неживой природы, природные явления",null,"Ребенок стремится к самостоятельному экспериментированию","Ребенок знает правила поведения в природе, проявляет осознанное, бережное отношение к природе и ее ресурсам","Бросание, катание, ловля, метание",null,"Ползанье, лазанье",null,null,"Ходьба",null,null,"Бег",null,null,"Прыжки",{"$nulls":3},"Равновесие",null,"Строевые упражнения",null,"Ребенок выполняет графический диктант","Ребенок обводит по шаблону, по трафарету","Ребенок чертит линии с помощью линейки","Ребенок обводит по контуру, по точкам","Ребенок выполняет штриховку в различных направлениях","Ребенок закрашивает, не выходя за контур","Ребенок свободно владеет карандашом при рисовании округлых линий, завитков в разном направлении",{"$nulls":5},"на санках","на лыжах","на двухколесном велосипеде","на самокате",{"$nulls":7},"на санках","на лыжах","на двухколесном велосипеде","на самокате","Слушание","Пение ","Музыкально-ритмические движения","Песенное творчество","Игра на детских музыкальных инструментах",null,"Театрализованная деятельность",{"$nulls":3},"Танцевально-игровое творчество",null,"У ребенка развит музыкальный вкус, музыкальная память","Рисование ",null,"Лепка ",null,"Аппликация ",null,"Народное ДПИ","Прикладное творчество"]
[{"$f":"Список!B8","v":0},"Отношение к самому себе",{"$nulls":3},"Отношение к сверстникам","Отношение к взрослым","Эмоции",null,null,"Поведение","Семья",null,"Игровое поведение",null,"Ребенок имеет представление об изменениях позиции человека с возрастом","Ребенок имеет представление о школе, школьниках, учителях; стремится к школьному обучению, к познанию, освоению чтения, письма; демонстрирует формированные предпосылки к учебной деятельности и элементы готовности к школьному обучению","Ребенок имеет представление о нравственных качествах людей, их проявлении в поступках и взаимоотношениях","Ребенок имеет представление о признаках и характеристиках государства (территория государства и его границы, столица), атрибутах государственной власти, президенте, столице","Ребенок имеет представление о порядке использования государственной символики","Ребенок имеет представление о волонтерстве","Ребенок имеет представление о государственных праздниках, исторических событиях","Ребенок имеет представление о жизни людей в России, о многообразии стран и народов мира","Ребенок имеет представление об обмене ценностями в процессе производства и потребления товаров и услуг, о денежных отношениях, о реальной стоимости отдельных продуктов питания, игрушек, детских книг","Ребенок имеет представление о об основах финансовой грамоты, основах бережного потребления","Ребенок проявляет инициативность и самостоятельность в процессе самообслуживания, при выполнении трудовых поручений","Ребенок имеет представление о правила безопасного поведения в ситуациях, создающих угрозу жизни и здоровью (погас свет, остался один, потерялся, получил травму)","Ребенок имеет представление о правила безопасного поведения дома, на улице, в природе, в местах большого скопления людей, в магазине, на вокзале, в общественных метах, на праздниках и др.","Ребенок имеет представление о правилах безопасного использования цифровых ресурсов (мобильного телефона, планшета)","Ребенок имеет представление об элементарных правилах оказания первой помощи при первых признаках недомогания, травмах, ушибах","Ребенок проявляет самостоятельность при выполнении правил безопасного поведения","Ребенок владеет речью как средством коммуникации, ведет диалог, владеет коммуникативно-речевыми умениями","Ребенок подбирает точные слова для выражения мысли","Ребенок выполняет операцию классификации – деления освоенных понятий на группы на основе выявленных признаков","Ребенок использует в речи средства языковой выразительности: антонимы, синонимы, многозначные слова, метафоры, олицетворение","Ребенок образует сложные слова посредством слияния основ","Ребенок согласует в речи существительные с числительными, существительные с прилагательными","Ребенок образует по образцу существительные с суффиксами, глаголы с приставками","Ребенок образует в речи сравнительную и превосходную степени имен прилагательных","Ребенок правильно произносит все звуки","Ребенок может пересказать литературное произведение по ролям, близко к тексту, от лица литературного героя","Ребенок может составить описательный рассказ, соблюдая структуру описания","Ребенок может составить повествовательный рассказ по картине, из личного опыта, из коллективного опыта, по набору игрушек, соблюдая структуру повествования","Ребенок может составить рассказ -контаминацию (сочетание описания и повествования, описания и рассуждения)","Ребенок использует в процессе общения объяснительную речь, речь-доказательство, речевое планирование","Ребенок знает и осмысленно воспринимает литературные произведения различных жанров, имеет предпочтения","Ребенок определяет характеры персонажей, мотивы их поведения, оценивает поступки литературных героев","Ребенок проявляет интерес к книгам познавательного характера","Ребенок производит звуковой анализ четырехзвуковых и пятизвуковых слов","Ребенок может интонационно выделить звуки в слове, определить их последовательность, дать им характеристику, составить схему слова, выделить ударный гласный звук в слове","Ребенок может определить количество и последовательность слов в предложении","Ребенок может составить предложение с заданным количеством слов","Ребенок знает названия всех букв","Ребенок читает слоги","Ребенок различает и называет",{"$nulls":8},"Ребенок умеет считать в пределах 10 в прямом и обратном порядке","Ребенок знает состав чисел из двух меньших в пределах первого десятка","Ребенок решает простые арифметические задачи на сложение и вычитание","Ребенок имеет представление о календаре, как системе измерения времени","Ребенок умеет определять время по часам с точностью до четверти часа","Ребенок ориентируется на местности, по схеме, по плану","Ребенок знает способы ориентировки в двухмерном пространстве","Ребенок умеет измерять протяженность, массу и объем с помощью условной мерки; понимает взаимообратные отношения между мерой и результатом измерения","Ребенок сравнивает предметы по 4-6 основаниям с выделением сходства, отличия",{"$nulls":9},"Ребенок имеет представление об использовании человеком свойств неживой природы для хозяйственных нужд (ветряные мельницы, водохранилища, солнечные батареи, ледяные катки)",{"$nulls":3},"Ребенок выполняет различные упражнения с мячом, метание",null,"Ребенок выполняет разные виды ползанья, лазанья ",null,null,"Ребенок выполняет различные виды ходьбы",null,null,"Ребенок выполняет различные виды бега",null,null,"Ребенок выполняет различные виды прыжков",{"$nulls":3},"Ребенок выполняет",null,"Ребенок выполняет разные виды перестроений, построений, передвижений, размыкание и смыкание приставным шагом, повороты","Ребенок может рассчитаться на «первый – второй»",{"$nulls":16},"Ребенок владеет навыками личной гигиены","Ребенок владеет навыками культуры еды","Ребенок владеет навыками поддержания порядка","Ребенок владеет навыками ухода за собой",{"$nulls":7},"У ребенка развит навык восприятия звуков по высоте в пределах квинты-терции","У ребенка развиты певческий голос и вокально-слуховая координация","Ребёнок ритмично и выразительно двигается в соответствие с характером музыки","Ребенок способен самостоятельно придумать мелодию, используя в качестве образца русские народные песни","Ребенок может сыграть простую мелодию на металлофоне, свирели, ударных, и электронных музыкальных инструментах: трещотках, погремушках, треугольниках","Ребенок может исполнить музыкальное произведение в оркестре и в ансамбле","Ребенок проявляет самостоятельность при выборе литературного и музыкального материала для театральной постановки","Ребенок проявляет инициативу при изготовлении атрибутов и декораций к спектаклю","Ребенок имеет представление о средствах погружения в театральные образы (музыка, слова, декорации, грим, костюм и др.)","Ребенок умеет выразительно передавать образы в действии, мимике, пантомимике","Ребенок проявляет активность в доступных видах музыкальной исполнительской деятельности (игра в оркестре, пение, танцевальные движения и др.)","Ребенок помогает придумывать движения, отражающие содержание песни",null,"Ребенок может изобразить предметы по памяти и с натуры, передает их средствами рисунка (форма, пропорции, расположение)","Ребенок способен передавать в рисунке сюжет, строить композицию","Ребенок свободно использует приемы лепки, освоенные ранее (налеп, углубленный рельеф), применяет стеку","Ребенок умеет передавать пропорции, соотношение по величине, выразительность поз, движений, деталей","Ребенок умеет составлять узоры и декоративные композиции из геометрических и растительных элементов на листах бумаги разной формы","Ребенок может выполнить вырезание (симметричное из бумаги, сложенной вдвое; несколько предметов из частей бумаги, сложенной гармошкой)","Ребенок умеет создавать узоры по мотивам народных росписей","Ребенок может сложить бумагу в разных направлениях","Ребенок может сделать разметку с помощью шаблона","Ребенок может выполнить работу по образцу","Ребенок может создать объемную игрушку в технике «оригами»","Ребенок может создать объемную поделку из природного материала","Ребенок может вдеть нитку в иголку, завязать узелок, пришить пуговицу, петельку, выполнить шов «вперед иголка»","Ребенок умеет выделять, называть, группировать произведения по видам искусства: литература, музыка, изобразительное искусство, архитектура, театр, цирк","Ребенок имеет представление о видах изобразительного искусства: графика, декоративно-прикладное искусство, живопись, скульптура, архитектура, фотоискусство","Ребенок имеет представление о жанрах изобразительного искусства: натюрморт, пейзаж, портрет","Ребенок имеет представление о народном искусстве, фольклоре, музыке и художественных промыслах","Ребенок имеет представление о творческих профессиях: художник, композитор, музыкант, актер, артист балета","Ребенок имеет представление о культурно-досуговых местах: театр, музей, библиотека, выставка, кинотеатр, цирк и др.","Ребенок может провести анализ постройки (выделить основные части и характерные детали конструкций)","Ребенок может выполнить постройку по инструкции"]
[null,"Ребенок осознает и признает собственные ошибки, результат поставленных задач, определяет пути развития","Ребенок умеет договариваться и дружить, старается разрешать конфликтные ситуации конструктивными способами","Ребенок способен принимать собственные решения и проявлять инициативу","Ребенок осознанно относится к своему будущему, стремится быть полезным обществу","Ребенок без напоминаний использует в общении формулы словесной вежливости (приветствие, прощание, просьбы, извинения)","Ребенок без напоминаний использует в общении формулы словесной вежливости (приветствие, прощание, просьбы, извинения)","Ребенок понимает чувства и переживания окружающих по невербальным признакам; находит причины и следствия возникновения эмоций, проявляет эмпатию","Ребенок использует социально приемлемые способы проявления эмоций и доступные возрасту регуляции эмоциональных состояний","Ребенок распознает собственные чувства и эмоции, анализирует свои переживания и рассказывает о них","Ребенок самостоятельно соблюдает установленный порядок поведения в группе, регулирует собственную активность","Ребенок имеет представление о необходимости укрепления связи между поколениями, взаимной поддержке детей и взрослых","Ребенок имеет представление о семье, семейных и родственных отношениях (взаимные чувства, правила общения в семье, значимые и памятные события, досуг семьи, семейный бюджет)","Ребенок умеет сотрудничать со сверстниками (побуждает к обсуждению планов, советуется, поддерживает интерес к мнению, инициирует ситуации взаимопомощи, подчеркивает ценность каждого ребенка и его вклад в общее дело, выбирает партнеров по интересам, помогает устанавливать темп совместных действий)","Ребенок владеет разными способами и видами игры, различает условную и реальную ситуации, предлагает и объясняет замысел игры, комбинирует сюжеты на основе реальных, вымышленных ситуаций, выполняет несколько ролей в одной игре, подбирает разные средства для создания игровых образов, согласовывает свои интересы с интересами партнёров по игре",{"$nulls":39}," все цвета спектра и ахроматические цвета, оттенки","плоские и объемные геометрические фигуры; умеет выделять структуру геометрических фигур и устанавливать взаимосвязи между ними","Ребенок умеет классифицировать фигуры по внешним структурным признаками (округлые, многоугольники)","Ребенок владеет различными способами видоизменения геометрических фигур (наложение, соединение, разрезание и др.)","Ребенок умеет измерять длину, ширину, высоту с помощью условной мерки",{"$nulls":13}," о родном населенном пункте (название улиц, некоторых архитектурных особенностях, достопримечательностях), об истории, о выдающихся горожанах, традициях городской жизни"," о назначении общественных учреждений"," о разных видах специального транспорта"," о местах труда людей (завод, больница, магазин и др.)"," о местах отдыха людей","Ребенок имеет представление о наиболее ярких представителях животных и растений разных природных зон (пустыня, степь, тайга, тундра и др.), об их образе жизни, приспособлении к среде обитания, изменениях в жизни в разные сезоны года","Ребенок имеет представление о многообразии водных ресурсов (моря, океаны, реки, водопады и др.)","Ребенок имеет представление о многообразии полезных ископаемых (нефть, уголь, серебро, золото, алмазы и др.)","Ребенок имеет представление о жизненных потребностях, этапах роста и развития животных и растений",null,"Ребенок имеет представление о некоторых небесных телах (планеты, кометы, звезды)",null,null,"бросание вверх, о землю, ловля двумя руками, одной рукой, перебрасывание, передача, прокатывание, забрасывание, ведение","в цель из положения стоя, вдаль, в движущеюся цель","ползанье на четвереньках, на животе, на спине","влезание на гимнастическую стенку и спуск; перелезание с пролета на пролет по диагонали","лазанье по веревочной лестнице; выполнение упражнений на канате","обычная, гимнастическим шагом, скрестным шагом, спиной вперед, выпадами, с закрытыми глазами","приставными шагами назад, в приседе, с различными движениями рук","в различных построениях","в колонне по одному, врассыпную, парами, тройками, четверками","в сочетание с прыжками, высоко поднимая колени, захлестывая голени назад, выбрасывая прямые ноги вперед","челночный, наперегонки, из разных исходных положений, со скакалкой, по пересеченной местности, с наименьшим числом шагов, медленный, быстрый","подпрыгивания на двух ногах в чередовании с ходьбой, на месте и с поворот кругом","смещая ноги вправо-влево-вперед-назад","выпрыгивание на предметы; подпрыгивания вверх из глубокого приседа; прыжки на одной ноге","в длину с места/с разбега, в высоту с места/с разбега","стойка на носках, стойка на одной ноге с закрытыми глазами","кружение с закрытыми глазами, остановкой и сохранением заданной позы"]
["начало года",{"$f":"'Соц.ком.к 7г ч1 Н.г.'!E15","v":0},{"$f":"'Соц.ком.к 7г ч1 Н.г.'!F15","v":0},{"$f":"'Соц.ком.к 7г ч1 Н.г.'!G15","v":0},{"$f":"'Соц.ком.к 7г ч1 Н.г.'!H15","v":0},{"$f":"'Соц.ком.к 7г ч1 Н.г.'!I15","v":0},{"$f":"'Соц.ком.к 7г ч1 Н.г.'!J15","v":0},{"$f":"'Соц.ком.к 7г ч1 Н.г.'!K15","v":0},{"$f":"'Соц.ком.к 7г ч1 Н.г.'!L15","v":0},{"$f":"'Соц.ком.к 7г ч1 Н.г.'!M15","v":0},{"$f":"'Соц.ком.к 7г ч1 Н.г.'!N15","v":0},{"$f":"'Соц.ком.к 7г ч2 Н.г.'!E15","v":0},{"$f":"'Соц.ком.к 7г ч2 Н.г.'!F15","v":0},{"$f":"'Соц.ком.к 7г ч2 Н.г.'!G15","v":0},{"$f":"'Соц.ком.к 7г ч2 Н.г.'!H15","v":0},{"$f":"'Соц.ком.к 7г ч2 Н.г.'!I15","v":0},{"$f":"'Соц.ком.к 7г ч2 Н.г.'!J15","v":0},{"$f":"'Соц.ком.к 7г ч2 Н.г.'!K15","v":0},{"$f":"'Соц.ком. к 7г ч3 Н.г.'!E15","v":0},{"$f":"'Соц.ком. к 7г ч3 Н.г.'!F15","v":0},{"$f":"'Соц.ком. к 7г ч3 Н.г.'!G15","v":0},{"$f":"'Соц.ком. к 7г ч3 Н.г.'!H15","v":0},{"$f":"'Соц.ком. к 7г ч3 Н.г.'!I15","v":0},{"$f":"'Соц.ком. к 7г ч3 Н.г.'!J15","v":0},{"$f":"'Соц.ком. к 7г ч3 Н.г.'!K15","v":0},{"$f":"'Соц.ком. к 7г ч3 Н.г.'!L15","v":0},{"$f":"'Соц.ком. к 7г ч4 Н.г.'!E15","v":0},{"$f":"'Соц.ком. к 7г ч4 Н.г.'!F15","v":0},{"$f":"'Соц.ком. к 7г ч4 Н.г.'!G15","v":0},{"$f":"'Соц.ком. к 7г ч4 Н.г.'!H15","v":0},{"$f":"'Соц.ком. к 7г ч4 Н.г.'!I15","v":0},{"$f":"'Реч.разв.к 7г ч1 Н.г.'!E15","v":0},{"$f":"'Реч.разв.к 7г ч1 Н.г.'!F15","v":0},{"$f":"'Реч.разв.к 7г ч1 Н.г.'!G15","v":0},{"$f":"'Реч.разв.к 7г ч1 Н.г.'!H15","v":0},{"$f":"'Реч.разв.к 7г ч1 Н.г.'!I15","v":0},{"$f":"'Реч.разв.к 7г ч1 Н.г.'!J15","v":0},{"$f":"'Реч.разв.к 7г ч1 Н.г.'!K15","v":0},{"$f":"'Реч.разв.к 7г ч1 Н.г.'!L15","v":0},{"$f":"'Реч.разв.к 7г ч2 Н.г.'!E15","v":0},{"$f":"'Реч.разв.к 7г ч2 Н.г.'!F15","v":0},{"$f":"'Реч.разв.к 7г ч2 Н.г.'!G15","v":0},{"$f":"'Реч.разв.к 7г ч2 Н.г.'!H15","v":0},{"$f":"'Реч.разв.к 7г ч2 Н.г.'!I15","v":0},{"$f":"'Реч.разв.к 7г ч2 Н.г.'!J15","v":0},{"$f":"'Реч.разв.к 7г ч2 Н.г.'!K15","v":0},{"$f":"'Реч.разв.к 7г ч2 Н.г.'!L15","v":0},{"$f":"'Реч.разв.к 7г ч2 Н.г.'!M15","v":0},{"$f":"'Реч.разв.к 7г ч3. Н.г.'!E15","v":0},{"$f":"'Реч.разв.к 7г ч3. Н.г.'!F15","v":0},{"$f":"'Реч.разв.к 7г ч3. Н.г.'!G15","v":0},{"$f":"'Реч.разв.к 7г ч3. Н.г.'!H15","v":0},{"$f":"'Реч.разв.к 7г ч3. Н.г.'!I15","v":0},{"$f":"'Реч.разв.к 7г ч3. Н.г.'!J15","v":0},{"$f":"'Позн.разв. к 7г ч1. Н.г.'!E16","v":0},{"$f":"'Позн.разв. к 7г ч1. Н.г.'!F16","v":0},{"$f":"'Позн.разв. к 7г ч1. Н.г.'!G16","v":0},{"$f":"'Позн.разв. к 7г ч1. Н.г.'!H16","v":0},{"$f":"'Позн.разв. к 7г ч1. Н.г.'!I16","v":0},{"$f":"'Позн.разв. к 7г ч1. Н.г.'!J16","v":0},{"$f":"'Позн.разв. к 7г ч1. Н.г.'!K16","v":0},{"$f":"'Позн.разв. к 7г ч1. Н.г.'!L16","v":0},{"$f":"'Позн.разв. к 7г ч1. Н.г.'!M16","v":0},{"$f":"'Позн.разв. к 7г ч2. Н.г.'!E16","v":0},{"$f":"'Позн.разв. к 7г ч2. Н.г.'!F16","v":0},{"$f":"'Позн.разв. к 7г ч2. Н.г.'!G16","v":0},{"$f":"'Позн.разв. к 7г ч2. Н.г.'!H16","v":0},{"$f":"'Позн.разв. к 7г ч2. Н.г.'!I16","v":0},{"$f":"'Позн.разв. к 7г ч2. Н.г.'!J16","v":0},{"$f":"'Позн.разв. к 7г ч2. Н.г.'!K16","v":0},{"$f":"'Позн.разв. к 7г ч2. Н.г.'!L16","v":0},{"$f":"'Позн.разв. к 7г ч2. Н.г.'!M16","v":0},{"$f":"'Позн.разв. к 7г ч3. Н.г.'!E16","v":0},{"$f":"'Позн.разв. к 7г ч3. Н.г.'!F16","v":0},{"$f":"'Позн.разв. к 7г ч3. Н.г.'!G16","v":0},{"$f":"'Позн.разв. к 7г ч3. Н.г.'!H16","v":0},{"$f":"'Позн.разв. к 7г ч3. Н.г.'!I16","v":0},{"$f":"'Позн.разв. к 7г ч3. Н.г.'!J16","v":0},{"$f":"'Позн.разв. к 7г ч3. Н.г.'!K16","v":0},{"$f":"'Позн.разв. к 7г ч3. Н.г.'!L16","v":0},{"$f":"'Позн.разв. к 7г ч3. Н.г.'!M16","v":0},{"$f":"'Позн.разв. к 7г ч3. Н.г.'!N16","v":0},{"$f":"'Позн.разв. к 7г ч3. Н.г.'!O16","v":0},{"$f":"'Позн.разв. к 7г ч3. Н.г.'!P16","v":0},{"$f":"'Позн.разв. к 7г ч3. Н.г.'!Q16","v":0},{"$f":"'Физ.разв. к 7г ч1. Н.г.'!E16","v":0},{"$f":"'Физ.разв. к 7г ч1. Н.г.'!F16","v":0},{"$f":"'Физ.разв. к 7г ч1. Н.г.'!G16","v":0},{"$f":"'Физ.разв. к 7г ч1. Н.г.'!H16","v":0},{"$f":"'Физ.разв. к 7г ч1. Н.г.'!I16","v":0},{"$f":"'Физ.разв. к 7г ч1. Н.г.'!J16","v":0},{"$f":"'Физ.разв. к 7г ч1. Н.г.'!K16","v":0},{"$f":"'Физ.разв. к 7г ч1. Н.г.'!L16","v":0},{"$f":"'Физ.разв. к 7г ч1. Н.г.'!M16","v":0},{"$f":"'Физ.разв. к 7г ч1. Н.г.'!N16","v":0},{"$f":"'Физ.разв. к 7г ч1. Н.г.'!O16","v":0},{"$f":"'Физ.разв. к 7г ч1. Н.г.'!P16","v":0},{"$f":"'Физ.разв. к 7г ч1. Н.г.'!Q16","v":0},{"$f":"'Физ.разв. к 7г ч1. Н.г.'!R16","v":0},{"$f":"'Физ.разв. к 7г ч1. Н.г.'!S16","v":0},{"$f":"'Физ.разв. к 7г ч1. Н.г.'!T16","v":0},{"$f":"'Физ.разв. к 7г ч1. Н.г.'!U16","v":0},{"$f":"'Физ.разв. к 7г ч1. Н.г.'!V16","v":0},{"$f":"'Физ.разв. к 7г ч1. Н.г.'!W16","v":0},{"$f":"'Физ.разв. к 7г ч2. Н.г.'!E17","v":0},{"$f":"'Физ.разв. к 7г ч2. Н.г.'!F17","v":0},{"$f":"'Физ.разв. к 7г ч2. Н.г.'!G17","v":0},{"$f":"'Физ.разв. к 7г ч2. Н.г.'!H17","v":0},{"$f":"'Физ.разв. к 7г ч2. Н.г.'!I17","v":0},{"$f":"'Физ.разв. к 7г ч2. Н.г.'!J17","v":0},{"$f":"'Физ.разв. к 7г ч2. Н.г.'!K17","v":0},{"$f":"'Физ.разв. к 7г ч2. Н.г.'!L17","v":0},{"$f":"'Физ.разв. к 7г ч2. Н.г.'!M17","v":0},{"$f":"'Физ.разв. к 7г ч2. Н.г.'!N17","v":0},{"$f":"'Физ.разв. к 7г ч2. Н.г.'!O17","v":0},{"$f":"'Физ.разв. к 7г ч2. Н.г.'!P17","v":0},{"$f":"'Физ.разв. к 7г ч2. Н.г.'!Q17","v":0},{"$f":"'Физ.разв. к 7г ч2. Н.г.'!R17","v":0},{"$f":"'Физ.разв. к 7г ч2. Н.г.'!S17","v":0},{"$f":"'Физ.разв. к 7г ч2. Н.г.'!T17","v":0},{"$f":"'Физ.разв. к 7г ч3. Н.г.'!E17","v":0},{"$f":"'Физ.разв. к 7г ч3. Н.г.'!F17","v":0},{"$f":"'Физ.разв. к 7г ч3. Н.г.'!G17","v":0},{"$f":"'Физ.разв. к 7г ч3. Н.г.'!H17","v":0},{"$f":"'Физ.разв. к 7г ч3. Н.г.'!I17","v":0},{"$f":"'Физ.разв. к 7г ч3. Н.г.'!J17","v":0},{"$f":"'Физ.разв. к 7г ч3. Н.г.'!K17","v":0},{"$f":"'Физ.разв. к 7г ч3. Н.г.'!L17","v":0},{"$f":"'Физ.разв. к 7г ч3. Н.г.'!M17","v":0},{"$f":"'Физ.разв. к 7г ч3. Н.г.'!N17","v":0},{"$f":"'Физ.разв. к 7г ч3. Н.г.'!O17","v":0},{"$f":"'Худ.эст.к 7г ч1. Н.г.'!E16","v":0},{"$f":"'Худ.эст.к 7г ч1. Н.г.'!F16","v":0},{"$f":"'Худ.эст.к 7г ч1. Н.г.'!G16","v":0},{"$f":"'Худ.эст.к 7г ч1. Н.г.'!H16","v":0},{"$f":"'Худ.эст.к 7г ч1. Н.г.'!I16","v":0},{"$f":"'Худ.эст.к 7г ч1. Н.г.'!J16","v":0},{"$f":"'Худ.эст.к 7г ч1. Н.г.'!K16","v":0},{"$f":"'Худ.эст.к 7г ч1. Н.г.'!L16","v":0},{"$f":"'Худ.эст.к 7г ч1. Н.г.'!M16","v":0},{"$f":"'Худ.эст.к 7г ч1. Н.г.'!N16","v":0},{"$f":"'Худ.эст.к 7г ч1. Н.г.'!O16","v":0},{"$f":"'Худ.эст.к 7г ч1. Н.г.'!P16","v":0},{"$f":"'Худ.эст.к 7г ч1. Н.г.'!Q16","v":0},{"$f":"'Худ.эст.к 7г ч2. Н.г.'!E16","v":0},{"$f":"'Худ.эст.к 7г ч2. Н.г.'!F16","v":0},{"$f":"'Худ.эст.к 7г ч2. Н.г.'!G16","v":0},{"$f":"'Худ.эст.к 7г ч2. Н.г.'!H16","v":0},{"$f":"'Худ.эст.к 7г ч2. Н.г.'!I16","v":0},{"$f":"'Худ.эст.к 7г ч2. Н.г.'!J16","v":0},{"$f":"'Худ.эст.к 7г ч2. Н.г.'!K16","v":0},{"$f":"'Худ.эст.к 7г ч2. Н.г.'!L16","v":0},{"$f":"'Худ.эст.к 7г ч2. Н.г.'!M16","v":0},{"$f":"'Худ.эст.к 7г ч2. Н.г.'!N16","v":0},{"$f":"'Худ.эст.к 7г ч2. Н.г.'!O16","v":0},{"$f":"'Худ.эст.к 7г ч2. Н.г.'!P16","v":0},{"$f":"'Худ.эст.к 7г ч2. Н.г.'!Q16","v":0},{"$f":"'Худ.эст.к 7г ч3. Н.г.'!E16","v":0},{"$f":"'Худ.эст.к 7г ч3. Н.г.'!F16","v":0},{"$f":"'Худ.эст.к 7г ч3. Н.г.'!G16","v":0},{"$f":"'Худ.эст.к 7г ч3. Н.г.'!H16","v":0},{"$f":"'Худ.эст.к 7г ч3. Н.г.'!I16","v":0},{"$f":"'Худ.эст.к 7г ч3. Н.г.'!J16","v":0},{"$f":"'Худ.эст.к 7г ч3. Н.г.'!K16","v":0},{"$f":"'Худ.эст.к 7г ч3. Н.г.'!L16","v":0}]
["конец года",{"$f":"'Соц.ком.к 7г ч1 К.г.'!E15","v":0},{"$f":"'Соц.ком.к 7г ч1 К.г.'!F15","v":0},{"$f":"'Соц.ком.к 7г ч1 К.г.'!G15","v":0},{"$f":"'Соц.ком.к 7г ч1 К.г.'!H15","v":0},{"$f":"'Соц.ком.к 7г ч1 К.г.'!I15","v":0},{"$f":"'Соц.ком.к 7г ч1 К.г.'!J15","v":0},{"$f":"'Соц.ком.к 7г ч1 К.г.'!K15","v":0},{"$f":"'Соц.ком.к 7г ч1 К.г.'!L15","v":0},{"$f":"'Соц.ком.к 7г ч1 К.г.'!M15","v":0},{"$f":"'Соц.ком.к 7г ч1 К.г.'!N15","v":0},{"$f":"'Соц.ком.к 7г ч2 К.г.'!E15","v":0},{"$f":"'Соц.ком.к 7г ч2 К.г.'!F15","v":0},{"$f":"'Соц.ком.к 7г ч2 К.г.'!G15","v":0},{"$f":"'Соц.ком.к 7г ч2 К.г.'!H15","v":0},{"$f":"'Соц.ком.к 7г ч2 К.г.'!I15","v":0},{"$f":"'Соц.ком.к 7г ч2 К.г.'!J15","v":0},{"$f":"'Соц.ком.к 7г ч2 К.г.'!K15","v":0},{"$f":"'Соц.ком. к 7г ч3 К.г.'!E15","v":0},{"$f":"'Соц.ком. к 7г ч3 К.г.'!F15","v":0},{"$f":"'Соц.ком. к 7г ч3 К.г.'!G15","v":0},{"$f":"'Соц.ком. к 7г ч3 К.г.'!H15","v":0},{"$f":"'Соц.ком. к 7г ч3 К.г.'!I15","v":0},{"$f":"'Соц.ком. к 7г ч3 К.г.'!J15","v":0},{"$f":"'Соц.ком. к 7г ч3 К.г.'!K15","v":0},{"$f":"'Соц.ком. к 7г ч3 К.г.'!L15","v":0},{"$f":"'Соц.ком. к 7г ч4 К.г.'!E15","v":0},{"$f":"'Соц.ком. к 7г ч4 К.г.'!F15","v":0},{"$f":"'Соц.ком. к 7г ч4 К.г.'!G15","v":0},{"$f":"'Соц.ком. к 7г ч4 К.г.'!H15","v":0},{"$f":"'Соц.ком. к 7г ч4 К.г.'!I15","v":0},{"$f":"'Реч.разв.к 7г ч1 К.г.'!E15","v":0},{"$f":"'Реч.разв.к 7г ч1 К.г.'!F15","v":0},{"$f":"'Реч.разв.к 7г ч1 К.г.'!G15","v":0},{"$f":"'Реч.разв.к 7г ч1 К.г.'!H15","v":0},{"$f":"'Реч.разв.к 7г ч1 К.г.'!I15","v":0},{"$f":"'Реч.разв.к 7г ч1 К.г.'!J15","v":0},{"$f":"'Реч.разв.к 7г ч1 К.г.'!K15","v":0},{"$f":"'Реч.разв.к 7г ч1 К.г.'!L15","v":0},{"$f":"'Реч.разв.к 7г ч2 К.г. '!E15","v":0},{"$f":"'Реч.разв.к 7г ч2 К.г. '!F15","v":0},{"$f":"'Реч.разв.к 7г ч2 К.г. '!G15","v":0},{"$f":"'Реч.разв.к 7г ч2 К.г. '!H15","v":0},{"$f":"'Реч.разв.к 7г ч2 К.г. '!I15","v":0},{"$f":"'Реч.разв.к 7г ч2 К.г. '!J15","v":0},{"$f":"'Реч.разв.к 7г ч2 К.г. '!K15","v":0},{"$f":"'Реч.разв.к 7г ч2 К.г. '!L15","v":0},{"$f":"'Реч.разв.к 7г ч2 К.г. '!M15","v":0},{"$f":"'Реч.разв.к 7г ч3. К.г. '!E15","v":0},{"$f":"'Реч.разв.к 7г ч3. К.г. '!F15","v":0},{"$f":"'Реч.разв.к 7г ч3. К.г. '!G15","v":0},{"$f":"'Реч.разв.к 7г ч3. К.г. '!H15","v":0},{"$f":"'Реч.разв.к 7г ч3. К.г. '!I15","v":0},{"$f":"'Реч.разв.к 7г ч3. К.г. '!J15","v":0},{"$f":"'Позн.разв. к 7г ч1. К.г. '!E16","v":0},{"$f":"'Позн.разв. к 7г ч1. К.г. '!F16","v":0},{"$f":"'Позн.разв. к 7г ч1. К.г. '!G16","v":0},{"$f":"'Позн.разв. к 7г ч1. К.г. '!H16","v":0},{"$f":"'Позн.разв. к 7г ч1. К.г. '!I16","v":0},{"$f":"'Позн.разв. к 7г ч1. К.г. '!J16","v":0},{"$f":"'Позн.разв. к 7г ч1. К.г. '!K16","v":0},{"$f":"'Позн.разв. к 7г ч1. К.г. '!L16","v":0},{"$f":"'Позн.разв. к 7г ч1. К.г. '!M16","v":0},{"$f":"'Позн.разв. к 7г ч2. К.г.'!E16","v":0},{"$f":"'Позн.разв. к 7г ч2. К.г.'!F16","v":0},{"$f":"'Позн.разв. к 7г ч2. К.г.'!G16","v":0},{"$f":"'Позн.разв. к 7г ч2. К.г.'!H16","v":0},{"$f":"'Позн.разв. к 7г ч2. К.г.'!I16","v":0},{"$f":"'Позн.разв. к 7г ч2. К.г.'!J16","v":0},{"$f":"'Позн.разв. к 7г ч2. К.г.'!K16","v":0},{"$f":"'Позн.разв. к 7г ч2. К.г.'!L16","v":0},{"$f":"'Позн.разв. к 7г ч2. К.г.'!M16","v":0},{"$f":"'Позн.разв. к 7г ч3. К.г. '!E16","v":0},{"$f":"'Позн.разв. к 7г ч3. К.г. '!F16","v":0},{"$f":"'Позн.разв. к 7г ч3. К.г. '!G16","v":0},{"$f":"'Позн.разв. к 7г ч3. К.г. '!H16","v":0},{"$f":"'Позн.разв. к 7г ч3. К.г. '!I16","v":0},{"$f":"'Позн.разв. к 7г ч3. К.г. '!J16","v":0},{"$f":"'Позн.разв. к 7г ч3. К.г. '!K16","v":0},{"$f":"'Позн.разв. к 7г ч3. К.г. '!L16","v":0},{"$f":"'Позн.разв. к 7г ч3. К.г. '!M16","v":0},{"$f":"'Позн.разв. к 7г ч3. К.г. '!N16","v":0},{"$f":"'Позн.разв. к 7г ч3. К.г. '!O16","v":0},{"$f":"'Позн.разв. к 7г ч3. К.г. '!P16","v":0},{"$f":"'Позн.разв. к 7г ч3. К.г. '!Q16","v":0},{"$f":"'Физ.разв. к 7г ч1. К.г. '!E16","v":0},{"$f":"'Физ.разв. к 7г ч1. К.г. '!F16","v":0},{"$f":"'Физ.разв. к 7г ч1. К.г. '!G16","v":0},{"$f":"'Физ.разв. к 7г ч1. К.г. '!H16","v":0},{"$f":"'Физ.разв. к 7г ч1. К.г. '!I16","v":0},{"$f":"'Физ.разв. к 7г ч1. К.г. '!J16","v":0},{"$f":"'Физ.разв. к 7г ч1. К.г. '!K16","v":0},{"$f":"'Физ.разв. к 7г ч1. К.г. '!L16","v":0},{"$f":"'Физ.разв. к 7г ч1. К.г. '!M16","v":0},{"$f":"'Физ.разв. к 7г ч1. К.г. '!N16","v":0},{"$f":"'Физ.разв. к 7г ч1. К.г. '!O16","v":0},{"$f":"'Физ.разв. к 7г ч1. К.г. '!P16","v":0},{"$f":"'Физ.разв. к 7г ч1. К.г. '!Q16","v":0},{"$f":"'Физ.разв. к 7г ч1. К.г. '!R16","v":0},{"$f":"'Физ.разв. к 7г ч1. К.г. '!S16","v":0},{"$f":"'Физ.разв. к 7г ч1. К.г. '!T16","v":0},{"$f":"'Физ.разв. к 7г ч1. К.г. '!U16","v":0},{"$f":"'Физ.разв. к 7г ч1. К.г. '!V16","v":0},{"$f":"'Физ.разв. к 7г ч1. К.г. '!W16","v":0},{"$f":"'Физ.разв. к 7г ч2. К.г.'!E17","v":0},{"$f":"'Физ.разв. к 7г ч2. К.г.'!F17","v":0},{"$f":"'Физ.разв. к 7г ч2. К.г.'!G17","v":0},{"$f":"'Физ.разв. к 7г ч2. К.г.'!H17","v":0},{"$f":"'Физ.разв. к 7г ч2. К.г.'!I17","v":0},{"$f":"'Физ.разв. к 7г ч2. К.г.'!J17","v":0},{"$f":"'Физ.разв. к 7г ч2. К.г.'!K17","v":0},{"$f":"'Физ.разв. к 7г ч2. К.г.'!L17","v":0},{"$f":"'Физ.разв. к 7г ч2. К.г.'!M17","v":0},{"$f":"'Физ.разв. к 7г ч2. К.г.'!N17","v":0},{"$f":"'Физ.разв. к 7г ч2. К.г.'!O17","v":0},{"$f":"'Физ.разв. к 7г ч2. К.г.'!P17","v":0},{"$f":"'Физ.разв. к 7г ч2. К.г.'!Q17","v":0},{"$f":"'Физ.разв. к 7г ч2. К.г.'!R17","v":0},{"$f":"'Физ.разв. к 7г ч2. К.г.'!S17","v":0},{"$f":"'Физ.разв. к 7г ч2. К.г.'!T17","v":0},{"$f":"'Физ.разв. к 7г ч3. К.г. '!E17","v":0},{"$f":"'Физ.разв. к 7г ч3. К.г. '!F17","v":0},{"$f":"'Физ.разв. к 7г ч3. К.г. '!G17","v":0},{"$f":"'Физ.разв. к 7г ч3. К.г. '!H17","v":0},{"$f":"'Физ.разв. к 7г ч3. К.г. '!I17","v":0},{"$f":"'Физ.разв. к 7г ч3. К.г. '!J17","v":0},{"$f":"'Физ.разв. к 7г ч3. К.г. '!K17","v":0},{"$f":"'Физ.разв. к 7г ч3. К.г. '!L17","v":0},{"$f":"'Физ.разв. к 7г ч3. К.г. '!M17","v":0},{"$f":"'Физ.разв. к 7г ч3. К.г. '!N17","v":0},{"$f":"'Физ.разв. к 7г ч3. К.г. '!O17","v":0},{"$f":"'Худ.эст.к 7г ч1. К.г. '!E16","v":0},{"$f":"'Худ.эст.к 7г ч1. К.г. '!F16","v":0},{"$f":"'Худ.эст.к 7г ч1. К.г. '!G16","v":0},{"$f":"'Худ.эст.к 7г ч1. К.г. '!H16","v":0},{"$f":"'Худ.эст.к 7г ч1. К.г. '!I16","v":0},{"$f":"'Худ.эст.к 7г ч1. К.г. '!J16","v":0},{"$f":"'Худ.эст.к 7г ч1. К.г. '!K16","v":0},{"$f":"'Худ.эст.к 7г ч1. К.г. '!L16","v":0},{"$f":"'Худ.эст.к 7г ч1. К.г. '!M16","v":0},{"$f":"'Худ.эст.к 7г ч1. К.г. '!N16","v":0},{"$f":"'Худ.эст.к 7г ч1. К.г. '!O16","v":0},{"$f":"'Худ.эст.к 7г ч1. К.г. '!P16","v":0},{"$f":"'Худ.эст.к 7г ч1. К.г. '!Q16","v":0},{"$f":"'Худ.эст.к 7г ч2. К.г. '!E16","v":0},{"$f":"'Худ.эст.к 7г ч2. К.г. '!F16","v":0},{"$f":"'Худ.эст.к 7г ч2. К.г. '!G16","v":0},{"$f":"'Худ.эст.к 7г ч2. К.г. '!H16","v":0},{"$f":"'Худ.эст.к 7г ч2. К.г. '!I16","v":0},{"$f":"'Худ.эст.к 7г ч2. К.г. '!J16","v":0},{"$f":"'Худ.эст.к 7г ч2. К.г. '!K16","v":0},{"$f":"'Худ.эст.к 7г ч2. К.г. '!L16","v":0},{"$f":"'Худ.эст.к 7г ч2. К.г. '!M16","v":0},{"$f":"'Худ.эст.к 7г ч2. К.г. '!N16","v":0},{"$f":"'Худ.эст.к 7г ч2. К.г. '!O16","v":0},{"$f":"'Худ.эст.к 7г ч2. К.г. '!P16","v":0},{"$f":"'Худ.эст.к 7г ч2. К.г. '!Q16","v":0},{"$f":"'Худ.эст.к 7г ч3. К.г. '!E16","v":0},{"$f":"'Худ.эст.к 7г ч3. К.г. '!F16","v":0},{"$f":"'Худ.эст.к 7г ч3. К.г. '!G16","v":0},{"$f":"'Худ.эст.к 7г ч3. К.г. '!H16","v":0},{"$f":"'Худ.эст.к 7г ч3. К.г. '!I16","v":0},{"$f":"'Худ.эст.к 7г ч3. К.г. '!J16","v":0},{"$f":"'Худ.эст.к 7г ч3. К.г. '!K16","v":0},{"$f":"'Худ.эст.к 7г ч3. К.г. '!L16","v":0}]

{"sheet":"6","index":43,"n_rows":7,"n_cols":165,"rows_kept":7,"merged":[[0,104,0,110],[0,111,0,112],[0,113,0,115],[0,116,0,119],[0,120,0,123],[0,124,0,126],[0,127,0,130],[1,18,1,30],[1,31,1,38],[1,54,1,58],[1,59,1,62],[1,63,1,71],[1,72,1,76],[1,77,1,84],[1,104,1,106],[1,107,1,110],[1,111,4,111],[1,112,4,112],[1,113,4,113],[1,114,4,114],[1,115,4,115],[1,116,1,119],[1,120,2,120],[1,121,2,121],[1,122,2,122],[1,123,2,123],[1,124,4,124],[1,125,4,125],[1,126,4,126],[1,127,1,130],[1,131,1,143],[1,144,1,156],[1,157,2,162],[1,163,2,164],[2,1,2,17],[2,18,2,22],[2,23,2,25],[2,26,2,30],[2,32,2,34],[2,35,2,38],[2,40,2,44],[2,45,2,47],[2,48,2,53],[2,55,2,57],[2,59,4,59],[2,60,4,60],[2,61,4,61],[2,62,4,62],[2,63,2,65],[2,66,2,67],[2,68,2,69],[2,72,3,76],[2,77,2,80],[2,81,2,82],[2,83,4,83],[2,84,4,84],[2,85,2,86],[2,87,2,89],[2,90,2,92],[2,93,2,95],[2,96,2,99],[2,100,2,101],[2,102,2,103],[2,104,4,104],[2,105,4,105],[2,106,4,106],[2,107,4,107],[2,108,4,108],[2,109,4,109],[2,110,4,110],[2,116,4,116],[2,117,4,117],[2,118,4,118],[2,119,4,119],[2,127,4,127],[2,128,4,128],[2,129,4,129],[2,130,4,130],[2,135,2,136],[2,137,2,140],[2,141,2,142],[2,143,4,143],[2,144,2,145],[2,146,2,147],[2,148,2,149],[2,151,2,156],[3,0,4,0],[3,1,3,4],[3,7,3,9],[3,11,3,12],[3,13,3,14],[3,15,4,15],[3,16,4,16],[3,17,4,17],[3,18,4,18],[3,19,4,19],[3,20,4,20],[3,21,4,21],[3,22,4,22],[3,23,4,23],[3,24,4,24],[3,25,4,25],[3,26,4,26],[3,27,4,27],[3,28,4,28],[3,29,4,29],[3,30,4,30],[3,31,4,31],[3,32,4,32],[3,33,4,33],[3,34,4,34],[3,35,4,35],[3,36,4,36],[3,37,4,37],[3,38,4,38],[3,39,4,39],[3,40,4,40],[3,41,4,41],[3,42,4,42],[3,43,4,43],[3,44,4,44],[3,45,4,45],[3,46,4,46],[3,47,4,47],[3,48,4,48],[3,49,4,49],[3,50,4,50],[3,51,4,51],[3,52,4,52],[3,53,4,53],[3,54,3,58],[3,63,4,63],[3,64,4,64],[3,65,4,65],[3,66,4,66],[3,67,4,67],[3,68,4,68],[3,69,4,69],[3,70,4,70],[3,71,4,71],[3,81,4,81],[3,85,3,86],[3,87,3,89],[3,90,3,92],[3,93,3,95],[3,96,3,99],[3,100,3,101],[3,102,4,102],[3,103,4,103],[3,120,4,120],[3,121,4,121],[3,122,4,122],[3,123,4,123],[3,131,4,131],[3,132,4,132],[3,133,4,133],[3,134,4,134],[3,135,4,135],[3,136,4,136],[3,137,4,137],[3,138,4,138],[3,139,4,139],[3,140,4,140],[3,141,4,141],[3,142,4,142],[3,144,4,144],[3,145,4,145],[3,146,4,146],[3,147,4,147],[3,148,4,148],[3,149,4,149],[3,150,4,150],[3,151,4,151],[3,152,4,152],[3,153,4,153],[3,154,4,154],[3,155,4,155],[3,156,4,156],[3,157,4,157],[3,158,4,158],[3,159,4,159],[3,160,4,160],[3,161,4,161],[3,162,4,162],[3,163,4,163],[3,164,4,164]]}
[{"$nulls":104},"Мелкая моторика",{"$nulls":6},"Подвижные игры",null,"Спорт. игры",null,null,"Спортивные упражнения",{"$nulls":3},"КГН",{"$nulls":3},"ЗОЖ",null,null,"Спортивные упражнения"]
[{"$nulls":18},"СОЦИАЛЬНО-КОММУНИКАТИВНОЕ РАЗВИТИЕ",{"$nulls":12},"РЕЧЕВОЕ РАЗВИТИЕ",{"$nulls":22},"Сенсорные эталоны ",{"$nulls":4},"Познавательные действия",{"$nulls":3},"Математические представления",{"$nulls":8},"Окружающий мир",{"$nulls":4},"Природа ",{"$nulls":26},"Координация рук и глаз",null,null,"Графические навыки",{"$nulls":3},"Ребенок использует в самостоятельной деятельности разнообразные по содержанию подвижные игры, проявляет элементы творчества в двигательной деятельности","Ребенок может организовать знакомые подвижные игры со сверстниками, сплотить команду, стремится внести свой вклад в результат команды","Ребенок владеет элементами спортивных игр (городки, баскетбол, футбол, хоккей, бадминтон, настольный теннис), может контролировать свои движения и управлять ими","Ребенок имеет представление о разных видах спорта (санный спорт, борьба, теннис, синхронное плавание и др.)","Ребенок имеет представление о спортивных событиях и достижениях отечественных спортсменов","Ребенок умеет кататься",{"$nulls":3},"Навыки соблюдения чистоты тела (правила личной гигиены)","Навыки культуры еды (прием пищи) ","Навыки поддержания порядка (правила поведения в быту) ","Навыки ухода за собой (одевание, раздевание) ","Ребенок соблюдает элементарные правила здорового образа жизни и личной гигиены, следит за своей осанкой, может оценить свое самочувствие","Ребенок регулярно выполняет физические упражнения","Ребенок имеет начальные представления о том, что такое здоровье, понимает, как поддержать, укрепить и сохранить его","Ребенок умеет кататься",{"$nulls":3},"Музыкальная деятельность",{"$nulls":12},"Изобразительная деятельность",{"$nulls":12},"Приобщение к искусству",{"$nulls":5},"Конструктивная деятельность"]
[null,"СОЦИАЛЬНО-ЭКОНОМИЧЕСКОЕ РАЗВИТИЕ",{"$nulls":16},"Область формирования основ гражданственности и патриотизма",{"$nulls":4},"Сфера трудового воспитания",null,null,"Область формирования основ безопасного поведения",{"$nulls":4},"Общее речевое развитие","Формирование словаря",null,null,"Грамматический строй",{"$nulls":3},"Звуковая культура речи","Связная речь",{"$nulls":4},"ЧХЛ",null,null,"Подготовка к обучению грамоте",{"$nulls":5},"Цвет, оттенки","Форма, геометрические фигуры",null,null,"Величина","Ребенок самостоятельно выбирает способ осуществления разных видов познавательной деятельности","Ребенок интересуется субъективно новым и неизвестным в окружающем мире","Ребенок способен применять в жизненных и игровых ситуациях знания о количестве, форме, величине предметов, пространстве, времени","Ребенок имеет разнообразные познавательные умения: определяет противоречия. Формулирует задачу исследования, использует разные способы и средства проверки предположений (сравнение с эталонами, классификацию, систематизацию и др.)","Количество и счет",null,null,"Ориентировка во времени",null,"Ориентировка в пространстве",null,"Пространственно-количественные связи и отношения","Сравнение","Ребенок имеет представления, может показать на картинке и в естественной среде, может рассказать",{"$nulls":4},"Объекты живой природы",{"$nulls":3},"Объекты неживой природы, природные явления",null,"Ребенок стремится к самостоятельному экспериментированию","Ребенок знает правила поведения в природе, проявляет осознанное, бережное отношение к природе и ее ресурсам","Бросание, катание, ловля, метание",null,"Ползанье, лазанье",null,null,"Ходьба",null,null,"Бег",null,null,"Прыжки",{"$nulls":3},"Равновесие",null,"Строевые упражнения",null,"Ребенок выполняет графический диктант","Ребенок обводит по шаблону, по трафарету","Ребенок чертит линии с помощью линейки","Ребенок обводит по контуру, по точкам","Ребенок выполняет штриховку в различных направлениях","Ребенок закрашивает, не выходя за контур","Ребенок свободно владеет карандашом при рисовании округлых линий, завитков в разном направлении",{"$nulls":5},"на санках","на лыжах","на двухколесном велосипеде","на самокате",{"$nulls":7},"на санках","на лыжах","на двухколесном велосипеде","на самокате","Слушание","Пение ","Музыкально-ритмические движения","Песенное творчество","Игра на детских музыкальных инструментах",null,"Театрализованная деятельность",{"$nulls":3},"Танцевально-игровое творчество",null,"У ребенка развит музыкальный вкус, музыкальная память","Рисование ",null,"Лепка ",null,"Аппликация ",null,"Народное ДПИ","Прикладное творчество"]
[{"$f":"Список!B9","v":0},"Отношение к самому себе",{"$nulls":3},"Отношение к сверстникам","Отношение к взрослым","Эмоции",null,null,"Поведение","Семья",null,"Игровое поведение",null,"Ребенок имеет представление об изменениях позиции человека с возрастом","Ребенок имеет представление о школе, школьниках, учителях; стремится к школьному обучению, к познанию, освоению чтения, письма; демонстрирует формированные предпосылки к учебной деятельности и элементы готовности к школьному обучению","Ребенок имеет представление о нравственных качествах людей, их проявлении в поступках и взаимоотношениях","Ребенок имеет представление о признаках и характеристиках государства (территория государства и его границы, столица), атрибутах государственной власти, президенте, столице","Ребенок имеет представление о порядке использования государственной символики","Ребенок имеет представление о волонтерстве","Ребенок имеет представление о государственных праздниках, исторических событиях","Ребенок имеет представление о жизни людей в России, о многообразии стран и народов мира","Ребенок имеет представление об обмене ценностями в процессе производства и потребления товаров и услуг, о денежных отношениях, о реальной стоимости отдельных продуктов питания, игрушек, детских книг","Ребенок имеет представление о об основах финансовой грамоты, основах бережного потребления","Ребенок проявляет инициативность и самостоятельность в процессе самообслуживания, при выполнении трудовых поручений","Ребенок имеет представление о правила безопасного поведения в ситуациях, создающих угрозу жизни и здоровью (погас свет, остался один, потерялся, получил травму)","Ребенок имеет представление о правила безопасного поведения дома, на улице, в природе, в местах большого скопления людей, в магазине, на вокзале, в общественных метах, на праздниках и др.","Ребенок имеет представление о правилах безопасного использования цифровых ресурсов (мобильного телефона, планшета)","Ребенок имеет представление об элементарных правилах оказания первой помощи при первых признаках недомогания, травмах, ушибах","Ребенок проявляет самостоятельность при выполнении правил безопасного поведения","Ребенок владеет речью как средством коммуникации, ведет диалог, владеет коммуникативно-речевыми умениями","Ребенок подбирает точные слова для выражения мысли","Ребенок выполняет операцию классификации – деления освоенных понятий на группы на основе выявленных признаков","Ребенок использует в речи средства языковой выразительности: антонимы, синонимы, многозначные слова, метафоры, олицетворение","Ребенок образует сложные слова посредством слияния основ","Ребенок согласует в речи существительные с числительными, существительные с прилагательными","Ребенок образует по образцу существительные с суффиксами, глаголы с приставками","Ребенок образует в речи сравнительную и превосходную степени имен прилагательных","Ребенок правильно произносит все звуки","Ребенок может пересказать литературное произведение по ролям, близко к тексту, от лица литературного героя","Ребенок может составить описательный рассказ, соблюдая структуру описания","Ребенок может составить повествовательный рассказ по картине, из личного опыта, из коллективного опыта, по набору игрушек, соблюдая структуру повествования","Ребенок может составить рассказ -контаминацию (сочетание описания и повествования, описания и рассуждения)","Ребенок использует в процессе общения объяснительную речь, речь-доказательство, речевое планирование","Ребенок знает и осмысленно воспринимает литературные произведения различных жанров, имеет предпочтения","Ребенок определяет характеры персонажей, мотивы их поведения, оценивает поступки литературных героев","Ребенок проявляет интерес к книгам познавательного характера","Ребенок производит звуковой анализ четырехзвуковых и пятизвуковых слов","Ребенок может интонационно выделить звуки в слове, определить их последовательность, дать им характеристику, составить схему слова, выделить ударный гласный звук в слове","Ребенок может определить количество и последовательность слов в предложении","Ребенок может составить предложение с заданным количеством слов","Ребенок знает названия всех букв","Ребенок читает слоги","Ребенок различает и называет",{"$nulls":8},"Ребенок умеет считать в пределах 10 в прямом и обратном порядке","Ребенок знает состав чисел из двух меньших в пределах первого десятка","Ребенок решает простые арифметические задачи на сложение и вычитание","Ребенок имеет представление о календаре, как системе измерения времени","Ребенок умеет определять время по часам с точностью до четверти часа","Ребенок ориентируется на местности, по схеме, по плану","Ребенок знает способы ориентировки в двухмерном пространстве","Ребенок умеет измерять протяженность, массу и объем с помощью условной мерки; понимает взаимообратные отношения между мерой и результатом измерения","Ребенок сравнивает предметы по 4-6 основаниям с выделением сходства, отличия",{"$nulls":9},"Ребенок имеет представление об использовании человеком свойств неживой природы для хозяйственных нужд (ветряные мельницы, водохранилища, солнечные батареи, ледяные катки)",{"$nulls":3},"Ребенок выполняет различные упражнения с мячом, метание",null,"Ребенок выполняет разные виды ползанья, лазанья ",null,null,"Ребенок выполняет различные виды ходьбы",null,null,"Ребенок выполняет различные виды бега",null,null,"Ребенок выполняет различные виды прыжков",{"$nulls":3},"Ребенок выполняет",null,"Ребенок выполняет разные виды перестроений, построений, передвижений, размыкание и смыкание приставным шагом, повороты","Ребенок может рассчитаться на «первый – второй»",{"$nulls":16},"Ребенок владеет навыками личной гигиены","Ребенок владеет навыками культуры еды","Ребенок владеет навыками поддержания порядка","Ребенок владеет навыками ухода за собой",{"$nulls":7},"У ребенка развит навык восприятия звуков по высоте в пределах квинты-терции","У ребенка развиты певческий голос и вокально-слуховая координация","Ребёнок ритмично и выразительно двигается в соответствие с характером музыки","Ребенок способен самостоятельно придумать мелодию, используя в качестве образца русские народные песни","Ребенок может сыграть простую мелодию на металлофоне, свирели, ударных, и электронных музыкальных инструментах: трещотках, погремушках, треугольниках","Ребенок может исполнить музыкальное произведение в оркестре и в ансамбле","Ребенок проявляет самостоятельность при выборе литературного и музыкального материала для театральной постановки","Ребенок проявляет инициативу при изготовлении атрибутов и декораций к спектаклю","Ребенок имеет представление о средствах погружения в театральные образы (музыка, слова, декорации, грим, костюм и др.)","Ребенок умеет выразительно передавать образы в действии, мимике, пантомимике","Ребенок проявляет активность в доступных видах музыкальной исполнительской деятельности (игра в оркестре, пение, танцевальные движения и др.)","Ребенок помогает придумывать движения, отражающие содержание песни",null,"Ребенок может изобразить предметы по памяти и с натуры, передает их средствами рисунка (форма, пропорции, расположение)","Ребенок способен передавать в рисунке сюжет, строить композицию","Ребенок свободно использует приемы лепки, освоенные ранее (налеп, углубленный рельеф), применяет стеку","Ребенок умеет передавать пропорции, соотношение по величине, выразительность поз, движений, деталей","Ребенок умеет составлять узоры и декоративные композиции из геометрических и растительных элементов на листах бумаги разной формы","Ребенок может выполнить вырезание (симметричное из бумаги, сложенной вдвое; несколько предметов из частей бумаги, сложенной гармошкой)","Ребенок умеет создавать узоры по мотивам народных росписей","Ребенок может сложить бумагу в разных направлениях","Ребенок может сделать разметку с помощью шаблона","Ребенок может выполнить работу по образцу","Ребенок может создать объемную игрушку в технике «оригами»","Ребенок может создать объемную поделку из природного материала","Ребенок может вдеть нитку в иголку, завязать узелок, пришить пуговицу, петельку, выполнить шов «вперед иголка»","Ребенок умеет выделять, называть, группировать произведения по видам искусства: литература, музыка, изобразительное искусство, архитектура, театр, цирк","Ребенок имеет представление о видах изобразительного искусства: графика, декоративно-прикладное искусство, живопись, скульптура, архитектура, фотоискусство","Ребенок имеет представление о жанрах изобразительного искусства: натюрморт, пейзаж, портрет","Ребенок имеет представление о народном искусстве, фольклоре, музыке и художественных промыслах","Ребенок имеет представление о творческих профессиях: художник, композитор, музыкант, актер, артист балета","Ребенок имеет представление о культурно-досуговых местах: театр, музей, библиотека, выставка, кинотеатр, цирк и др.","Ребенок может провести анализ постройки (выделить основные части и характерные детали конструкций)","Ребенок может выполнить постройку по инструкции"]
[null,"Ребенок осознает и признает собственные ошибки, результат поставленных задач, определяет пути развития","Ребенок умеет договариваться и дружить, старается разрешать конфликтные ситуации конструктивными способами","Ребенок способен принимать собственные решения и проявлять инициативу","Ребенок осознанно относится к своему будущему, стремится быть полезным обществу","Ребенок без напоминаний использует в общении формулы словесной вежливости (приветствие, прощание, просьбы, извинения)","Ребенок без напоминаний использует в общении формулы словесной вежливости (приветствие, прощание, просьбы, извинения)","Ребенок понимает чувства и переживания окружающих по невербальным признакам; находит причины и следствия возникновения эмоций, проявляет эмпатию","Ребенок использует социально приемлемые способы проявления эмоций и доступные возрасту регуляции эмоциональных состояний","Ребенок распознает собственные чувства и эмоции, анализирует свои переживания и рассказывает о них","Ребенок самостоятельно соблюдает установленный порядок поведения в группе, регулирует собственную активность","Ребенок имеет представление о необходимости укрепления связи между поколениями, взаимной поддержке детей и взрослых","Ребенок имеет представление о семье, семейных и родственных отношениях (взаимные чувства, правила общения в семье, значимые и памятные события, досуг семьи, семейный бюджет)","Ребенок умеет сотрудничать со сверстниками (побуждает к обсуждению планов, советуется, поддерживает интерес к мнению, инициирует ситуации взаимопомощи, подчеркивает ценность каждого ребенка и его вклад в общее дело, выбирает партнеров по интересам, помогает устанавливать темп совместных действий)","Ребенок владеет разными способами и видами игры, различает условную и реальную ситуации, предлагает и объясняет замысел игры, комбинирует сюжеты на основе реальных, вымышленных ситуаций, выполняет несколько ролей в одной игре, подбирает разные средства для создания игровых образов, согласовывает свои интересы с интересами партнёров по игре",{"$nulls":39}," все цвета спектра и ахроматические цвета, оттенки","плоские и объемные геометрические фигуры; умеет выделять структуру геометрических фигур и устанавливать взаимосвязи между ними","Ребенок умеет классифицировать фигуры по внешним структурным признаками (округлые, многоугольники)","Ребенок владеет различными способами видоизменения геометрических фигур (наложение, соединение, разрезание и др.)","Ребенок умеет измерять длину, ширину, высоту с помощью условной мерки",{"$nulls":13}," о родном населенном пункте (название улиц, некоторых архитектурных особенностях, достопримечательностях), об истории, о выдающихся горожанах, традициях городской жизни"," о назначении общественных учреждений"," о разных видах специального транспорта"," о местах труда людей (завод, больница, магазин и др.)"," о местах отдыха людей","Ребенок имеет представление о наиболее ярких представителях животных и растений разных природных зон (пустыня, степь, тайга, тундра и др.), об их образе жизни, приспособлении к среде обитания, изменениях в жизни в разные сезоны года","Ребенок имеет представление о многообразии водных ресурсов (моря, океаны, реки, водопады и др.)","Ребенок имеет представление о многообразии полезных ископаемых (нефть, уголь, серебро, золото, алмазы и др.)","Ребенок имеет представление о жизненных потребностях, этапах роста и развития животных и растений",null,"Ребенок имеет представление о некоторых небесных телах (планеты, кометы, звезды)",null,null,"бросание вверх, о землю, ловля двумя руками, одной рукой, перебрасывание, передача, прокатывание, забрасывание, ведение","в цель из положения стоя, вдаль, в движущеюся цель","ползанье на четвереньках, на животе, на спине","влезание на гимнастическую стенку и спуск; перелезание с пролета на пролет по диагонали","лазанье по веревочной лестнице; выполнение упражнений на канате","обычная, гимнастическим шагом, скрестным шагом, спиной вперед, выпадами, с закрытыми глазами","приставными шагами назад, в приседе, с различными движениями рук","в различных построениях","в колонне по одному, врассыпную, парами, тройками, четверками","в сочетание с прыжками, высоко поднимая колени, захлестывая голени назад, выбрасывая прямые ноги вперед","челночный, наперегонки, из разных исходных положений, со скакалкой, по пересеченной местности, с наименьшим числом шагов, медленный, быстрый","подпрыгивания на двух ногах в чередовании с ходьбой, на месте и с поворот кругом","смещая ноги вправо-влево-вперед-назад","выпрыгивание на предметы; подпрыгивания вверх из глубокого приседа; прыжки на одной ноге","в длину с места/с разбега, в высоту с места/с разбега","стойка на носках, стойка на одной ноге с закрытыми глазами","кружение с закрытыми глазами, остановкой и сохранением заданной позы"]
["начало года",{"$f":"'Соц.ком.к 7г ч1 Н.г.'!E16","v":0},{"$f":"'Соц.ком.к 7г ч1 Н.г.'!F16","v":0},{"$f":"'Соц.ком.к 7г ч1 Н.г.'!G16","v":0},{"$f":"'Соц.ком.к 7г ч1 Н.г.'!H16","v":0},{"$f":"'Соц.ком.к 7г ч1 Н.г.'!I16","v":0},{"$f":"'Соц.ком.к 7г ч1 Н.г.'!J16","v":0},{"$f":"'Соц.ком.к 7г ч1 Н.г.'!K16","v":0},{"$f":"'Соц.ком.к 7г ч1 Н.г.'!L16","v":0},{"$f":"'Соц.ком.к 7г ч1 Н.г.'!M16","v":0},{"$f":"'Соц.ком.к 7г ч1 Н.г.'!N16","v":0},{"$f":"'Соц.ком.к 7г ч2 Н.г.'!E16","v":0},{"$f":"'Соц.ком.к 7г ч2 Н.г.'!F16","v":0},{"$f":"'Соц.ком.к 7г ч2 Н.г.'!G16","v":0},{"$f":"'Соц.ком.к 7г ч2 Н.г.'!H16","v":0},{"$f":"'Соц.ком.к 7г ч2 Н.г.'!I16","v":0},{"$f":"'Соц.ком.к 7г ч2 Н.г.'!J16","v":0},{"$f":"'Соц.ком.к 7г ч2 Н.г.'!K16","v":0},{"$f":"'Соц.ком. к 7г ч3 Н.г.'!E16","v":0},{"$f":"'Соц.ком. к 7г ч3 Н.г.'!F16","v":0},{"$f":"'Соц.ком. к 7г ч3 Н.г.'!G16","v":0},{"$f":"'Соц.ком. к 7г ч3 Н.г.'!H16","v":0},{"$f":"'Соц.ком. к 7г ч3 Н.г.'!I16","v":0},{"$f":"'Соц.ком. к 7г ч3 Н.г.'!J16","v":0},{"$f":"'Соц.ком. к 7г ч3 Н.г.'!K16","v":0},{"$f":"'Соц.ком. к 7г ч3 Н.г.'!L16","v":0},{"$f":"'Соц.ком. к 7г ч4 Н.г.'!E16","v":0},{"$f":"'Соц.ком. к 7г ч4 Н.г.'!F16","v":0},{"$f":"'Соц.ком. к 7г ч4 Н.г.'!G16","v":0},{"$f":"'Соц.ком. к 7г ч4 Н.г.'!H16","v":0},{"$f":"'Соц.ком. к 7г ч4 Н.г.'!I16","v":0},{"$f":"'Реч.разв.к 7г ч1 Н.г.'!E16","v":0},{"$f":"'Реч.разв.к 7г ч1 Н.г.'!F16","v":0},{"$f":"'Реч.разв.к 7г ч1 Н.г.'!G16","v":0},{"$f":"'Реч.разв.к 7г ч1 Н.г.'!H16","v":0},{"$f":"'Реч.разв.к 7г ч1 Н.г.'!I16","v":0},{"$f":"'Реч.разв.к 7г ч1 Н.г.'!J16","v":0},{"$f":"'Реч.разв.к 7г ч1 Н.г.'!K16","v":0},{"$f":"'Реч.разв.к 7г ч1 Н.г.'!L16","v":0},{"$f":"'Реч.разв.к 7г ч2 Н.г.'!E16","v":0},{"$f":"'Реч.разв.к 7г ч2 Н.г.'!F16","v":0},{"$f":"'Реч.разв.к 7г ч2 Н.г.'!G16","v":0},{"$f":"'Реч.разв.к 7г ч2 Н.г.'!H16","v":0},{"$f":"'Реч.разв.к 7г ч2 Н.г.'!I16","v":0},{"$f":"'Реч.разв.к 7г ч2 Н.г.'!J16","v":0},{"$f":"'Реч.разв.к 7г ч2 Н.г.'!K16","v":0},{"$f":"'Реч.разв.к 7г ч2 Н.г.'!L16","v":0},{"$f":"'Реч.разв.к 7г ч2 Н.г.'!M16","v":0},{"$f":"'Реч.разв.к 7г ч3. Н.г.'!E16","v":0},{"$f":"'Реч.разв.к 7г ч3. Н.г.'!F16","v":0},{"$f":"'Реч.разв.к 7г ч3. Н.г.'!G16","v":0},{"$f":"'Реч.разв.к 7г ч3. Н.г.'!H16","v":0},{"$f":"'Реч.разв.к 7г ч3. Н.г.'!I16","v":0},{"$f":"'Реч.разв.к 7г ч3. Н.г.'!J16","v":0},{"$f":"'Позн.разв. к 7г ч1. Н.г.'!E17","v":0},{"$f":"'Позн.разв. к 7г ч1. Н.г.'!F17","v":0},{"$f":"'Позн.разв. к 7г ч1. Н.г.'!G17","v":0},{"$f":"'Позн.разв. к 7г ч1. Н.г.'!H17","v":0},{"$f":"'Позн.разв. к 7г ч1. Н.г.'!I17","v":0},{"$f":"'Позн.разв. к 7г ч1. Н.г.'!J17","v":0},{"$f":"'Позн.разв. к 7г ч1. Н.г.'!K17","v":0},{"$f":"'Позн.разв. к 7г ч1. Н.г.'!L17","v":0},{"$f":"'Позн.разв. к 7г ч1. Н.г.'!M17","v":0},{"$f":"'Позн.разв. к 7г ч2. Н.г.'!E17","v":0},{"$f":"'Позн.разв. к 7г ч2. Н.г.'!F17","v":0},{"$f":"'Позн.разв. к 7г ч2. Н.г.'!G17","v":0},{"$f":"'Позн.разв. к 7г ч2. Н.г.'!H17","v":0},{"$f":"'Позн.разв. к 7г ч2. Н.г.'!I17","v":0},{"$f":"'Позн.разв. к 7г ч2. Н.г.'!J17","v":0},{"$f":"'Позн.разв. к 7г ч2. Н.г.'!K17","v":0},{"$f":"'Позн.разв. к 7г ч2. Н.г.'!L17","v":0},{"$f":"'Позн.разв. к 7г ч2. Н.г.'!M17","v":0},{"$f":"'Позн.разв. к 7г ч3. Н.г.'!E17","v":0},{"$f":"'Позн.разв. к 7г ч3. Н.г.'!F17","v":0},{"$f":"'Позн.разв. к 7г ч3. Н.г.'!G17","v":0},{"$f":"'Позн.разв. к 7г ч3. Н.г.'!H17","v":0},{"$f":"'Позн.разв. к 7г ч3. Н.г.'!I17","v":0},{"$f":"'Позн.разв. к 7г ч3. Н.г.'!J17","v":0},{"$f":"'Позн.разв. к 7г ч3. Н.г.'!K17","v":0},{"$f":"'Позн.разв. к 7г ч3. Н.г.'!L17","v":0},{"$f":"'Позн.разв. к 7г ч3. Н.г.'!M17","v":0},{"$f":"'Позн.разв. к 7г ч3. Н.г.'!N17","v":0},{"$f":"'Позн.разв. к 7г ч3. Н.г.'!O17","v":0},{"$f":"'Позн.разв. к 7г ч3. Н.г.'!P17","v":0},{"$f":"'Позн.разв. к 7г ч3. Н.г.'!Q17","v":0},{"$f":"'Физ.разв. к 7г ч1. Н.г.'!E17","v":0},{"$f":"'Физ.разв. к 7г ч1. Н.г.'!F17","v":0},{"$f":"'Физ.разв. к 7г ч1. Н.г.'!G17","v":0},{"$f":"'Физ.разв. к 7г ч1. Н.г.'!H17","v":0},{"$f":"'Физ.разв. к 7г ч1. Н.г.'!I17","v":0},{"$f":"'Физ.разв. к 7г ч1. Н.г.'!J17","v":0},{"$f":"'Физ.разв. к 7г ч1. Н.г.'!K17","v":0},{"$f":"'Физ.разв. к 7г ч1. Н.г.'!L17","v":0},{"$f":"'Физ.разв. к 7г ч1. Н.г.'!M17","v":0},{"$f":"'Физ.разв. к 7г ч1. Н.г.'!N17","v":0},{"$f":"'Физ.разв. к 7г ч1. Н.г.'!O17","v":0},{"$f":"'Физ.разв. к 7г ч1. Н.г.'!P17","v":0},{"$f":"'Физ.разв. к 7г ч1. Н.г.'!Q17","v":0},{"$f":"'Физ.разв. к 7г ч1. Н.г.'!R17","v":0},{"$f":"'Физ.разв. к 7г ч1. Н.г.'!S17","v":0},{"$f":"'Физ.разв. к 7г ч1. Н.г.'!T17","v":0},{"$f":"'Физ.разв. к 7г ч1. Н.г.'!U17","v":0},{"$f":"'Физ.разв. к 7г ч1. Н.г.'!V17","v":0},{"$f":"'Физ.разв. к 7г ч1. Н.г.'!W17","v":0},{"$f":"'Физ.разв. к 7г ч2. Н.г.'!E18","v":0},{"$f":"'Физ.разв. к 7г ч2. Н.г.'!F18","v":0},{"$f":"'Физ.разв. к 7г ч2. Н.г.'!G18","v":0},{"$f":"'Физ.разв. к 7г ч2. Н.г.'!H18","v":0},{"$f":"'Физ.разв. к 7г ч2. Н.г.'!I18","v":0},{"$f":"'Физ.разв. к 7г ч2. Н.г.'!J18","v":0},{"$f":"'Физ.разв. к 7г ч2. Н.г.'!K18","v":0},{"$f":"'Физ.разв. к 7г ч2. Н.г.'!L18","v":0},{"$f":"'Физ.разв. к 7г ч2. Н.г.'!M18","v":0},{"$f":"'Физ.разв. к 7г ч2. Н.г.'!N18","v":0},{"$f":"'Физ.разв. к 7г ч2. Н.г.'!O18","v":0},{"$f":"'Физ.разв. к 7г ч2. Н.г.'!P18","v":0},{"$f":"'Физ.разв. к 7г ч2. Н.г.'!Q18","v":0},{"$f":"'Физ.разв. к 7г ч2. Н.г.'!R18","v":0},{"$f":"'Физ.разв. к 7г ч2. Н.г.'!S18","v":0},{"$f":"'Физ.разв. к 7г ч2. Н.г.'!T18","v":0},{"$f":"'Физ.разв. к 7г ч3. Н.г.'!E18","v":0},{"$f":"'Физ.разв. к 7г ч3. Н.г.'!F18","v":0},{"$f":"'Физ.разв. к 7г ч3. Н.г.'!G18","v":0},{"$f":"'Физ.разв. к 7г ч3. Н.г.'!H18","v":0},{"$f":"'Физ.разв. к 7г ч3. Н.г.'!I18","v":0},{"$f":"'Физ.разв. к 7г ч3. Н.г.'!J18","v":0},{"$f":"'Физ.разв. к 7г ч3. Н.г.'!K18","v":0},{"$f":"'Физ.разв. к 7г ч3. Н.г.'!L18","v":0},{"$f":"'Физ.разв. к 7г ч3. Н.г.'!M18","v":0},{"$f":"'Физ.разв. к 7г ч3. Н.г.'!N18","v":0},{"$f":"'Физ.разв. к 7г ч3. Н.г.'!O18","v":0},{"$f":"'Худ.эст.к 7г ч1. Н.г.'!E17","v":0},{"$f":"'Худ.эст.к 7г ч1. Н.г.'!F17","v":0},{"$f":"'Худ.эст.к 7г ч1. Н.г.'!G17","v":0},{"$f":"'Худ.эст.к 7г ч1. Н.г.'!H17","v":0},{"$f":"'Худ.эст.к 7г ч1. Н.г.'!I17","v":0},{"$f":"'Худ.эст.к 7г ч1. Н.г.'!J17","v":0},{"$f":"'Худ.эст.к 7г ч1. Н.г.'!K17","v":0},{"$f":"'Худ.эст.к 7г ч1. Н.г.'!L17","v":0},{"$f":"'Худ.эст.к 7г ч1. Н.г.'!M17","v":0},{"$f":"'Худ.эст.к 7г ч1. Н.г.'!N17","v":0},{"$f":"'Худ.эст.к 7г ч1. Н.г.'!O17","v":0},{"$f":"'Худ.эст.к 7г ч1. Н.г.'!P17","v":0},{"$f":"'Худ.эст.к 7г ч1. Н.г.'!Q17","v":0},{"$f":"'Худ.эст.к 7г ч2. Н.г.'!E17","v":0},{"$f":"'Худ.эст.к 7г ч2. Н.г.'!F17","v":0},{"$f":"'Худ.эст.к 7г ч2. Н.г.'!G17","v":0},{"$f":"'Худ.эст.к 7г ч2. Н.г.'!H17","v":0},{"$f":"'Худ.эст.к 7г ч2. Н.г.'!I17","v":0},{"$f":"'Худ.эст.к 7г ч2. Н.г.'!J17","v":0},{"$f":"'Худ.эст.к 7г ч2. Н.г.'!K17","v":0},{"$f":"'Худ.эст.к 7г ч2. Н.г.'!L17","v":0},{"$f":"'Худ.эст.к 7г ч2. Н.г.'!M17","v":0},{"$f":"'Худ.эст.к 7г ч2. Н.г.'!N17","v":0},{"$f":"'Худ.эст.к 7г ч2. Н.г.'!O17","v":0},{"$f":"'Худ.эст.к 7г ч2. Н.г.'!P17","v":0},{"$f":"'Худ.эст.к 7г ч2. Н.г.'!Q17","v":0},{"$f":"'Худ.эст.к 7г ч3. Н.г.'!E17","v":0},{"$f":"'Худ.эст.к 7г ч3. Н.г.'!F17","v":0},{"$f":"'Худ.эст.к 7г ч3. Н.г.'!G17","v":0},{"$f":"'Худ.эст.к 7г ч3. Н.г.'!H17","v":0},{"$f":"'Худ.эст.к 7г ч3. Н.г.'!I17","v":0},{"$f":"'Худ.эст.к 7г ч3. Н.г.'!J17","v":0},{"$f":"'Худ.эст.к 7г ч3. Н.г.'!K17","v":0},{"$f":"'Худ.эст.к 7г ч3. Н.г.'!L17","v":0}]
["конец года",{"$f":"'Соц.ком.к 7г ч1 К.г.'!E16","v":0},{"$f":"'Соц.ком.к 7г ч1 К.г.'!F16","v":0},{"$f":"'Соц.ком.к 7г ч1 К.г.'!G16","v":0},{"$f":"'Соц.ком.к 7г ч1 К.г.'!H16","v":0},{"$f":"'Соц.ком.к 7г ч1 К.г.'!I16","v":0},{"$f":"'Соц.ком.к 7г ч1 К.г.'!J16","v":0},{"$f":"'Соц.ком.к 7г ч1 К.г.'!K16","v":0},{"$f":"'Соц.ком.к 7г ч1 К.г.'!L16","v":0},{"$f":"'Соц.ком.к 7г ч1 К.г.'!M16","v":0},{"$f":"'Соц.ком.к 7г ч1 К.г.'!N16","v":0},{"$f":"'Соц.ком.к 7г ч2 К.г.'!E16","v":0},{"$f":"'Соц.ком.к 7г ч2 К.г.'!F16","v":0},{"$f":"'Соц.ком.к 7г ч2 К.г.'!G16","v":0},{"$f":"'Соц.ком.к 7г ч2 К.г.'!H16","v":0},{"$f":"'Соц.ком.к 7г ч2 К.г.'!I16","v":0},{"$f":"'Соц.ком.к 7г ч2 К.г.'!J16","v":0},{"$f":"'Соц.ком.к 7г ч2 К.г.'!K16","v":0},{"$f":"'Соц.ком. к 7г ч3 К.г.'!E16","v":0},{"$f":"'Соц.ком. к 7г ч3 К.г.'!F16","v":0},{"$f":"'Соц.ком. к 7г ч3 К.г.'!G16","v":0},{"$f":"'Соц.ком. к 7г ч3 К.г.'!H16","v":0},{"$f":"'Соц.ком. к 7г ч3 К.г.'!I16","v":0},{"$f":"'Соц.ком. к 7г ч3 К.г.'!J16","v":0},{"$f":"'Соц.ком. к 7г ч3 К.г.'!K16","v":0},{"$f":"'Соц.ком. к 7г ч3 К.г.'!L16","v":0},{"$f":"'Соц.ком. к 7г ч4 К.г.'!E16","v":0},{"$f":"'Соц.ком. к 7г ч4 К.г.'!F16","v":0},{"$f":"'Соц.ком. к 7г ч4 К.г.'!G16","v":0},{"$f":"'Соц.ком. к 7г ч4 К.г.'!H16","v":0},{"$f":"'Соц.ком. к 7г ч4 К.г.'!I16","v":0},{"$f":"'Реч.разв.к 7г ч1 К.г.'!E16","v":0},{"$f":"'Реч.разв.к 7г ч1 К.г.'!F16","v":0},{"$f":"'Реч.разв.к 7г ч1 К.г.'!G16","v":0},{"$f":"'Реч.разв.к 7г ч1 К.г.'!H16","v":0},{"$f":"'Реч.разв.к 7г ч1 К.г.'!I16","v":0},{"$f":"'Реч.разв.к 7г ч1 К.г.'!J16","v":0},{"$f":"'Реч.разв.к 7г ч1 К.г.'!K16","v":0},{"$f":"'Реч.разв.к 7г ч1 К.г.'!L16","v":0},{"$f":"'Реч.разв.к 7г ч2 К.г. '!E16","v":0},{"$f":"'Реч.разв.к 7г ч2 К.г. '!F16","v":0},{"$f":"'Реч.разв.к 7г ч2 К.г. '!G16","v":0},{"$f":"'Реч.разв.к 7г ч2 К.г. '!H16","v":0},{"$f":"'Реч.разв.к 7г ч2 К.г. '!I16","v":0},{"$f":"'Реч.разв.к 7г ч2 К.г. '!J16","v":0},{"$f":"'Реч.разв.к 7г ч2 К.г. '!K16","v":0},{"$f":"'Реч.разв.к 7г ч2 К.г. '!L16","v":0},{"$f":"'Реч.разв.к 7г ч2 К.г. '!M16","v":0},{"$f":"'Реч.разв.к 7г ч3. К.г. '!E16","v":0},{"$f":"'Реч.разв.к 7г ч3. К.г. '!F16","v":0},{"$f":"'Реч.разв.к 7г ч3. К.г. '!G16","v":0},{"$f":"'Реч.разв.к 7г ч3. К.г. '!H16","v":0},{"$f":"'Реч.разв.к 7г ч3. К.г. '!I16","v":0},{"$f":"'Реч.разв.к 7г ч3. К.г. '!J16","v":0},{"$f":"'Позн.разв. к 7г ч1. К.г. '!E17","v":0},{"$f":"'Позн.разв. к 7г ч1. К.г. '!F17","v":0},{"$f":"'Позн.разв. к 7г ч1. К.г. '!G17","v":0},{"$f":"'Позн.разв. к 7г ч1. К.г. '!H17","v":0},{"$f":"'Позн.разв. к 7г ч1. К.г. '!I17","v":0},{"$f":"'Позн.разв. к 7г ч1. К.г. '!J17","v":0},{"$f":"'Позн.разв. к 7г ч1. К.г. '!K17","v":0},{"$f":"'Позн.разв. к 7г ч1. К.г. '!L17","v":0},{"$f":"'Позн.разв. к 7г ч1. К.г. '!M17","v":0},{"$f":"'Позн.разв. к 7г ч2. К.г.'!E17","v":0},{"$f":"'Позн.разв. к 7г ч2. К.г.'!F17","v":0},{"$f":"'Позн.разв. к 7г ч2. К.г.'!G17","v":0},{"$f":"'Позн.разв. к 7г ч2. К.г.'!H17","v":0},{"$f":"'Позн.разв. к 7г ч2. К.г.'!I17","v":0},{"$f":"'Позн.разв. к 7г ч2. К.г.'!J17","v":0},{"$f":"'Позн.разв. к 7г ч2. К.г.'!K17","v":0},{"$f":"'Позн.разв. к 7г ч2. К.г.'!L17","v":0},{"$f":"'Позн.разв. к 7г ч2. К.г.'!M17","v":0},{"$f":"'Позн.разв. к 7г ч3. К.г. '!E17","v":0},{"$f":"'Позн.разв. к 7г ч3. К.г. '!F17","v":0},{"$f":"'Позн.разв. к 7г ч3. К.г. '!G17","v":0},{"$f":"'Позн.разв. к 7г ч3. К.г. '!H17","v":0},{"$f":"'Позн.разв. к 7г ч3. К.г. '!I17","v":0},{"$f":"'Позн.разв. к 7г ч3. К.г. '!J17","v":0},{"$f":"'Позн.разв. к 7г ч3. К.г. '!K17","v":0},{"$f":"'Позн.разв. к 7г ч3. К.г. '!L17","v":0},{"$f":"'Позн.разв. к 7г ч3. К.г. '!M17","v":0},{"$f":"'Позн.разв. к 7г ч3. К.г. '!N17","v":0},{"$f":"'Позн.разв. к 7г ч3. К.г. '!O17","v":0},{"$f":"'Позн.разв. к 7г ч3. К.г. '!P17","v":0},{"$f":"'Позн.разв. к 7г ч3. К.г. '!Q17","v":0},{"$f":"'Физ.разв. к 7г ч1. К.г. '!E17","v":0},{"$f":"'Физ.разв. к 7г ч1. К.г. '!F17","v":0},{"$f":"'Физ.разв. к 7г ч1. К.г. '!G17","v":0},{"$f":"'Физ.разв. к 7г ч1. К.г. '!H17","v":0},{"$f":"'Физ.разв. к 7г ч1. К.г. '!I17","v":0},{"$f":"'Физ.разв. к 7г ч1. К.г. '!J17","v":0},{"$f":"'Физ.разв. к 7г ч1. К.г. '!K17","v":0},{"$f":"'Физ.разв. к 7г ч1. К.г. '!L17","v":0},{"$f":"'Физ.разв. к 7г ч1. К.г. '!M17","v":0},{"$f":"'Физ.разв. к 7г ч1. К.г. '!N17","v":0},{"$f":"'Физ.разв. к 7г ч1. К.г. '!O17","v":0},{"$f":"'Физ.разв. к 7г ч1. К.г. '!P17","v":0},{"$f":"'Физ.разв. к 7г ч1. К.г. '!Q17","v":0},{"$f":"'Физ.разв. к 7г ч1. К.г. '!R17","v":0},{"$f":"'Физ.разв. к 7г ч1. К.г. '!S17","v":0},{"$f":"'Физ.разв. к 7г ч1. К.г. '!T17","v":0},{"$f":"'Физ.разв. к 7г ч1. К.г. '!U17","v":0},{"$f":"'Физ.разв. к 7г ч1. К.г. '!V17","v":0},{"$f":"'Физ.разв. к 7г ч1. К.г. '!W17","v":0},{"$f":"'Физ.разв. к 7г ч2. К.г.'!E18","v":0},{"$f":"'Физ.разв. к 7г ч2. К.г.'!F18","v":0},{"$f":"'Физ.разв. к 7г ч2. К.г.'!G18","v":0},{"$f":"'Физ.разв. к 7г ч2. К.г.'!H18","v":0},{"$f":"'Физ.разв. к 7г ч2. К.г.'!I18","v":0},{"$f":"'Физ.разв. к 7г ч2. К.г.'!J18","v":0},{"$f":"'Физ.разв. к 7г ч2. К.г.'!K18","v":0},{"$f":"'Физ.разв. к 7г ч2. К.г.'!L18","v":0},{"$f":"'Физ.разв. к 7г ч2. К.г.'!M18","v":0},{"$f":"'Физ.разв. к 7г ч2. К.г.'!N18","v":0},{"$f":"'Физ.разв. к 7г ч2. К.г.'!O18","v":0},{"$f":"'Физ.разв. к 7г ч2. К.г.'!P18","v":0},{"$f":"'Физ.разв. к 7г ч2. К.г.'!Q18","v":0},{"$f":"'Физ.разв. к 7г ч2. К.г.'!R18","v":0},{"$f":"'Физ.разв. к 7г ч2. К.г.'!S18","v":0},{"$f":"'Физ.разв. к 7г ч2. К.г.'!T18","v":0},{"$f":"'Физ.разв. к 7г ч3. К.г. '!E18","v":0},{"$f":"'Физ.разв. к 7г ч3. К.г. '!F18","v":0},{"$f":"'Физ.разв. к 7г ч3. К.г. '!G18","v":0},{"$f":"'Физ.разв. к 7г ч3. К.г. '!H18","v":0},{"$f":"'Физ.разв. к 7г ч3. К.г. '!I18","v":0},{"$f":"'Физ.разв. к 7г ч3. К.г. '!J18","v":0},{"$f":"'Физ.разв. к 7г ч3. К.г. '!K18","v":0},{"$f":"'Физ.разв. к 7г ч3. К.г. '!L18","v":0},{"$f":"'Физ.разв. к 7г ч3. К.г. '!M18","v":0},{"$f":"'Физ.разв. к 7г ч3. К.г. '!N18","v":0},{"$f":"'Физ.разв. к 7г ч3. К.г. '!O18","v":0},{"$f":"'Худ.эст.к 7г ч1. К.г. '!E17","v":0},{"$f":"'Худ.эст.к 7г ч1. К.г. '!F17","v":0},{"$f":"'Худ.эст.к 7г ч1. К.г. '!G17","v":0},{"$f":"'Худ.эст.к 7г ч1. К.г. '!H17","v":0},{"$f":"'Худ.эст.к 7г ч1. К.г. '!I17","v":0},{"$f":"'Худ.эст.к 7г ч1. К.г. '!J17","v":0},{"$f":"'Худ.эст.к 7г ч1. К.г. '!K17","v":0},{"$f":"'Худ.эст.к 7г ч1. К.г. '!L17","v":0},{"$f":"'Худ.эст.к 7г ч1. К.г. '!M17","v":0},{"$f":"'Худ.эст.к 7г ч1. К.г. '!N17","v":0},{"$f":"'Худ.эст.к 7г ч1. К.г. '!O17","v":0},{"$f":"'Худ.эст.к 7г ч1. К.г. '!P17","v":0},{"$f":"'Худ.эст.к 7г ч1. К.г. '!Q17","v":0},{"$f":"'Худ.эст.к 7г ч2. К.г. '!E17","v":0},{"$f":"'Худ.эст.к 7г ч2. К.г. '!F17","v":0},{"$f":"'Худ.эст.к 7г ч2. К.г. '!G17","v":0},{"$f":"'Худ.эст.к 7г ч2. К.г. '!H17","v":0},{"$f":"'Худ.эст.к 7г ч2. К.г. '!I17","v":0},{"$f":"'Худ.эст.к 7г ч2. К.г. '!J17","v":0},{"$f":"'Худ.эст.к 7г ч2. К.г. '!K17","v":0},{"$f":"'Худ.эст.к 7г ч2. К.г. '!L17","v":0},{"$f":"'Худ.эст.к 7г ч2. К.г. '!M17","v":0},{"$f":"'Худ.эст.к 7г ч2. К.г. '!N17","v":0},{"$f":"'Худ.эст.к 7г ч2. К.г. '!O17","v":0},{"$f":"'Худ.эст.к 7г ч2. К.г. '!P17","v":0},{"$f":"'Худ.эст.к 7г ч2. К.г. '!Q17","v":0},{"$f":"'Худ.эст.к 7г ч3. К.г. '!E17","v":0},{"$f":"'Худ.эст.к 7г ч3. К.г. '!F17","v":0},{"$f":"'Худ.эст.к 7г ч3. К.г. '!G17","v":0},{"$f":"'Худ.эст.к 7г ч3. К.г. '!H17","v":0},{"$f":"'Худ.эст.к 7г ч3. К.г. '!I17","v":0},{"$f":"'Худ.эст.к 7г ч3. К.г. '!J17","v":0},{"$f":"'Худ.эст.к 7г ч3. К.г. '!K17","v":0},{"$f":"'Худ.эст.к 7г ч3. К.г. '!L17","v":0}]

{"sheet":"7","index":44,"n_rows":7,"n_cols":165,"rows_kept":7,"merged":[[0,104,0,110],[0,111,0,112],[0,113,0,115],[0,116,0,119],[0,120,0,123],[0,124,0,126],[0,127,0,130],[1,18,1,30],[1,31,1,38],[1,54,1,58],[1,59,1,62],[1,63,1,71],[1,72,1,76],[1,77,1,84],[1,104,1,106],[1,107,1,110],[1,111,4,111],[1,112,4,112],[1,113,4,113],[1,114,4,114],[1,115,4,115],[1,116,1,119],[1,120,2,120],[1,121,2,121],[1,122,2,122],[1,123,2,123],[1,124,4,124],[1,125,4,125],[1,126,4,126],[1,127,1,130],[1,131,1,143],[1,144,1,156],[1,157,2,162],[1,163,2,164],[2,1,2,17],[2,18,2,22],[2,23,2,25],[2,26,2,30],[2,32,2,34],[2,35,2,38],[2,40,2,44],[2,45,2,47],[2,48,2,53],[2,55,2,57],[2,59,4,59],[2,60,4,60],[2,61,4,61],[2,62,4,62],[2,63,2,65],[2,66,2,67],[2,68,2,69],[2,72,3,76],[2,77,2,80],[2,81,2,82],[2,83,4,83],[2,84,4,84],[2,85,2,86],[2,87,2,89],[2,90,2,92],[2,93,2,95],[2,96,2,99],[2,100,2,101],[2,102,2,103],[2,104,4,104],[2,105,4,105],[2,106,4,106],[2,107,4,107],[2,108,4,108],[2,109,4,109],[2,110,4,110],[2,116,4,116],[2,117,4,117],[2,118,4,118],[2,119,4,119],[2,127,4,127],[2,128,4,128],[2,129,4,129],[2,130,4,130],[2,135,2,136],[2,137,2,140],[2,141,2,142],[2,143,4,143],[2,144,2,145],[2,146,2,147],[2,148,2,149],[2,151,2,156],[3,0,4,0],[3,1,3,4],[3,7,3,9],[3,11,3,12],[3,13,3,14],[3,15,4,15],[3,16,4,16],[3,17,4,17],[3,18,4,18],[3,19,4,19],[3,20,4,20],[3,21,4,21],[3,22,4,22],[3,23,4,23],[3,24,4,24],[3,25,4,25],[3,26,4,26],[3,27,4,27],[3,28,4,28],[3,29,4,29],[3,30,4,30],[3,31,4,31],[3,32,4,32],[3,33,4,33],[3,34,4,34],[3,35,4,35],[3,36,4,36],[3,37,4,37],[3,38,4,38],[3,39,4,39],[3,40,4,40],[3,41,4,41],[3,42,4,42],[3,43,4,43],[3,44,4,44],[3,45,4,45],[3,46,4,46],[3,47,4,47],[3,48,4,48],[3,49,4,49],[3,50,4,50],[3,51,4,51],[3,52,4,52],[3,53,4,53],[3,54,3,58],[3,63,4,63],[3,64,4,64],[3,65,4,65],[3,66,4,66],[3,67,4,67],[3,68,4,68],[3,69,4,69],[3,70,4,70],[3,71,4,71],[3,81,4,81],[3,85,3,86],[3,87,3,89],[3,90,3,92],[3,93,3,95],[3,96,3,99],[3,100,3,101],[3,102,4,102],[3,103,4,103],[3,120,4,120],[3,121,4,121],[3,122,4,122],[3,123,4,123],[3,131,4,131],[3,132,4,132],[3,133,4,133],[3,134,4,134],[3,135,4,135],[3,136,4,136],[3,137,4,137],[3,138,4,138],[3,139,4,139],[3,140,4,140],[3,141,4,141],[3,142,4,142],[3,144,4,144],[3,145,4,145],[3,146,4,146],[3,147,4,147],[3,148,4,148],[3,149,4,149],[3,150,4,150],[3,151,4,151],[3,152,4,152],[3,153,4,153],[3,154,4,154],[3,155,4,155],[3,156,4,156],[3,157,4,157],[3,158,4,158],[3,159,4,159],[3,160,4,160],[3,161,4,161],[3,162,4,162],[3,163,4,163],[3,164,4,164]]}
[{"$nulls":104},"Мелкая моторика",{"$nulls":6},"Подвижные игры",null,"Спорт. игры",null,null,"Спортивные упражнения",{"$nulls":3},"КГН",{"$nulls":3},"ЗОЖ",null,null,"Спортивные упражнения"]
[{"$nulls":18},"СОЦИАЛЬНО-КОММУНИКАТИВНОЕ РАЗВИТИЕ",{"$nulls":12},"РЕЧЕВОЕ РАЗВИТИЕ",{"$nulls":22},"Сенсорные эталоны ",{"$nulls":4},"Познавательные действия",{"$nulls":3},"Математические представления",{"$nulls":8},"Окружающий мир",{"$nulls":4},"Природа ",{"$nulls":26},"Координация рук и глаз",null,null,"Графические навыки",{"$nulls":3},"Ребенок использует в самостоятельной деятельности разнообразные по содержанию подвижные игры, проявляет элементы творчества в двигательной деятельности","Ребенок может организовать знакомые подвижные игры со сверстниками, сплотить команду, стремится внести свой вклад в результат команды","Ребенок владеет элементами спортивных игр (городки, баскетбол, футбол, хоккей, бадминтон, настольный теннис), может контролировать свои движения и управлять ими","Ребенок имеет представление о разных видах спорта (санный спорт, борьба, теннис, синхронное плавание и др.)","Ребенок имеет представление о спортивных событиях и достижениях отечественных спортсменов","Ребенок умеет кататься",{"$nulls":3},"Навыки соблюдения чистоты тела (правила личной гигиены)","Навыки культуры еды (прием пищи) ","Навыки поддержания порядка (правила поведения в быту) ","Навыки ухода за собой (одевание, раздевание) ","Ребенок соблюдает элементарные правила здорового образа жизни и личной гигиены, следит за своей осанкой, может оценить свое самочувствие","Ребенок регулярно выполняет физические упражнения","Ребенок имеет начальные представления о том, что такое здоровье, понимает, как поддержать, укрепить и сохранить его","Ребенок умеет кататься",{"$nulls":3},"Музыкальная деятельность",{"$nulls":12},"Изобразительная деятельность",{"$nulls":12},"Приобщение к искусству",{"$nulls":5},"Конструктивная деятельность"]
[null,"СОЦИАЛЬНО-КОММУНИКАТИВНОЕ РАЗВИТИЕ",{"$nulls":16},"Область формирования основ гражданственности и патриотизма",{"$nulls":4},"Сфера трудового воспитания",null,null,"Область формирования основ безопасного поведения",{"$nulls":4},"Общее речевое развитие","Формирование словаря",null,null,"Грамматический строй",{"$nulls":3},"Звуковая культура речи","Связная речь",{"$nulls":4},"ЧХЛ",null,null,"Подготовка к обучению грамоте",{"$nulls":5},"Цвет, оттенки","Форма, геометрические фигуры",null,null,"Величина","Ребенок самостоятельно выбирает способ осуществления разных видов познавательной деятельности","Ребенок интересуется субъективно новым и неизвестным в окружающем мире","Ребенок способен применять в жизненных и игровых ситуациях знания о количестве, форме, величине предметов, пространстве, времени","Ребенок имеет разнообразные познавательные умения: определяет противоречия. Формулирует задачу исследования, использует разные способы и средства проверки предположений (сравнение с эталонами, классификацию, систематизацию и др.)","Количество и счет",null,null,"Ориентировка во времени",null,"Ориентировка в пространстве",null,"Пространственно-количественные связи и отношения","Сравнение","Ребенок имеет представления, может показать на картинке и в естественной среде, может рассказать",{"$nulls":4},"Объекты живой природы",{"$nulls":3},"Объекты неживой природы, природные явления",null,"Ребенок стремится к самостоятельному экспериментированию","Ребенок знает правила поведения в природе, проявляет осознанное, бережное отношение к природе и ее ресурсам","Бросание, катание, ловля, метание",null,"Ползанье, лазанье",null,null,"Ходьба",null,null,"Бег",null,null,"Прыжки",{"$nulls":3},"Равновесие",null,"Строевые упражнения",null,"Ребенок выполняет графический диктант","Ребенок обводит по шаблону, по трафарету","Ребенок чертит линии с помощью линейки","Ребенок обводит по контуру, по точкам","Ребенок выполняет штриховку в различных направлениях","Ребенок закрашивает, не выходя за контур","Ребенок свободно владеет карандашом при рисовании округлых линий, завитков в разном направлении",{"$nulls":5},"на санках","на лыжах","на двухколесном велосипеде","на самокате",{"$nulls":7},"на санках","на лыжах","на двухколесном велосипеде","на самокате","Слушание","Пение ","Музыкально-ритмические движения","Песенное творчество","Игра на детских музыкальных инструментах",null,"Театрализованная деятельность",{"$nulls":3},"Танцевально-игровое творчество",null,"У ребенка развит музыкальный вкус, музыкальная память","Рисование ",null,"Лепка ",null,"Аппликация ",null,"Народное ДПИ","Прикладное творчество"]
[{"$f":"Список!B10","v":0},"Отношение к самому себе",{"$nulls":3},"Отношение к сверстникам","Отношение к взрослым","Эмоции",null,null,"Поведение","Семья",null,"Игровое поведение",null,"Ребенок имеет представление об изменениях позиции человека с возрастом","Ребенок имеет представление о школе, школьниках, учителях; стремится к школьному обучению, к познанию, освоению чтения, письма; демонстрирует формированные предпосылки к учебной деятельности и элементы готовности к школьному обучению","Ребенок имеет представление о нравственных качествах людей, их проявлении в поступках и взаимоотношениях","Ребенок имеет представление о признаках и характеристиках государства (территория государства и его границы, столица), атрибутах государственной власти, президенте, столице","Ребенок имеет представление о порядке использования государственной символики","Ребенок имеет представление о волонтерстве","Ребенок имеет представление о государственных праздниках, исторических событиях","Ребенок имеет представление о жизни людей в России, о многообразии стран и народов мира","Ребенок имеет представление об обмене ценностями в процессе производства и потребления товаров и услуг, о денежных отношениях, о реальной стоимости отдельных продуктов питания, игрушек, детских книг","Ребенок имеет представление о об основах финансовой грамоты, основах бережного потребления","Ребенок проявляет инициативность и самостоятельность в процессе самообслуживания, при выполнении трудовых поручений","Ребенок имеет представление о правила безопасного поведения в ситуациях, создающих угрозу жизни и здоровью (погас свет, остался один, потерялся, получил травму)","Ребенок имеет представление о правила безопасного поведения дома, на улице, в природе, в местах большого скопления людей, в магазине, на вокзале, в общественных метах, на праздниках и др.","Ребенок имеет представление о правилах безопасного использования цифровых ресурсов (мобильного телефона, планшета)","Ребенок имеет представление об элементарных правилах оказания первой помощи при первых признаках недомогания, травмах, ушибах","Ребенок проявляет самостоятельность при выполнении правил безопасного поведения","Ребенок владеет речью как средством коммуникации, ведет диалог, владеет коммуникативно-речевыми умениями","Ребенок подбирает точные слова для выражения мысли","Ребенок выполняет операцию классификации – деления освоенных понятий на группы на основе выявленных признаков","Ребенок использует в речи средства языковой выразительности: антонимы, синонимы, многозначные слова, метафоры, олицетворение","Ребенок образует сложные слова посредством слияния основ","Ребенок согласует в речи существительные с числительными, существительные с прилагательными","Ребенок образует по образцу существительные с суффиксами, глаголы с приставками","Ребенок образует в речи сравнительную и превосходную степени имен прилагательных","Ребенок правильно произносит все звуки","Ребенок может пересказать литературное произведение по ролям, близко к тексту, от лица литературного героя","Ребенок может составить описательный рассказ, соблюдая структуру описания","Ребенок может составить повествовательный рассказ по картине, из личного опыта, из коллективного опыта, по набору игрушек, соблюдая структуру повествования","Ребенок может составить рассказ -контаминацию (сочетание описания и повествования, описания и рассуждения)","Ребенок использует в процессе общения объяснительную речь, речь-доказательство, речевое планирование","Ребенок знает и осмысленно воспринимает литературные произведения различных жанров, имеет предпочтения","Ребенок определяет характеры персонажей, мотивы их поведения, оценивает поступки литературных героев","Ребенок проявляет интерес к книгам познавательного характера","Ребенок производит звуковой анализ четырехзвуковых и пятизвуковых слов","Ребенок может интонационно выделить звуки в слове, определить их последовательность, дать им характеристику, составить схему слова, выделить ударный гласный звук в слове","Ребенок может определить количество и последовательность слов в предложении","Ребенок может составить предложение с заданным количеством слов","Ребенок знает названия всех букв","Ребенок читает слоги","Ребенок различает и называет",{"$nulls":8},"Ребенок умеет считать в пределах 10 в прямом и обратном порядке","Ребенок знает состав чисел из двух меньших в пределах первого десятка","Ребенок решает простые арифметические задачи на сложение и вычитание","Ребенок имеет представление о календаре, как системе измерения времени","Ребенок умеет определять время по часам с точностью до четверти часа","Ребенок ориентируется на местности, по схеме, по плану","Ребенок знает способы ориентировки в двухмерном пространстве","Ребенок умеет измерять протяженность, массу и объем с помощью условной мерки; понимает взаимообратные отношения между мерой и результатом измерения","Ребенок сравнивает предметы по 4-6 основаниям с выделением сходства, отличия",{"$nulls":9},"Ребенок имеет представление об использовании человеком свойств неживой природы для хозяйственных нужд (ветряные мельницы, водохранилища, солнечные батареи, ледяные катки)",{"$nulls":3},"Ребенок выполняет различные упражнения с мячом, метание",null,"Ребенок выполняет разные виды ползанья, лазанья ",null,null,"Ребенок выполняет различные виды ходьбы",null,null,"Ребенок выполняет различные виды бега",null,null,"Ребенок выполняет различные виды прыжков",{"$nulls":3},"Ребенок выполняет",null,"Ребенок выполняет разные виды перестроений, построений, передвижений, размыкание и смыкание приставным шагом, повороты","Ребенок может рассчитаться на «первый – второй»",{"$nulls":16},"Ребенок владеет навыками личной гигиены","Ребенок владеет навыками культуры еды","Ребенок владеет навыками поддержания порядка","Ребенок владеет навыками ухода за собой",{"$nulls":7},"У ребенка развит навык восприятия звуков по высоте в пределах квинты-терции","У ребенка развиты певческий голос и вокально-слуховая координация","Ребёнок ритмично и выразительно двигается в соответствие с характером музыки","Ребенок способен самостоятельно придумать мелодию, используя в качестве образца русские народные песни","Ребенок может сыграть простую мелодию на металлофоне, свирели, ударных, и электронных музыкальных инструментах: трещотках, погремушках, треугольниках","Ребенок может исполнить музыкальное произведение в оркестре и в ансамбле","Ребенок проявляет самостоятельность при выборе литературного и музыкального материала для театральной постановки","Ребенок проявляет инициативу при изготовлении атрибутов и декораций к спектаклю","Ребенок имеет представление о средствах погружения в театральные образы (музыка, слова, декорации, грим, костюм и др.)","Ребенок умеет выразительно передавать образы в действии, мимике, пантомимике","Ребенок проявляет активность в доступных видах музыкальной исполнительской деятельности (игра в оркестре, пение, танцевальные движения и др.)","Ребенок помогает придумывать движения, отражающие содержание песни",null,"Ребенок может изобразить предметы по памяти и с натуры, передает их средствами рисунка (форма, пропорции, расположение)","Ребенок способен передавать в рисунке сюжет, строить композицию","Ребенок свободно использует приемы лепки, освоенные ранее (налеп, углубленный рельеф), применяет стеку","Ребенок умеет передавать пропорции, соотношение по величине, выразительность поз, движений, деталей","Ребенок умеет составлять узоры и декоративные композиции из геометрических и растительных элементов на листах бумаги разной формы","Ребенок может выполнить вырезание (симметричное из бумаги, сложенной вдвое; несколько предметов из частей бумаги, сложенной гармошкой)","Ребенок умеет создавать узоры по мотивам народных росписей","Ребенок может сложить бумагу в разных направлениях","Ребенок может сделать разметку с помощью шаблона","Ребенок может выполнить работу по образцу","Ребенок может создать объемную игрушку в технике «оригами»","Ребенок может создать объемную поделку из природного материала","Ребенок может вдеть нитку в иголку, завязать узелок, пришить пуговицу, петельку, выполнить шов «вперед иголка»","Ребенок умеет выделять, называть, группировать произведения по видам искусства: литература, музыка, изобразительное искусство, архитектура, театр, цирк","Ребенок имеет представление о видах изобразительного искусства: графика, декоративно-прикладное искусство, живопись, скульптура, архитектура, фотоискусство","Ребенок имеет представление о жанрах изобразительного искусства: натюрморт, пейзаж, портрет","Ребенок имеет представление о народном искусстве, фольклоре, музыке и художественных промыслах","Ребенок имеет представление о творческих профессиях: художник, композитор, музыкант, актер, артист балета","Ребенок имеет представление о культурно-досуговых местах: театр, музей, библиотека, выставка, кинотеатр, цирк и др.","Ребенок может провести анализ постройки (выделить основные части и характерные детали конструкций)","Ребенок может выполнить постройку по инструкции"]
[null,"Ребенок осознает и признает собственные ошибки, результат поставленных задач, определяет пути развития","Ребенок умеет договариваться и дружить, старается разрешать конфликтные ситуации конструктивными способами","Ребенок способен принимать собственные решения и проявлять инициативу","Ребенок осознанно относится к своему будущему, стремится быть полезным обществу","Ребенок без напоминаний использует в общении формулы словесной вежливости (приветствие, прощание, просьбы, извинения)","Ребенок без напоминаний использует в общении формулы словесной вежливости (приветствие, прощание, просьбы, извинения)","Ребенок понимает чувства и переживания окружающих по невербальным признакам; находит причины и следствия возникновения эмоций, проявляет эмпатию","Ребенок использует социально приемлемые способы проявления эмоций и доступные возрасту регуляции эмоциональных состояний","Ребенок распознает собственные чувства и эмоции, анализирует свои переживания и рассказывает о них","Ребенок самостоятельно соблюдает установленный порядок поведения в группе, регулирует собственную активность","Ребенок имеет представление о необходимости укрепления связи между поколениями, взаимной поддержке детей и взрослых","Ребенок имеет представление о семье, семейных и родственных отношениях (взаимные чувства, правила общения в семье, значимые и памятные события, досуг семьи, семейный бюджет)","Ребенок умеет сотрудничать со сверстниками (побуждает к обсуждению планов, советуется, поддерживает интерес к мнению, инициирует ситуации взаимопомощи, подчеркивает ценность каждого ребенка и его вклад в общее дело, выбирает партнеров по интересам, помогает устанавливать темп совместных действий)","Ребенок владеет разными способами и видами игры, различает условную и реальную ситуации, предлагает и объясняет замысел игры, комбинирует сюжеты на основе реальных, вымышленных ситуаций, выполняет несколько ролей в одной игре, подбирает разные средства для создания игровых образов, согласовывает свои интересы с интересами партнёров по игре",{"$nulls":39}," все цвета спектра и ахроматические цвета, оттенки","плоские и объемные геометрические фигуры; умеет выделять структуру геометрических фигур и устанавливать взаимосвязи между ними","Ребенок умеет классифицировать фигуры по внешним структурным признаками (округлые, многоугольники)","Ребенок владеет различными способами видоизменения геометрических фигур (наложение, соединение, разрезание и др.)","Ребенок умеет измерять длину, ширину, высоту с помощью условной мерки",{"$nulls":13}," о родном населенном пункте (название улиц, некоторых архитектурных особенностях, достопримечательностях), об истории, о выдающихся горожанах, традициях городской жизни"," о назначении общественных учреждений"," о разных видах специального транспорта"," о местах труда людей (завод, больница, магазин и др.)"," о местах отдыха людей","Ребенок имеет представление о наиболее ярких представителях животных и растений разных природных зон (пустыня, степь, тайга, тундра и др.), об их образе жизни, приспособлении к среде обитания, изменениях в жизни в разные сезоны года","Ребенок имеет представление о многообразии водных ресурсов (моря, океаны, реки, водопады и др.)","Ребенок имеет представление о многообразии полезных ископаемых (нефть, уголь, серебро, золото, алмазы и др.)","Ребенок имеет представление о жизненных потребностях, этапах роста и развития животных и растений",null,"Ребенок имеет представление о некоторых небесных телах (планеты, кометы, звезды)",null,null,"бросание вверх, о землю, ловля двумя руками, одной рукой, перебрасывание, передача, прокатывание, забрасывание, ведение","в цель из положения стоя, вдаль, в движущеюся цель","ползанье на четвереньках, на животе, на спине","влезание на гимнастическую стенку и спуск; перелезание с пролета на пролет по диагонали","лазанье по веревочной лестнице; выполнение упражнений на канате","обычная, гимнастическим шагом, скрестным шагом, спиной вперед, выпадами, с закрытыми глазами","приставными шагами назад, в приседе, с различными движениями рук","в различных построениях","в колонне по одному, врассыпную, парами, тройками, четверками","в сочетание с прыжками, высоко поднимая колени, захлестывая голени назад, выбрасывая прямые ноги вперед","челночный, наперегонки, из разных исходных положений, со скакалкой, по пересеченной местности, с наименьшим числом шагов, медленный, быстрый","подпрыгивания на двух ногах в чередовании с ходьбой, на месте и с поворот кругом","смещая ноги вправо-влево-вперед-назад","выпрыгивание на предметы; подпрыгивания вверх из глубокого приседа; прыжки на одной ноге","в длину с места/с разбега, в высоту с места/с разбега","стойка на носках, стойка на одной ноге с закрытыми глазами","кружение с закрытыми глазами, остановкой и сохранением заданной позы"]
["начало года",{"$f":"'Соц.ком.к 7г ч1 Н.г.'!E17","v":0},{"$f":"'Соц.ком.к 7г ч1 Н.г.'!F17","v":0},{"$f":"'Соц.ком.к 7г ч1 Н.г.'!G17","v":0},{"$f":"'Соц.ком.к 7г ч1 Н.г.'!H17","v":0},{"$f":"'Соц.ком.к 7г ч1 Н.г.'!I17","v":0},{"$f":"'Соц.ком.к 7г ч1 Н.г.'!J17","v":0},{"$f":"'Соц.ком.к 7г ч1 Н.г.'!K17","v":0},{"$f":"'Соц.ком.к 7г ч1 Н.г.'!L17","v":0},{"$f":"'Соц.ком.к 7г ч1 Н.г.'!M17","v":0},{"$f":"'Соц.ком.к 7г ч1 Н.г.'!N17","v":0},{"$f":"'Соц.ком.к 7г ч2 Н.г.'!E17","v":0},{"$f":"'Соц.ком.к 7г ч2 Н.г.'!F17","v":0},{"$f":"'Соц.ком.к 7г ч2 Н.г.'!G17","v":0},{"$f":"'Соц.ком.к 7г ч2 Н.г.'!H17","v":0},{"$f":"'Соц.ком.к 7г ч2 Н.г.'!I17","v":0},{"$f":"'Соц.ком.к 7г ч2 Н.г.'!J17","v":0},{"$f":"'Соц.ком.к 7г ч2 Н.г.'!K17","v":0},{"$f":"'Соц.ком. к 7г ч3 Н.г.'!E17","v":0},{"$f":"'Соц.ком. к 7г ч3 Н.г.'!F17","v":0},{"$f":"'Соц.ком. к 7г ч3 Н.г.'!G17","v":0},{"$f":"'Соц.ком. к 7г ч3 Н.г.'!H17","v":0},{"$f":"'Соц.ком. к 7г ч3 Н.г.'!I17","v":0},{"$f":"'Соц.ком. к 7г ч3 Н.г.'!J17","v":0},{"$f":"'Соц.ком. к 7г ч3 Н.г.'!K17","v":0},{"$f":"'Соц.ком. к 7г ч3 Н.г.'!L17","v":0},{"$f":"'Соц.ком. к 7г ч4 Н.г.'!E17","v":0},{"$f":"'Соц.ком. к 7г ч4 Н.г.'!F17","v":0},{"$f":"'Соц.ком. к 7г ч4 Н.г.'!G17","v":0},{"$f":"'Соц.ком. к 7г ч4 Н.г.'!H17","v":0},{"$f":"'Соц.ком. к 7г ч4 Н.г.'!I17","v":0},{"$f":"'Реч.разв.к 7г ч1 Н.г.'!E17","v":0},{"$f":"'Реч.разв.к 7г ч1 Н.г.'!F17","v":0},{"$f":"'Реч.разв.к 7г ч1 Н.г.'!G17","v":0},{"$f":"'Реч.разв.к 7г ч1 Н.г.'!H17","v":0},{"$f":"'Реч.разв.к 7г ч1 Н.г.'!I17","v":0},{"$f":"'Реч.разв.к 7г ч1 Н.г.'!J17","v":0},{"$f":"'Реч.разв.к 7г ч1 Н.г.'!K17","v":0},{"$f":"'Реч.разв.к 7г ч1 Н.г.'!L17","v":0},{"$f":"'Реч.разв.к 7г ч2 Н.г.'!E17","v":0},{"$f":"'Реч.разв.к 7г ч2 Н.г.'!F17","v":0},{"$f":"'Реч.разв.к 7г ч2 Н.г.'!G17","v":0},{"$f":"'Реч.разв.к 7г ч2 Н.г.'!H17","v":0},{"$f":"'Реч.разв.к 7г ч2 Н.г.'!I17","v":0},{"$f":"'Реч.разв.к 7г ч2 Н.г.'!J17","v":0},{"$f":"'Реч.разв.к 7г ч2 Н.г.'!K17","v":0},{"$f":"'Реч.разв.к 7г ч2 Н.г.'!L17","v":0},{"$f":"'Реч.разв.к 7г ч2 Н.г.'!M17","v":0},{"$f":"'Реч.разв.к 7г ч3. Н.г.'!E17","v":0},{"$f":"'Реч.разв.к 7г ч3. Н.г.'!F17","v":0},{"$f":"'Реч.разв.к 7г ч3. Н.г.'!G17","v":0},{"$f":"'Реч.разв.к 7г ч3. Н.г.'!H17","v":0},{"$f":"'Реч.разв.к 7г ч3. Н.г.'!I17","v":0},{"$f":"'Реч.разв.к 7г ч3. Н.г.'!J17","v":0},{"$f":"'Позн.разв. к 7г ч1. Н.г.'!E18","v":0},{"$f":"'Позн.разв. к 7г ч1. Н.г.'!F18","v":0},{"$f":"'Позн.разв. к 7г ч1. Н.г.'!G18","v":0},{"$f":"'Позн.разв. к 7г ч1. Н.г.'!H18","v":0},{"$f":"'Позн.разв. к 7г ч1. Н.г.'!I18","v":0},{"$f":"'Позн.разв. к 7г ч1. Н.г.'!J18","v":0},{"$f":"'Позн.разв. к 7г ч1. Н.г.'!K18","v":0},{"$f":"'Позн.разв. к 7г ч1. Н.г.'!L18","v":0},{"$f":"'Позн.разв. к 7г ч1. Н.г.'!M18","v":0},{"$f":"'Позн.разв. к 7г ч2. Н.г.'!E18","v":0},{"$f":"'Позн.разв. к 7г ч2. Н.г.'!F18","v":0},{"$f":"'Позн.разв. к 7г ч2. Н.г.'!G18","v":0},{"$f":"'Позн.разв. к 7г ч2. Н.г.'!H18","v":0},{"$f":"'Позн.разв. к 7г ч2. Н.г.'!I18","v":0},{"$f":"'Позн.разв. к 7г ч2. Н.г.'!J18","v":0},{"$f":"'Позн.разв. к 7г ч2. Н.г.'!K18","v":0},{"$f":"'Позн.разв. к 7г ч2. Н.г.'!L18","v":0},{"$f":"'Позн.разв. к 7г ч2. Н.г.'!M18","v":0},{"$f":"'Позн.разв. к 7г ч3. Н.г.'!E18","v":0},{"$f":"'Позн.разв. к 7г ч3. Н.г.'!F18","v":0},{"$f":"'Позн.разв. к 7г ч3. Н.г.'!G18","v":0},{"$f":"'Позн.разв. к 7г ч3. Н.г.'!H18","v":0},{"$f":"'Позн.разв. к 7г ч3. Н.г.'!I18","v":0},{"$f":"'Позн.разв. к 7г ч3. Н.г.'!J18","v":0},{"$f":"'Позн.разв. к 7г ч3. Н.г.'!K18","v":0},{"$f":"'Позн.разв. к 7г ч3. Н.г.'!L18","v":0},{"$f":"'Позн.разв. к 7г ч3. Н.г.'!M18","v":0},{"$f":"'Позн.разв. к 7г ч3. Н.г.'!N18","v":0},{"$f":"'Позн.разв. к 7г ч3. Н.г.'!O18","v":0},{"$f":"'Позн.разв. к 7г ч3. Н.г.'!P18","v":0},{"$f":"'Позн.разв. к 7г ч3. Н.г.'!Q18","v":0},{"$f":"'Физ.разв. к 7г ч1. Н.г.'!E18","v":0},{"$f":"'Физ.разв. к 7г ч1. Н.г.'!F18","v":0},{"$f":"'Физ.разв. к 7г ч1. Н.г.'!G18","v":0},{"$f":"'Физ.разв. к 7г ч1. Н.г.'!H18","v":0},{"$f":"'Физ.разв. к 7г ч1. Н.г.'!I18","v":0},{"$f":"'Физ.разв. к 7г ч1. Н.г.'!J18","v":0},{"$f":"'Физ.разв. к 7г ч1. Н.г.'!K18","v":0},{"$f":"'Физ.разв. к 7г ч1. Н.г.'!L18","v":0},{"$f":"'Физ.разв. к 7г ч1. Н.г.'!M18","v":0},{"$f":"'Физ.разв. к 7г ч1. Н.г.'!N18","v":0},{"$f":"'Физ.разв. к 7г ч1. Н.г.'!O18","v":0},{"$f":"'Физ.разв. к 7г ч1. Н.г.'!P18","v":0},{"$f":"'Физ.разв. к 7г ч1. Н.г.'!Q18","v":0},{"$f":"'Физ.разв. к 7г ч1. Н.г.'!R18","v":0},{"$f":"'Физ.разв. к 7г ч1. Н.г.'!S18","v":0},{"$f":"'Физ.разв. к 7г ч1. Н.г.'!T18","v":0},{"$f":"'Физ.разв. к 7г ч1. Н.г.'!U18","v":0},{"$f":"'Физ.разв. к 7г ч1. Н.г.'!V18","v":0},{"$f":"'Физ.разв. к 7г ч1. Н.г.'!W18","v":0},{"$f":"'Физ.разв. к 7г ч2. Н.г.'!E19","v":0},{"$f":"'Физ.разв. к 7г ч2. Н.г.'!F19","v":0},{"$f":"'Физ.разв. к 7г ч2. Н.г.'!G19","v":0},{"$f":"'Физ.разв. к 7г ч2. Н.г.'!H19","v":0},{"$f":"'Физ.разв. к 7г ч2. Н.г.'!I19","v":0},{"$f":"'Физ.разв. к 7г ч2. Н.г.'!J19","v":0},{"$f":"'Физ.разв. к 7г ч2. Н.г.'!K19","v":0},{"$f":"'Физ.разв. к 7г ч2. Н.г.'!L19","v":0},{"$f":"'Физ.разв. к 7г ч2. Н.г.'!M19","v":0},{"$f":"'Физ.разв. к 7г ч2. Н.г.'!N19","v":0},{"$f":"'Физ.разв. к 7г ч2. Н.г.'!O19","v":0},{"$f":"'Физ.разв. к 7г ч2. Н.г.'!P19","v":0},{"$f":"'Физ.разв. к 7г ч2. Н.г.'!Q19","v":0},{"$f":"'Физ.разв. к 7г ч2. Н.г.'!R19","v":0},{"$f":"'Физ.разв. к 7г ч2. Н.г.'!S19","v":0},{"$f":"'Физ.разв. к 7г ч2. Н.г.'!T19","v":0},{"$f":"'Физ.разв. к 7г ч3. Н.г.'!E19","v":0},{"$f":"'Физ.разв. к 7г ч3. Н.г.'!F19","v":0},{"$f":"'Физ.разв. к 7г ч3. Н.г.'!G19","v":0},{"$f":"'Физ.разв. к 7г ч3. Н.г.'!H19","v":0},{"$f":"'Физ.разв. к 7г ч3. Н.г.'!I19","v":0},{"$f":"'Физ.разв. к 7г ч3. Н.г.'!J19","v":0},{"$f":"'Физ.разв. к 7г ч3. Н.г.'!K19","v":0},{"$f":"'Физ.разв. к 7г ч3. Н.г.'!L19","v":0},{"$f":"'Физ.разв. к 7г ч3. Н.г.'!M19","v":0},{"$f":"'Физ.разв. к 7г ч3. Н.г.'!N19","v":0},{"$f":"'Физ.разв. к 7г ч3. Н.г.'!O19","v":0},{"$f":"'Худ.эст.к 7г ч1. Н.г.'!E18","v":0},{"$f":"'Худ.эст.к 7г ч1. Н.г.'!F18","v":0},{"$f":"'Худ.эст.к 7г ч1. Н.г.'!G18","v":0},{"$f":"'Худ.эст.к 7г ч1. Н.г.'!H18","v":0},{"$f":"'Худ.эст.к 7г ч1. Н.г.'!I18","v":0},{"$f":"'Худ.эст.к 7г ч1. Н.г.'!J18","v":0},{"$f":"'Худ.эст.к 7г ч1. Н.г.'!K18","v":0},{"$f":"'Худ.эст.к 7г ч1. Н.г.'!L18","v":0},{"$f":"'Худ.эст.к 7г ч1. Н.г.'!M18","v":0},{"$f":"'Худ.эст.к 7г ч1. Н.г.'!N18","v":0},{"$f":"'Худ.эст.к 7г ч1. Н.г.'!O18","v":0},{"$f":"'Худ.эст.к 7г ч1. Н.г.'!P18","v":0},{"$f":"'Худ.эст.к 7г ч1. Н.г.'!Q18","v":0},{"$f":"'Худ.эст.к 7г ч2. Н.г.'!E18","v":0},{"$f":"'Худ.эст.к 7г ч2. Н.г.'!F18","v":0},{"$f":"'Худ.эст.к 7г ч2. Н.г.'!G18","v":0},{"$f":"'Худ.эст.к 7г ч2. Н.г.'!H18","v":0},{"$f":"'Худ.эст.к 7г ч2. Н.г.'!I18","v":0},{"$f":"'Худ.эст.к 7г ч2. Н.г.'!J18","v":0},{"$f":"'Худ.эст.к 7г ч2. Н.г.'!K18","v":0},{"$f":"'Худ.эст.к 7г ч2. Н.г.'!L18","v":0},{"$f":"'Худ.эст.к 7г ч2. Н.г.'!M18","v":0},{"$f":"'Худ.эст.к 7г ч2. Н.г.'!N18","v":0},{"$f":"'Худ.эст.к 7г ч2. Н.г.'!O18","v":0},{"$f":"'Худ.эст.к 7г ч2. Н.г.'!P18","v":0},{"$f":"'Худ.эст.к 7г ч2. Н.г.'!Q18","v":0},{"$f":"'Худ.эст.к 7г ч3. Н.г.'!E18","v":0},{"$f":"'Худ.эст.к 7г ч3. Н.г.'!F18","v":0},{"$f":"'Худ.эст.к 7г ч3. Н.г.'!G18","v":0},{"$f":"'Худ.эст.к 7г ч3. Н.г.'!H18","v":0},{"$f":"'Худ.эст.к 7г ч3. Н.г.'!I18","v":0},{"$f":"'Худ.эст.к 7г ч3. Н.г.'!J18","v":0},{"$f":"'Худ.эст.к 7г ч3. Н.г.'!K18","v":0},{"$f":"'Худ.эст.к 7г ч3. Н.г.'!L18","v":0}]
["конец года",{"$f":"'Соц.ком.к 7г ч1 К.г.'!E17","v":0},{"$f":"'Соц.ком.к 7г ч1 К.г.'!F17","v":0},{"$f":"'Соц.ком.к 7г ч1 К.г.'!G17","v":0},{"$f":"'Соц.ком.к 7г ч1 К.г.'!H17","v":0},{"$f":"'Соц.ком.к 7г ч1 К.г.'!I17","v":0},{"$f":"'Соц.ком.к 7г ч1 К.г.'!J17","v":0},{"$f":"'Соц.ком.к 7г ч1 К.г.'!K17","v":0},{"$f":"'Соц.ком.к 7г ч1 К.г.'!L17","v":0},{"$f":"'Соц.ком.к 7г ч1 К.г.'!M17","v":0},{"$f":"'Соц.ком.к 7г ч1 К.г.'!N17","v":0},{"$f":"'Соц.ком.к 7г ч2 К.г.'!E17","v":0},{"$f":"'Соц.ком.к 7г ч2 К.г.'!F17","v":0},{"$f":"'Соц.ком.к 7г ч2 К.г.'!G17","v":0},{"$f":"'Соц.ком.к 7г ч2 К.г.'!H17","v":0},{"$f":"'Соц.ком.к 7г ч2 К.г.'!I17","v":0},{"$f":"'Соц.ком.к 7г ч2 К.г.'!J17","v":0},{"$f":"'Соц.ком.к 7г ч2 К.г.'!K17","v":0},{"$f":"'Соц.ком. к 7г ч3 К.г.'!E17","v":0},{"$f":"'Соц.ком. к 7г ч3 К.г.'!F17","v":0},{"$f":"'Соц.ком. к 7г ч3 К.г.'!G17","v":0},{"$f":"'Соц.ком. к 7г ч3 К.г.'!H17","v":0},{"$f":"'Соц.ком. к 7г ч3 К.г.'!I17","v":0},{"$f":"'Соц.ком. к 7г ч3 К.г.'!J17","v":0},{"$f":"'Соц.ком. к 7г ч3 К.г.'!K17","v":0},{"$f":"'Соц.ком. к 7г ч3 К.г.'!L17","v":0},{"$f":"'Соц.ком. к 7г ч4 К.г.'!E17","v":0},{"$f":"'Соц.ком. к 7г ч4 К.г.'!F17","v":0},{"$f":"'Соц.ком. к 7г ч4 К.г.'!G17","v":0},{"$f":"'Соц.ком. к 7г ч4 К.г.'!H17","v":0},{"$f":"'Соц.ком. к 7г ч4 К.г.'!I17","v":0},{"$f":"'Реч.разв.к 7г ч1 К.г.'!E17","v":0},{"$f":"'Реч.разв.к 7г ч1 К.г.'!F17","v":0},{"$f":"'Реч.разв.к 7г ч1 К.г.'!G17","v":0},{"$f":"'Реч.разв.к 7г ч1 К.г.'!H17","v":0},{"$f":"'Реч.разв.к 7г ч1 К.г.'!I17","v":0},{"$f":"'Реч.разв.к 7г ч1 К.г.'!J17","v":0},{"$f":"'Реч.разв.к 7г ч1 К.г.'!K17","v":0},{"$f":"'Реч.разв.к 7г ч1 К.г.'!L17","v":0},{"$f":"'Реч.разв.к 7г ч2 К.г. '!E17","v":0},{"$f":"'Реч.разв.к 7г ч2 К.г. '!F17","v":0},{"$f":"'Реч.разв.к 7г ч2 К.г. '!G17","v":0},{"$f":"'Реч.разв.к 7г ч2 К.г. '!H17","v":0},{"$f":"'Реч.разв.к 7г ч2 К.г. '!I17","v":0},{"$f":"'Реч.разв.к 7г ч2 К.г. '!J17","v":0},{"$f":"'Реч.разв.к 7г ч2 К.г. '!K17","v":0},{"$f":"'Реч.разв.к 7г ч2 К.г. '!L17","v":0},{"$f":"'Реч.разв.к 7г ч2 К.г. '!M17","v":0},{"$f":"'Реч.разв.к 7г ч3. К.г. '!E17","v":0},{"$f":"'Реч.разв.к 7г ч3. К.г. '!F17","v":0},{"$f":"'Реч.разв.к 7г ч3. К.г. '!G17","v":0},{"$f":"'Реч.разв.к 7г ч3. К.г. '!H17","v":0},{"$f":"'Реч.разв.к 7г ч3. К.г. '!I17","v":0},{"$f":"'Реч.разв.к 7г ч3. К.г. '!J17","v":0},{"$f":"'Позн.разв. к 7г ч1. К.г. '!E18","v":0},{"$f":"'Позн.разв. к 7г ч1. К.г. '!F18","v":0},{"$f":"'Позн.разв. к 7г ч1. К.г. '!G18","v":0},{"$f":"'Позн.разв. к 7г ч1. К.г. '!H18","v":0},{"$f":"'Позн.разв. к 7г ч1. К.г. '!I18","v":0},{"$f":"'Позн.разв. к 7г ч1. К.г. '!J18","v":0},{"$f":"'Позн.разв. к 7г ч1. К.г. '!K18","v":0},{"$f":"'Позн.разв. к 7г ч1. К.г. '!L18","v":0},{"$f":"'Позн.разв. к 7г ч1. К.г. '!M18","v":0},{"$f":"'Позн.разв. к 7г ч2. К.г.'!E18","v":0},{"$f":"'Позн.разв. к 7г ч2. К.г.'!F18","v":0},{"$f":"'Позн.разв. к 7г ч2. К.г.'!G18","v":0},{"$f":"'Позн.разв. к 7г ч2. К.г.'!H18","v":0},{"$f":"'Позн.разв. к 7г ч2. К.г.'!I18","v":0},{"$f":"'Позн.разв. к 7г ч2. К.г.'!J18","v":0},{"$f":"'Позн.разв. к 7г ч2. К.г.'!K18","v":0},{"$f":"'Позн.разв. к 7г ч2. К.г.'!L18","v":0},{"$f":"'Позн.разв. к 7г ч2. К.г.'!M18","v":0},{"$f":"'Позн.разв. к 7г ч3. К.г. '!E18","v":0},{"$f":"'Позн.разв. к 7г ч3. К.г. '!F18","v":0},{"$f":"'Позн.разв. к 7г ч3. К.г. '!G18","v":0},{"$f":"'Позн.разв. к 7г ч3. К.г. '!H18","v":0},{"$f":"'Позн.разв. к 7г ч3. К.г. '!I18","v":0},{"$f":"'Позн.разв. к 7г ч3. К.г. '!J18","v":0},{"$f":"'Позн.разв. к 7г ч3. К.г. '!K18","v":0},{"$f":"'Позн.разв. к 7г ч3. К.г. '!L18","v":0},{"$f":"'Позн.разв. к 7г ч3. К.г. '!M18","v":0},{"$f":"'Позн.разв. к 7г ч3. К.г. '!N18","v":0},{"$f":"'Позн.разв. к 7г ч3. К.г. '!O18","v":0},{"$f":"'Позн.разв. к 7г ч3. К.г. '!P18","v":0},{"$f":"'Позн.разв. к 7г ч3. К.г. '!Q18","v":0},{"$f":"'Физ.разв. к 7г ч1. К.г. '!E18","v":0},{"$f":"'Физ.разв. к 7г ч1. К.г. '!F18","v":0},{"$f":"'Физ.разв. к 7г ч1. К.г. '!G18","v":0},{"$f":"'Физ.разв. к 7г ч1. К.г. '!H18","v":0},{"$f":"'Физ.разв. к 7г ч1. К.г. '!I18","v":0},{"$f":"'Физ.разв. к 7г ч1. К.г. '!J18","v":0},{"$f":"'Физ.разв. к 7г ч1. К.г. '!K18","v":0},{"$f":"'Физ.разв. к 7г ч1. К.г. '!L18","v":0},{"$f":"'Физ.разв. к 7г ч1. К.г. '!M18","v":0},{"$f":"'Физ.разв. к 7г ч1. К.г. '!N18","v":0},{"$f":"'Физ.разв. к 7г ч1. К.г. '!O18","v":0},{"$f":"'Физ.разв. к 7г ч1. К.г. '!P18","v":0},{"$f":"'Физ.разв. к 7г ч1. К.г. '!Q18","v":0},{"$f":"'Физ.разв. к 7г ч1. К.г. '!R18","v":0},{"$f":"'Физ.разв. к 7г ч1. К.г. '!S18","v":0},{"$f":"'Физ.разв. к 7г ч1. К.г. '!T18","v":0},{"$f":"'Физ.разв. к 7г ч1. К.г. '!U18","v":0},{"$f":"'Физ.разв. к 7г ч1. К.г. '!V18","v":0},{"$f":"'Физ.разв. к 7г ч1. К.г. '!W18","v":0},{"$f":"'Физ.разв. к 7г ч2. К.г.'!E19","v":0},{"$f":"'Физ.разв. к 7г ч2. К.г.'!F19","v":0},{"$f":"'Физ.разв. к 7г ч2. К.г.'!G19","v":0},{"$f":"'Физ.разв. к 7г ч2. К.г.'!H19","v":0},{"$f":"'Физ.разв. к 7г ч2. К.г.'!I19","v":0},{"$f":"'Физ.разв. к 7г ч2. К.г.'!J19","v":0},{"$f":"'Физ.разв. к 7г ч2. К.г.'!K19","v":0},{"$f":"'Физ.разв. к 7г ч2. К.г.'!L19","v":0},{"$f":"'Физ.разв. к 7г ч2. К.г.'!M19","v":0},{"$f":"'Физ.разв. к 7г ч2. К.г.'!N19","v":0},{"$f":"'Физ.разв. к 7г ч2. К.г.'!O19","v":0},{"$f":"'Физ.разв. к 7г ч2. К.г.'!P19","v":0},{"$f":"'Физ.разв. к 7г ч2. К.г.'!Q19","v":0},{"$f":"'Физ.разв. к 7г ч2. К.г.'!R19","v":0},{"$f":"'Физ.разв. к 7г ч2. К.г.'!S19","v":0},{"$f":"'Физ.разв. к 7г ч2. К.г.'!T19","v":0},{"$f":"'Физ.разв. к 7г ч3. К.г. '!E19","v":0},{"$f":"'Физ.разв. к 7г ч3. К.г. '!F19","v":0},{"$f":"'Физ.разв. к 7г ч3. К.г. '!G19","v":0},{"$f":"'Физ.разв. к 7г ч3. К.г. '!H19","v":0},{"$f":"'Физ.разв. к 7г ч3. К.г. '!I19","v":0},{"$f":"'Физ.разв. к 7г ч3. К.г. '!J19","v":0},{"$f":"'Физ.разв. к 7г ч3. К.г. '!K19","v":0},{"$f":"'Физ.разв. к 7г ч3. К.г. '!L19","v":0},{"$f":"'Физ.разв. к 7г ч3. К.г. '!M19","v":0},{"$f":"'Физ.разв. к 7г ч3. К.г. '!N19","v":0},{"$f":"'Физ.разв. к 7г ч3. К.г. '!O19","v":0},{"$f":"'Худ.эст.к 7г ч1. К.г. '!E18","v":0},{"$f":"'Худ.эст.к 7г ч1. К.г. '!F18","v":0},{"$f":"'Худ.эст.к 7г ч1. К.г. '!G18","v":0},{"$f":"'Худ.эст.к 7г ч1. К.г. '!H18","v":0},{"$f":"'Худ.эст.к 7г ч1. К.г. '!I18","v":0},{"$f":"'Худ.эст.к 7г ч1. К.г. '!J18","v":0},{"$f":"'Худ.эст.к 7г ч1. К.г. '!K18","v":0},{"$f":"'Худ.эст.к 7г ч1. К.г. '!L18","v":0},{"$f":"'Худ.эст.к 7г ч1. К.г. '!M18","v":0},{"$f":"'Худ.эст.к 7г ч1. К.г. '!N18","v":0},{"$f":"'Худ.эст.к 7г ч1. К.г. '!O18","v":0},{"$f":"'Худ.эст.к 7г ч1. К.г. '!P18","v":0},{"$f":"'Худ.эст.к 7г ч1. К.г. '!Q18","v":0},{"$f":"'Худ.эст.к 7г ч2. К.г. '!E18","v":0},{"$f":"'Худ.эст.к 7г ч2. К.г. '!F18","v":0},{"$f":"'Худ.эст.к 7г ч2. К.г. '!G18","v":0},{"$f":"'Худ.эст.к 7г ч2. К.г. '!H18","v":0},{"$f":"'Худ.эст.к 7г ч2. К.г. '!I18","v":0},{"$f":"'Худ.эст.к 7г ч2. К.г. '!J18","v":0},{"$f":"'Худ.эст.к 7г ч2. К.г. '!K18","v":0},{"$f":"'Худ.эст.к 7г ч2. К.г. '!L18","v":0},{"$f":"'Худ.эст.к 7г ч2. К.г. '!M18","v":0},{"$f":"'Худ.эст.к 7г ч2. К.г. '!N18","v":0},{"$f":"'Худ.эст.к 7г ч2. К.г. '!O18","v":0},{"$f":"'Худ.эст.к 7г ч2. К.г. '!P18","v":0},{"$f":"'Худ.эст.к 7г ч2. К.г. '!Q18","v":0},{"$f":"'Худ.эст.к 7г ч3. К.г. '!E18","v":0},{"$f":"'Худ.эст.к 7г ч3. К.г. '!F18","v":0},{"$f":"'Худ.эст.к 7г ч3. К.г. '!G18","v":0},{"$f":"'Худ.эст.к 7г ч3. К.г. '!H18","v":0},{"$f":"'Худ.эст.к 7г ч3. К.г. '!I18","v":0},{"$f":"'Худ.эст.к 7г ч3. К.г. '!J18","v":0},{"$f":"'Худ.эст.к 7г ч3. К.г. '!K18","v":0},{"$f":"'Худ.эст.к 7г ч3. К.г. '!L18","v":0}]

{"sheet":"8","index":45,"n_rows":7,"n_cols":165,"rows_kept":7,"merged":[[0,104,0,110],[0,111,0,112],[0,113,0,115],[0,116,0,119],[0,120,0,123],[0,124,0,126],[0,127,0,130],[1,54,1,58],[1,59,1,62],[1,63,1,71],[1,72,1,76],[1,77,1,84],[1,104,1,106],[1,107,1,110],[1,111,4,111],[1,112,4,112],[1,113,4,113],[1,114,4,114],[1,115,4,115],[1,116,1,119],[1,120,2,120],[1,121,2,121],[1,122,2,122],[1,123,2,123],[1,124,4,124],[1,125,4,125],[1,126,4,126],[1,127,1,130],[1,131,1,143],[1,144,1,156],[1,157,2,162],[1,163,2,164],[2,18,2,22],[2,23,2,25],[2,26,2,30],[2,32,2,34],[2,35,2,38],[2,40,2,44],[2,45,2,47],[2,48,2,53],[2,55,2,57],[2,59,4,59],[2,60,4,60],[2,61,4,61],[2,62,4,62],[2,63,2,65],[2,66,2,67],[2,68,2,69],[2,72,3,76],[2,77,2,80],[2,81,2,82],[2,83,4,83],[2,84,4,84],[2,85,2,86],[2,87,2,89],[2,90,2,92],[2,93,2,95],[2,96,2,99],[2,100,2,101],[2,102,2,103],[2,104,4,104],[2,105,4,105],[2,106,4,106],[2,107,4,107],[2,108,4,108],[2,109,4,109],[2,110,4,110],[2,116,4,116],[2,117,4,117],[2,118,4,118],[2,119,4,119],[2,127,4,127],[2,128,4,128],[2,129,4,129],[2,130,4,130],[2,135,2,136],[2,137,2,140],[2,141,2,142],[2,143,4,143],[2,144,2,145],[2,146,2,147],[2,148,2,149],[2,151,2,156],[3,0,4,0],[3,1,3,4],[3,7,3,9],[3,11,3,12],[3,13,3,14],[3,15,4,15],[3,16,4,16],[3,17,4,17],[3,18,4,18],[3,19,4,19],[3,20,4,20],[3,21,4,21],[3,22,4,22],[3,23,4,23],[3,24,4,24],[3,25,4,25],[3,26,4,26],[3,27,4,27],[3,28,4,28],[3,29,4,29],[3,30,4,30],[3,31,4,31],[3,32,4,32],[3,33,4,33],[3,34,4,34],[3,35,4,35],[3,36,4,36],[3,37,4,37],[3,38,4,38],[3,39,4,39],[3,40,4,40],[3,41,4,41],[3,42,4,42],[3,43,4,43],[3,44,4,44],[3,45,4,45],[3,46,4,46],[3,47,4,47],[3,48,4,48],[3,49,4,49],[3,50,4,50],[3,51,4,51],[3,52,4,52],[3,53,4,53],[3,54,3,58],[3,63,4,63],[3,64,4,64],[3,65,4,65],[3,66,4,66],[3,67,4,67],[3,68,4,68],[3,69,4,69],[3,70,4,70],[3,71,4,71],[3,81,4,81],[3,85,3,86],[3,87,3,89],[3,90,3,92],[3,93,3,95],[3,96,3,99],[3,100,3,101],[3,102,4,102],[3,103,4,103],[3,120,4,120],[3,121,4,121],[3,122,4,122],[3,123,4,123],[3,131,4,131],[3,132,4,132],[3,133,4,133],[3,134,4,134],[3,135,4,135],[3,136,4,136],[3,137,4,137],[3,138,4,138],[3,139,4,139],[3,140,4,140],[3,141,4,141],[3,142,4,142],[3,144,4,144],[3,145,4,145],[3,146,4,146],[3,147,4,147],[3,148,4,148],[3,149,4,149],[3,150,4,150],[3,151,4,151],[3,152,4,152],[3,153,4,153],[3,154,4,154],[3,155,4,155],[3,156,4,156],[3,157,4,157],[3,158,4,158],[3,159,4,159],[3,160,4,160],[3,161,4,161],[3,162,4,162],[3,163,4,163],[3,164,4,164]]}
[{"$nulls":104},"Мелкая моторика",{"$nulls":6},"Подвижные игры",null,"Спорт. игры",null,null,"Спортивные упражнения",{"$nulls":3},"КГН",{"$nulls":3},"ЗОЖ",null,null,"Спортивные упражнения"]
[{"$nulls":54},"Сенсорные эталоны ",{"$nulls":4},"Познавательные действия",{"$nulls":3},"Математические представления",{"$nulls":8},"Окружающий мир",{"$nulls":4},"Природа ",{"$nulls":26},"Координация рук и глаз",null,null,"Графические навыки",{"$nulls":3},"Ребенок использует в самостоятельной деятельности разнообразные по содержанию подвижные игры, проявляет элементы творчества в двигательной деятельности","Ребенок может организовать знакомые подвижные игры со сверстниками, сплотить команду, стремится внести свой вклад в результат команды","Ребенок владеет элементами спортивных игр (городки, баскетбол, футбол, хоккей, бадминтон, настольный теннис), может контролировать свои движения и управлять ими","Ребенок имеет представление о разных видах спорта (санный спорт, борьба, теннис, синхронное плавание и др.)","Ребенок имеет представление о спортивных событиях и достижениях отечественных спортсменов","Ребенок умеет кататься",{"$nulls":3},"Навыки соблюдения чистоты тела (правила личной гигиены)","Навыки культуры еды (прием пищи) ","Навыки поддержания порядка (правила поведения в быту) ","Навыки ухода за собой (одевание, раздевание) ","Ребенок соблюдает элементарные правила здорового образа жизни и личной гигиены, следит за своей осанкой, может оценить свое самочувствие","Ребенок регулярно выполняет физические упражнения","Ребенок имеет начальные представления о том, что такое здоровье, понимает, как поддержать, укрепить и сохранить его","Ребенок умеет кататься",{"$nulls":3},"Музыкальная деятельность",{"$nulls":12},"Изобразительная деятельность",{"$nulls":12},"Приобщение к искусству",{"$nulls":5},"Конструктивная деятельность"]
[{"$nulls":18},"Область формирования основ гражданственности и патриотизма",{"$nulls":4},"Сфера трудового воспитания",null,null,"Область формирования основ безопасного поведения",{"$nulls":4},"Общее речевое развитие","Формирование словаря",null,null,"Грамматический строй",{"$nulls":3},"Звуковая культура речи","Связная речь",{"$nulls":4},"ЧХЛ",null,null,"Подготовка к обучению грамоте",{"$nulls":5},"Цвет, оттенки","Форма, геометрические фигуры",null,null,"Величина","Ребенок самостоятельно выбирает способ осуществления разных видов познавательной деятельности","Ребенок интересуется субъективно новым и неизвестным в окружающем мире","Ребенок способен применять в жизненных и игровых ситуациях знания о количестве, форме, величине предметов, пространстве, времени","Ребенок имеет разнообразные познавательные умения: определяет противоречия. Формулирует задачу исследования, использует разные способы и средства проверки предположений (сравнение с эталонами, классификацию, систематизацию и др.)","Количество и счет",null,null,"Ориентировка во времени",null,"Ориентировка в пространстве",null,"Пространственно-количественные связи и отношения","Сравнение","Ребенок имеет представления, может показать на картинке и в естественной среде, может рассказать",{"$nulls":4},"Объекты живой природы",{"$nulls":3},"Объекты неживой природы, природные явления",null,"Ребенок стремится к самостоятельному экспериментированию","Ребенок знает правила поведения в природе, проявляет осознанное, бережное отношение к природе и ее ресурсам","Бросание, катание, ловля, метание",null,"Ползанье, лазанье",null,null,"Ходьба",null,null,"Бег",null,null,"Прыжки",{"$nulls":3},"Равновесие",null,"Строевые упражнения",null,"Ребенок выполняет графический диктант","Ребенок обводит по шаблону, по трафарету","Ребенок чертит линии с помощью линейки","Ребенок обводит по контуру, по точкам","Ребенок выполняет штриховку в различных направлениях","Ребенок закрашивает, не выходя за контур","Ребенок свободно владеет карандашом при рисовании округлых линий, завитков в разном направлении",{"$nulls":5},"на санках","на лыжах","на двухколесном велосипеде","на самокате",{"$nulls":7},"на санках","на лыжах","на двухколесном велосипеде","на самокате","Слушание","Пение ","Музыкально-ритмические движения","Песенное творчество","Игра на детских музыкальных инструментах",null,"Театрализованная деятельность",{"$nulls":3},"Танцевально-игровое творчество",null,"У ребенка развит музыкальный вкус, музыкальная память","Рисование ",null,"Лепка ",null,"Аппликация ",null,"Народное ДПИ","Прикладное творчество"]
[{"$f":"Список!B11","v":0},"Отношение к самому себе",{"$nulls":3},"Отношение к сверстникам","Отношение к взрослым","Эмоции",null,null,"Поведение","Семья",null,"Игровое поведение",null,"Ребенок имеет представление об изменениях позиции человека с возрастом","Ребенок имеет представление о школе, школьниках, учителях; стремится к школьному обучению, к познанию, освоению чтения, письма; демонстрирует формированные предпосылки к учебной деятельности и элементы готовности к школьному обучению","Ребенок имеет представление о нравственных качествах людей, их проявлении в поступках и взаимоотношениях","Ребенок имеет представление о признаках и характеристиках государства (территория государства и его границы, столица), атрибутах государственной власти, президенте, столице","Ребенок имеет представление о порядке использования государственной символики","Ребенок имеет представление о волонтерстве","Ребенок имеет представление о государственных праздниках, исторических событиях","Ребенок имеет представление о жизни людей в России, о многообразии стран и народов мира","Ребенок имеет представление об обмене ценностями в процессе производства и потребления товаров и услуг, о денежных отношениях, о реальной стоимости отдельных продуктов питания, игрушек, детских книг","Ребенок имеет представление о об основах финансовой грамоты, основах бережного потребления","Ребенок проявляет инициативность и самостоятельность в процессе самообслуживания, при выполнении трудовых поручений","Ребенок имеет представление о правила безопасного поведения в ситуациях, создающих угрозу жизни и здоровью (погас свет, остался один, потерялся, получил травму)","Ребенок имеет представление о правила безопасного поведения дома, на улице, в природе, в местах большого скопления людей, в магазине, на вокзале, в общественных метах, на праздниках и др.","Ребенок имеет представление о правилах безопасного использования цифровых ресурсов (мобильного телефона, планшета)","Ребенок имеет представление об элементарных правилах оказания первой помощи при первых признаках недомогания, травмах, ушибах","Ребенок проявляет самостоятельность при выполнении правил безопасного поведения","Ребенок владеет речью как средством коммуникации, ведет диалог, владеет коммуникативно-речевыми умениями","Ребенок подбирает точные слова для выражения мысли","Ребенок выполняет операцию классификации – деления освоенных понятий на группы на основе выявленных признаков","Ребенок использует в речи средства языковой выразительности: антонимы, синонимы, многозначные слова, метафоры, олицетворение","Ребенок образует сложные слова посредством слияния основ","Ребенок согласует в речи существительные с числительными, существительные с прилагательными","Ребенок образует по образцу существительные с суффиксами, глаголы с приставками","Ребенок образует в речи сравнительную и превосходную степени имен прилагательных","Ребенок правильно произносит все звуки","Ребенок может пересказать литературное произведение по ролям, близко к тексту, от лица литературного героя","Ребенок может составить описательный рассказ, соблюдая структуру описания","Ребенок может составить повествовательный рассказ по картине, из личного опыта, из коллективного опыта, по набору игрушек, соблюдая структуру повествования","Ребенок может составить рассказ -контаминацию (сочетание описания и повествования, описания и рассуждения)","Ребенок использует в процессе общения объяснительную речь, речь-доказательство, речевое планирование","Ребенок знает и осмысленно воспринимает литературные произведения различных жанров, имеет предпочтения","Ребенок определяет характеры персонажей, мотивы их поведения, оценивает поступки литературных героев","Ребенок проявляет интерес к книгам познавательного характера","Ребенок производит звуковой анализ четырехзвуковых и пятизвуковых слов","Ребенок может интонационно выделить звуки в слове, определить их последовательность, дать им характеристику, составить схему слова, выделить ударный гласный звук в слове","Ребенок может определить количество и последовательность слов в предложении","Ребенок может составить предложение с заданным количеством слов","Ребенок знает названия всех букв","Ребенок читает слоги","Ребенок различает и называет",{"$nulls":8},"Ребенок умеет считать в пределах 10 в прямом и обратном порядке","Ребенок знает состав чисел из двух меньших в пределах первого десятка","Ребенок решает простые арифметические задачи на сложение и вычитание","Ребенок имеет представление о календаре, как системе измерения времени","Ребенок умеет определять время по часам с точностью до четверти часа","Ребенок ориентируется на местности, по схеме, по плану","Ребенок знает способы ориентировки в двухмерном пространстве","Ребенок умеет измерять протяженность, массу и объем с помощью условной мерки; понимает взаимообратные отношения между мерой и результатом измерения","Ребенок сравнивает предметы по 4-6 основаниям с выделением сходства, отличия",{"$nulls":9},"Ребенок имеет представление об использовании человеком свойств неживой природы для хозяйственных нужд (ветряные мельницы, водохранилища, солнечные батареи, ледяные катки)",{"$nulls":3},"Ребенок выполняет различные упражнения с мячом, метание",null,"Ребенок выполняет разные виды ползанья, лазанья ",null,null,"Ребенок выполняет различные виды ходьбы",null,null,"Ребенок выполняет различные виды бега",null,null,"Ребенок выполняет различные виды прыжков",{"$nulls":3},"Ребенок выполняет",null,"Ребенок выполняет разные виды перестроений, построений, передвижений, размыкание и смыкание приставным шагом, повороты","Ребенок может рассчитаться на «первый – второй»",{"$nulls":16},"Ребенок владеет навыками личной гигиены","Ребенок владеет навыками культуры еды","Ребенок владеет навыками поддержания порядка","Ребенок владеет навыками ухода за собой",{"$nulls":7},"У ребенка развит навык восприятия звуков по высоте в пределах квинты-терции","У ребенка развиты певческий голос и вокально-слуховая координация","Ребёнок ритмично и выразительно двигается в соответствие с характером музыки","Ребенок способен самостоятельно придумать мелодию, используя в качестве образца русские народные песни","Ребенок может сыграть простую мелодию на металлофоне, свирели, ударных, и электронных музыкальных инструментах: трещотках, погремушках, треугольниках","Ребенок может исполнить музыкальное произведение в оркестре и в ансамбле","Ребенок проявляет самостоятельность при выборе литературного и музыкального материала для театральной постановки","Ребенок проявляет инициативу при изготовлении атрибутов и декораций к спектаклю","Ребенок имеет представление о средствах погружения в театральные образы (музыка, слова, декорации, грим, костюм и др.)","Ребенок умеет выразительно передавать образы в действии, мимике, пантомимике","Ребенок проявляет активность в доступных видах музыкальной исполнительской деятельности (игра в оркестре, пение, танцевальные движения и др.)","Ребенок помогает придумывать движения, отражающие содержание песни",null,"Ребенок может изобразить предметы по памяти и с натуры, передает их средствами рисунка (форма, пропорции, расположение)","Ребенок способен передавать в рисунке сюжет, строить композицию","Ребенок свободно использует приемы лепки, освоенные ранее (налеп, углубленный рельеф), применяет стеку","Ребенок умеет передавать пропорции, соотношение по величине, выразительность поз, движений, деталей","Ребенок умеет составлять узоры и декоративные композиции из геометрических и растительных элементов на листах бумаги разной формы","Ребенок может выполнить вырезание (симметричное из бумаги, сложенной вдвое; несколько предметов из частей бумаги, сложенной гармошкой)","Ребенок умеет создавать узоры по мотивам народных росписей","Ребенок может сложить бумагу в разных направлениях","Ребенок может сделать разметку с помощью шаблона","Ребенок может выполнить работу по образцу","Ребенок может создать объемную игрушку в технике «оригами»","Ребенок может создать объемную поделку из природного материала","Ребенок может вдеть нитку в иголку, завязать узелок, пришить пуговицу, петельку, выполнить шов «вперед иголка»","Ребенок умеет выделять, называть, группировать произведения по видам искусства: литература, музыка, изобразительное искусство, архитектура, театр, цирк","Ребенок имеет представление о видах изобразительного искусства: графика, декоративно-прикладное искусство, живопись, скульптура, архитектура, фотоискусство","Ребенок имеет представление о жанрах изобразительного искусства: натюрморт, пейзаж, портрет","Ребенок имеет представление о народном искусстве, фольклоре, музыке и художественных промыслах","Ребенок имеет представление о творческих профессиях: художник, композитор, музыкант, актер, артист балета","Ребенок имеет представление о культурно-досуговых местах: театр, музей, библиотека, выставка, кинотеатр, цирк и др.","Ребенок может провести анализ постройки (выделить основные части и характерные детали конструкций)","Ребенок может выполнить постройку по инструкции"]
[null,"Ребенок осознает и признает собственные ошибки, результат поставленных задач, определяет пути развития","Ребенок умеет договариваться и дружить, старается разрешать конфликтные ситуации конструктивными способами","Ребенок способен принимать собственные решения и проявлять инициативу","Ребенок осознанно относится к своему будущему, стремится быть полезным обществу","Ребенок без напоминаний использует в общении формулы словесной вежливости (приветствие, прощание, просьбы, извинения)","Ребенок без напоминаний использует в общении формулы словесной вежливости (приветствие, прощание, просьбы, извинения)","Ребенок понимает чувства и переживания окружающих по невербальным признакам; находит причины и следствия возникновения эмоций, проявляет эмпатию","Ребенок использует социально приемлемые способы проявления эмоций и доступные возрасту регуляции эмоциональных состояний","Ребенок распознает собственные чувства и эмоции, анализирует свои переживания и рассказывает о них","Ребенок самостоятельно соблюдает установленный порядок поведения в группе, регулирует собственную активность","Ребенок имеет представление о необходимости укрепления связи между поколениями, взаимной поддержке детей и взрослых","Ребенок имеет представление о семье, семейных и родственных отношениях (взаимные чувства, правила общения в семье, значимые и памятные события, досуг семьи, семейный бюджет)","Ребенок умеет сотрудничать со сверстниками (побуждает к обсуждению планов, советуется, поддерживает интерес к мнению, инициирует ситуации взаимопомощи, подчеркивает ценность каждого ребенка и его вклад в общее дело, выбирает партнеров по интересам, помогает устанавливать темп совместных действий)","Ребенок владеет разными способами и видами игры, различает условную и реальную ситуации, предлагает и объясняет замысел игры, комбинирует сюжеты на основе реальных, вымышленных ситуаций, выполняет несколько ролей в одной игре, подбирает разные средства для создания игровых образов, согласовывает свои интересы с интересами партнёров по игре",{"$nulls":39}," все цвета спектра и ахроматические цвета, оттенки","плоские и объемные геометрические фигуры; умеет выделять структуру геометрических фигур и устанавливать взаимосвязи между ними","Ребенок умеет классифицировать фигуры по внешним структурным признаками (округлые, многоугольники)","Ребенок владеет различными способами видоизменения геометрических фигур (наложение, соединение, разрезание и др.)","Ребенок умеет измерять длину, ширину, высоту с помощью условной мерки",{"$nulls":13}," о родном населенном пункте (название улиц, некоторых архитектурных особенностях, достопримечательностях), об истории, о выдающихся горожанах, традициях городской жизни"," о назначении общественных учреждений"," о разных видах специального транспорта"," о местах труда людей (завод, больница, магазин и др.)"," о местах отдыха людей","Ребенок имеет представление о наиболее ярких представителях животных и растений разных природных зон (пустыня, степь, тайга, тундра и др.), об их образе жизни, приспособлении к среде обитания, изменениях в жизни в разные сезоны года","Ребенок имеет представление о многообразии водных ресурсов (моря, океаны, реки, водопады и др.)","Ребенок имеет представление о многообразии полезных ископаемых (нефть, уголь, серебро, золото, алмазы и др.)","Ребенок имеет представление о жизненных потребностях, этапах роста и развития животных и растений",null,"Ребенок имеет представление о некоторых небесных телах (планеты, кометы, звезды)",null,null,"бросание вверх, о землю, ловля двумя руками, одной рукой, перебрасывание, передача, прокатывание, забрасывание, ведение","в цель из положения стоя, вдаль, в движущеюся цель","ползанье на четвереньках, на животе, на спине","влезание на гимнастическую стенку и спуск; перелезание с пролета на пролет по диагонали","лазанье по веревочной лестнице; выполнение упражнений на канате","обычная, гимнастическим шагом, скрестным шагом, спиной вперед, выпадами, с закрытыми глазами","приставными шагами назад, в приседе, с различными движениями рук","в различных построениях","в колонне по одному, врассыпную, парами, тройками, четверками","в сочетание с прыжками, высоко поднимая колени, захлестывая голени назад, выбрасывая прямые ноги вперед","челночный, наперегонки, из разных исходных положений, со скакалкой, по пересеченной местности, с наименьшим числом шагов, медленный, быстрый","подпрыгивания на двух ногах в чередовании с ходьбой, на месте и с поворот кругом","смещая ноги вправо-влево-вперед-назад","выпрыгивание на предметы; подпрыгивания вверх из глубокого приседа; прыжки на одной ноге","в длину с места/с разбега, в высоту с места/с разбега","стойка на носках, стойка на одной ноге с закрытыми глазами","кружение с закрытыми глазами, остановкой и сохранением заданной позы"]
["начало года",{"$f":"'Соц.ком.к 7г ч1 Н.г.'!E18","v":0},{"$f":"'Соц.ком.к 7г ч1 Н.г.'!F18","v":0},{"$f":"'Соц.ком.к 7г ч1 Н.г.'!G18","v":0},{"$f":"'Соц.ком.к 7г ч1 Н.г.'!H18","v":0},{"$f":"'Соц.ком.к 7г ч1 Н.г.'!I18","v":0},{"$f":"'Соц.ком.к 7г ч1 Н.г.'!J18","v":0},{"$f":"'Соц.ком.к 7г ч1 Н.г.'!K18","v":0},{"$f":"'Соц.ком.к 7г ч1 Н.г.'!L18","v":0},{"$f":"'Соц.ком.к 7г ч1 Н.г.'!M18","v":0},{"$f":"'Соц.ком.к 7г ч1 Н.г.'!N18","v":0},{"$f":"'Соц.ком.к 7г ч2 Н.г.'!E18","v":0},{"$f":"'Соц.ком.к 7г ч2 Н.г.'!F18","v":0},{"$f":"'Соц.ком.к 7г ч2 Н.г.'!G18","v":0},{"$f":"'Соц.ком.к 7г ч2 Н.г.'!H18","v":0},{"$f":"'Соц.ком.к 7г ч2 Н.г.'!I18","v":0},{"$f":"'Соц.ком.к 7г ч2 Н.г.'!J18","v":0},{"$f":"'Соц.ком.к 7г ч2 Н.г.'!K18","v":0},{"$f":"'Соц.ком. к 7г ч3 Н.г.'!E18","v":0},{"$f":"'Соц.ком. к 7г ч3 Н.г.'!F18","v":0},{"$f":"'Соц.ком. к 7г ч3 Н.г.'!G18","v":0},{"$f":"'Соц.ком. к 7г ч3 Н.г.'!H18","v":0},{"$f":"'Соц.ком. к 7г ч3 Н.г.'!I18","v":0},{"$f":"'Соц.ком. к 7г ч3 Н.г.'!J18","v":0},{"$f":"'Соц.ком. к 7г ч3 Н.г.'!K18","v":0},{"$f":"'Соц.ком. к 7г ч3 Н.г.'!L18","v":0},{"$f":"'Соц.ком. к 7г ч4 Н.г.'!E18","v":0},{"$f":"'Соц.ком. к 7г ч4 Н.г.'!F18","v":0},{"$f":"'Соц.ком. к 7г ч4 Н.г.'!G18","v":0},{"$f":"'Соц.ком. к 7г ч4 Н.г.'!H18","v":0},{"$f":"'Соц.ком. к 7г ч4 Н.г.'!I18","v":0},{"$f":"'Реч.разв.к 7г ч1 Н.г.'!E18","v":0},{"$f":"'Реч.разв.к 7г ч1 Н.г.'!F18","v":0},{"$f":"'Реч.разв.к 7г ч1 Н.г.'!G18","v":0},{"$f":"'Реч.разв.к 7г ч1 Н.г.'!H18","v":0},{"$f":"'Реч.разв.к 7г ч1 Н.г.'!I18","v":0},{"$f":"'Реч.разв.к 7г ч1 Н.г.'!J18","v":0},{"$f":"'Реч.разв.к 7г ч1 Н.г.'!K18","v":0},{"$f":"'Реч.разв.к 7г ч1 Н.г.'!L18","v":0},{"$f":"'Реч.разв.к 7г ч2 Н.г.'!E18","v":0},{"$f":"'Реч.разв.к 7г ч2 Н.г.'!F18","v":0},{"$f":"'Реч.разв.к 7г ч2 Н.г.'!G18","v":0},{"$f":"'Реч.разв.к 7г ч2 Н.г.'!H18","v":0},{"$f":"'Реч.разв.к 7г ч2 Н.г.'!I18","v":0},{"$f":"'Реч.разв.к 7г ч2 Н.г.'!J18","v":0},{"$f":"'Реч.разв.к 7г ч2 Н.г.'!K18","v":0},{"$f":"'Реч.разв.к 7г ч2 Н.г.'!L18","v":0},{"$f":"'Реч.разв.к 7г ч2 Н.г.'!M18","v":0},{"$f":"'Реч.разв.к 7г ч3. Н.г.'!E18","v":0},{"$f":"'Реч.разв.к 7г ч3. Н.г.'!F18","v":0},{"$f":"'Реч.разв.к 7г ч3. Н.г.'!G18","v":0},{"$f":"'Реч.разв.к 7г ч3. Н.г.'!H18","v":0},{"$f":"'Реч.разв.к 7г ч3. Н.г.'!I18","v":0},{"$f":"'Реч.разв.к 7г ч3. Н.г.'!J18","v":0},{"$f":"'Позн.разв. к 7г ч1. Н.г.'!E19","v":0},{"$f":"'Позн.разв. к 7г ч1. Н.г.'!F19","v":0},{"$f":"'Позн.разв. к 7г ч1. Н.г.'!G19","v":0},{"$f":"'Позн.разв. к 7г ч1. Н.г.'!H19","v":0},{"$f":"'Позн.разв. к 7г ч1. Н.г.'!I19","v":0},{"$f":"'Позн.разв. к 7г ч1. Н.г.'!J19","v":0},{"$f":"'Позн.разв. к 7г ч1. Н.г.'!K19","v":0},{"$f":"'Позн.разв. к 7г ч1. Н.г.'!L19","v":0},{"$f":"'Позн.разв. к 7г ч1. Н.г.'!M19","v":0},{"$f":"'Позн.разв. к 7г ч2. Н.г.'!E19","v":0},{"$f":"'Позн.разв. к 7г ч2. Н.г.'!F19","v":0},{"$f":"'Позн.разв. к 7г ч2. Н.г.'!G19","v":0},{"$f":"'Позн.разв. к 7г ч2. Н.г.'!H19","v":0},{"$f":"'Позн.разв. к 7г ч2. Н.г.'!I19","v":0},{"$f":"'Позн.разв. к 7г ч2. Н.г.'!J19","v":0},{"$f":"'Позн.разв. к 7г ч2. Н.г.'!K19","v":0},{"$f":"'Позн.разв. к 7г ч2. Н.г.'!L19","v":0},{"$f":"'Позн.разв. к 7г ч2. Н.г.'!M19","v":0},{"$f":"'Позн.разв. к 7г ч3. Н.г.'!E19","v":0},{"$f":"'Позн.разв. к 7г ч3. Н.г.'!F19","v":0},{"$f":"'Позн.разв. к 7г ч3. Н.г.'!G19","v":0},{"$f":"'Позн.разв. к 7г ч3. Н.г.'!H19","v":0},{"$f":"'Позн.разв. к 7г ч3. Н.г.'!I19","v":0},{"$f":"'Позн.разв. к 7г ч3. Н.г.'!J19","v":0},{"$f":"'Позн.разв. к 7г ч3. Н.г.'!K19","v":0},{"$f":"'Позн.разв. к 7г ч3. Н.г.'!L19","v":0},{"$f":"'Позн.разв. к 7г ч3. Н.г.'!M19","v":0},{"$f":"'Позн.разв. к 7г ч3. Н.г.'!N19","v":0},{"$f":"'Позн.разв. к 7г ч3. Н.г.'!O19","v":0},{"$f":"'Позн.разв. к 7г ч3. Н.г.'!P19","v":0},{"$f":"'Позн.разв. к 7г ч3. Н.г.'!Q19","v":0},{"$f":"'Физ.разв. к 7г ч1. Н.г.'!E19","v":0},{"$f":"'Физ.разв. к 7г ч1. Н.г.'!F19","v":0},{"$f":"'Физ.разв. к 7г ч1. Н.г.'!G19","v":0},{"$f":"'Физ.разв. к 7г ч1. Н.г.'!H19","v":0},{"$f":"'Физ.разв. к 7г ч1. Н.г.'!I19","v":0},{"$f":"'Физ.разв. к 7г ч1. Н.г.'!J19","v":0},{"$f":"'Физ.разв. к 7г ч1. Н.г.'!K19","v":0},{"$f":"'Физ.разв. к 7г ч1. Н.г.'!L19","v":0},{"$f":"'Физ.разв. к 7г ч1. Н.г.'!M19","v":0},{"$f":"'Физ.разв. к 7г ч1. Н.г.'!N19","v":0},{"$f":"'Физ.разв. к 7г ч1. Н.г.'!O19","v":0},{"$f":"'Физ.разв. к 7г ч1. Н.г.'!P19","v":0},{"$f":"'Физ.разв. к 7г ч1. Н.г.'!Q19","v":0},{"$f":"'Физ.разв. к 7г ч1. Н.г.'!R19","v":0},{"$f":"'Физ.разв. к 7г ч1. Н.г.'!S19","v":0},{"$f":"'Физ.разв. к 7г ч1. Н.г.'!T19","v":0},{"$f":"'Физ.разв. к 7г ч1. Н.г.'!U19","v":0},{"$f":"'Физ.разв. к 7г ч1. Н.г.'!V19","v":0},{"$f":"'Физ.разв. к 7г ч1. Н.г.'!W19","v":0},{"$f":"'Физ.разв. к 7г ч2. Н.г.'!E20","v":0},{"$f":"'Физ.разв. к 7г ч2. Н.г.'!F20","v":0},{"$f":"'Физ.разв. к 7г ч2. Н.г.'!G20","v":0},{"$f":"'Физ.разв. к 7г ч2. Н.г.'!H20","v":0},{"$f":"'Физ.разв. к 7г ч2. Н.г.'!I20","v":0},{"$f":"'Физ.разв. к 7г ч2. Н.г.'!J20","v":0},{"$f":"'Физ.разв. к 7г ч2. Н.г.'!K20","v":0},{"$f":"'Физ.разв. к 7г ч2. Н.г.'!L20","v":0},{"$f":"'Физ.разв. к 7г ч2. Н.г.'!M20","v":0},{"$f":"'Физ.разв. к 7г ч2. Н.г.'!N20","v":0},{"$f":"'Физ.разв. к 7г ч2. Н.г.'!O20","v":0},{"$f":"'Физ.разв. к 7г ч2. Н.г.'!P20","v":0},{"$f":"'Физ.разв. к 7г ч2. Н.г.'!Q20","v":0},{"$f":"'Физ.разв. к 7г ч2. Н.г.'!R20","v":0},{"$f":"'Физ.разв. к 7г ч2. Н.г.'!S20","v":0},{"$f":"'Физ.разв. к 7г ч2. Н.г.'!T20","v":0},{"$f":"'Физ.разв. к 7г ч3. Н.г.'!E20","v":0},{"$f":"'Физ.разв. к 7г ч3. Н.г.'!F20","v":0},{"$f":"'Физ.разв. к 7г ч3. Н.г.'!G20","v":0},{"$f":"'Физ.разв. к 7г ч3. Н.г.'!H20","v":0},{"$f":"'Физ.разв. к 7г ч3. Н.г.'!I20","v":0},{"$f":"'Физ.разв. к 7г ч3. Н.г.'!J20","v":0},{"$f":"'Физ.разв. к 7г ч3. Н.г.'!K20","v":0},{"$f":"'Физ.разв. к 7г ч3. Н.г.'!L20","v":0},{"$f":"'Физ.разв. к 7г ч3. Н.г.'!M20","v":0},{"$f":"'Физ.разв. к 7г ч3. Н.г.'!N20","v":0},{"$f":"'Физ.разв. к 7г ч3. Н.г.'!O20","v":0},{"$f":"'Худ.эст.к 7г ч1. Н.г.'!E19","v":0},{"$f":"'Худ.эст.к 7г ч1. Н.г.'!F19","v":0},{"$f":"'Худ.эст.к 7г ч1. Н.г.'!G19","v":0},{"$f":"'Худ.эст.к 7г ч1. Н.г.'!H19","v":0},{"$f":"'Худ.эст.к 7г ч1. Н.г.'!I19","v":0},{"$f":"'Худ.эст.к 7г ч1. Н.г.'!J19","v":0},{"$f":"'Худ.эст.к 7г ч1. Н.г.'!K19","v":0},{"$f":"'Худ.эст.к 7г ч1. Н.г.'!L19","v":0},{"$f":"'Худ.эст.к 7г ч1. Н.г.'!M19","v":0},{"$f":"'Худ.эст.к 7г ч1. Н.г.'!N19","v":0},{"$f":"'Худ.эст.к 7г ч1. Н.г.'!O19","v":0},{"$f":"'Худ.эст.к 7г ч1. Н.г.'!P19","v":0},{"$f":"'Худ.эст.к 7г ч1. Н.г.'!Q19","v":0},{"$f":"'Худ.эст.к 7г ч2. Н.г.'!E19","v":0},{"$f":"'Худ.эст.к 7г ч2. Н.г.'!F19","v":0},{"$f":"'Худ.эст.к 7г ч2. Н.г.'!G19","v":0},{"$f":"'Худ.эст.к 7г ч2. Н.г.'!H19","v":0},{"$f":"'Худ.эст.к 7г ч2. Н.г.'!I19","v":0},{"$f":"'Худ.эст.к 7г ч2. Н.г.'!J19","v":0},{"$f":"'Худ.эст.к 7г ч2. Н.г.'!K19","v":0},{"$f":"'Худ.эст.к 7г ч2. Н.г.'!L19","v":0},{"$f":"'Худ.эст.к 7г ч2. Н.г.'!M19","v":0},{"$f":"'Худ.эст.к 7г ч2. Н.г.'!N19","v":0},{"$f":"'Худ.эст.к 7г ч2. Н.г.'!O19","v":0},{"$f":"'Худ.эст.к 7г ч2. Н.г.'!P19","v":0},{"$f":"'Худ.эст.к 7г ч2. Н.г.'!Q19","v":0},{"$f":"'Худ.эст.к 7г ч3. Н.г.'!E19","v":0},{"$f":"'Худ.эст.к 7г ч3. Н.г.'!F19","v":0},{"$f":"'Худ.эст.к 7г ч3. Н.г.'!G19","v":0},{"$f":"'Худ.эст.к 7г ч3. Н.г.'!H19","v":0},{"$f":"'Худ.эст.к 7г ч3. Н.г.'!I19","v":0},{"$f":"'Худ.эст.к 7г ч3. Н.г.'!J19","v":0},{"$f":"'Худ.эст.к 7г ч3. Н.г.'!K19","v":0},{"$f":"'Худ.эст.к 7г ч3. Н.г.'!L19","v":0}]
["конец года",{"$f":"'Соц.ком.к 7г ч1 К.г.'!E18","v":0},{"$f":"'Соц.ком.к 7г ч1 К.г.'!F18","v":0},{"$f":"'Соц.ком.к 7г ч1 К.г.'!G18","v":0},{"$f":"'Соц.ком.к 7г ч1 К.г.'!H18","v":0},{"$f":"'Соц.ком.к 7г ч1 К.г.'!I18","v":0},{"$f":"'Соц.ком.к 7г ч1 К.г.'!J18","v":0},{"$f":"'Соц.ком.к 7г ч1 К.г.'!K18","v":0},{"$f":"'Соц.ком.к 7г ч1 К.г.'!L18","v":0},{"$f":"'Соц.ком.к 7г ч1 К.г.'!M18","v":0},{"$f":"'Соц.ком.к 7г ч1 К.г.'!N18","v":0},{"$f":"'Соц.ком.к 7г ч2 К.г.'!E18","v":0},{"$f":"'Соц.ком.к 7г ч2 К.г.'!F18","v":0},{"$f":"'Соц.ком.к 7г ч2 К.г.'!G18","v":0},{"$f":"'Соц.ком.к 7г ч2 К.г.'!H18","v":0},{"$f":"'Соц.ком.к 7г ч2 К.г.'!I18","v":0},{"$f":"'Соц.ком.к 7г ч2 К.г.'!J18","v":0},{"$f":"'Соц.ком.к 7г ч2 К.г.'!K18","v":0},{"$f":"'Соц.ком. к 7г ч3 К.г.'!E18","v":0},{"$f":"'Соц.ком. к 7г ч3 К.г.'!F18","v":0},{"$f":"'Соц.ком. к 7г ч3 К.г.'!G18","v":0},{"$f":"'Соц.ком. к 7г ч3 К.г.'!H18","v":0},{"$f":"'Соц.ком. к 7г ч3 К.г.'!I18","v":0},{"$f":"'Соц.ком. к 7г ч3 К.г.'!J18","v":0},{"$f":"'Соц.ком. к 7г ч3 К.г.'!K18","v":0},{"$f":"'Соц.ком. к 7г ч3 К.г.'!L18","v":0},{"$f":"'Соц.ком. к 7г ч4 К.г.'!E18","v":0},{"$f":"'Соц.ком. к 7г ч4 К.г.'!F18","v":0},{"$f":"'Соц.ком. к 7г ч4 К.г.'!G18","v":0},{"$f":"'Соц.ком. к 7г ч4 К.г.'!H18","v":0},{"$f":"'Соц.ком. к 7г ч4 К.г.'!I18","v":0},{"$f":"'Реч.разв.к 7г ч1 К.г.'!E18","v":0},{"$f":"'Реч.разв.к 7г ч1 К.г.'!F18","v":0},{"$f":"'Реч.разв.к 7г ч1 К.г.'!G18","v":0},{"$f":"'Реч.разв.к 7г ч1 К.г.'!H18","v":0},{"$f":"'Реч.разв.к 7г ч1 К.г.'!I18","v":0},{"$f":"'Реч.разв.к 7г ч1 К.г.'!J18","v":0},{"$f":"'Реч.разв.к 7г ч1 К.г.'!K18","v":0},{"$f":"'Реч.разв.к 7г ч1 К.г.'!L18","v":0},{"$f":"'Реч.разв.к 7г ч2 К.г. '!E18","v":0},{"$f":"'Реч.разв.к 7г ч2 К.г. '!F18","v":0},{"$f":"'Реч.разв.к 7г ч2 К.г. '!G18","v":0},{"$f":"'Реч.разв.к 7г ч2 К.г. '!H18","v":0},{"$f":"'Реч.разв.к 7г ч2 К.г. '!I18","v":0},{"$f":"'Реч.разв.к 7г ч2 К.г. '!J18","v":0},{"$f":"'Реч.разв.к 7г ч2 К.г. '!K18","v":0},{"$f":"'Реч.разв.к 7г ч2 К.г. '!L18","v":0},{"$f":"'Реч.разв.к 7г ч2 К.г. '!M18","v":0},{"$f":"'Реч.разв.к 7г ч3. К.г. '!E18","v":0},{"$f":"'Реч.разв.к 7г ч3. К.г. '!F18","v":0},{"$f":"'Реч.разв.к 7г ч3. К.г. '!G18","v":0},{"$f":"'Реч.разв.к 7г ч3. К.г. '!H18","v":0},{"$f":"'Реч.разв.к 7г ч3. К.г. '!I18","v":0},{"$f":"'Реч.разв.к 7г ч3. К.г. '!J18","v":0},{"$f":"'Позн.разв. к 7г ч1. К.г. '!E19","v":0},{"$f":"'Позн.разв. к 7г ч1. К.г. '!F19","v":0},{"$f":"'Позн.разв. к 7г ч1. К.г. '!G19","v":0},{"$f":"'Позн.разв. к 7г ч1. К.г. '!H19","v":0},{"$f":"'Позн.разв. к 7г ч1. К.г. '!I19","v":0},{"$f":"'Позн.разв. к 7г ч1. К.г. '!J19","v":0},{"$f":"'Позн.разв. к 7г ч1. К.г. '!K19","v":0},{"$f":"'Позн.разв. к 7г ч1. К.г. '!L19","v":0},{"$f":"'Позн.разв. к 7г ч1. К.г. '!M19","v":0},{"$f":"'Позн.разв. к 7г ч2. К.г.'!E19","v":0},{"$f":"'Позн.разв. к 7г ч2. К.г.'!F19","v":0},{"$f":"'Позн.разв. к 7г ч2. К.г.'!G19","v":0},{"$f":"'Позн.разв. к 7г ч2. К.г.'!H19","v":0},{"$f":"'Позн.разв. к 7г ч2. К.г.'!I19","v":0},{"$f":"'Позн.разв. к 7г ч2. К.г.'!J19","v":0},{"$f":"'Позн.разв. к 7г ч2. К.г.'!K19","v":0},{"$f":"'Позн.разв. к 7г ч2. К.г.'!L19","v":0},{"$f":"'Позн.разв. к 7г ч2. К.г.'!M19","v":0},{"$f":"'Позн.разв. к 7г ч3. К.г. '!E19","v":0},{"$f":"'Позн.разв. к 7г ч3. К.г. '!F19","v":0},{"$f":"'Позн.разв. к 7г ч3. К.г. '!G19","v":0},{"$f":"'Позн.разв. к 7г ч3. К.г. '!H19","v":0},{"$f":"'Позн.разв. к 7г ч3. К.г. '!I19","v":0},{"$f":"'Позн.разв. к 7г ч3. К.г. '!J19","v":0},{"$f":"'Позн.разв. к 7г ч3. К.г. '!K19","v":0},{"$f":"'Позн.разв. к 7г ч3. К.г. '!L19","v":0},{"$f":"'Позн.разв. к 7г ч3. К.г. '!M19","v":0},{"$f":"'Позн.разв. к 7г ч3. К.г. '!N19","v":0},{"$f":"'Позн.разв. к 7г ч3. К.г. '!O19","v":0},{"$f":"'Позн.разв. к 7г ч3. К.г. '!P19","v":0},{"$f":"'Позн.разв. к 7г ч3. К.г. '!Q19","v":0},{"$f":"'Физ.разв. к 7г ч1. К.г. '!E19","v":0},{"$f":"'Физ.разв. к 7г ч1. К.г. '!F19","v":0},{"$f":"'Физ.разв. к 7г ч1. К.г. '!G19","v":0},{"$f":"'Физ.разв. к 7г ч1. К.г. '!H19","v":0},{"$f":"'Физ.разв. к 7г ч1. К.г. '!I19","v":0},{"$f":"'Физ.разв. к 7г ч1. К.г. '!J19","v":0},{"$f":"'Физ.разв. к 7г ч1. К.г. '!K19","v":0},{"$f":"'Физ.разв. к 7г ч1. К.г. '!L19","v":0},{"$f":"'Физ.разв. к 7г ч1. К.г. '!M19","v":0},{"$f":"'Физ.разв. к 7г ч1. К.г. '!N19","v":0},{"$f":"'Физ.разв. к 7г ч1. К.г. '!O19","v":0},{"$f":"'Физ.разв. к 7г ч1. К.г. '!P19","v":0},{"$f":"'Физ.разв. к 7г ч1. К.г. '!Q19","v":0},{"$f":"'Физ.разв. к 7г ч1. К.г. '!R19","v":0},{"$f":"'Физ.разв. к 7г ч1. К.г. '!S19","v":0},{"$f":"'Физ.разв. к 7г ч1. К.г. '!T19","v":0},{"$f":"'Физ.разв. к 7г ч1. К.г. '!U19","v":0},{"$f":"'Физ.разв. к 7г ч1. К.г. '!V19","v":0},{"$f":"'Физ.разв. к 7г ч1. К.г. '!W19","v":0},{"$f":"'Физ.разв. к 7г ч2. К.г.'!E20","v":0},{"$f":"'Физ.разв. к 7г ч2. К.г.'!F20","v":0},{"$f":"'Физ.разв. к 7г ч2. К.г.'!G20","v":0},{"$f":"'Физ.разв. к 7г ч2. К.г.'!H20","v":0},{"$f":"'Физ.разв. к 7г ч2. К.г.'!I20","v":0},{"$f":"'Физ.разв. к 7г ч2. К.г.'!J20","v":0},{"$f":"'Физ.разв. к 7г ч2. К.г.'!K20","v":0},{"$f":"'Физ.разв. к 7г ч2. К.г.'!L20","v":0},{"$f":"'Физ.разв. к 7г ч2. К.г.'!M20","v":0},{"$f":"'Физ.разв. к 7г ч2. К.г.'!N20","v":0},{"$f":"'Физ.разв. к 7г ч2. К.г.'!O20","v":0},{"$f":"'Физ.разв. к 7г ч2. К.г.'!P20","v":0},{"$f":"'Физ.разв. к 7г ч2. К.г.'!Q20","v":0},{"$f":"'Физ.разв. к 7г ч2. К.г.'!R20","v":0},{"$f":"'Физ.разв. к 7г ч2. К.г.'!S20","v":0},{"$f":"'Физ.разв. к 7г ч2. К.г.'!T20","v":0},{"$f":"'Физ.разв. к 7г ч3. К.г. '!E20","v":0},{"$f":"'Физ.разв. к 7г ч3. К.г. '!F20","v":0},{"$f":"'Физ.разв. к 7г ч3. К.г. '!G20","v":0},{"$f":"'Физ.разв. к 7г ч3. К.г. '!H20","v":0},{"$f":"'Физ.разв. к 7г ч3. К.г. '!I20","v":0},{"$f":"'Физ.разв. к 7г ч3. К.г. '!J20","v":0},{"$f":"'Физ.разв. к 7г ч3. К.г. '!K20","v":0},{"$f":"'Физ.разв. к 7г ч3. К.г. '!L20","v":0},{"$f":"'Физ.разв. к 7г ч3. К.г. '!M20","v":0},{"$f":"'Физ.разв. к 7г ч3. К.г. '!N20","v":0},{"$f":"'Физ.разв. к 7г ч3. К.г. '!O20","v":0},{"$f":"'Худ.эст.к 7г ч1. К.г. '!E19","v":0},{"$f":"'Худ.эст.к 7г ч1. К.г. '!F19","v":0},{"$f":"'Худ.эст.к 7г ч1. К.г. '!G19","v":0},{"$f":"'Худ.эст.к 7г ч1. К.г. '!H19","v":0},{"$f":"'Худ.эст.к 7г ч1. К.г. '!I19","v":0},{"$f":"'Худ.эст.к 7г ч1. К.г. '!J19","v":0},{"$f":"'Худ.эст.к 7г ч1. К.г. '!K19","v":0},{"$f":"'Худ.эст.к 7г ч1. К.г. '!L19","v":0},{"$f":"'Худ.эст.к 7г ч1. К.г. '!M19","v":0},{"$f":"'Худ.эст.к 7г ч1. К.г. '!N19","v":0},{"$f":"'Худ.эст.к 7г ч1. К.г. '!O19","v":0},{"$f":"'Худ.эст.к 7г ч1. К.г. '!P19","v":0},{"$f":"'Худ.эст.к 7г ч1. К.г. '!Q19","v":0},{"$f":"'Худ.эст.к 7г ч2. К.г. '!E19","v":0},{"$f":"'Худ.эст.к 7г ч2. К.г. '!F19","v":0},{"$f":"'Худ.эст.к 7г ч2. К.г. '!G19","v":0},{"$f":"'Худ.эст.к 7г ч2. К.г. '!H19","v":0},{"$f":"'Худ.эст.к 7г ч2. К.г. '!I19","v":0},{"$f":"'Худ.эст.к 7г ч2. К.г. '!J19","v":0},{"$f":"'Худ.эст.к 7г ч2. К.г. '!K19","v":0},{"$f":"'Худ.эст.к 7г ч2. К.г. '!L19","v":0},{"$f":"'Худ.эст.к 7г ч2. К.г. '!M19","v":0},{"$f":"'Худ.эст.к 7г ч2. К.г. '!N19","v":0},{"$f":"'Худ.эст.к 7г ч2. К.г. '!O19","v":0},{"$f":"'Худ.эст.к 7г ч2. К.г. '!P19","v":0},{"$f":"'Худ.эст.к 7г ч2. К.г. '!Q19","v":0},{"$f":"'Худ.эст.к 7г ч3. К.г. '!E19","v":0},{"$f":"'Худ.эст.к 7г ч3. К.г. '!F19","v":0},{"$f":"'Худ.эст.к 7г ч3. К.г. '!G19","v":0},{"$f":"'Худ.эст.к 7г ч3. К.г. '!H19","v":0},{"$f":"'Худ.эст.к 7г ч3. К.г. '!I19","v":0},{"$f":"'Худ.эст.к 7г ч3. К.г. '!J19","v":0},{"$f":"'Худ.эст.к 7г ч3. К.г. '!K19","v":0},{"$f":"'Худ.эст.к 7г ч3. К.г. '!L19","v":0}]

{"sheet":"9","index":46,"n_rows":7,"n_cols":165,"rows_kept":7,"merged":[[0,104,0,110],[0,111,0,112],[0,113,0,115],[0,116,0,119],[0,120,0,123],[0,124,0,126],[0,127,0,130],[1,54,1,58],[1,59,1,62],[1,63,1,71],[1,72,1,76],[1,77,1,84],[1,104,1,106],[1,107,1,110],[1,111,4,111],[1,112,4,112],[1,113,4,113],[1,114,4,114],[1,115,4,115],[1,116,1,119],[1,120,2,120],[1,121,2,121],[1,122,2,122],[1,123,2,123],[1,124,4,124],[1,125,4,125],[1,126,4,126],[1,127,1,130],[1,131,1,143],[1,144,1,156],[1,157,2,162],[1,163,2,164],[2,18,2,22],[2,23,2,25],[2,26,2,30],[2,32,2,34],[2,35,2,38],[2,40,2,44],[2,45,2,47],[2,48,2,53],[2,55,2,57],[2,59,4,59],[2,60,4,60],[2,61,4,61],[2,62,4,62],[2,63,2,65],[2,66,2,67],[2,68,2,69],[2,72,3,76],[2,77,2,80],[2,81,2,82],[2,83,4,83],[2,84,4,84],[2,85,2,86],[2,87,2,89],[2,90,2,92],[2,93,2,95],[2,96,2,99],[2,100,2,101],[2,102,2,103],[2,104,4,104],[2,105,4,105],[2,106,4,106],[2,107,4,107],[2,108,4,108],[2,109,4,109],[2,110,4,110],[2,116,4,116],[2,117,4,117],[2,118,4,118],[2,119,4,119],[2,127,4,127],[2,128,4,128],[2,129,4,129],[2,130,4,130],[2,135,2,136],[2,137,2,140],[2,141,2,142],[2,143,4,143],[2,144,2,145],[2,146,2,147],[2,148,2,149],[2,151,2,156],[3,0,4,0],[3,1,3,4],[3,7,3,9],[3,11,3,12],[3,13,3,14],[3,15,4,15],[3,16,4,16],[3,17,4,17],[3,18,4,18],[3,19,4,19],[3,20,4,20],[3,21,4,21],[3,22,4,22],[3,23,4,23],[3,24,4,24],[3,25,4,25],[3,26,4,26],[3,27,4,27],[3,28,4,28],[3,29,4,29],[3,30,4,30],[3,31,4,31],[3,32,4,32],[3,33,4,33],[3,34,4,34],[3,35,4,35],[3,36,4,36],[3,37,4,37],[3,38,4,38],[3,39,4,39],[3,40,4,40],[3,41,4,41],[3,42,4,42],[3,43,4,43],[3,44,4,44],[3,45,4,45],[3,46,4,46],[3,47,4,47],[3,48,4,48],[3,49,4,49],[3,50,4,50],[3,51,4,51],[3,52,4,52],[3,53,4,53],[3,54,3,58],[3,63,4,63],[3,64,4,64],[3,65,4,65],[3,66,4,66],[3,67,4,67],[3,68,4,68],[3,69,4,69],[3,70,4,70],[3,71,4,71],[3,81,4,81],[3,85,3,86],[3,87,3,89],[3,90,3,92],[3,93,3,95],[3,96,3,99],[3,100,3,101],[3,102,4,102],[3,103,4,103],[3,120,4,120],[3,121,4,121],[3,122,4,122],[3,123,4,123],[3,131,4,131],[3,132,4,132],[3,133,4,133],[3,134,4,134],[3,135,4,135],[3,136,4,136],[3,137,4,137],[3,138,4,138],[3,139,4,139],[3,140,4,140],[3,141,4,141],[3,142,4,142],[3,144,4,144],[3,145,4,145],[3,146,4,146],[3,147,4,147],[3,148,4,148],[3,149,4,149],[3,150,4,150],[3,151,4,151],[3,152,4,152],[3,153,4,153],[3,154,4,154],[3,155,4,155],[3,156,4,156],[3,157,4,157],[3,158,4,158],[3,159,4,159],[3,160,4,160],[3,161,4,161],[3,162,4,162],[3,163,4,163],[3,164,4,164]]}
[{"$nulls":104},"Мелкая моторика",{"$nulls":6},"Подвижные игры",null,"Спорт. игры",null,null,"Спортивные упражнения",{"$nulls":3},"КГН",{"$nulls":3},"ЗОЖ",null,null,"Спортивные упражнения"]
[{"$nulls":54},"Сенсорные эталоны ",{"$nulls":4},"Познавательные действия",{"$nulls":3},"Математические представления",{"$nulls":8},"Окружающий мир",{"$nulls":4},"Природа ",{"$nulls":26},"Координация рук и глаз",null,null,"Графические навыки",{"$nulls":3},"Ребенок использует в самостоятельной деятельности разнообразные по содержанию подвижные игры, проявляет элементы творчества в двигательной деятельности","Ребенок может организовать знакомые подвижные игры со сверстниками, сплотить команду, стремится внести свой вклад в результат команды","Ребенок владеет элементами спортивных игр (городки, баскетбол, футбол, хоккей, бадминтон, настольный теннис), может контролировать свои движения и управлять ими","Ребенок имеет представление о разных видах спорта (санный спорт, борьба, теннис, синхронное плавание и др.)","Ребенок имеет представление о спортивных событиях и достижениях отечественных спортсменов","Ребенок умеет кататься",{"$nulls":3},"Навыки соблюдения чистоты тела (правила личной гигиены)","Навыки культуры еды (прием пищи) ","Навыки поддержания порядка (правила поведения в быту) ","Навыки ухода за собой (одевание, раздевание) ","Ребенок соблюдает элементарные правила здорового образа жизни и личной гигиены, следит за своей осанкой, может оценить свое самочувствие","Ребенок регулярно выполняет физические упражнения","Ребенок имеет начальные представления о том, что такое здоровье, понимает, как поддержать, укрепить и сохранить его","Ребенок умеет кататься",{"$nulls":3},"Музыкальная деятельность",{"$nulls":12},"Изобразительная деятельность",{"$nulls":12},"Приобщение к искусству",{"$nulls":5},"Конструктивная деятельность"]
[{"$nulls":18},"Область формирования основ гражданственности и патриотизма",{"$nulls":4},"Сфера трудового воспитания",null,null,"Область формирования основ безопасного поведения",{"$nulls":4},"Общее речевое развитие","Формирование словаря",null,null,"Грамматический строй",{"$nulls":3},"Звуковая культура речи","Связная речь",{"$nulls":4},"ЧХЛ",null,null,"Подготовка к обучению грамоте",{"$nulls":5},"Цвет, оттенки","Форма, геометрические фигуры",null,null,"Величина","Ребенок самостоятельно выбирает способ осуществления разных видов познавательной деятельности","Ребенок интересуется субъективно новым и неизвестным в окружающем мире","Ребенок способен применять в жизненных и игровых ситуациях знания о количестве, форме, величине предметов, пространстве, времени","Ребенок имеет разнообразные познавательные умения: определяет противоречия. Формулирует задачу исследования, использует разные способы и средства проверки предположений (сравнение с эталонами, классификацию, систематизацию и др.)","Количество и счет",null,null,"Ориентировка во времени",null,"Ориентировка в пространстве",null,"Пространственно-количественные связи и отношения","Сравнение","Ребенок имеет представления, может показать на картинке и в естественной среде, может рассказать",{"$nulls":4},"Объекты живой природы",{"$nulls":3},"Объекты неживой природы, природные явления",null,"Ребенок стремится к самостоятельному экспериментированию","Ребенок знает правила поведения в природе, проявляет осознанное, бережное отношение к природе и ее ресурсам","Бросание, катание, ловля, метание",null,"Ползанье, лазанье",null,null,"Ходьба",null,null,"Бег",null,null,"Прыжки",{"$nulls":3},"Равновесие",null,"Строевые упражнения",null,"Ребенок выполняет графический диктант","Ребенок обводит по шаблону, по трафарету","Ребенок чертит линии с помощью линейки","Ребенок обводит по контуру, по точкам","Ребенок выполняет штриховку в различных направлениях","Ребенок закрашивает, не выходя за контур","Ребенок свободно владеет карандашом при рисовании округлых линий, завитков в разном направлении",{"$nulls":5},"на санках","на лыжах","на двухколесном велосипеде","на самокате",{"$nulls":7},"на санках","на лыжах","на двухколесном велосипеде","на самокате","Слушание","Пение ","Музыкально-ритмические движения","Песенное творчество","Игра на детских музыкальных инструментах",null,"Театрализованная деятельность",{"$nulls":3},"Танцевально-игровое творчество",null,"У ребенка развит музыкальный вкус, музыкальная память","Рисование ",null,"Лепка ",null,"Аппликация ",null,"Народное ДПИ","Прикладное творчество"]
[{"$f":"Список!B12","v":0},"Отношение к самому себе",{"$nulls":3},"Отношение к сверстникам","Отношение к взрослым","Эмоции",null,null,"Поведение","Семья",null,"Игровое поведение",null,"Ребенок имеет представление об изменениях позиции человека с возрастом","Ребенок имеет представление о школе, школьниках, учителях; стремится к школьному обучению, к познанию, освоению чтения, письма; демонстрирует формированные предпосылки к учебной деятельности и элементы готовности к школьному обучению","Ребенок имеет представление о нравственных качествах людей, их проявлении в поступках и взаимоотношениях","Ребенок имеет представление о признаках и характеристиках государства (территория государства и его границы, столица), атрибутах государственной власти, президенте, столице","Ребенок имеет представление о порядке использования государственной символики","Ребенок имеет представление о волонтерстве","Ребенок имеет представление о государственных праздниках, исторических событиях","Ребенок имеет представление о жизни людей в России, о многообразии стран и народов мира","Ребенок имеет представление об обмене ценностями в процессе производства и потребления товаров и услуг, о денежных отношениях, о реальной стоимости отдельных продуктов питания, игрушек, детских книг","Ребенок имеет представление о об основах финансовой грамоты, основах бережного потребления","Ребенок проявляет инициативность и самостоятельность в процессе самообслуживания, при выполнении трудовых поручений","Ребенок имеет представление о правила безопасного поведения в ситуациях, создающих угрозу жизни и здоровью (погас свет, остался один, потерялся, получил травму)","Ребенок имеет представление о правила безопасного поведения дома, на улице, в природе, в местах большого скопления людей, в магазине, на вокзале, в общественных метах, на праздниках и др.","Ребенок имеет представление о правилах безопасного использования цифровых ресурсов (мобильного телефона, планшета)","Ребенок имеет представление об элементарных правилах оказания первой помощи при первых признаках недомогания, травмах, ушибах","Ребенок проявляет самостоятельность при выполнении правил безопасного поведения","Ребенок владеет речью как средством коммуникации, ведет диалог, владеет коммуникативно-речевыми умениями","Ребенок подбирает точные слова для выражения мысли","Ребенок выполняет операцию классификации – деления освоенных понятий на группы на основе выявленных признаков","Ребенок использует в речи средства языковой выразительности: антонимы, синонимы, многозначные слова, метафоры, олицетворение","Ребенок образует сложные слова посредством слияния основ","Ребенок согласует в речи существительные с числительными, существительные с прилагательными","Ребенок образует по образцу существительные с суффиксами, глаголы с приставками","Ребенок образует в речи сравнительную и превосходную степени имен прилагательных","Ребенок правильно произносит все звуки","Ребенок может пересказать литературное произведение по ролям, близко к тексту, от лица литературного героя","Ребенок может составить описательный рассказ, соблюдая структуру описания","Ребенок может составить повествовательный рассказ по картине, из личного опыта, из коллективного опыта, по набору игрушек, соблюдая структуру повествования","Ребенок может составить рассказ -контаминацию (сочетание описания и повествования, описания и рассуждения)","Ребенок использует в процессе общения объяснительную речь, речь-доказательство, речевое планирование","Ребенок знает и осмысленно воспринимает литературные произведения различных жанров, имеет предпочтения","Ребенок определяет характеры персонажей, мотивы их поведения, оценивает поступки литературных героев","Ребенок проявляет интерес к книгам познавательного характера","Ребенок производит звуковой анализ четырехзвуковых и пятизвуковых слов","Ребенок может интонационно выделить звуки в слове, определить их последовательность, дать им характеристику, составить схему слова, выделить ударный гласный звук в слове","Ребенок может определить количество и последовательность слов в предложении","Ребенок может составить предложение с заданным количеством слов","Ребенок знает названия всех букв","Ребенок читает слоги","Ребенок различает и называет",{"$nulls":8},"Ребенок умеет считать в пределах 10 в прямом и обратном порядке","Ребенок знает состав чисел из двух меньших в пределах первого десятка","Ребенок решает простые арифметические задачи на сложение и вычитание","Ребенок имеет представление о календаре, как системе измерения времени","Ребенок умеет определять время по часам с точностью до четверти часа","Ребенок ориентируется на местности, по схеме, по плану","Ребенок знает способы ориентировки в двухмерном пространстве","Ребенок умеет измерять протяженность, массу и объем с помощью условной мерки; понимает взаимообратные отношения между мерой и результатом измерения","Ребенок сравнивает предметы по 4-6 основаниям с выделением сходства, отличия",{"$nulls":9},"Ребенок имеет представление об использовании человеком свойств неживой природы для хозяйственных нужд (ветряные мельницы, водохранилища, солнечные батареи, ледяные катки)",{"$nulls":3},"Ребенок выполняет различные упражнения с мячом, метание",null,"Ребенок выполняет разные виды ползанья, лазанья ",null,null,"Ребенок выполняет различные виды ходьбы",null,null,"Ребенок выполняет различные виды бега",null,null,"Ребенок выполняет различные виды прыжков",{"$nulls":3},"Ребенок выполняет",null,"Ребенок выполняет разные виды перестроений, построений, передвижений, размыкание и смыкание приставным шагом, повороты","Ребенок может рассчитаться на «первый – второй»",{"$nulls":16},"Ребенок владеет навыками личной гигиены","Ребенок владеет навыками культуры еды","Ребенок владеет навыками поддержания порядка","Ребенок владеет навыками ухода за собой",{"$nulls":7},"У ребенка развит навык восприятия звуков по высоте в пределах квинты-терции","У ребенка развиты певческий голос и вокально-слуховая координация","Ребёнок ритмично и выразительно двигается в соответствие с характером музыки","Ребенок способен самостоятельно придумать мелодию, используя в качестве образца русские народные песни","Ребенок может сыграть простую мелодию на металлофоне, свирели, ударных, и электронных музыкальных инструментах: трещотках, погремушках, треугольниках","Ребенок может исполнить музыкальное произведение в оркестре и в ансамбле","Ребенок проявляет самостоятельность при выборе литературного и музыкального материала для театральной постановки","Ребенок проявляет инициативу при изготовлении атрибутов и декораций к спектаклю","Ребенок имеет представление о средствах погружения в театральные образы (музыка, слова, декорации, грим, костюм и др.)","Ребенок умеет выразительно передавать образы в действии, мимике, пантомимике","Ребенок проявляет активность в доступных видах музыкальной исполнительской деятельности (игра в оркестре, пение, танцевальные движения и др.)","Ребенок помогает придумывать движения, отражающие содержание песни",null,"Ребенок может изобразить предметы по памяти и с натуры, передает их средствами рисунка (форма, пропорции, расположение)","Ребенок способен передавать в рисунке сюжет, строить композицию","Ребенок свободно использует приемы лепки, освоенные ранее (налеп, углубленный рельеф), применяет стеку","Ребенок умеет передавать пропорции, соотношение по величине, выразительность поз, движений, деталей","Ребенок умеет составлять узоры и декоративные композиции из геометрических и растительных элементов на листах бумаги разной формы","Ребенок может выполнить вырезание (симметричное из бумаги, сложенной вдвое; несколько предметов из частей бумаги, сложенной гармошкой)","Ребенок умеет создавать узоры по мотивам народных росписей","Ребенок может сложить бумагу в разных направлениях","Ребенок может сделать разметку с помощью шаблона","Ребенок может выполнить работу по образцу","Ребенок может создать объемную игрушку в технике «оригами»","Ребенок может создать объемную поделку из природного материала","Ребенок может вдеть нитку в иголку, завязать узелок, пришить пуговицу, петельку, выполнить шов «вперед иголка»","Ребенок умеет выделять, называть, группировать произведения по видам искусства: литература, музыка, изобразительное искусство, архитектура, театр, цирк","Ребенок имеет представление о видах изобразительного искусства: графика, декоративно-прикладное искусство, живопись, скульптура, архитектура, фотоискусство","Ребенок имеет представление о жанрах изобразительного искусства: натюрморт, пейзаж, портрет","Ребенок имеет представление о народном искусстве, фольклоре, музыке и художественных промыслах","Ребенок имеет представление о творческих профессиях: художник, композитор, музыкант, актер, артист балета","Ребенок имеет представление о культурно-досуговых местах: театр, музей, библиотека, выставка, кинотеатр, цирк и др.","Ребенок может провести анализ постройки (выделить основные части и характерные детали конструкций)","Ребенок может выполнить постройку по инструкции"]
[null,"Ребенок осознает и признает собственные ошибки, результат поставленных задач, определяет пути развития","Ребенок умеет договариваться и дружить, старается разрешать конфликтные ситуации конструктивными способами","Ребенок способен принимать собственные решения и проявлять инициативу","Ребенок осознанно относится к своему будущему, стремится быть полезным обществу","Ребенок без напоминаний использует в общении формулы словесной вежливости (приветствие, прощание, просьбы, извинения)","Ребенок без напоминаний использует в общении формулы словесной вежливости (приветствие, прощание, просьбы, извинения)","Ребенок понимает чувства и переживания окружающих по невербальным признакам; находит причины и следствия возникновения эмоций, проявляет эмпатию","Ребенок использует социально приемлемые способы проявления эмоций и доступные возрасту регуляции эмоциональных состояний","Ребенок распознает собственные чувства и эмоции, анализирует свои переживания и рассказывает о них","Ребенок самостоятельно соблюдает установленный порядок поведения в группе, регулирует собственную активность","Ребенок имеет представление о необходимости укрепления связи между поколениями, взаимной поддержке детей и взрослых","Ребенок имеет представление о семье, семейных и родственных отношениях (взаимные чувства, правила общения в семье, значимые и памятные события, досуг семьи, семейный бюджет)","Ребенок умеет сотрудничать со сверстниками (побуждает к обсуждению планов, советуется, поддерживает интерес к мнению, инициирует ситуации взаимопомощи, подчеркивает ценность каждого ребенка и его вклад в общее дело, выбирает партнеров по интересам, помогает устанавливать темп совместных действий)","Ребенок владеет разными способами и видами игры, различает условную и реальную ситуации, предлагает и объясняет замысел игры, комбинирует сюжеты на основе реальных, вымышленных ситуаций, выполняет несколько ролей в одной игре, подбирает разные средства для создания игровых образов, согласовывает свои интересы с интересами партнёров по игре",{"$nulls":39}," все цвета спектра и ахроматические цвета, оттенки","плоские и объемные геометрические фигуры; умеет выделять структуру геометрических фигур и устанавливать взаимосвязи между ними","Ребенок умеет классифицировать фигуры по внешним структурным признаками (округлые, многоугольники)","Ребенок владеет различными способами видоизменения геометрических фигур (наложение, соединение, разрезание и др.)","Ребенок умеет измерять длину, ширину, высоту с помощью условной мерки",{"$nulls":13}," о родном населенном пункте (название улиц, некоторых архитектурных особенностях, достопримечательностях), об истории, о выдающихся горожанах, традициях городской жизни"," о назначении общественных учреждений"," о разных видах специального транспорта"," о местах труда людей (завод, больница, магазин и др.)"," о местах отдыха людей","Ребенок имеет представление о наиболее ярких представителях животных и растений разных природных зон (пустыня, степь, тайга, тундра и др.), об их образе жизни, приспособлении к среде обитания, изменениях в жизни в разные сезоны года","Ребенок имеет представление о многообразии водных ресурсов (моря, океаны, реки, водопады и др.)","Ребенок имеет представление о многообразии полезных ископаемых (нефть, уголь, серебро, золото, алмазы и др.)","Ребенок имеет представление о жизненных потребностях, этапах роста и развития животных и растений",null,"Ребенок имеет представление о некоторых небесных телах (планеты, кометы, звезды)",null,null,"бросание вверх, о землю, ловля двумя руками, одной рукой, перебрасывание, передача, прокатывание, забрасывание, ведение","в цель из положения стоя, вдаль, в движущеюся цель","ползанье на четвереньках, на животе, на спине","влезание на гимнастическую стенку и спуск; перелезание с пролета на пролет по диагонали","лазанье по веревочной лестнице; выполнение упражнений на канате","обычная, гимнастическим шагом, скрестным шагом, спиной вперед, выпадами, с закрытыми глазами","приставными шагами назад, в приседе, с различными движениями рук","в различных построениях","в колонне по одному, врассыпную, парами, тройками, четверками","в сочетание с прыжками, высоко поднимая колени, захлестывая голени назад, выбрасывая прямые ноги вперед","челночный, наперегонки, из разных исходных положений, со скакалкой, по пересеченной местности, с наименьшим числом шагов, медленный, быстрый","подпрыгивания на двух ногах в чередовании с ходьбой, на месте и с поворот кругом","смещая ноги вправо-влево-вперед-назад","выпрыгивание на предметы; подпрыгивания вверх из глубокого приседа; прыжки на одной ноге","в длину с места/с разбега, в высоту с места/с разбега","стойка на носках, стойка на одной ноге с закрытыми глазами","кружение с закрытыми глазами, остановкой и сохранением заданной позы"]
["начало года",{"$f":"'Соц.ком.к 7г ч1 Н.г.'!E19","v":0},{"$f":"'Соц.ком.к 7г ч1 Н.г.'!F19","v":0},{"$f":"'Соц.ком.к 7г ч1 Н.г.'!G19","v":0},{"$f":"'Соц.ком.к 7г ч1 Н.г.'!H19","v":0},{"$f":"'Соц.ком.к 7г ч1 Н.г.'!I19","v":0},{"$f":"'Соц.ком.к 7г ч1 Н.г.'!J19","v":0},{"$f":"'Соц.ком.к 7г ч1 Н.г.'!K19","v":0},{"$f":"'Соц.ком.к 7г ч1 Н.г.'!L19","v":0},{"$f":"'Соц.ком.к 7г ч1 Н.г.'!M19","v":0},{"$f":"'Соц.ком.к 7г ч1 Н.г.'!N19","v":0},{"$f":"'Соц.ком.к 7г ч2 Н.г.'!E19","v":0},{"$f":"'Соц.ком.к 7г ч2 Н.г.'!F19","v":0},{"$f":"'Соц.ком.к 7г ч2 Н.г.'!G19","v":0},{"$f":"'Соц.ком.к 7г ч2 Н.г.'!H19","v":0},{"$f":"'Соц.ком.к 7г ч2 Н.г.'!I19","v":0},{"$f":"'Соц.ком.к 7г ч2 Н.г.'!J19","v":0},{"$f":"'Соц.ком.к 7г ч2 Н.г.'!K19","v":0},{"$f":"'Соц.ком. к 7г ч3 Н.г.'!E19","v":0},{"$f":"'Соц.ком. к 7г ч3 Н.г.'!F19","v":0},{"$f":"'Соц.ком. к 7г ч3 Н.г.'!G19","v":0},{"$f":"'Соц.ком. к 7г ч3 Н.г.'!H19","v":0},{"$f":"'Соц.ком. к 7г ч3 Н.г.'!I19","v":0},{"$f":"'Соц.ком. к 7г ч3 Н.г.'!J19","v":0},{"$f":"'Соц.ком. к 7г ч3 Н.г.'!K19","v":0},{"$f":"'Соц.ком. к 7г ч3 Н.г.'!L19","v":0},{"$f":"'Соц.ком. к 7г ч4 Н.г.'!E19","v":0},{"$f":"'Соц.ком. к 7г ч4 Н.г.'!F19","v":0},{"$f":"'Соц.ком. к 7г ч4 Н.г.'!G19","v":0},{"$f":"'Соц.ком. к 7г ч4 Н.г.'!H19","v":0},{"$f":"'Соц.ком. к 7г ч4 Н.г.'!I19","v":0},{"$f":"'Реч.разв.к 7г ч1 Н.г.'!E19","v":0},{"$f":"'Реч.разв.к 7г ч1 Н.г.'!F19","v":0},{"$f":"'Реч.разв.к 7г ч1 Н.г.'!G19","v":0},{"$f":"'Реч.разв.к 7г ч1 Н.г.'!H19","v":0},{"$f":"'Реч.разв.к 7г ч1 Н.г.'!I19","v":0},{"$f":"'Реч.разв.к 7г ч1 Н.г.'!J19","v":0},{"$f":"'Реч.разв.к 7г ч1 Н.г.'!K19","v":0},{"$f":"'Реч.разв.к 7г ч1 Н.г.'!L19","v":0},{"$f":"'Реч.разв.к 7г ч2 Н.г.'!E19","v":0},{"$f":"'Реч.разв.к 7г ч2 Н.г.'!F19","v":0},{"$f":"'Реч.разв.к 7г ч2 Н.г.'!G19","v":0},{"$f":"'Реч.разв.к 7г ч2 Н.г.'!H19","v":0},{"$f":"'Реч.разв.к 7г ч2 Н.г.'!I19","v":0},{"$f":"'Реч.разв.к 7г ч2 Н.г.'!J19","v":0},{"$f":"'Реч.разв.к 7г ч2 Н.г.'!K19","v":0},{"$f":"'Реч.разв.к 7г ч2 Н.г.'!L19","v":0},{"$f":"'Реч.разв.к 7г ч2 Н.г.'!M19","v":0},{"$f":"'Реч.разв.к 7г ч3. Н.г.'!E19","v":0},{"$f":"'Реч.разв.к 7г ч3. Н.г.'!F19","v":0},{"$f":"'Реч.разв.к 7г ч3. Н.г.'!G19","v":0},{"$f":"'Реч.разв.к 7г ч3. Н.г.'!H19","v":0},{"$f":"'Реч.разв.к 7г ч3. Н.г.'!I19","v":0},{"$f":"'Реч.разв.к 7г ч3. Н.г.'!J19","v":0},{"$f":"'Позн.разв. к 7г ч1. Н.г.'!E20","v":0},{"$f":"'Позн.разв. к 7г ч1. Н.г.'!F20","v":0},{"$f":"'Позн.разв. к 7г ч1. Н.г.'!G20","v":0},{"$f":"'Позн.разв. к 7г ч1. Н.г.'!H20","v":0},{"$f":"'Позн.разв. к 7г ч1. Н.г.'!I20","v":0},{"$f":"'Позн.разв. к 7г ч1. Н.г.'!J20","v":0},{"$f":"'Позн.разв. к 7г ч1. Н.г.'!K20","v":0},{"$f":"'Позн.разв. к 7г ч1. Н.г.'!L20","v":0},{"$f":"'Позн.разв. к 7г ч1. Н.г.'!M20","v":0},{"$f":"'Позн.разв. к 7г ч2. Н.г.'!E20","v":0},{"$f":"'Позн.разв. к 7г ч2. Н.г.'!F20","v":0},{"$f":"'Позн.разв. к 7г ч2. Н.г.'!G20","v":0},{"$f":"'Позн.разв. к 7г ч2. Н.г.'!H20","v":0},{"$f":"'Позн.разв. к 7г ч2. Н.г.'!I20","v":0},{"$f":"'Позн.разв. к 7г ч2. Н.г.'!J20","v":0},{"$f":"'Позн.разв. к 7г ч2. Н.г.'!K20","v":0},{"$f":"'Позн.разв. к 7г ч2. Н.г.'!L20","v":0},{"$f":"'Позн.разв. к 7г ч2. Н.г.'!M20","v":0},{"$f":"'Позн.разв. к 7г ч3. Н.г.'!E20","v":0},{"$f":"'Позн.разв. к 7г ч3. Н.г.'!F20","v":0},{"$f":"'Позн.разв. к 7г ч3. Н.г.'!G20","v":0},{"$f":"'Позн.разв. к 7г ч3. Н.г.'!H20","v":0},{"$f":"'Позн.разв. к 7г ч3. Н.г.'!I20","v":0},{"$f":"'Позн.разв. к 7г ч3. Н.г.'!J20","v":0},{"$f":"'Позн.разв. к 7г ч3. Н.г.'!K20","v":0},{"$f":"'Позн.разв. к 7г ч3. Н.г.'!L20","v":0},{"$f":"'Позн.разв. к 7г ч3. Н.г.'!M20","v":0},{"$f":"'Позн.разв. к 7г ч3. Н.г.'!N20","v":0},{"$f":"'Позн.разв. к 7г ч3. Н.г.'!O20","v":0},{"$f":"'Позн.разв. к 7г ч3. Н.г.'!P20","v":0},{"$f":"'Позн.разв. к 7г ч3. Н.г.'!Q20","v":0},{"$f":"'Физ.разв. к 7г ч1. Н.г.'!E20","v":0},{"$f":"'Физ.разв. к 7г ч1. Н.г.'!F20","v":0},{"$f":"'Физ.разв. к 7г ч1. Н.г.'!G20","v":0},{"$f":"'Физ.разв. к 7г ч1. Н.г.'!H20","v":0},{"$f":"'Физ.разв. к 7г ч1. Н.г.'!I20","v":0},{"$f":"'Физ.разв. к 7г ч1. Н.г.'!J20","v":0},{"$f":"'Физ.разв. к 7г ч1. Н.г.'!K20","v":0},{"$f":"'Физ.разв. к 7г ч1. Н.г.'!L20","v":0},{"$f":"'Физ.разв. к 7г ч1. Н.г.'!M20","v":0},{"$f":"'Физ.разв. к 7г ч1. Н.г.'!N20","v":0},{"$f":"'Физ.разв. к 7г ч1. Н.г.'!O20","v":0},{"$f":"'Физ.разв. к 7г ч1. Н.г.'!P20","v":0},{"$f":"'Физ.разв. к 7г ч1. Н.г.'!Q20","v":0},{"$f":"'Физ.разв. к 7г ч1. Н.г.'!R20","v":0},{"$f":"'Физ.разв. к 7г ч1. Н.г.'!S20","v":0},{"$f":"'Физ.разв. к 7г ч1. Н.г.'!T20","v":0},{"$f":"'Физ.разв. к 7г ч1. Н.г.'!U20","v":0},{"$f":"'Физ.разв. к 7г ч1. Н.г.'!V20","v":0},{"$f":"'Физ.разв. к 7г ч1. Н.г.'!W20","v":0},{"$f":"'Физ.разв. к 7г ч2. Н.г.'!E21","v":0},{"$f":"'Физ.разв. к 7г ч2. Н.г.'!F21","v":0},{"$f":"'Физ.разв. к 7г ч2. Н.г.'!G21","v":0},{"$f":"'Физ.разв. к 7г ч2. Н.г.'!H21","v":0},{"$f":"'Физ.разв. к 7г ч2. Н.г.'!I21","v":0},{"$f":"'Физ.разв. к 7г ч2. Н.г.'!J21","v":0},{"$f":"'Физ.разв. к 7г ч2. Н.г.'!K21","v":0},{"$f":"'Физ.разв. к 7г ч2. Н.г.'!L21","v":0},{"$f":"'Физ.разв. к 7г ч2. Н.г.'!M21","v":0},{"$f":"'Физ.разв. к 7г ч2. Н.г.'!N21","v":0},{"$f":"'Физ.разв. к 7г ч2. Н.г.'!O21","v":0},{"$f":"'Физ.разв. к 7г ч2. Н.г.'!P21","v":0},{"$f":"'Физ.разв. к 7г ч2. Н.г.'!Q21","v":0},{"$f":"'Физ.разв. к 7г ч2. Н.г.'!R21","v":0},{"$f":"'Физ.разв. к 7г ч2. Н.г.'!S21","v":0},{"$f":"'Физ.разв. к 7г ч2. Н.г.'!T21","v":0},{"$f":"'Физ.разв. к 7г ч3. Н.г.'!E21","v":0},{"$f":"'Физ.разв. к 7г ч3. Н.г.'!F21","v":0},{"$f":"'Физ.разв. к 7г ч3. Н.г.'!G21","v":0},{"$f":"'Физ.разв. к 7г ч3. Н.г.'!H21","v":0},{"$f":"'Физ.разв. к 7г ч3. Н.г.'!I21","v":0},{"$f":"'Физ.разв. к 7г ч3. Н.г.'!J21","v":0},{"$f":"'Физ.разв. к 7г ч3. Н.г.'!K21","v":0},{"$f":"'Физ.разв. к 7г ч3. Н.г.'!L21","v":0},{"$f":"'Физ.разв. к 7г ч3. Н.г.'!M21","v":0},{"$f":"'Физ.разв. к 7г ч3. Н.г.'!N21","v":0},{"$f":"'Физ.разв. к 7г ч3. Н.г.'!O21","v":0},{"$f":"'Худ.эст.к 7г ч1. Н.г.'!E20","v":0},{"$f":"'Худ.эст.к 7г ч1. Н.г.'!F20","v":0},{"$f":"'Худ.эст.к 7г ч1. Н.г.'!G20","v":0},{"$f":"'Худ.эст.к 7г ч1. Н.г.'!H20","v":0},{"$f":"'Худ.эст.к 7г ч1. Н.г.'!I20","v":0},{"$f":"'Худ.эст.к 7г ч1. Н.г.'!J20","v":0},{"$f":"'Худ.эст.к 7г ч1. Н.г.'!K20","v":0},{"$f":"'Худ.эст.к 7г ч1. Н.г.'!L20","v":0},{"$f":"'Худ.эст.к 7г ч1. Н.г.'!M20","v":0},{"$f":"'Худ.эст.к 7г ч1. Н.г.'!N20","v":0},{"$f":"'Худ.эст.к 7г ч1. Н.г.'!O20","v":0},{"$f":"'Худ.эст.к 7г ч1. Н.г.'!P20","v":0},{"$f":"'Худ.эст.к 7г ч1. Н.г.'!Q20","v":0},{"$f":"'Худ.эст.к 7г ч2. Н.г.'!E20","v":0},{"$f":"'Худ.эст.к 7г ч2. Н.г.'!F20","v":0},{"$f":"'Худ.эст.к 7г ч2. Н.г.'!G20","v":0},{"$f":"'Худ.эст.к 7г ч2. Н.г.'!H20","v":0},{"$f":"'Худ.эст.к 7г ч2. Н.г.'!I20","v":0},{"$f":"'Худ.эст.к 7г ч2. Н.г.'!J20","v":0},{"$f":"'Худ.эст.к 7г ч2. Н.г.'!K20","v":0},{"$f":"'Худ.эст.к 7г ч2. Н.г.'!L20","v":0},{"$f":"'Худ.эст.к 7г ч2. Н.г.'!M20","v":0},{"$f":"'Худ.эст.к 7г ч2. Н.г.'!N20","v":0},{"$f":"'Худ.эст.к 7г ч2. Н.г.'!O20","v":0},{"$f":"'Худ.эст.к 7г ч2. Н.г.'!P20","v":0},{"$f":"'Худ.эст.к 7г ч2. Н.г.'!Q20","v":0},{"$f":"'Худ.эст.к 7г ч3. Н.г.'!E20","v":0},{"$f":"'Худ.эст.к 7г ч3. Н.г.'!F20","v":0},{"$f":"'Худ.эст.к 7г ч3. Н.г.'!G20","v":0},{"$f":"'Худ.эст.к 7г ч3. Н.г.'!H20","v":0},{"$f":"'Худ.эст.к 7г ч3. Н.г.'!I20","v":0},{"$f":"'Худ.эст.к 7г ч3. Н.г.'!J20","v":0},{"$f":"'Худ.эст.к 7г ч3. Н.г.'!K20","v":0},{"$f":"'Худ.эст.к 7г ч3. Н.г.'!L20","v":0}]
["конец года",{"$f":"'Соц.ком.к 7г ч1 К.г.'!E19","v":0},{"$f":"'Соц.ком.к 7г ч1 К.г.'!F19","v":0},{"$f":"'Соц.ком.к 7г ч1 К.г.'!G19","v":0},{"$f":"'Соц.ком.к 7г ч1 К.г.'!H19","v":0},{"$f":"'Соц.ком.к 7г ч1 К.г.'!I19","v":0},{"$f":"'Соц.ком.к 7г ч1 К.г.'!J19","v":0},{"$f":"'Соц.ком.к 7г ч1 К.г.'!K19","v":0},{"$f":"'Соц.ком.к 7г ч1 К.г.'!L19","v":0},{"$f":"'Соц.ком.к 7г ч1 К.г.'!M19","v":0},{"$f":"'Соц.ком.к 7г ч1 К.г.'!N19","v":0},{"$f":"'Соц.ком.к 7г ч2 К.г.'!E19","v":0},{"$f":"'Соц.ком.к 7г ч2 К.г.'!F19","v":0},{"$f":"'Соц.ком.к 7г ч2 К.г.'!G19","v":0},{"$f":"'Соц.ком.к 7г ч2 К.г.'!H19","v":0},{"$f":"'Соц.ком.к 7г ч2 К.г.'!I19","v":0},{"$f":"'Соц.ком.к 7г ч2 К.г.'!J19","v":0},{"$f":"'Соц.ком.к 7г ч2 К.г.'!K19","v":0},{"$f":"'Соц.ком. к 7г ч3 К.г.'!E19","v":0},{"$f":"'Соц.ком. к 7г ч3 К.г.'!F19","v":0},{"$f":"'Соц.ком. к 7г ч3 К.г.'!G19","v":0},{"$f":"'Соц.ком. к 7г ч3 К.г.'!H19","v":0},{"$f":"'Соц.ком. к 7г ч3 К.г.'!I19","v":0},{"$f":"'Соц.ком. к 7г ч3 К.г.'!J19","v":0},{"$f":"'Соц.ком. к 7г ч3 К.г.'!K19","v":0},{"$f":"'Соц.ком. к 7г ч3 К.г.'!L19","v":0},{"$f":"'Соц.ком. к 7г ч4 К.г.'!E19","v":0},{"$f":"'Соц.ком. к 7г ч4 К.г.'!F19","v":0},{"$f":"'Соц.ком. к 7г ч4 К.г.'!G19","v":0},{"$f":"'Соц.ком. к 7г ч4 К.г.'!H19","v":0},{"$f":"'Соц.ком. к 7г ч4 К.г.'!I19","v":0},{"$f":"'Реч.разв.к 7г ч1 К.г.'!E19","v":0},{"$f":"'Реч.разв.к 7г ч1 К.г.'!F19","v":0},{"$f":"'Реч.разв.к 7г ч1 К.г.'!G19","v":0},{"$f":"'Реч.разв.к 7г ч1 К.г.'!H19","v":0},{"$f":"'Реч.разв.к 7г ч1 К.г.'!I19","v":0},{"$f":"'Реч.разв.к 7г ч1 К.г.'!J19","v":0},{"$f":"'Реч.разв.к 7г ч1 К.г.'!K19","v":0},{"$f":"'Реч.разв.к 7г ч1 К.г.'!L19","v":0},{"$f":"'Реч.разв.к 7г ч2 К.г. '!E19","v":0},{"$f":"'Реч.разв.к 7г ч2 К.г. '!F19","v":0},{"$f":"'Реч.разв.к 7г ч2 К.г. '!G19","v":0},{"$f":"'Реч.разв.к 7г ч2 К.г. '!H19","v":0},{"$f":"'Реч.разв.к 7г ч2 К.г. '!I19","v":0},{"$f":"'Реч.разв.к 7г ч2 К.г. '!J19","v":0},{"$f":"'Реч.разв.к 7г ч2 К.г. '!K19","v":0},{"$f":"'Реч.разв.к 7г ч2 К.г. '!L19","v":0},{"$f":"'Реч.разв.к 7г ч2 К.г. '!M19","v":0},{"$f":"'Реч.разв.к 7г ч3. К.г. '!E19","v":0},{"$f":"'Реч.разв.к 7г ч3. К.г. '!F19","v":0},{"$f":"'Реч.разв.к 7г ч3. К.г. '!G19","v":0},{"$f":"'Реч.разв.к 7г ч3. К.г. '!H19","v":0},{"$f":"'Реч.разв.к 7г ч3. К.г. '!I19","v":0},{"$f":"'Реч.разв.к 7г ч3. К.г. '!J19","v":0},{"$f":"'Позн.разв. к 7г ч1. К.г. '!E20","v":0},{"$f":"'Позн.разв. к 7г ч1. К.г. '!F20","v":0},{"$f":"'Позн.разв. к 7г ч1. К.г. '!G20","v":0},{"$f":"'Позн.разв. к 7г ч1. К.г. '!H20","v":0},{"$f":"'Позн.разв. к 7г ч1. К.г. '!I20","v":0},{"$f":"'Позн.разв. к 7г ч1. К.г. '!J20","v":0},{"$f":"'Позн.разв. к 7г ч1. К.г. '!K20","v":0},{"$f":"'Позн.разв. к 7г ч1. К.г. '!L20","v":0},{"$f":"'Позн.разв. к 7г ч1. К.г. '!M20","v":0},{"$f":"'Позн.разв. к 7г ч2. К.г.'!E20","v":0},{"$f":"'Позн.разв. к 7г ч2. К.г.'!F20","v":0},{"$f":"'Позн.разв. к 7г ч2. К.г.'!G20","v":0},{"$f":"'Позн.разв. к 7г ч2. К.г.'!H20","v":0},{"$f":"'Позн.разв. к 7г ч2. К.г.'!I20","v":0},{"$f":"'Позн.разв. к 7г ч2. К.г.'!J20","v":0},{"$f":"'Позн.разв. к 7г ч2. К.г.'!K20","v":0},{"$f":"'Позн.разв. к 7г ч2. К.г.'!L20","v":0},{"$f":"'Позн.разв. к 7г ч2. К.г.'!M20","v":0},{"$f":"'Позн.разв. к 7г ч3. К.г. '!E20","v":0},{"$f":"'Позн.разв. к 7г ч3. К.г. '!F20","v":0},{"$f":"'Позн.разв. к 7г ч3. К.г. '!G20","v":0},{"$f":"'Позн.разв. к 7г ч3. К.г. '!H20","v":0},{"$f":"'Позн.разв. к 7г ч3. К.г. '!I20","v":0},{"$f":"'Позн.разв. к 7г ч3. К.г. '!J20","v":0},{"$f":"'Позн.разв. к 7г ч3. К.г. '!K20","v":0},{"$f":"'Позн.разв. к 7г ч3. К.г. '!L20","v":0},{"$f":"'Позн.разв. к 7г ч3. К.г. '!M20","v":0},{"$f":"'Позн.разв. к 7г ч3. К.г. '!N20","v":0},{"$f":"'Позн.разв. к 7г ч3. К.г. '!O20","v":0},{"$f":"'Позн.разв. к 7г ч3. К.г. '!P20","v":0},{"$f":"'Позн.разв. к 7г ч3. К.г. '!Q20","v":0},{"$f":"'Физ.разв. к 7г ч1. К.г. '!E20","v":0},{"$f":"'Физ.разв. к 7г ч1. К.г. '!F20","v":0},{"$f":"'Физ.разв. к 7г ч1. К.г. '!G20","v":0},{"$f":"'Физ.разв. к 7г ч1. К.г. '!H20","v":0},{"$f":"'Физ.разв. к 7г ч1. К.г. '!I20","v":0},{"$f":"'Физ.разв. к 7г ч1. К.г. '!J20","v":0},{"$f":"'Физ.разв. к 7г ч1. К.г. '!K20","v":0},{"$f":"'Физ.разв. к 7г ч1. К.г. '!L20","v":0},{"$f":"'Физ.разв. к 7г ч1. К.г. '!M20","v":0},{"$f":"'Физ.разв. к 7г ч1. К.г. '!N20","v":0},{"$f":"'Физ.разв. к 7г ч1. К.г. '!O20","v":0},{"$f":"'Физ.разв. к 7г ч1. К.г. '!P20","v":0},{"$f":"'Физ.разв. к 7г ч1. К.г. '!Q20","v":0},{"$f":"'Физ.разв. к 7г ч1. К.г. '!R20","v":0},{"$f":"'Физ.разв. к 7г ч1. К.г. '!S20","v":0},{"$f":"'Физ.разв. к 7г ч1. К.г. '!T20","v":0},{"$f":"'Физ.разв. к 7г ч1. К.г. '!U20","v":0},{"$f":"'Физ.разв. к 7г ч1. К.г. '!V20","v":0},{"$f":"'Физ.разв. к 7г ч1. К.г. '!W20","v":0},{"$f":"'Физ.разв. к 7г ч2. К.г.'!E21","v":0},{"$f":"'Физ.разв. к 7г ч2. К.г.'!F21","v":0},{"$f":"'Физ.разв. к 7г ч2. К.г.'!G21","v":0},{"$f":"'Физ.разв. к 7г ч2. К.г.'!H21","v":0},{"$f":"'Физ.разв. к 7г ч2. К.г.'!I21","v":0},{"$f":"'Физ.разв. к 7г ч2. К.г.'!J21","v":0},{"$f":"'Физ.разв. к 7г ч2. К.г.'!K21","v":0},{"$f":"'Физ.разв. к 7г ч2. К.г.'!L21","v":0},{"$f":"'Физ.разв. к 7г ч2. К.г.'!M21","v":0},{"$f":"'Физ.разв. к 7г ч2. К.г.'!N21","v":0},{"$f":"'Физ.разв. к 7г ч2. К.г.'!O21","v":0},{"$f":"'Физ.разв. к 7г ч2. К.г.'!P21","v":0},{"$f":"'Физ.разв. к 7г ч2. К.г.'!Q21","v":0},{"$f":"'Физ.разв. к 7г ч2. К.г.'!R21","v":0},{"$f":"'Физ.разв. к 7г ч2. К.г.'!S21","v":0},{"$f":"'Физ.разв. к 7г ч2. К.г.'!T21","v":0},{"$f":"'Физ.разв. к 7г ч3. К.г. '!E21","v":0},{"$f":"'Физ.разв. к 7г ч3. К.г. '!F21","v":0},{"$f":"'Физ.разв. к 7г ч3. К.г. '!G21","v":0},{"$f":"'Физ.разв. к 7г ч3. К.г. '!H21","v":0},{"$f":"'Физ.разв. к 7г ч3. К.г. '!I21","v":0},{"$f":"'Физ.разв. к 7г ч3. К.г. '!J21","v":0},{"$f":"'Физ.разв. к 7г ч3. К.г. '!K21","v":0},{"$f":"'Физ.разв. к 7г ч3. К.г. '!L21","v":0},{"$f":"'Физ.разв. к 7г ч3. К.г. '!M21","v":0},{"$f":"'Физ.разв. к 7г ч3. К.г. '!N21","v":0},{"$f":"'Физ.разв. к 7г ч3. К.г. '!O21","v":0},{"$f":"'Худ.эст.к 7г ч1. К.г. '!E20","v":0},{"$f":"'Худ.эст.к 7г ч1. К.г. '!F20","v":0},{"$f":"'Худ.эст.к 7г ч1. К.г. '!G20","v":0},{"$f":"'Худ.эст.к 7г ч1. К.г. '!H20","v":0},{"$f":"'Худ.эст.к 7г ч1. К.г. '!I20","v":0},{"$f":"'Худ.эст.к 7г ч1. К.г. '!J20","v":0},{"$f":"'Худ.эст.к 7г ч1. К.г. '!K20","v":0},{"$f":"'Худ.эст.к 7г ч1. К.г. '!L20","v":0},{"$f":"'Худ.эст.к 7г ч1. К.г. '!M20","v":0},{"$f":"'Худ.эст.к 7г ч1. К.г. '!N20","v":0},{"$f":"'Худ.эст.к 7г ч1. К.г. '!O20","v":0},{"$f":"'Худ.эст.к 7г ч1. К.г. '!P20","v":0},{"$f":"'Худ.эст.к 7г ч1. К.г. '!Q20","v":0},{"$f":"'Худ.эст.к 7г ч2. К.г. '!E20","v":0},{"$f":"'Худ.эст.к 7г ч2. К.г. '!F20","v":0},{"$f":"'Худ.эст.к 7г ч2. К.г. '!G20","v":0},{"$f":"'Худ.эст.к 7г ч2. К.г. '!H20","v":0},{"$f":"'Худ.эст.к 7г ч2. К.г. '!I20","v":0},{"$f":"'Худ.эст.к 7г ч2. К.г. '!J20","v":0},{"$f":"'Худ.эст.к 7г ч2. К.г. '!K20","v":0},{"$f":"'Худ.эст.к 7г ч2. К.г. '!L20","v":0},{"$f":"'Худ.эст.к 7г ч2. К.г. '!M20","v":0},{"$f":"'Худ.эст.к 7г ч2. К.г. '!N20","v":0},{"$f":"'Худ.эст.к 7г ч2. К.г. '!O20","v":0},{"$f":"'Худ.эст.к 7г ч2. К.г. '!P20","v":0},{"$f":"'Худ.эст.к 7г ч2. К.г. '!Q20","v":0},{"$f":"'Худ.эст.к 7г ч3. К.г. '!E20","v":0},{"$f":"'Худ.эст.к 7г ч3. К.г. '!F20","v":0},{"$f":"'Худ.эст.к 7г ч3. К.г. '!G20","v":0},{"$f":"'Худ.эст.к 7г ч3. К.г. '!H20","v":0},{"$f":"'Худ.эст.к 7г ч3. К.г. '!I20","v":0},{"$f":"'Худ.эст.к 7г ч3. К.г. '!J20","v":0},{"$f":"'Худ.эст.к 7г ч3. К.г. '!K20","v":0},{"$f":"'Худ.эст.к 7г ч3. К.г. '!L20","v":0}]

{"sheet":"10","index":47,"n_rows":7,"n_cols":165,"rows_kept":7,"merged":[[0,104,0,110],[0,111,0,112],[0,113,0,115],[0,116,0,119],[0,120,0,123],[0,124,0,126],[0,127,0,130],[1,54,1,58],[1,59,1,62],[1,63,1,71],[1,72,1,76],[1,77,1,84],[1,104,1,106],[1,107,1,110],[1,111,4,111],[1,112,4,112],[1,113,4,113],[1,114,4,114],[1,115,4,115],[1,116,1,119],[1,120,2,120],[1,121,2,121],[1,122,2,122],[1,123,2,123],[1,124,4,124],[1,125,4,125],[1,126,4,126],[1,127,1,130],[1,131,1,143],[1,144,1,156],[1,157,2,162],[1,163,2,164],[2,18,2,22],[2,23,2,25],[2,26,2,30],[2,32,2,34],[2,35,2,38],[2,40,2,44],[2,45,2,47],[2,48,2,53],[2,55,2,57],[2,59,4,59],[2,60,4,60],[2,61,4,61],[2,62,4,62],[2,63,2,65],[2,66,2,67],[2,68,2,69],[2,72,3,76],[2,77,2,80],[2,81,2,82],[2,83,4,83],[2,84,4,84],[2,85,2,86],[2,87,2,89],[2,90,2,92],[2,93,2,95],[2,96,2,99],[2,100,2,101],[2,102,2,103],[2,104,4,104],[2,105,4,105],[2,106,4,106],[2,107,4,107],[2,108,4,108],[2,109,4,109],[2,110,4,110],[2,116,4,116],[2,117,4,117],[2,118,4,118],[2,119,4,119],[2,127,4,127],[2,128,4,128],[2,129,4,129],[2,130,4,130],[2,135,2,136],[2,137,2,140],[2,141,2,142],[2,143,4,143],[2,144,2,145],[2,146,2,147],[2,148,2,149],[2,151,2,156],[3,0,4,0],[3,1,3,4],[3,7,3,9],[3,11,3,12],[3,13,3,14],[3,15,4,15],[3,16,4,16],[3,17,4,17],[3,18,4,18],[3,19,4,19],[3,20,4,20],[3,21,4,21],[3,22,4,22],[3,23,4,23],[3,24,4,24],[3,25,4,25],[3,26,4,26],[3,27,4,27],[3,28,4,28],[3,29,4,29],[3,30,4,30],[3,31,4,31],[3,32,4,32],[3,33,4,33],[3,34,4,34],[3,35,4,35],[3,36,4,36],[3,37,4,37],[3,38,4,38],[3,39,4,39],[3,40,4,40],[3,41,4,41],[3,42,4,42],[3,43,4,43],[3,44,4,44],[3,45,4,45],[3,46,4,46],[3,47,4,47],[3,48,4,48],[3,49,4,49],[3,50,4,50],[3,51,4,51],[3,52,4,52],[3,53,4,53],[3,54,3,58],[3,63,4,63],[3,64,4,64],[3,65,4,65],[3,66,4,66],[3,67,4,67],[3,68,4,68],[3,69,4,69],[3,70,4,70],[3,71,4,71],[3,81,4,81],[3,85,3,86],[3,87,3,89],[3,90,3,92],[3,93,3,95],[3,96,3,99],[3,100,3,101],[3,102,4,102],[3,103,4,103],[3,120,4,120],[3,121,4,121],[3,122,4,122],[3,123,4,123],[3,131,4,131],[3,132,4,132],[3,133,4,133],[3,134,4,134],[3,135,4,135],[3,136,4,136],[3,137,4,137],[3,138,4,138],[3,139,4,139],[3,140,4,140],[3,141,4,141],[3,142,4,142],[3,144,4,144],[3,145,4,145],[3,146,4,146],[3,147,4,147],[3,148,4,148],[3,149,4,149],[3,150,4,150],[3,151,4,151],[3,152,4,152],[3,153,4,153],[3,154,4,154],[3,155,4,155],[3,156,4,156],[3,157,4,157],[3,158,4,158],[3,159,4,159],[3,160,4,160],[3,161,4,161],[3,162,4,162],[3,163,4,163],[3,164,4,164]]}
[{"$nulls":104},"Мелкая моторика",{"$nulls":6},"Подвижные игры",null,"Спорт. игры",null,null,"Спортивные упражнения",{"$nulls":3},"КГН",{"$nulls":3},"ЗОЖ",null,null,"Спортивные упражнения"]
[{"$nulls":54},"Сенсорные эталоны ",{"$nulls":4},"Познавательные действия",{"$nulls":3},"Математические представления",{"$nulls":8},"Окружающий мир",{"$nulls":4},"Природа ",{"$nulls":26},"Координация рук и глаз",null,null,"Графические навыки",{"$nulls":3},"Ребенок использует в самостоятельной деятельности разнообразные по содержанию подвижные игры, проявляет элементы творчества в двигательной деятельности","Ребенок может организовать знакомые подвижные игры со сверстниками, сплотить команду, стремится внести свой вклад в результат команды","Ребенок владеет элементами спортивных игр (городки, баскетбол, футбол, хоккей, бадминтон, настольный теннис), может контролировать свои движения и управлять ими","Ребенок имеет представление о разных видах спорта (санный спорт, борьба, теннис, синхронное плавание и др.)","Ребенок имеет представление о спортивных событиях и достижениях отечественных спортсменов","Ребенок умеет кататься",{"$nulls":3},"Навыки соблюдения чистоты тела (правила личной гигиены)","Навыки культуры еды (прием пищи) ","Навыки поддержания порядка (правила поведения в быту) ","Навыки ухода за собой (одевание, раздевание) ","Ребенок соблюдает элементарные правила здорового образа жизни и личной гигиены, следит за своей осанкой, может оценить свое самочувствие","Ребенок регулярно выполняет физические упражнения","Ребенок имеет начальные представления о том, что такое здоровье, понимает, как поддержать, укрепить и сохранить его","Ребенок умеет кататься",{"$nulls":3},"Музыкальная деятельность",{"$nulls":12},"Изобразительная деятельность",{"$nulls":12},"Приобщение к искусству",{"$nulls":5},"Конструктивная деятельность"]
[{"$nulls":18},"Область формирования основ гражданственности и патриотизма",{"$nulls":4},"Сфера трудового воспитания",null,null,"Область формирования основ безопасного поведения",{"$nulls":4},"Общее речевое развитие","Формирование словаря",null,null,"Грамматический строй",{"$nulls":3},"Звуковая культура речи","Связная речь",{"$nulls":4},"ЧХЛ",null,null,"Подготовка к обучению грамоте",{"$nulls":5},"Цвет, оттенки","Форма, геометрические фигуры",null,null,"Величина","Ребенок самостоятельно выбирает способ осуществления разных видов познавательной деятельности","Ребенок интересуется субъективно новым и неизвестным в окружающем мире","Ребенок способен применять в жизненных и игровых ситуациях знания о количестве, форме, величине предметов, пространстве, времени","Ребенок имеет разнообразные познавательные умения: определяет противоречия. Формулирует задачу исследования, использует разные способы и средства проверки предположений (сравнение с эталонами, классификацию, систематизацию и др.)","Количество и счет",null,null,"Ориентировка во времени",null,"Ориентировка в пространстве",null,"Пространственно-количественные связи и отношения","Сравнение","Ребенок имеет представления, может показать на картинке и в естественной среде, может рассказать",{"$nulls":4},"Объекты живой природы",{"$nulls":3},"Объекты неживой природы, природные явления",null,"Ребенок стремится к самостоятельному экспериментированию","Ребенок знает правила поведения в природе, проявляет осознанное, бережное отношение к природе и ее ресурсам","Бросание, катание, ловля, метание",null,"Ползанье, лазанье",null,null,"Ходьба",null,null,"Бег",null,null,"Прыжки",{"$nulls":3},"Равновесие",null,"Строевые упражнения",null,"Ребенок выполняет графический диктант","Ребенок обводит по шаблону, по трафарету","Ребенок чертит линии с помощью линейки","Ребенок обводит по контуру, по точкам","Ребенок выполняет штриховку в различных направлениях","Ребенок закрашивает, не выходя за контур","Ребенок свободно владеет карандашом при рисовании округлых линий, завитков в разном направлении",{"$nulls":5},"на санках","на лыжах","на двухколесном велосипеде","на самокате",{"$nulls":7},"на санках","на лыжах","на двухколесном велосипеде","на самокате","Слушание","Пение ","Музыкально-ритмические движения","Песенное творчество","Игра на детских музыкальных инструментах",null,"Театрализованная деятельность",{"$nulls":3},"Танцевально-игровое творчество",null,"У ребенка развит музыкальный вкус, музыкальная память","Рисование ",null,"Лепка ",null,"Аппликация ",null,"Народное ДПИ","Прикладное творчество"]
[{"$f":"Список!B13","v":0},"Отношение к самому себе",{"$nulls":3},"Отношение к сверстникам","Отношение к взрослым","Эмоции",null,null,"Поведение","Семья",null,"Игровое поведение",null,"Ребенок имеет представление об изменениях позиции человека с возрастом","Ребенок имеет представление о школе, школьниках, учителях; стремится к школьному обучению, к познанию, освоению чтения, письма; демонстрирует формированные предпосылки к учебной деятельности и элементы готовности к школьному обучению","Ребенок имеет представление о нравственных качествах людей, их проявлении в поступках и взаимоотношениях","Ребенок имеет представление о признаках и характеристиках государства (территория государства и его границы, столица), атрибутах государственной власти, президенте, столице","Ребенок имеет представление о порядке использования государственной символики","Ребенок имеет представление о волонтерстве","Ребенок имеет представление о государственных праздниках, исторических событиях","Ребенок имеет представление о жизни людей в России, о многообразии стран и народов мира","Ребенок имеет представление об обмене ценностями в процессе производства и потребления товаров и услуг, о денежных отношениях, о реальной стоимости отдельных продуктов питания, игрушек, детских книг","Ребенок имеет представление о об основах финансовой грамоты, основах бережного потребления","Ребенок проявляет инициативность и самостоятельность в процессе самообслуживания, при выполнении трудовых поручений","Ребенок имеет представление о правила безопасного поведения в ситуациях, создающих угрозу жизни и здоровью (погас свет, остался один, потерялся, получил травму)","Ребенок имеет представление о правила безопасного поведения дома, на улице, в природе, в местах большого скопления людей, в магазине, на вокзале, в общественных метах, на праздниках и др.","Ребенок имеет представление о правилах безопасного использования цифровых ресурсов (мобильного телефона, планшета)","Ребенок имеет представление об элементарных правилах оказания первой помощи при первых признаках недомогания, травмах, ушибах","Ребенок проявляет самостоятельность при выполнении правил безопасного поведения","Ребенок владеет речью как средством коммуникации, ведет диалог, владеет коммуникативно-речевыми умениями","Ребенок подбирает точные слова для выражения мысли","Ребенок выполняет операцию классификации – деления освоенных понятий на группы на основе выявленных признаков","Ребенок использует в речи средства языковой выразительности: антонимы, синонимы, многозначные слова, метафоры, олицетворение","Ребенок образует сложные слова посредством слияния основ","Ребенок согласует в речи существительные с числительными, существительные с прилагательными","Ребенок образует по образцу существительные с суффиксами, глаголы с приставками","Ребенок образует в речи сравнительную и превосходную степени имен прилагательных","Ребенок правильно произносит все звуки","Ребенок может пересказать литературное произведение по ролям, близко к тексту, от лица литературного героя","Ребенок может составить описательный рассказ, соблюдая структуру описания","Ребенок может составить повествовательный рассказ по картине, из личного опыта, из коллективного опыта, по набору игрушек, соблюдая структуру повествования","Ребенок может составить рассказ -контаминацию (сочетание описания и повествования, описания и рассуждения)","Ребенок использует в процессе общения объяснительную речь, речь-доказательство, речевое планирование","Ребенок знает и осмысленно воспринимает литературные произведения различных жанров, имеет предпочтения","Ребенок определяет характеры персонажей, мотивы их поведения, оценивает поступки литературных героев","Ребенок проявляет интерес к книгам познавательного характера","Ребенок производит звуковой анализ четырехзвуковых и пятизвуковых слов","Ребенок может интонационно выделить звуки в слове, определить их последовательность, дать им характеристику, составить схему слова, выделить ударный гласный звук в слове","Ребенок может определить количество и последовательность слов в предложении","Ребенок может составить предложение с заданным количеством слов","Ребенок знает названия всех букв","Ребенок читает слоги","Ребенок различает и называет",{"$nulls":8},"Ребенок умеет считать в пределах 10 в прямом и обратном порядке","Ребенок знает состав чисел из двух меньших в пределах первого десятка","Ребенок решает простые арифметические задачи на сложение и вычитание","Ребенок имеет представление о календаре, как системе измерения времени","Ребенок умеет определять время по часам с точностью до четверти часа","Ребенок ориентируется на местности, по схеме, по плану","Ребенок знает способы ориентировки в двухмерном пространстве","Ребенок умеет измерять протяженность, массу и объем с помощью условной мерки; понимает взаимообратные отношения между мерой и результатом измерения","Ребенок сравнивает предметы по 4-6 основаниям с выделением сходства, отличия",{"$nulls":9},"Ребенок имеет представление об использовании человеком свойств неживой природы для хозяйственных нужд (ветряные мельницы, водохранилища, солнечные батареи, ледяные катки)",{"$nulls":3},"Ребенок выполняет различные упражнения с мячом, метание",null,"Ребенок выполняет разные виды ползанья, лазанья ",null,null,"Ребенок выполняет различные виды ходьбы",null,null,"Ребенок выполняет различные виды бега",null,null,"Ребенок выполняет различные виды прыжков",{"$nulls":3},"Ребенок выполняет",null,"Ребенок выполняет разные виды перестроений, построений, передвижений, размыкание и смыкание приставным шагом, повороты","Ребенок может рассчитаться на «первый – второй»",{"$nulls":16},"Ребенок владеет навыками личной гигиены","Ребенок владеет навыками культуры еды","Ребенок владеет навыками поддержания порядка","Ребенок владеет навыками ухода за собой",{"$nulls":7},"У ребенка развит навык восприятия звуков по высоте в пределах квинты-терции","У ребенка развиты певческий голос и вокально-слуховая координация","Ребёнок ритмично и выразительно двигается в соответствие с характером музыки","Ребенок способен самостоятельно придумать мелодию, используя в качестве образца русские народные песни","Ребенок может сыграть простую мелодию на металлофоне, свирели, ударных, и электронных музыкальных инструментах: трещотках, погремушках, треугольниках","Ребенок может исполнить музыкальное произведение в оркестре и в ансамбле","Ребенок проявляет самостоятельность при выборе литературного и музыкального материала для театральной постановки","Ребенок проявляет инициативу при изготовлении атрибутов и декораций к спектаклю","Ребенок имеет представление о средствах погружения в театральные образы (музыка, слова, декорации, грим, костюм и др.)","Ребенок умеет выразительно передавать образы в действии, мимике, пантомимике","Ребенок проявляет активность в доступных видах музыкальной исполнительской деятельности (игра в оркестре, пение, танцевальные движения и др.)","Ребенок помогает придумывать движения, отражающие содержание песни",null,"Ребенок может изобразить предметы по памяти и с натуры, передает их средствами рисунка (форма, пропорции, расположение)","Ребенок способен передавать в рисунке сюжет, строить композицию","Ребенок свободно использует приемы лепки, освоенные ранее (налеп, углубленный рельеф), применяет стеку","Ребенок умеет передавать пропорции, соотношение по величине, выразительность поз, движений, деталей","Ребенок умеет составлять узоры и декоративные композиции из геометрических и растительных элементов на листах бумаги разной формы","Ребенок может выполнить вырезание (симметричное из бумаги, сложенной вдвое; несколько предметов из частей бумаги, сложенной гармошкой)","Ребенок умеет создавать узоры по мотивам народных росписей","Ребенок может сложить бумагу в разных направлениях","Ребенок может сделать разметку с помощью шаблона","Ребенок может выполнить работу по образцу","Ребенок может создать объемную игрушку в технике «оригами»","Ребенок может создать объемную поделку из природного материала","Ребенок может вдеть нитку в иголку, завязать узелок, пришить пуговицу, петельку, выполнить шов «вперед иголка»","Ребенок умеет выделять, называть, группировать произведения по видам искусства: литература, музыка, изобразительное искусство, архитектура, театр, цирк","Ребенок имеет представление о видах изобразительного искусства: графика, декоративно-прикладное искусство, живопись, скульптура, архитектура, фотоискусство","Ребенок имеет представление о жанрах изобразительного искусства: натюрморт, пейзаж, портрет","Ребенок имеет представление о народном искусстве, фольклоре, музыке и художественных промыслах","Ребенок имеет представление о творческих профессиях: художник, композитор, музыкант, актер, артист балета","Ребенок имеет представление о культурно-досуговых местах: театр, музей, библиотека, выставка, кинотеатр, цирк и др.","Ребенок может провести анализ постройки (выделить основные части и характерные детали конструкций)","Ребенок может выполнить постройку по инструкции"]
[null,"Ребенок осознает и признает собственные ошибки, результат поставленных задач, определяет пути развития","Ребенок умеет договариваться и дружить, старается разрешать конфликтные ситуации конструктивными способами","Ребенок способен принимать собственные решения и проявлять инициативу","Ребенок осознанно относится к своему будущему, стремится быть полезным обществу","Ребенок без напоминаний использует в общении формулы словесной вежливости (приветствие, прощание, просьбы, извинения)","Ребенок без напоминаний использует в общении формулы словесной вежливости (приветствие, прощание, просьбы, извинения)","Ребенок понимает чувства и переживания окружающих по невербальным признакам; находит причины и следствия возникновения эмоций, проявляет эмпатию","Ребенок использует социально приемлемые способы проявления эмоций и доступные возрасту регуляции эмоциональных состояний","Ребенок распознает собственные чувства и эмоции, анализирует свои переживания и рассказывает о них","Ребенок самостоятельно соблюдает установленный порядок поведения в группе, регулирует собственную активность","Ребенок имеет представление о необходимости укрепления связи между поколениями, взаимной поддержке детей и взрослых","Ребенок имеет представление о семье, семейных и родственных отношениях (взаимные чувства, правила общения в семье, значимые и памятные события, досуг семьи, семейный бюджет)","Ребенок умеет сотрудничать со сверстниками (побуждает к обсуждению планов, советуется, поддерживает интерес к мнению, инициирует ситуации взаимопомощи, подчеркивает ценность каждого ребенка и его вклад в общее дело, выбирает партнеров по интересам, помогает устанавливать темп совместных действий)","Ребенок владеет разными способами и видами игры, различает условную и реальную ситуации, предлагает и объясняет замысел игры, комбинирует сюжеты на основе реальных, вымышленных ситуаций, выполняет несколько ролей в одной игре, подбирает разные средства для создания игровых образов, согласовывает свои интересы с интересами партнёров по игре",{"$nulls":39}," все цвета спектра и ахроматические цвета, оттенки","плоские и объемные геометрические фигуры; умеет выделять структуру геометрических фигур и устанавливать взаимосвязи между ними","Ребенок умеет классифицировать фигуры по внешним структурным признаками (округлые, многоугольники)","Ребенок владеет различными способами видоизменения геометрических фигур (наложение, соединение, разрезание и др.)","Ребенок умеет измерять длину, ширину, высоту с помощью условной мерки",{"$nulls":13}," о родном населенном пункте (название улиц, некоторых архитектурных особенностях, достопримечательностях), об истории, о выдающихся горожанах, традициях городской жизни"," о назначении общественных учреждений"," о разных видах специального транспорта"," о местах труда людей (завод, больница, магазин и др.)"," о местах отдыха людей","Ребенок имеет представление о наиболее ярких представителях животных и растений разных природных зон (пустыня, степь, тайга, тундра и др.), об их образе жизни, приспособлении к среде обитания, изменениях в жизни в разные сезоны года","Ребенок имеет представление о многообразии водных ресурсов (моря, океаны, реки, водопады и др.)","Ребенок имеет представление о многообразии полезных ископаемых (нефть, уголь, серебро, золото, алмазы и др.)","Ребенок имеет представление о жизненных потребностях, этапах роста и развития животных и растений",null,"Ребенок имеет представление о некоторых небесных телах (планеты, кометы, звезды)",null,null,"бросание вверх, о землю, ловля двумя руками, одной рукой, перебрасывание, передача, прокатывание, забрасывание, ведение","в цель из положения стоя, вдаль, в движущеюся цель","ползанье на четвереньках, на животе, на спине","влезание на гимнастическую стенку и спуск; перелезание с пролета на пролет по диагонали","лазанье по веревочной лестнице; выполнение упражнений на канате","обычная, гимнастическим шагом, скрестным шагом, спиной вперед, выпадами, с закрытыми глазами","приставными шагами назад, в приседе, с различными движениями рук","в различных построениях","в колонне по одному, врассыпную, парами, тройками, четверками","в сочетание с прыжками, высоко поднимая колени, захлестывая голени назад, выбрасывая прямые ноги вперед","челночный, наперегонки, из разных исходных положений, со скакалкой, по пересеченной местности, с наименьшим числом шагов, медленный, быстрый","подпрыгивания на двух ногах в чередовании с ходьбой, на месте и с поворот кругом","смещая ноги вправо-влево-вперед-назад","выпрыгивание на предметы; подпрыгивания вверх из глубокого приседа; прыжки на одной ноге","в длину с места/с разбега, в высоту с места/с разбега","стойка на носках, стойка на одной ноге с закрытыми глазами","кружение с закрытыми глазами, остановкой и сохранением заданной позы"]
["начало года",{"$f":"'Соц.ком.к 7г ч1 Н.г.'!E20","v":0},{"$f":"'Соц.ком.к 7г ч1 Н.г.'!F20","v":0},{"$f":"'Соц.ком.к 7г ч1 Н.г.'!G20","v":0},{"$f":"'Соц.ком.к 7г ч1 Н.г.'!H20","v":0},{"$f":"'Соц.ком.к 7г ч1 Н.г.'!I20","v":0},{"$f":"'Соц.ком.к 7г ч1 Н.г.'!J20","v":0},{"$f":"'Соц.ком.к 7г ч1 Н.г.'!K20","v":0},{"$f":"'Соц.ком.к 7г ч1 Н.г.'!L20","v":0},{"$f":"'Соц.ком.к 7г ч1 Н.г.'!M20","v":0},{"$f":"'Соц.ком.к 7г ч1 Н.г.'!N20","v":0},{"$f":"'Соц.ком.к 7г ч2 Н.г.'!E20","v":0},{"$f":"'Соц.ком.к 7г ч2 Н.г.'!F20","v":0},{"$f":"'Соц.ком.к 7г ч2 Н.г.'!G20","v":0},{"$f":"'Соц.ком.к 7г ч2 Н.г.'!H20","v":0},{"$f":"'Соц.ком.к 7г ч2 Н.г.'!I20","v":0},{"$f":"'Соц.ком.к 7г ч2 Н.г.'!J20","v":0},{"$f":"'Соц.ком.к 7г ч2 Н.г.'!K20","v":0},{"$f":"'Соц.ком. к 7г ч3 Н.г.'!E20","v":0},{"$f":"'Соц.ком. к 7г ч3 Н.г.'!F20","v":0},{"$f":"'Соц.ком. к 7г ч3 Н.г.'!G20","v":0},{"$f":"'Соц.ком. к 7г ч3 Н.г.'!H20","v":0},{"$f":"'Соц.ком. к 7г ч3 Н.г.'!I20","v":0},{"$f":"'Соц.ком. к 7г ч3 Н.г.'!J20","v":0},{"$f":"'Соц.ком. к 7г ч3 Н.г.'!K20","v":0},{"$f":"'Соц.ком. к 7г ч3 Н.г.'!L20","v":0},{"$f":"'Соц.ком. к 7г ч4 Н.г.'!E20","v":0},{"$f":"'Соц.ком. к 7г ч4 Н.г.'!F20","v":0},{"$f":"'Соц.ком. к 7г ч4 Н.г.'!G20","v":0},{"$f":"'Соц.ком. к 7г ч4 Н.г.'!H20","v":0},{"$f":"'Соц.ком. к 7г ч4 Н.г.'!I20","v":0},{"$f":"'Реч.разв.к 7г ч1 Н.г.'!E20","v":0},{"$f":"'Реч.разв.к 7г ч1 Н.г.'!F20","v":0},{"$f":"'Реч.разв.к 7г ч1 Н.г.'!G20","v":0},{"$f":"'Реч.разв.к 7г ч1 Н.г.'!H20","v":0},{"$f":"'Реч.разв.к 7г ч1 Н.г.'!I20","v":0},{"$f":"'Реч.разв.к 7г ч1 Н.г.'!J20","v":0},{"$f":"'Реч.разв.к 7г ч1 Н.г.'!K20","v":0},{"$f":"'Реч.разв.к 7г ч1 Н.г.'!L20","v":0},{"$f":"'Реч.разв.к 7г ч2 Н.г.'!E20","v":0},{"$f":"'Реч.разв.к 7г ч2 Н.г.'!F20","v":0},{"$f":"'Реч.разв.к 7г ч2 Н.г.'!G20","v":0},{"$f":"'Реч.разв.к 7г ч2 Н.г.'!H20","v":0},{"$f":"'Реч.разв.к 7г ч2 Н.г.'!I20","v":0},{"$f":"'Реч.разв.к 7г ч2 Н.г.'!J20","v":0},{"$f":"'Реч.разв.к 7г ч2 Н.г.'!K20","v":0},{"$f":"'Реч.разв.к 7г ч2 Н.г.'!L20","v":0},{"$f":"'Реч.разв.к 7г ч2 Н.г.'!M20","v":0},{"$f":"'Реч.разв.к 7г ч3. Н.г.'!E20","v":0},{"$f":"'Реч.разв.к 7г ч3. Н.г.'!F20","v":0},{"$f":"'Реч.разв.к 7г ч3. Н.г.'!G20","v":0},{"$f":"'Реч.разв.к 7г ч3. Н.г.'!H20","v":0},{"$f":"'Реч.разв.к 7г ч3. Н.г.'!I20","v":0},{"$f":"'Реч.разв.к 7г ч3. Н.г.'!J20","v":0},{"$f":"'Позн.разв. к 7г ч1. Н.г.'!E21","v":0},{"$f":"'Позн.разв. к 7г ч1. Н.г.'!F21","v":0},{"$f":"'Позн.разв. к 7г ч1. Н.г.'!G21","v":0},{"$f":"'Позн.разв. к 7г ч1. Н.г.'!H21","v":0},{"$f":"'Позн.разв. к 7г ч1. Н.г.'!I21","v":0},{"$f":"'Позн.разв. к 7г ч1. Н.г.'!J21","v":0},{"$f":"'Позн.разв. к 7г ч1. Н.г.'!K21","v":0},{"$f":"'Позн.разв. к 7г ч1. Н.г.'!L21","v":0},{"$f":"'Позн.разв. к 7г ч1. Н.г.'!M21","v":0},{"$f":"'Позн.разв. к 7г ч2. Н.г.'!E21","v":0},{"$f":"'Позн.разв. к 7г ч2. Н.г.'!F21","v":0},{"$f":"'Позн.разв. к 7г ч2. Н.г.'!G21","v":0},{"$f":"'Позн.разв. к 7г ч2. Н.г.'!H21","v":0},{"$f":"'Позн.разв. к 7г ч2. Н.г.'!I21","v":0},{"$f":"'Позн.разв. к 7г ч2. Н.г.'!J21","v":0},{"$f":"'Позн.разв. к 7г ч2. Н.г.'!K21","v":0},{"$f":"'Позн.разв. к 7г ч2. Н.г.'!L21","v":0},{"$f":"'Позн.разв. к 7г ч2. Н.г.'!M21","v":0},{"$f":"'Позн.разв. к 7г ч3. Н.г.'!E21","v":0},{"$f":"'Позн.разв. к 7г ч3. Н.г.'!F21","v":0},{"$f":"'Позн.разв. к 7г ч3. Н.г.'!G21","v":0},{"$f":"'Позн.разв. к 7г ч3. Н.г.'!H21","v":0},{"$f":"'Позн.разв. к 7г ч3. Н.г.'!I21","v":0},{"$f":"'Позн.разв. к 7г ч3. Н.г.'!J21","v":0},{"$f":"'Позн.разв. к 7г ч3. Н.г.'!K21","v":0},{"$f":"'Позн.разв. к 7г ч3. Н.г.'!L21","v":0},{"$f":"'Позн.разв. к 7г ч3. Н.г.'!M21","v":0},{"$f":"'Позн.разв. к 7г ч3. Н.г.'!N21","v":0},{"$f":"'Позн.разв. к 7г ч3. Н.г.'!O21","v":0},{"$f":"'Позн.разв. к 7г ч3. Н.г.'!P21","v":0},{"$f":"'Позн.разв. к 7г ч3. Н.г.'!Q21","v":0},{"$f":"'Физ.разв. к 7г ч1. Н.г.'!E21","v":0},{"$f":"'Физ.разв. к 7г ч1. Н.г.'!F21","v":0},{"$f":"'Физ.разв. к 7г ч1. Н.г.'!G21","v":0},{"$f":"'Физ.разв. к 7г ч1. Н.г.'!H21","v":0},{"$f":"'Физ.разв. к 7г ч1. Н.г.'!I21","v":0},{"$f":"'Физ.разв. к 7г ч1. Н.г.'!J21","v":0},{"$f":"'Физ.разв. к 7г ч1. Н.г.'!K21","v":0},{"$f":"'Физ.разв. к 7г ч1. Н.г.'!L21","v":0},{"$f":"'Физ.разв. к 7г ч1. Н.г.'!M21","v":0},{"$f":"'Физ.разв. к 7г ч1. Н.г.'!N21","v":0},{"$f":"'Физ.разв. к 7г ч1. Н.г.'!O21","v":0},{"$f":"'Физ.разв. к 7г ч1. Н.г.'!P21","v":0},{"$f":"'Физ.разв. к 7г ч1. Н.г.'!Q21","v":0},{"$f":"'Физ.разв. к 7г ч1. Н.г.'!R21","v":0},{"$f":"'Физ.разв. к 7г ч1. Н.г.'!S21","v":0},{"$f":"'Физ.разв. к 7г ч1. Н.г.'!T21","v":0},{"$f":"'Физ.разв. к 7г ч1. Н.г.'!U21","v":0},{"$f":"'Физ.разв. к 7г ч1. Н.г.'!V21","v":0},{"$f":"'Физ.разв. к 7г ч1. Н.г.'!W21","v":0},{"$f":"'Физ.разв. к 7г ч2. Н.г.'!E22","v":0},{"$f":"'Физ.разв. к 7г ч2. Н.г.'!F22","v":0},{"$f":"'Физ.разв. к 7г ч2. Н.г.'!G22","v":0},{"$f":"'Физ.разв. к 7г ч2. Н.г.'!H22","v":0},{"$f":"'Физ.разв. к 7г ч2. Н.г.'!I22","v":0},{"$f":"'Физ.разв. к 7г ч2. Н.г.'!J22","v":0},{"$f":"'Физ.разв. к 7г ч2. Н.г.'!K22","v":0},{"$f":"'Физ.разв. к 7г ч2. Н.г.'!L22","v":0},{"$f":"'Физ.разв. к 7г ч2. Н.г.'!M22","v":0},{"$f":"'Физ.разв. к 7г ч2. Н.г.'!N22","v":0},{"$f":"'Физ.разв. к 7г ч2. Н.г.'!O22","v":0},{"$f":"'Физ.разв. к 7г ч2. Н.г.'!P22","v":0},{"$f":"'Физ.разв. к 7г ч2. Н.г.'!Q22","v":0},{"$f":"'Физ.разв. к 7г ч2. Н.г.'!R22","v":0},{"$f":"'Физ.разв. к 7г ч2. Н.г.'!S22","v":0},{"$f":"'Физ.разв. к 7г ч2. Н.г.'!T22","v":0},{"$f":"'Физ.разв. к 7г ч3. Н.г.'!E22","v":0},{"$f":"'Физ.разв. к 7г ч3. Н.г.'!F22","v":0},{"$f":"'Физ.разв. к 7г ч3. Н.г.'!G22","v":0},{"$f":"'Физ.разв. к 7г ч3. Н.г.'!H22","v":0},{"$f":"'Физ.разв. к 7г ч3. Н.г.'!I22","v":0},{"$f":"'Физ.разв. к 7г ч3. Н.г.'!J22","v":0},{"$f":"'Физ.разв. к 7г ч3. Н.г.'!K22","v":0},{"$f":"'Физ.разв. к 7г ч3. Н.г.'!L22","v":0},{"$f":"'Физ.разв. к 7г ч3. Н.г.'!M22","v":0},{"$f":"'Физ.разв. к 7г ч3. Н.г.'!N22","v":0},{"$f":"'Физ.разв. к 7г ч3. Н.г.'!O22","v":0},{"$f":"'Худ.эст.к 7г ч1. Н.г.'!E21","v":0},{"$f":"'Худ.эст.к 7г ч1. Н.г.'!F21","v":0},{"$f":"'Худ.эст.к 7г ч1. Н.г.'!G21","v":0},{"$f":"'Худ.эст.к 7г ч1. Н.г.'!H21","v":0},{"$f":"'Худ.эст.к 7г ч1. Н.г.'!I21","v":0},{"$f":"'Худ.эст.к 7г ч1. Н.г.'!J21","v":0},{"$f":"'Худ.эст.к 7г ч1. Н.г.'!K21","v":0},{"$f":"'Худ.эст.к 7г ч1. Н.г.'!L21","v":0},{"$f":"'Худ.эст.к 7г ч1. Н.г.'!M21","v":0},{"$f":"'Худ.эст.к 7г ч1. Н.г.'!N21","v":0},{"$f":"'Худ.эст.к 7г ч1. Н.г.'!O21","v":0},{"$f":"'Худ.эст.к 7г ч1. Н.г.'!P21","v":0},{"$f":"'Худ.эст.к 7г ч1. Н.г.'!Q21","v":0},{"$f":"'Худ.эст.к 7г ч2. Н.г.'!E21","v":0},{"$f":"'Худ.эст.к 7г ч2. Н.г.'!F21","v":0},{"$f":"'Худ.эст.к 7г ч2. Н.г.'!G21","v":0},{"$f":"'Худ.эст.к 7г ч2. Н.г.'!H21","v":0},{"$f":"'Худ.эст.к 7г ч2. Н.г.'!I21","v":0},{"$f":"'Худ.эст.к 7г ч2. Н.г.'!J21","v":0},{"$f":"'Худ.эст.к 7г ч2. Н.г.'!K21","v":0},{"$f":"'Худ.эст.к 7г ч2. Н.г.'!L21","v":0},{"$f":"'Худ.эст.к 7г ч2. Н.г.'!M21","v":0},{"$f":"'Худ.эст.к 7г ч2. Н.г.'!N21","v":0},{"$f":"'Худ.эст.к 7г ч2. Н.г.'!O21","v":0},{"$f":"'Худ.эст.к 7г ч2. Н.г.'!P21","v":0},{"$f":"'Худ.эст.к 7г ч2. Н.г.'!Q21","v":0},{"$f":"'Худ.эст.к 7г ч3. Н.г.'!E21","v":0},{"$f":"'Худ.эст.к 7г ч3. Н.г.'!F21","v":0},{"$f":"'Худ.эст.к 7г ч3. Н.г.'!G21","v":0},{"$f":"'Худ.эст.к 7г ч3. Н.г.'!H21","v":0},{"$f":"'Худ.эст.к 7г ч3. Н.г.'!I21","v":0},{"$f":"'Худ.эст.к 7г ч3. Н.г.'!J21","v":0},{"$f":"'Худ.эст.к 7г ч3. Н.г.'!K21","v":0},{"$f":"'Худ.эст.к 7г ч3. Н.г.'!L21","v":0}]
["конец года",{"$f":"'Соц.ком.к 7г ч1 К.г.'!E20","v":0},{"$f":"'Соц.ком.к 7г ч1 К.г.'!F20","v":0},{"$f":"'Соц.ком.к 7г ч1 К.г.'!G20","v":0},{"$f":"'Соц.ком.к 7г ч1 К.г.'!H20","v":0},{"$f":"'Соц.ком.к 7г ч1 К.г.'!I20","v":0},{"$f":"'Соц.ком.к 7г ч1 К.г.'!J20","v":0},{"$f":"'Соц.ком.к 7г ч1 К.г.'!K20","v":0},{"$f":"'Соц.ком.к 7г ч1 К.г.'!L20","v":0},{"$f":"'Соц.ком.к 7г ч1 К.г.'!M20","v":0},{"$f":"'Соц.ком.к 7г ч1 К.г.'!N20","v":0},{"$f":"'Соц.ком.к 7г ч2 К.г.'!E20","v":0},{"$f":"'Соц.ком.к 7г ч2 К.г.'!F20","v":0},{"$f":"'Соц.ком.к 7г ч2 К.г.'!G20","v":0},{"$f":"'Соц.ком.к 7г ч2 К.г.'!H20","v":0},{"$f":"'Соц.ком.к 7г ч2 К.г.'!I20","v":0},{"$f":"'Соц.ком.к 7г ч2 К.г.'!J20","v":0},{"$f":"'Соц.ком.к 7г ч2 К.г.'!K20","v":0},{"$f":"'Соц.ком. к 7г ч3 К.г.'!E20","v":0},{"$f":"'Соц.ком. к 7г ч3 К.г.'!F20","v":0},{"$f":"'Соц.ком. к 7г ч3 К.г.'!G20","v":0},{"$f":"'Соц.ком. к 7г ч3 К.г.'!H20","v":0},{"$f":"'Соц.ком. к 7г ч3 К.г.'!I20","v":0},{"$f":"'Соц.ком. к 7г ч3 К.г.'!J20","v":0},{"$f":"'Соц.ком. к 7г ч3 К.г.'!K20","v":0},{"$f":"'Соц.ком. к 7г ч3 К.г.'!L20","v":0},{"$f":"'Соц.ком. к 7г ч4 К.г.'!E20","v":0},{"$f":"'Соц.ком. к 7г ч4 К.г.'!F20","v":0},{"$f":"'Соц.ком. к 7г ч4 К.г.'!G20","v":0},{"$f":"'Соц.ком. к 7г ч4 К.г.'!H20","v":0},{"$f":"'Соц.ком. к 7г ч4 К.г.'!I20","v":0},{"$f":"'Реч.разв.к 7г ч1 К.г.'!E20","v":0},{"$f":"'Реч.разв.к 7г ч1 К.г.'!F20","v":0},{"$f":"'Реч.разв.к 7г ч1 К.г.'!G20","v":0},{"$f":"'Реч.разв.к 7г ч1 К.г.'!H20","v":0},{"$f":"'Реч.разв.к 7г ч1 К.г.'!I20","v":0},{"$f":"'Реч.разв.к 7г ч1 К.г.'!J20","v":0},{"$f":"'Реч.разв.к 7г ч1 К.г.'!K20","v":0},{"$f":"'Реч.разв.к 7г ч1 К.г.'!L20","v":0},{"$f":"'Реч.разв.к 7г ч2 К.г. '!E20","v":0},{"$f":"'Реч.разв.к 7г ч2 К.г. '!F20","v":0},{"$f":"'Реч.разв.к 7г ч2 К.г. '!G20","v":0},{"$f":"'Реч.разв.к 7г ч2 К.г. '!H20","v":0},{"$f":"'Реч.разв.к 7г ч2 К.г. '!I20","v":0},{"$f":"'Реч.разв.к 7г ч2 К.г. '!J20","v":0},{"$f":"'Реч.разв.к 7г ч2 К.г. '!K20","v":0},{"$f":"'Реч.разв.к 7г ч2 К.г. '!L20","v":0},{"$f":"'Реч.разв.к 7г ч2 К.г. '!M20","v":0},{"$f":"'Реч.разв.к 7г ч3. К.г. '!E20","v":0},{"$f":"'Реч.разв.к 7г ч3. К.г. '!F20","v":0},{"$f":"'Реч.разв.к 7г ч3. К.г. '!G20","v":0},{"$f":"'Реч.разв.к 7г ч3. К.г. '!H20","v":0},{"$f":"'Реч.разв.к 7г ч3. К.г. '!I20","v":0},{"$f":"'Реч.разв.к 7г ч3. К.г. '!J20","v":0},{"$f":"'Позн.разв. к 7г ч1. К.г. '!E21","v":0},{"$f":"'Позн.разв. к 7г ч1. К.г. '!F21","v":0},{"$f":"'Позн.разв. к 7г ч1. К.г. '!G21","v":0},{"$f":"'Позн.разв. к 7г ч1. К.г. '!H21","v":0},{"$f":"'Позн.разв. к 7г ч1. К.г. '!I21","v":0},{"$f":"'Позн.разв. к 7г ч1. К.г. '!J21","v":0},{"$f":"'Позн.разв. к 7г ч1. К.г. '!K21","v":0},{"$f":"'Позн.разв. к 7г ч1. К.г. '!L21","v":0},{"$f":"'Позн.разв. к 7г ч1. К.г. '!M21","v":0},{"$f":"'Позн.разв. к 7г ч2. К.г.'!E21","v":0},{"$f":"'Позн.разв. к 7г ч2. К.г.'!F21","v":0},{"$f":"'Позн.разв. к 7г ч2. К.г.'!G21","v":0},{"$f":"'Позн.разв. к 7г ч2. К.г.'!H21","v":0},{"$f":"'Позн.разв. к 7г ч2. К.г.'!I21","v":0},{"$f":"'Позн.разв. к 7г ч2. К.г.'!J21","v":0},{"$f":"'Позн.разв. к 7г ч2. К.г.'!K21","v":0},{"$f":"'Позн.разв. к 7г ч2. К.г.'!L21","v":0},{"$f":"'Позн.разв. к 7г ч2. К.г.'!M21","v":0},{"$f":"'Позн.разв. к 7г ч3. К.г. '!E21","v":0},{"$f":"'Позн.разв. к 7г ч3. К.г. '!F21","v":0},{"$f":"'Позн.разв. к 7г ч3. К.г. '!G21","v":0},{"$f":"'Позн.разв. к 7г ч3. К.г. '!H21","v":0},{"$f":"'Позн.разв. к 7г ч3. К.г. '!I21","v":0},{"$f":"'Позн.разв. к 7г ч3. К.г. '!J21","v":0},{"$f":"'Позн.разв. к 7г ч3. К.г. '!K21","v":0},{"$f":"'Позн.разв. к 7г ч3. К.г. '!L21","v":0},{"$f":"'Позн.разв. к 7г ч3. К.г. '!M21","v":0},{"$f":"'Позн.разв. к 7г ч3. К.г. '!N21","v":0},{"$f":"'Позн.разв. к 7г ч3. К.г. '!O21","v":0},{"$f":"'Позн.разв. к 7г ч3. К.г. '!P21","v":0},{"$f":"'Позн.разв. к 7г ч3. К.г. '!Q21","v":0},{"$f":"'Физ.разв. к 7г ч1. К.г. '!E21","v":0},{"$f":"'Физ.разв. к 7г ч1. К.г. '!F21","v":0},{"$f":"'Физ.разв. к 7г ч1. К.г. '!G21","v":0},{"$f":"'Физ.разв. к 7г ч1. К.г. '!H21","v":0},{"$f":"'Физ.разв. к 7г ч1. К.г. '!I21","v":0},{"$f":"'Физ.разв. к 7г ч1. К.г. '!J21","v":0},{"$f":"'Физ.разв. к 7г ч1. К.г. '!K21","v":0},{"$f":"'Физ.разв. к 7г ч1. К.г. '!L21","v":0},{"$f":"'Физ.разв. к 7г ч1. К.г. '!M21","v":0},{"$f":"'Физ.разв. к 7г ч1. К.г. '!N21","v":0},{"$f":"'Физ.разв. к 7г ч1. К.г. '!O21","v":0},{"$f":"'Физ.разв. к 7г ч1. К.г. '!P21","v":0},{"$f":"'Физ.разв. к 7г ч1. К.г. '!Q21","v":0},{"$f":"'Физ.разв. к 7г ч1. К.г. '!R21","v":0},{"$f":"'Физ.разв. к 7г ч1. К.г. '!S21","v":0},{"$f":"'Физ.разв. к 7г ч1. К.г. '!T21","v":0},{"$f":"'Физ.разв. к 7г ч1. К.г. '!U21","v":0},{"$f":"'Физ.разв. к 7г ч1. К.г. '!V21","v":0},{"$f":"'Физ.разв. к 7г ч1. К.г. '!W21","v":0},{"$f":"'Физ.разв. к 7г ч2. К.г.'!E22","v":0},{"$f":"'Физ.разв. к 7г ч2. К.г.'!F22","v":0},{"$f":"'Физ.разв. к 7г ч2. К.г.'!G22","v":0},{"$f":"'Физ.разв. к 7г ч2. К.г.'!H22","v":0},{"$f":"'Физ.разв. к 7г ч2. К.г.'!I22","v":0},{"$f":"'Физ.разв. к 7г ч2. К.г.'!J22","v":0},{"$f":"'Физ.разв. к 7г ч2. К.г.'!K22","v":0},{"$f":"'Физ.разв. к 7г ч2. К.г.'!L22","v":0},{"$f":"'Физ.разв. к 7г ч2. К.г.'!M22","v":0},{"$f":"'Физ.разв. к 7г ч2. К.г.'!N22","v":0},{"$f":"'Физ.разв. к 7г ч2. К.г.'!O22","v":0},{"$f":"'Физ.разв. к 7г ч2. К.г.'!P22","v":0},{"$f":"'Физ.разв. к 7г ч2. К.г.'!Q22","v":0},{"$f":"'Физ.разв. к 7г ч2. К.г.'!R22","v":0},{"$f":"'Физ.разв. к 7г ч2. К.г.'!S22","v":0},{"$f":"'Физ.разв. к 7г ч2. К.г.'!T22","v":0},{"$f":"'Физ.разв. к 7г ч3. К.г. '!E22","v":0},{"$f":"'Физ.разв. к 7г ч3. К.г. '!F22","v":0},{"$f":"'Физ.разв. к 7г ч3. К.г. '!G22","v":0},{"$f":"'Физ.разв. к 7г ч3. К.г. '!H22","v":0},{"$f":"'Физ.разв. к 7г ч3. К.г. '!I22","v":0},{"$f":"'Физ.разв. к 7г ч3. К.г. '!J22","v":0},{"$f":"'Физ.разв. к 7г ч3. К.г. '!K22","v":0},{"$f":"'Физ.разв. к 7г ч3. К.г. '!L22","v":0},{"$f":"'Физ.разв. к 7г ч3. К.г. '!M22","v":0},{"$f":"'Физ.разв. к 7г ч3. К.г. '!N22","v":0},{"$f":"'Физ.разв. к 7г ч3. К.г. '!O22","v":0},{"$f":"'Худ.эст.к 7г ч1. К.г. '!E21","v":0},{"$f":"'Худ.эст.к 7г ч1. К.г. '!F21","v":0},{"$f":"'Худ.эст.к 7г ч1. К.г. '!G21","v":0},{"$f":"'Худ.эст.к 7г ч1. К.г. '!H21","v":0},{"$f":"'Худ.эст.к 7г ч1. К.г. '!I21","v":0},{"$f":"'Худ.эст.к 7г ч1. К.г. '!J21","v":0},{"$f":"'Худ.эст.к 7г ч1. К.г. '!K21","v":0},{"$f":"'Худ.эст.к 7г ч1. К.г. '!L21","v":0},{"$f":"'Худ.эст.к 7г ч1. К.г. '!M21","v":0},{"$f":"'Худ.эст.к 7г ч1. К.г. '!N21","v":0},{"$f":"'Худ.эст.к 7г ч1. К.г. '!O21","v":0},{"$f":"'Худ.эст.к 7г ч1. К.г. '!P21","v":0},{"$f":"'Худ.эст.к 7г ч1. К.г. '!Q21","v":0},{"$f":"'Худ.эст.к 7г ч2. К.г. '!E21","v":0},{"$f":"'Худ.эст.к 7г ч2. К.г. '!F21","v":0},{"$f":"'Худ.эст.к 7г ч2. К.г. '!G21","v":0},{"$f":"'Худ.эст.к 7г ч2. К.г. '!H21","v":0},{"$f":"'Худ.эст.к 7г ч2. К.г. '!I21","v":0},{"$f":"'Худ.эст.к 7г ч2. К.г. '!J21","v":0},{"$f":"'Худ.эст.к 7г ч2. К.г. '!K21","v":0},{"$f":"'Худ.эст.к 7г ч2. К.г. '!L21","v":0},{"$f":"'Худ.эст.к 7г ч2. К.г. '!M21","v":0},{"$f":"'Худ.эст.к 7г ч2. К.г. '!N21","v":0},{"$f":"'Худ.эст.к 7г ч2. К.г. '!O21","v":0},{"$f":"'Худ.эст.к 7г ч2. К.г. '!P21","v":0},{"$f":"'Худ.эст.к 7г ч2. К.г. '!Q21","v":0},{"$f":"'Худ.эст.к 7г ч3. К.г. '!E21","v":0},{"$f":"'Худ.эст.к 7г ч3. К.г. '!F21","v":0},{"$f":"'Худ.эст.к 7г ч3. К.г. '!G21","v":0},{"$f":"'Худ.эст.к 7г ч3. К.г. '!H21","v":0},{"$f":"'Худ.эст.к 7г ч3. К.г. '!I21","v":0},{"$f":"'Худ.эст.к 7г ч3. К.г. '!J21","v":0},{"$f":"'Худ.эст.к 7г ч3. К.г. '!K21","v":0},{"$f":"'Худ.эст.к 7г ч3. К.г. '!L21","v":0}]

{"sheet":"11","index":48,"n_rows":7,"n_cols":165,"rows_kept":7,"merged":[[0,104,0,110],[0,111,0,112],[0,113,0,115],[0,116,0,119],[0,120,0,123],[0,124,0,126],[0,127,0,130],[1,54,1,58],[1,59,1,62],[1,63,1,71],[1,72,1,76],[1,77,1,84],[1,104,1,106],[1,107,1,110],[1,111,4,111],[1,112,4,112],[1,113,4,113],[1,114,4,114],[1,115,4,115],[1,116,1,119],[1,120,2,120],[1,121,2,121],[1,122,2,122],[1,123,2,123],[1,124,4,124],[1,125,4,125],[1,126,4,126],[1,127,1,130],[1,131,1,143],[1,144,1,156],[1,157,2,162],[1,163,2,164],[2,18,2,22],[2,23,2,25],[2,26,2,30],[2,32,2,34],[2,35,2,38],[2,40,2,44],[2,45,2,47],[2,48,2,53],[2,55,2,57],[2,59,4,59],[2,60,4,60],[2,61,4,61],[2,62,4,62],[2,63,2,65],[2,66,2,67],[2,68,2,69],[2,72,3,76],[2,77,2,80],[2,81,2,82],[2,83,4,83],[2,84,4,84],[2,85,2,86],[2,87,2,89],[2,90,2,92],[2,93,2,95],[2,96,2,99],[2,100,2,101],[2,102,2,103],[2,104,4,104],[2,105,4,105],[2,106,4,106],[2,107,4,107],[2,108,4,108],[2,109,4,109],[2,110,4,110],[2,116,4,116],[2,117,4,117],[2,118,4,118],[2,119,4,119],[2,127,4,127],[2,128,4,128],[2,129,4,129],[2,130,4,130],[2,135,2,136],[2,137,2,140],[2,141,2,142],[2,143,4,143],[2,144,2,145],[2,146,2,147],[2,148,2,149],[2,151,2,156],[3,0,4,0],[3,1,3,4],[3,7,3,9],[3,11,3,12],[3,13,3,14],[3,15,4,15],[3,16,4,16],[3,17,4,17],[3,18,4,18],[3,19,4,19],[3,20,4,20],[3,21,4,21],[3,22,4,22],[3,23,4,23],[3,24,4,24],[3,25,4,25],[3,26,4,26],[3,27,4,27],[3,28,4,28],[3,29,4,29],[3,30,4,30],[3,31,4,31],[3,32,4,32],[3,33,4,33],[3,34,4,34],[3,35,4,35],[3,36,4,36],[3,37,4,37],[3,38,4,38],[3,39,4,39],[3,40,4,40],[3,41,4,41],[3,42,4,42],[3,43,4,43],[3,44,4,44],[3,45,4,45],[3,46,4,46],[3,47,4,47],[3,48,4,48],[3,49,4,49],[3,50,4,50],[3,51,4,51],[3,52,4,52],[3,53,4,53],[3,54,3,58],[3,63,4,63],[3,64,4,64],[3,65,4,65],[3,66,4,66],[3,67,4,67],[3,68,4,68],[3,69,4,69],[3,70,4,70],[3,71,4,71],[3,81,4,81],[3,85,3,86],[3,87,3,89],[3,90,3,92],[3,93,3,95],[3,96,3,99],[3,100,3,101],[3,102,4,102],[3,103,4,103],[3,120,4,120],[3,121,4,121],[3,122,4,122],[3,123,4,123],[3,131,4,131],[3,132,4,132],[3,133,4,133],[3,134,4,134],[3,135,4,135],[3,136,4,136],[3,137,4,137],[3,138,4,138],[3,139,4,139],[3,140,4,140],[3,141,4,141],[3,142,4,142],[3,144,4,144],[3,145,4,145],[3,146,4,146],[3,147,4,147],[3,148,4,148],[3,149,4,149],[3,150,4,150],[3,151,4,151],[3,152,4,152],[3,153,4,153],[3,154,4,154],[3,155,4,155],[3,156,4,156],[3,157,4,157],[3,158,4,158],[3,159,4,159],[3,160,4,160],[3,161,4,161],[3,162,4,162],[3,163,4,163],[3,164,4,164]]}
[{"$nulls":104},"Мелкая моторика",{"$nulls":6},"Подвижные игры",null,"Спорт. игры",null,null,"Спортивные упражнения",{"$nulls":3},"КГН",{"$nulls":3},"ЗОЖ",null,null,"Спортивные упражнения"]
[{"$nulls":54},"Сенсорные эталоны ",{"$nulls":4},"Познавательные действия",{"$nulls":3},"Математические представления",{"$nulls":8},"Окружающий мир",{"$nulls":4},"Природа ",{"$nulls":26},"Координация рук и глаз",null,null,"Графические навыки",{"$nulls":3},"Ребенок использует в самостоятельной деятельности разнообразные по содержанию подвижные игры, проявляет элементы творчества в двигательной деятельности","Ребенок может организовать знакомые подвижные игры со сверстниками, сплотить команду, стремится внести свой вклад в результат команды","Ребенок владеет элементами спортивных игр (городки, баскетбол, футбол, хоккей, бадминтон, настольный теннис), может контролировать свои движения и управлять ими","Ребенок имеет представление о разных видах спорта (санный спорт, борьба, теннис, синхронное плавание и др.)","Ребенок имеет представление о спортивных событиях и достижениях отечественных спортсменов","Ребенок умеет кататься",{"$nulls":3},"Навыки соблюдения чистоты тела (правила личной гигиены)","Навыки культуры еды (прием пищи) ","Навыки поддержания порядка (правила поведения в быту) ","Навыки ухода за собой (одевание, раздевание) ","Ребенок соблюдает элементарные правила здорового образа жизни и личной гигиены, следит за своей осанкой, может оценить свое самочувствие","Ребенок регулярно выполняет физические упражнения","Ребенок имеет начальные представления о том, что такое здоровье, понимает, как поддержать, укрепить и сохранить его","Ребенок умеет кататься",{"$nulls":3},"Музыкальная деятельность",{"$nulls":12},"Изобразительная деятельность",{"$nulls":12},"Приобщение к искусству",{"$nulls":5},"Конструктивная деятельность"]
[{"$nulls":18},"Область формирования основ гражданственности и патриотизма",{"$nulls":4},"Сфера трудового воспитания",null,null,"Область формирования основ безопасного поведения",{"$nulls":4},"Общее речевое развитие","Формирование словаря",null,null,"Грамматический строй",{"$nulls":3},"Звуковая культура речи","Связная речь",{"$nulls":4},"ЧХЛ",null,null,"Подготовка к обучению грамоте",{"$nulls":5},"Цвет, оттенки","Форма, геометрические фигуры",null,null,"Величина","Ребенок самостоятельно выбирает способ осуществления разных видов познавательной деятельности","Ребенок интересуется субъективно новым и неизвестным в окружающем мире","Ребенок способен применять в жизненных и игровых ситуациях знания о количестве, форме, величине предметов, пространстве, времени","Ребенок имеет разнообразные познавательные умения: определяет противоречия. Формулирует задачу исследования, использует разные способы и средства проверки предположений (сравнение с эталонами, классификацию, систематизацию и др.)","Количество и счет",null,null,"Ориентировка во времени",null,"Ориентировка в пространстве",null,"Пространственно-количественные связи и отношения","Сравнение","Ребенок имеет представления, может показать на картинке и в естественной среде, может рассказать",{"$nulls":4},"Объекты живой природы",{"$nulls":3},"Объекты неживой природы, природные явления",null,"Ребенок стремится к самостоятельному экспериментированию","Ребенок знает правила поведения в природе, проявляет осознанное, бережное отношение к природе и ее ресурсам","Бросание, катание, ловля, метание",null,"Ползанье, лазанье",null,null,"Ходьба",null,null,"Бег",null,null,"Прыжки",{"$nulls":3},"Равновесие",null,"Строевые упражнения",null,"Ребенок выполняет графический диктант","Ребенок обводит по шаблону, по трафарету","Ребенок чертит линии с помощью линейки","Ребенок обводит по контуру, по точкам","Ребенок выполняет штриховку в различных направлениях","Ребенок закрашивает, не выходя за контур","Ребенок свободно владеет карандашом при рисовании округлых линий, завитков в разном направлении",{"$nulls":5},"на санках","на лыжах","на двухколесном велосипеде","на самокате",{"$nulls":7},"на санках","на лыжах","на двухколесном велосипеде","на самокате","Слушание","Пение ","Музыкально-ритмические движения","Песенное творчество","Игра на детских музыкальных инструментах",null,"Театрализованная деятельность",{"$nulls":3},"Танцевально-игровое творчество",null,"У ребенка развит музыкальный вкус, музыкальная память","Рисование ",null,"Лепка ",null,"Аппликация ",null,"Народное ДПИ","Прикладное творчество"]
[{"$f":"Список!B14","v":0},"Отношение к самому себе",{"$nulls":3},"Отношение к сверстникам","Отношение к взрослым","Эмоции",null,null,"Поведение","Семья",null,"Игровое поведение",null,"Ребенок имеет представление об изменениях позиции человека с возрастом","Ребенок имеет представление о школе, школьниках, учителях; стремится к школьному обучению, к познанию, освоению чтения, письма; демонстрирует формированные предпосылки к учебной деятельности и элементы готовности к школьному обучению","Ребенок имеет представление о нравственных качествах людей, их проявлении в поступках и взаимоотношениях","Ребенок имеет представление о признаках и характеристиках государства (территория государства и его границы, столица), атрибутах государственной власти, президенте, столице","Ребенок имеет представление о порядке использования государственной символики","Ребенок имеет представление о волонтерстве","Ребенок имеет представление о государственных праздниках, исторических событиях","Ребенок имеет представление о жизни людей в России, о многообразии стран и народов мира","Ребенок имеет представление об обмене ценностями в процессе производства и потребления товаров и услуг, о денежных отношениях, о реальной стоимости отдельных продуктов питания, игрушек, детских книг","Ребенок имеет представление о об основах финансовой грамоты, основах бережного потребления","Ребенок проявляет инициативность и самостоятельность в процессе самообслуживания, при выполнении трудовых поручений","Ребенок имеет представление о правила безопасного поведения в ситуациях, создающих угрозу жизни и здоровью (погас свет, остался один, потерялся, получил травму)","Ребенок имеет представление о правила безопасного поведения дома, на улице, в природе, в местах большого скопления людей, в магазине, на вокзале, в общественных метах, на праздниках и др.","Ребенок имеет представление о правилах безопасного использования цифровых ресурсов (мобильного телефона, планшета)","Ребенок имеет представление об элементарных правилах оказания первой помощи при первых признаках недомогания, травмах, ушибах","Ребенок проявляет самостоятельность при выполнении правил безопасного поведения","Ребенок владеет речью как средством коммуникации, ведет диалог, владеет коммуникативно-речевыми умениями","Ребенок подбирает точные слова для выражения мысли","Ребенок выполняет операцию классификации – деления освоенных понятий на группы на основе выявленных признаков","Ребенок использует в речи средства языковой выразительности: антонимы, синонимы, многозначные слова, метафоры, олицетворение","Ребенок образует сложные слова посредством слияния основ","Ребенок согласует в речи существительные с числительными, существительные с прилагательными","Ребенок образует по образцу существительные с суффиксами, глаголы с приставками","Ребенок образует в речи сравнительную и превосходную степени имен прилагательных","Ребенок правильно произносит все звуки","Ребенок может пересказать литературное произведение по ролям, близко к тексту, от лица литературного героя","Ребенок может составить описательный рассказ, соблюдая структуру описания","Ребенок может составить повествовательный рассказ по картине, из личного опыта, из коллективного опыта, по набору игрушек, соблюдая структуру повествования","Ребенок может составить рассказ -контаминацию (сочетание описания и повествования, описания и рассуждения)","Ребенок использует в процессе общения объяснительную речь, речь-доказательство, речевое планирование","Ребенок знает и осмысленно воспринимает литературные произведения различных жанров, имеет предпочтения","Ребенок определяет характеры персонажей, мотивы их поведения, оценивает поступки литературных героев","Ребенок проявляет интерес к книгам познавательного характера","Ребенок производит звуковой анализ четырехзвуковых и пятизвуковых слов","Ребенок может интонационно выделить звуки в слове, определить их последовательность, дать им характеристику, составить схему слова, выделить ударный гласный звук в слове","Ребенок может определить количество и последовательность слов в предложении","Ребенок может составить предложение с заданным количеством слов","Ребенок знает названия всех букв","Ребенок читает слоги","Ребенок различает и называет",{"$nulls":8},"Ребенок умеет считать в пределах 10 в прямом и обратном порядке","Ребенок знает состав чисел из двух меньших в пределах первого десятка","Ребенок решает простые арифметические задачи на сложение и вычитание","Ребенок имеет представление о календаре, как системе измерения времени","Ребенок умеет определять время по часам с точностью до четверти часа","Ребенок ориентируется на местности, по схеме, по плану","Ребенок знает способы ориентировки в двухмерном пространстве","Ребенок умеет измерять протяженность, массу и объем с помощью условной мерки; понимает взаимообратные отношения между мерой и результатом измерения","Ребенок сравнивает предметы по 4-6 основаниям с выделением сходства, отличия",{"$nulls":9},"Ребенок имеет представление об использовании человеком свойств неживой природы для хозяйственных нужд (ветряные мельницы, водохранилища, солнечные батареи, ледяные катки)",{"$nulls":3},"Ребенок выполняет различные упражнения с мячом, метание",null,"Ребенок выполняет разные виды ползанья, лазанья ",null,null,"Ребенок выполняет различные виды ходьбы",null,null,"Ребенок выполняет различные виды бега",null,null,"Ребенок выполняет различные виды прыжков",{"$nulls":3},"Ребенок выполняет",null,"Ребенок выполняет разные виды перестроений, построений, передвижений, размыкание и смыкание приставным шагом, повороты","Ребенок может рассчитаться на «первый – второй»",{"$nulls":16},"Ребенок владеет навыками личной гигиены","Ребенок владеет навыками культуры еды","Ребенок владеет навыками поддержания порядка","Ребенок владеет навыками ухода за собой",{"$nulls":7},"У ребенка развит навык восприятия звуков по высоте в пределах квинты-терции","У ребенка развиты певческий голос и вокально-слуховая координация","Ребёнок ритмично и выразительно двигается в соответствие с характером музыки","Ребенок способен самостоятельно придумать мелодию, используя в качестве образца русские народные песни","Ребенок может сыграть простую мелодию на металлофоне, свирели, ударных, и электронных музыкальных инструментах: трещотках, погремушках, треугольниках","Ребенок может исполнить музыкальное произведение в оркестре и в ансамбле","Ребенок проявляет самостоятельность при выборе литературного и музыкального материала для театральной постановки","Ребенок проявляет инициативу при изготовлении атрибутов и декораций к спектаклю","Ребенок имеет представление о средствах погружения в театральные образы (музыка, слова, декорации, грим, костюм и др.)","Ребенок умеет выразительно передавать образы в действии, мимике, пантомимике","Ребенок проявляет активность в доступных видах музыкальной исполнительской деятельности (игра в оркестре, пение, танцевальные движения и др.)","Ребенок помогает придумывать движения, отражающие содержание песни",null,"Ребенок может изобразить предметы по памяти и с натуры, передает их средствами рисунка (форма, пропорции, расположение)","Ребенок способен передавать в рисунке сюжет, строить композицию","Ребенок свободно использует приемы лепки, освоенные ранее (налеп, углубленный рельеф), применяет стеку","Ребенок умеет передавать пропорции, соотношение по величине, выразительность поз, движений, деталей","Ребенок умеет составлять узоры и декоративные композиции из геометрических и растительных элементов на листах бумаги разной формы","Ребенок может выполнить вырезание (симметричное из бумаги, сложенной вдвое; несколько предметов из частей бумаги, сложенной гармошкой)","Ребенок умеет создавать узоры по мотивам народных росписей","Ребенок может сложить бумагу в разных направлениях","Ребенок может сделать разметку с помощью шаблона","Ребенок может выполнить работу по образцу","Ребенок может создать объемную игрушку в технике «оригами»","Ребенок может создать объемную поделку из природного материала","Ребенок может вдеть нитку в иголку, завязать узелок, пришить пуговицу, петельку, выполнить шов «вперед иголка»","Ребенок умеет выделять, называть, группировать произведения по видам искусства: литература, музыка, изобразительное искусство, архитектура, театр, цирк","Ребенок имеет представление о видах изобразительного искусства: графика, декоративно-прикладное искусство, живопись, скульптура, архитектура, фотоискусство","Ребенок имеет представление о жанрах изобразительного искусства: натюрморт, пейзаж, портрет","Ребенок имеет представление о народном искусстве, фольклоре, музыке и художественных промыслах","Ребенок имеет представление о творческих профессиях: художник, композитор, музыкант, актер, артист балета","Ребенок имеет представление о культурно-досуговых местах: театр, музей, библиотека, выставка, кинотеатр, цирк и др.","Ребенок может провести анализ постройки (выделить основные части и характерные детали конструкций)","Ребенок может выполнить постройку по инструкции"]
[null,"Ребенок осознает и признает собственные ошибки, результат поставленных задач, определяет пути развития","Ребенок умеет договариваться и дружить, старается разрешать конфликтные ситуации конструктивными способами","Ребенок способен принимать собственные решения и проявлять инициативу","Ребенок осознанно относится к своему будущему, стремится быть полезным обществу","Ребенок без напоминаний использует в общении формулы словесной вежливости (приветствие, прощание, просьбы, извинения)","Ребенок без напоминаний использует в общении формулы словесной вежливости (приветствие, прощание, просьбы, извинения)","Ребенок понимает чувства и переживания окружающих по невербальным признакам; находит причины и следствия возникновения эмоций, проявляет эмпатию","Ребенок использует социально приемлемые способы проявления эмоций и доступные возрасту регуляции эмоциональных состояний","Ребенок распознает собственные чувства и эмоции, анализирует свои переживания и рассказывает о них","Ребенок самостоятельно соблюдает установленный порядок поведения в группе, регулирует собственную активность","Ребенок имеет представление о необходимости укрепления связи между поколениями, взаимной поддержке детей и взрослых","Ребенок имеет представление о семье, семейных и родственных отношениях (взаимные чувства, правила общения в семье, значимые и памятные события, досуг семьи, семейный бюджет)","Ребенок умеет сотрудничать со сверстниками (побуждает к обсуждению планов, советуется, поддерживает интерес к мнению, инициирует ситуации взаимопомощи, подчеркивает ценность каждого ребенка и его вклад в общее дело, выбирает партнеров по интересам, помогает устанавливать темп совместных действий)","Ребенок владеет разными способами и видами игры, различает условную и реальную ситуации, предлагает и объясняет замысел игры, комбинирует сюжеты на основе реальных, вымышленных ситуаций, выполняет несколько ролей в одной игре, подбирает разные средства для создания игровых образов, согласовывает свои интересы с интересами партнёров по игре",{"$nulls":39}," все цвета спектра и ахроматические цвета, оттенки","плоские и объемные геометрические фигуры; умеет выделять структуру геометрических фигур и устанавливать взаимосвязи между ними","Ребенок умеет классифицировать фигуры по внешним структурным признаками (округлые, многоугольники)","Ребенок владеет различными способами видоизменения геометрических фигур (наложение, соединение, разрезание и др.)","Ребенок умеет измерять длину, ширину, высоту с помощью условной мерки",{"$nulls":13}," о родном населенном пункте (название улиц, некоторых архитектурных особенностях, достопримечательностях), об истории, о выдающихся горожанах, традициях городской жизни"," о назначении общественных учреждений"," о разных видах специального транспорта"," о местах труда людей (завод, больница, магазин и др.)"," о местах отдыха людей","Ребенок имеет представление о наиболее ярких представителях животных и растений разных природных зон (пустыня, степь, тайга, тундра и др.), об их образе жизни, приспособлении к среде обитания, изменениях в жизни в разные сезоны года","Ребенок имеет представление о многообразии водных ресурсов (моря, океаны, реки, водопады и др.)","Ребенок имеет представление о многообразии полезных ископаемых (нефть, уголь, серебро, золото, алмазы и др.)","Ребенок имеет представление о жизненных потребностях, этапах роста и развития животных и растений",null,"Ребенок имеет представление о некоторых небесных телах (планеты, кометы, звезды)",null,null,"бросание вверх, о землю, ловля двумя руками, одной рукой, перебрасывание, передача, прокатывание, забрасывание, ведение","в цель из положения стоя, вдаль, в движущеюся цель","ползанье на четвереньках, на животе, на спине","влезание на гимнастическую стенку и спуск; перелезание с пролета на пролет по диагонали","лазанье по веревочной лестнице; выполнение упражнений на канате","обычная, гимнастическим шагом, скрестным шагом, спиной вперед, выпадами, с закрытыми глазами","приставными шагами назад, в приседе, с различными движениями рук","в различных построениях","в колонне по одному, врассыпную, парами, тройками, четверками","в сочетание с прыжками, высоко поднимая колени, захлестывая голени назад, выбрасывая прямые ноги вперед","челночный, наперегонки, из разных исходных положений, со скакалкой, по пересеченной местности, с наименьшим числом шагов, медленный, быстрый","подпрыгивания на двух ногах в чередовании с ходьбой, на месте и с поворот кругом","смещая ноги вправо-влево-вперед-назад","выпрыгивание на предметы; подпрыгивания вверх из глубокого приседа; прыжки на одной ноге","в длину с места/с разбега, в высоту с места/с разбега","стойка на носках, стойка на одной ноге с закрытыми глазами","кружение с закрытыми глазами, остановкой и сохранением заданной позы"]
["начало года",{"$f":"'Соц.ком.к 7г ч1 Н.г.'!E21","v":0},{"$f":"'Соц.ком.к 7г ч1 Н.г.'!F21","v":0},{"$f":"'Соц.ком.к 7г ч1 Н.г.'!G21","v":0},{"$f":"'Соц.ком.к 7г ч1 Н.г.'!H21","v":0},{"$f":"'Соц.ком.к 7г ч1 Н.г.'!I21","v":0},{"$f":"'Соц.ком.к 7г ч1 Н.г.'!J21","v":0},{"$f":"'Соц.ком.к 7г ч1 Н.г.'!K21","v":0},{"$f":"'Соц.ком.к 7г ч1 Н.г.'!L21","v":0},{"$f":"'Соц.ком.к 7г ч1 Н.г.'!M21","v":0},{"$f":"'Соц.ком.к 7г ч1 Н.г.'!N21","v":0},{"$f":"'Соц.ком.к 7г ч2 Н.г.'!E21","v":0},{"$f":"'Соц.ком.к 7г ч2 Н.г.'!F21","v":0},{"$f":"'Соц.ком.к 7г ч2 Н.г.'!G21","v":0},{"$f":"'Соц.ком.к 7г ч2 Н.г.'!H21","v":0},{"$f":"'Соц.ком.к 7г ч2 Н.г.'!I21","v":0},{"$f":"'Соц.ком.к 7г ч2 Н.г.'!J21","v":0},{"$f":"'Соц.ком.к 7г ч2 Н.г.'!K21","v":0},{"$f":"'Соц.ком. к 7г ч3 Н.г.'!E21","v":0},{"$f":"'Соц.ком. к 7г ч3 Н.г.'!F21","v":0},{"$f":"'Соц.ком. к 7г ч3 Н.г.'!G21","v":0},{"$f":"'Соц.ком. к 7г ч3 Н.г.'!H21","v":0},{"$f":"'Соц.ком. к 7г ч3 Н.г.'!I21","v":0},{"$f":"'Соц.ком. к 7г ч3 Н.г.'!J21","v":0},{"$f":"'Соц.ком. к 7г ч3 Н.г.'!K21","v":0},{"$f":"'Соц.ком. к 7г ч3 Н.г.'!L21","v":0},{"$f":"'Соц.ком. к 7г ч4 Н.г.'!E21","v":0},{"$f":"'Соц.ком. к 7г ч4 Н.г.'!F21","v":0},{"$f":"'Соц.ком. к 7г ч4 Н.г.'!G21","v":0},{"$f":"'Соц.ком. к 7г ч4 Н.г.'!H21","v":0},{"$f":"'Соц.ком. к 7г ч4 Н.г.'!I21","v":0},{"$f":"'Реч.разв.к 7г ч1 Н.г.'!E21","v":0},{"$f":"'Реч.разв.к 7г ч1 Н.г.'!F21","v":0},{"$f":"'Реч.разв.к 7г ч1 Н.г.'!G21","v":0},{"$f":"'Реч.разв.к 7г ч1 Н.г.'!H21","v":0},{"$f":"'Реч.разв.к 7г ч1 Н.г.'!I21","v":0},{"$f":"'Реч.разв.к 7г ч1 Н.г.'!J21","v":0},{"$f":"'Реч.разв.к 7г ч1 Н.г.'!K21","v":0},{"$f":"'Реч.разв.к 7г ч1 Н.г.'!L21","v":0},{"$f":"'Реч.разв.к 7г ч2 Н.г.'!E21","v":0},{"$f":"'Реч.разв.к 7г ч2 Н.г.'!F21","v":0},{"$f":"'Реч.разв.к 7г ч2 Н.г.'!G21","v":0},{"$f":"'Реч.разв.к 7г ч2 Н.г.'!H21","v":0},{"$f":"'Реч.разв.к 7г ч2 Н.г.'!I21","v":0},{"$f":"'Реч.разв.к 7г ч2 Н.г.'!J21","v":0},{"$f":"'Реч.разв.к 7г ч2 Н.г.'!K21","v":0},{"$f":"'Реч.разв.к 7г ч2 Н.г.'!L21","v":0},{"$f":"'Реч.разв.к 7г ч2 Н.г.'!M21","v":0},{"$f":"'Реч.разв.к 7г ч3. Н.г.'!E21","v":0},{"$f":"'Реч.разв.к 7г ч3. Н.г.'!F21","v":0},{"$f":"'Реч.разв.к 7г ч3. Н.г.'!G21","v":0},{"$f":"'Реч.разв.к 7г ч3. Н.г.'!H21","v":0},{"$f":"'Реч.разв.к 7г ч3. Н.г.'!I21","v":0},{"$f":"'Реч.разв.к 7г ч3. Н.г.'!J21","v":0},{"$f":"'Позн.разв. к 7г ч1. Н.г.'!E22","v":0},{"$f":"'Позн.разв. к 7г ч1. Н.г.'!F22","v":0},{"$f":"'Позн.разв. к 7г ч1. Н.г.'!G22","v":0},{"$f":"'Позн.разв. к 7г ч1. Н.г.'!H22","v":0},{"$f":"'Позн.разв. к 7г ч1. Н.г.'!I22","v":0},{"$f":"'Позн.разв. к 7г ч1. Н.г.'!J22","v":0},{"$f":"'Позн.разв. к 7г ч1. Н.г.'!K22","v":0},{"$f":"'Позн.разв. к 7г ч1. Н.г.'!L22","v":0},{"$f":"'Позн.разв. к 7г ч1. Н.г.'!M22","v":0},{"$f":"'Позн.разв. к 7г ч2. Н.г.'!E22","v":0},{"$f":"'Позн.разв. к 7г ч2. Н.г.'!F22","v":0},{"$f":"'Позн.разв. к 7г ч2. Н.г.'!G22","v":0},{"$f":"'Позн.разв. к 7г ч2. Н.г.'!H22","v":0},{"$f":"'Позн.разв. к 7г ч2. Н.г.'!I22","v":0},{"$f":"'Позн.разв. к 7г ч2. Н.г.'!J22","v":0},{"$f":"'Позн.разв. к 7г ч2. Н.г.'!K22","v":0},{"$f":"'Позн.разв. к 7г ч2. Н.г.'!L22","v":0},{"$f":"'Позн.разв. к 7г ч2. Н.г.'!M22","v":0},{"$f":"'Позн.разв. к 7г ч3. Н.г.'!E22","v":0},{"$f":"'Позн.разв. к 7г ч3. Н.г.'!F22","v":0},{"$f":"'Позн.разв. к 7г ч3. Н.г.'!G22","v":0},{"$f":"'Позн.разв. к 7г ч3. Н.г.'!H22","v":0},{"$f":"'Позн.разв. к 7г ч3. Н.г.'!I22","v":0},{"$f":"'Позн.разв. к 7г ч3. Н.г.'!J22","v":0},{"$f":"'Позн.разв. к 7г ч3. Н.г.'!K22","v":0},{"$f":"'Позн.разв. к 7г ч3. Н.г.'!L22","v":0},{"$f":"'Позн.разв. к 7г ч3. Н.г.'!M22","v":0},{"$f":"'Позн.разв. к 7г ч3. Н.г.'!N22","v":0},{"$f":"'Позн.разв. к 7г ч3. Н.г.'!O22","v":0},{"$f":"'Позн.разв. к 7г ч3. Н.г.'!P22","v":0},{"$f":"'Позн.разв. к 7г ч3. Н.г.'!Q22","v":0},{"$f":"'Физ.разв. к 7г ч1. Н.г.'!E22","v":0},{"$f":"'Физ.разв. к 7г ч1. Н.г.'!F22","v":0},{"$f":"'Физ.разв. к 7г ч1. Н.г.'!G22","v":0},{"$f":"'Физ.разв. к 7г ч1. Н.г.'!H22","v":0},{"$f":"'Физ.разв. к 7г ч1. Н.г.'!I22","v":0},{"$f":"'Физ.разв. к 7г ч1. Н.г.'!J22","v":0},{"$f":"'Физ.разв. к 7г ч1. Н.г.'!K22","v":0},{"$f":"'Физ.разв. к 7г ч1. Н.г.'!L22","v":0},{"$f":"'Физ.разв. к 7г ч1. Н.г.'!M22","v":0},{"$f":"'Физ.разв. к 7г ч1. Н.г.'!N22","v":0},{"$f":"'Физ.разв. к 7г ч1. Н.г.'!O22","v":0},{"$f":"'Физ.разв. к 7г ч1. Н.г.'!P22","v":0},{"$f":"'Физ.разв. к 7г ч1. Н.г.'!Q22","v":0},{"$f":"'Физ.разв. к 7г ч1. Н.г.'!R22","v":0},{"$f":"'Физ.разв. к 7г ч1. Н.г.'!S22","v":0},{"$f":"'Физ.разв. к 7г ч1. Н.г.'!T22","v":0},{"$f":"'Физ.разв. к 7г ч1. Н.г.'!U22","v":0},{"$f":"'Физ.разв. к 7г ч1. Н.г.'!V22","v":0},{"$f":"'Физ.разв. к 7г ч1. Н.г.'!W22","v":0},{"$f":"'Физ.разв. к 7г ч2. Н.г.'!E23","v":0},{"$f":"'Физ.разв. к 7г ч2. Н.г.'!F23","v":0},{"$f":"'Физ.разв. к 7г ч2. Н.г.'!G23","v":0},{"$f":"'Физ.разв. к 7г ч2. Н.г.'!H23","v":0},{"$f":"'Физ.разв. к 7г ч2. Н.г.'!I23","v":0},{"$f":"'Физ.разв. к 7г ч2. Н.г.'!J23","v":0},{"$f":"'Физ.разв. к 7г ч2. Н.г.'!K23","v":0},{"$f":"'Физ.разв. к 7г ч2. Н.г.'!L23","v":0},{"$f":"'Физ.разв. к 7г ч2. Н.г.'!M23","v":0},{"$f":"'Физ.разв. к 7г ч2. Н.г.'!N23","v":0},{"$f":"'Физ.разв. к 7г ч2. Н.г.'!O23","v":0},{"$f":"'Физ.разв. к 7г ч2. Н.г.'!P23","v":0},{"$f":"'Физ.разв. к 7г ч2. Н.г.'!Q23","v":0},{"$f":"'Физ.разв. к 7г ч2. Н.г.'!R23","v":0},{"$f":"'Физ.разв. к 7г ч2. Н.г.'!S23","v":0},{"$f":"'Физ.разв. к 7г ч2. Н.г.'!T23","v":0},{"$f":"'Физ.разв. к 7г ч3. Н.г.'!E23","v":0},{"$f":"'Физ.разв. к 7г ч3. Н.г.'!F23","v":0},{"$f":"'Физ.разв. к 7г ч3. Н.г.'!G23","v":0},{"$f":"'Физ.разв. к 7г ч3. Н.г.'!H23","v":0},{"$f":"'Физ.разв. к 7г ч3. Н.г.'!I23","v":0},{"$f":"'Физ.разв. к 7г ч3. Н.г.'!J23","v":0},{"$f":"'Физ.разв. к 7г ч3. Н.г.'!K23","v":0},{"$f":"'Физ.разв. к 7г ч3. Н.г.'!L23","v":0},{"$f":"'Физ.разв. к 7г ч3. Н.г.'!M23","v":0},{"$f":"'Физ.разв. к 7г ч3. Н.г.'!N23","v":0},{"$f":"'Физ.разв. к 7г ч3. Н.г.'!O23","v":0},{"$f":"'Худ.эст.к 7г ч1. Н.г.'!E22","v":0},{"$f":"'Худ.эст.к 7г ч1. Н.г.'!F22","v":0},{"$f":"'Худ.эст.к 7г ч1. Н.г.'!G22","v":0},{"$f":"'Худ.эст.к 7г ч1. Н.г.'!H22","v":0},{"$f":"'Худ.эст.к 7г ч1. Н.г.'!I22","v":0},{"$f":"'Худ.эст.к 7г ч1. Н.г.'!J22","v":0},{"$f":"'Худ.эст.к 7г ч1. Н.г.'!K22","v":0},{"$f":"'Худ.эст.к 7г ч1. Н.г.'!L22","v":0},{"$f":"'Худ.эст.к 7г ч1. Н.г.'!M22","v":0},{"$f":"'Худ.эст.к 7г ч1. Н.г.'!N22","v":0},{"$f":"'Худ.эст.к 7г ч1. Н.г.'!O22","v":0},{"$f":"'Худ.эст.к 7г ч1. Н.г.'!P22","v":0},{"$f":"'Худ.эст.к 7г ч1. Н.г.'!Q22","v":0},{"$f":"'Худ.эст.к 7г ч2. Н.г.'!E22","v":0},{"$f":"'Худ.эст.к 7г ч2. Н.г.'!F22","v":0},{"$f":"'Худ.эст.к 7г ч2. Н.г.'!G22","v":0},{"$f":"'Худ.эст.к 7г ч2. Н.г.'!H22","v":0},{"$f":"'Худ.эст.к 7г ч2. Н.г.'!I22","v":0},{"$f":"'Худ.эст.к 7г ч2. Н.г.'!J22","v":0},{"$f":"'Худ.эст.к 7г ч2. Н.г.'!K22","v":0},{"$f":"'Худ.эст.к 7г ч2. Н.г.'!L22","v":0},{"$f":"'Худ.эст.к 7г ч2. Н.г.'!M22","v":0},{"$f":"'Худ.эст.к 7г ч2. Н.г.'!N22","v":0},{"$f":"'Худ.эст.к 7г ч2. Н.г.'!O22","v":0},{"$f":"'Худ.эст.к 7г ч2. Н.г.'!P22","v":0},{"$f":"'Худ.эст.к 7г ч2. Н.г.'!Q22","v":0},{"$f":"'Худ.эст.к 7г ч3. Н.г.'!E22","v":0},{"$f":"'Худ.эст.к 7г ч3. Н.г.'!F22","v":0},{"$f":"'Худ.эст.к 7г ч3. Н.г.'!G22","v":0},{"$f":"'Худ.эст.к 7г ч3. Н.г.'!H22","v":0},{"$f":"'Худ.эст.к 7г ч3. Н.г.'!I22","v":0},{"$f":"'Худ.эст.к 7г ч3. Н.г.'!J22","v":0},{"$f":"'Худ.эст.к 7г ч3. Н.г.'!K22","v":0},{"$f":"'Худ.эст.к 7г ч3. Н.г.'!L22","v":0}]
["конец года",{"$f":"'Соц.ком.к 7г ч1 К.г.'!E21","v":0},{"$f":"'Соц.ком.к 7г ч1 К.г.'!F21","v":0},{"$f":"'Соц.ком.к 7г ч1 К.г.'!G21","v":0},{"$f":"'Соц.ком.к 7г ч1 К.г.'!H21","v":0},{"$f":"'Соц.ком.к 7г ч1 К.г.'!I21","v":0},{"$f":"'Соц.ком.к 7г ч1 К.г.'!J21","v":0},{"$f":"'Соц.ком.к 7г ч1 К.г.'!K21","v":0},{"$f":"'Соц.ком.к 7г ч1 К.г.'!L21","v":0},{"$f":"'Соц.ком.к 7г ч1 К.г.'!M21","v":0},{"$f":"'Соц.ком.к 7г ч1 К.г.'!N21","v":0},{"$f":"'Соц.ком.к 7г ч2 К.г.'!E21","v":0},{"$f":"'Соц.ком.к 7г ч2 К.г.'!F21","v":0},{"$f":"'Соц.ком.к 7г ч2 К.г.'!G21","v":0},{"$f":"'Соц.ком.к 7г ч2 К.г.'!H21","v":0},{"$f":"'Соц.ком.к 7г ч2 К.г.'!I21","v":0},{"$f":"'Соц.ком.к 7г ч2 К.г.'!J21","v":0},{"$f":"'Соц.ком.к 7г ч2 К.г.'!K21","v":0},{"$f":"'Соц.ком. к 7г ч3 К.г.'!E21","v":0},{"$f":"'Соц.ком. к 7г ч3 К.г.'!F21","v":0},{"$f":"'Соц.ком. к 7г ч3 К.г.'!G21","v":0},{"$f":"'Соц.ком. к 7г ч3 К.г.'!H21","v":0},{"$f":"'Соц.ком. к 7г ч3 К.г.'!I21","v":0},{"$f":"'Соц.ком. к 7г ч3 К.г.'!J21","v":0},{"$f":"'Соц.ком. к 7г ч3 К.г.'!K21","v":0},{"$f":"'Соц.ком. к 7г ч3 К.г.'!L21","v":0},{"$f":"'Соц.ком. к 7г ч4 К.г.'!E21","v":0},{"$f":"'Соц.ком. к 7г ч4 К.г.'!F21","v":0},{"$f":"'Соц.ком. к 7г ч4 К.г.'!G21","v":0},{"$f":"'Соц.ком. к 7г ч4 К.г.'!H21","v":0},{"$f":"'Соц.ком. к 7г ч4 К.г.'!I21","v":0},{"$f":"'Реч.разв.к 7г ч1 К.г.'!E21","v":0},{"$f":"'Реч.разв.к 7г ч1 К.г.'!F21","v":0},{"$f":"'Реч.разв.к 7г ч1 К.г.'!G21","v":0},{"$f":"'Реч.разв.к 7г ч1 К.г.'!H21","v":0},{"$f":"'Реч.разв.к 7г ч1 К.г.'!I21","v":0},{"$f":"'Реч.разв.к 7г ч1 К.г.'!J21","v":0},{"$f":"'Реч.разв.к 7г ч1 К.г.'!K21","v":0},{"$f":"'Реч.разв.к 7г ч1 К.г.'!L21","v":0},{"$f":"'Реч.разв.к 7г ч2 К.г. '!E21","v":0},{"$f":"'Реч.разв.к 7г ч2 К.г. '!F21","v":0},{"$f":"'Реч.разв.к 7г ч2 К.г. '!G21","v":0},{"$f":"'Реч.разв.к 7г ч2 К.г. '!H21","v":0},{"$f":"'Реч.разв.к 7г ч2 К.г. '!I21","v":0},{"$f":"'Реч.разв.к 7г ч2 К.г. '!J21","v":0},{"$f":"'Реч.разв.к 7г ч2 К.г. '!K21","v":0},{"$f":"'Реч.разв.к 7г ч2 К.г. '!L21","v":0},{"$f":"'Реч.разв.к 7г ч2 К.г. '!M21","v":0},{"$f":"'Реч.разв.к 7г ч3. К.г. '!E21","v":0},{"$f":"'Реч.разв.к 7г ч3. К.г. '!F21","v":0},{"$f":"'Реч.разв.к 7г ч3. К.г. '!G21","v":0},{"$f":"'Реч.разв.к 7г ч3. К.г. '!H21","v":0},{"$f":"'Реч.разв.к 7г ч3. К.г. '!I21","v":0},{"$f":"'Реч.разв.к 7г ч3. К.г. '!J21","v":0},{"$f":"'Позн.разв. к 7г ч1. К.г. '!E22","v":0},{"$f":"'Позн.разв. к 7г ч1. К.г. '!F22","v":0},{"$f":"'Позн.разв. к 7г ч1. К.г. '!G22","v":0},{"$f":"'Позн.разв. к 7г ч1. К.г. '!H22","v":0},{"$f":"'Позн.разв. к 7г ч1. К.г. '!I22","v":0},{"$f":"'Позн.разв. к 7г ч1. К.г. '!J22","v":0},{"$f":"'Позн.разв. к 7г ч1. К.г. '!K22","v":0},{"$f":"'Позн.разв. к 7г ч1. К.г. '!L22","v":0},{"$f":"'Позн.разв. к 7г ч1. К.г. '!M22","v":0},{"$f":"'Позн.разв. к 7г ч2. К.г.'!E22","v":0},{"$f":"'Позн.разв. к 7г ч2. К.г.'!F22","v":0},{"$f":"'Позн.разв. к 7г ч2. К.г.'!G22","v":0},{"$f":"'Позн.разв. к 7г ч2. К.г.'!H22","v":0},{"$f":"'Позн.разв. к 7г ч2. К.г.'!I22","v":0},{"$f":"'Позн.разв. к 7г ч2. К.г.'!J22","v":0},{"$f":"'Позн.разв. к 7г ч2. К.г.'!K22","v":0},{"$f":"'Позн.разв. к 7г ч2. К.г.'!L22","v":0},{"$f":"'Позн.разв. к 7г ч2. К.г.'!M22","v":0},{"$f":"'Позн.разв. к 7г ч3. К.г. '!E22","v":0},{"$f":"'Позн.разв. к 7г ч3. К.г. '!F22","v":0},{"$f":"'Позн.разв. к 7г ч3. К.г. '!G22","v":0},{"$f":"'Позн.разв. к 7г ч3. К.г. '!H22","v":0},{"$f":"'Позн.разв. к 7г ч3. К.г. '!I22","v":0},{"$f":"'Позн.разв. к 7г ч3. К.г. '!J22","v":0},{"$f":"'Позн.разв. к 7г ч3. К.г. '!K22","v":0},{"$f":"'Позн.разв. к 7г ч3. К.г. '!L22","v":0},{"$f":"'Позн.разв. к 7г ч3. К.г. '!M22","v":0},{"$f":"'Позн.разв. к 7г ч3. К.г. '!N22","v":0},{"$f":"'Позн.разв. к 7г ч3. К.г. '!O22","v":0},{"$f":"'Позн.разв. к 7г ч3. К.г. '!P22","v":0},{"$f":"'Позн.разв. к 7г ч3. К.г. '!Q22","v":0},{"$f":"'Физ.разв. к 7г ч1. К.г. '!E22","v":0},{"$f":"'Физ.разв. к 7г ч1. К.г. '!F22","v":0},{"$f":"'Физ.разв. к 7г ч1. К.г. '!G22","v":0},{"$f":"'Физ.разв. к 7г ч1. К.г. '!H22","v":0},{"$f":"'Физ.разв. к 7г ч1. К.г. '!I22","v":0},{"$f":"'Физ.разв. к 7г ч1. К.г. '!J22","v":0},{"$f":"'Физ.разв. к 7г ч1. К.г. '!K22","v":0},{"$f":"'Физ.разв. к 7г ч1. К.г. '!L22","v":0},{"$f":"'Физ.разв. к 7г ч1. К.г. '!M22","v":0},{"$f":"'Физ.разв. к 7г ч1. К.г. '!N22","v":0},{"$f":"'Физ.разв. к 7г ч1. К.г. '!O22","v":0},{"$f":"'Физ.разв. к 7г ч1. К.г. '!P22","v":0},{"$f":"'Физ.разв. к 7г ч1. К.г. '!Q22","v":0},{"$f":"'Физ.разв. к 7г ч1. К.г. '!R22","v":0},{"$f":"'Физ.разв. к 7г ч1. К.г. '!S22","v":0},{"$f":"'Физ.разв. к 7г ч1. К.г. '!T22","v":0},{"$f":"'Физ.разв. к 7г ч1. К.г. '!U22","v":0},{"$f":"'Физ.разв. к 7г ч1. К.г. '!V22","v":0},{"$f":"'Физ.разв. к 7г ч1. К.г. '!W22","v":0},{"$f":"'Физ.разв. к 7г ч2. К.г.'!E23","v":0},{"$f":"'Физ.разв. к 7г ч2. К.г.'!F23","v":0},{"$f":"'Физ.разв. к 7г ч2. К.г.'!G23","v":0},{"$f":"'Физ.разв. к 7г ч2. К.г.'!H23","v":0},{"$f":"'Физ.разв. к 7г ч2. К.г.'!I23","v":0},{"$f":"'Физ.разв. к 7г ч2. К.г.'!J23","v":0},{"$f":"'Физ.разв. к 7г ч2. К.г.'!K23","v":0},{"$f":"'Физ.разв. к 7г ч2. К.г.'!L23","v":0},{"$f":"'Физ.разв. к 7г ч2. К.г.'!M23","v":0},{"$f":"'Физ.разв. к 7г ч2. К.г.'!N23","v":0},{"$f":"'Физ.разв. к 7г ч2. К.г.'!O23","v":0},{"$f":"'Физ.разв. к 7г ч2. К.г.'!P23","v":0},{"$f":"'Физ.разв. к 7г ч2. К.г.'!Q23","v":0},{"$f":"'Физ.разв. к 7г ч2. К.г.'!R23","v":0},{"$f":"'Физ.разв. к 7г ч2. К.г.'!S23","v":0},{"$f":"'Физ.разв. к 7г ч2. К.г.'!T23","v":0},{"$f":"'Физ.разв. к 7г ч3. К.г. '!E23","v":0},{"$f":"'Физ.разв. к 7г ч3. К.г. '!F23","v":0},{"$f":"'Физ.разв. к 7г ч3. К.г. '!G23","v":0},{"$f":"'Физ.разв. к 7г ч3. К.г. '!H23","v":0},{"$f":"'Физ.разв. к 7г ч3. К.г. '!I23","v":0},{"$f":"'Физ.разв. к 7г ч3. К.г. '!J23","v":0},{"$f":"'Физ.разв. к 7г ч3. К.г. '!K23","v":0},{"$f":"'Физ.разв. к 7г ч3. К.г. '!L23","v":0},{"$f":"'Физ.разв. к 7г ч3. К.г. '!M23","v":0},{"$f":"'Физ.разв. к 7г ч3. К.г. '!N23","v":0},{"$f":"'Физ.разв. к 7г ч3. К.г. '!O23","v":0},{"$f":"'Худ.эст.к 7г ч1. К.г. '!E22","v":0},{"$f":"'Худ.эст.к 7г ч1. К.г. '!F22","v":0},{"$f":"'Худ.эст.к 7г ч1. К.г. '!G22","v":0},{"$f":"'Худ.эст.к 7г ч1. К.г. '!H22","v":0},{"$f":"'Худ.эст.к 7г ч1. К.г. '!I22","v":0},{"$f":"'Худ.эст.к 7г ч1. К.г. '!J22","v":0},{"$f":"'Худ.эст.к 7г ч1. К.г. '!K22","v":0},{"$f":"'Худ.эст.к 7г ч1. К.г. '!L22","v":0},{"$f":"'Худ.эст.к 7г ч1. К.г. '!M22","v":0},{"$f":"'Худ.эст.к 7г ч1. К.г. '!N22","v":0},{"$f":"'Худ.эст.к 7г ч1. К.г. '!O22","v":0},{"$f":"'Худ.эст.к 7г ч1. К.г. '!P22","v":0},{"$f":"'Худ.эст.к 7г ч1. К.г. '!Q22","v":0},{"$f":"'Худ.эст.к 7г ч2. К.г. '!E22","v":0},{"$f":"'Худ.эст.к 7г ч2. К.г. '!F22","v":0},{"$f":"'Худ.эст.к 7г ч2. К.г. '!G22","v":0},{"$f":"'Худ.эст.к 7г ч2. К.г. '!H22","v":0},{"$f":"'Худ.эст.к 7г ч2. К.г. '!I22","v":0},{"$f":"'Худ.эст.к 7г ч2. К.г. '!J22","v":0},{"$f":"'Худ.эст.к 7г ч2. К.г. '!K22","v":0},{"$f":"'Худ.эст.к 7г ч2. К.г. '!L22","v":0},{"$f":"'Худ.эст.к 7г ч2. К.г. '!M22","v":0},{"$f":"'Худ.эст.к 7г ч2. К.г. '!N22","v":0},{"$f":"'Худ.эст.к 7г ч2. К.г. '!O22","v":0},{"$f":"'Худ.эст.к 7г ч2. К.г. '!P22","v":0},{"$f":"'Худ.эст.к 7г ч2. К.г. '!Q22","v":0},{"$f":"'Худ.эст.к 7г ч3. К.г. '!E22","v":0},{"$f":"'Худ.эст.к 7г ч3. К.г. '!F22","v":0},{"$f":"'Худ.эст.к 7г ч3. К.г. '!G22","v":0},{"$f":"'Худ.эст.к 7г ч3. К.г. '!H22","v":0},{"$f":"'Худ.эст.к 7г ч3. К.г. '!I22","v":0},{"$f":"'Худ.эст.к 7г ч3. К.г. '!J22","v":0},{"$f":"'Худ.эст.к 7г ч3. К.г. '!K22","v":0},{"$f":"'Худ.эст.к 7г ч3. К.г. '!L22","v":0}]

{"sheet":"12","index":49,"n_rows":7,"n_cols":165,"rows_kept":7,"merged":[[0,104,0,110],[0,111,0,112],[0,113,0,115],[0,116,0,119],[0,120,0,123],[0,124,0,126],[0,127,0,130],[1,54,1,58],[1,59,1,62],[1,63,1,71],[1,72,1,76],[1,77,1,84],[1,104,1,106],[1,107,1,110],[1,111,4,111],[1,112,4,112],[1,113,4,113],[1,114,4,114],[1,115,4,115],[1,116,1,119],[1,120,2,120],[1,121,2,121],[1,122,2,122],[1,123,2,123],[1,124,4,124],[1,125,4,125],[1,126,4,126],[1,127,1,130],[1,131,1,143],[1,144,1,156],[1,157,2,162],[1,163,2,164],[2,18,2,22],[2,23,2,25],[2,26,2,30],[2,32,2,34],[2,35,2,38],[2,40,2,44],[2,45,2,47],[2,48,2,53],[2,55,2,57],[2,59,4,59],[2,60,4,60],[2,61,4,61],[2,62,4,62],[2,63,2,65],[2,66,2,67],[2,68,2,69],[2,72,3,76],[2,77,2,80],[2,81,2,82],[2,83,4,83],[2,84,4,84],[2,85,2,86],[2,87,2,89],[2,90,2,92],[2,93,2,95],[2,96,2,99],[2,100,2,101],[2,102,2,103],[2,104,4,104],[2,105,4,105],[2,106,4,106],[2,107,4,107],[2,108,4,108],[2,109,4,109],[2,110,4,110],[2,116,4,116],[2,117,4,117],[2,118,4,118],[2,119,4,119],[2,127,4,127],[2,128,4,128],[2,129,4,129],[2,130,4,130],[2,135,2,136],[2,137,2,140],[2,141,2,142],[2,143,4,143],[2,144,2,145],[2,146,2,147],[2,148,2,149],[2,151,2,156],[3,0,4,0],[3,1,3,4],[3,7,3,9],[3,11,3,12],[3,13,3,14],[3,15,4,15],[3,16,4,16],[3,17,4,17],[3,18,4,18],[3,19,4,19],[3,20,4,20],[3,21,4,21],[3,22,4,22],[3,23,4,23],[3,24,4,24],[3,25,4,25],[3,26,4,26],[3,27,4,27],[3,28,4,28],[3,29,4,29],[3,30,4,30],[3,31,4,31],[3,32,4,32],[3,33,4,33],[3,34,4,34],[3,35,4,35],[3,36,4,36],[3,37,4,37],[3,38,4,38],[3,39,4,39],[3,40,4,40],[3,41,4,41],[3,42,4,42],[3,43,4,43],[3,44,4,44],[3,45,4,45],[3,46,4,46],[3,47,4,47],[3,48,4,48],[3,49,4,49],[3,50,4,50],[3,51,4,51],[3,52,4,52],[3,53,4,53],[3,54,3,58],[3,63,4,63],[3,64,4,64],[3,65,4,65],[3,66,4,66],[3,67,4,67],[3,68,4,68],[3,69,4,69],[3,70,4,70],[3,71,4,71],[3,81,4,81],[3,85,3,86],[3,87,3,89],[3,90,3,92],[3,93,3,95],[3,96,3,99],[3,100,3,101],[3,102,4,102],[3,103,4,103],[3,120,4,120],[3,121,4,121],[3,122,4,122],[3,123,4,123],[3,131,4,131],[3,132,4,132],[3,133,4,133],[3,134,4,134],[3,135,4,135],[3,136,4,136],[3,137,4,137],[3,138,4,138],[3,139,4,139],[3,140,4,140],[3,141,4,141],[3,142,4,142],[3,144,4,144],[3,145,4,145],[3,146,4,146],[3,147,4,147],[3,148,4,148],[3,149,4,149],[3,150,4,150],[3,151,4,151],[3,152,4,152],[3,153,4,153],[3,154,4,154],[3,155,4,155],[3,156,4,156],[3,157,4,157],[3,158,4,158],[3,159,4,159],[3,160,4,160],[3,161,4,161],[3,162,4,162],[3,163,4,163],[3,164,4,164]]}
[{"$nulls":104},"Мелкая моторика",{"$nulls":6},"Подвижные игры",null,"Спорт. игры",null,null,"Спортивные упражнения",{"$nulls":3},"КГН",{"$nulls":3},"ЗОЖ",null,null,"Спортивные упражнения"]
[{"$nulls":54},"Сенсорные эталоны ",{"$nulls":4},"Познавательные действия",{"$nulls":3},"Математические представления",{"$nulls":8},"Окружающий мир",{"$nulls":4},"Природа ",{"$nulls":26},"Координация рук и глаз",null,null,"Графические навыки",{"$nulls":3},"Ребенок использует в самостоятельной деятельности разнообразные по содержанию подвижные игры, проявляет элементы творчества в двигательной деятельности","Ребенок может организовать знакомые подвижные игры со сверстниками, сплотить команду, стремится внести свой вклад в результат команды","Ребенок владеет элементами спортивных игр (городки, баскетбол, футбол, хоккей, бадминтон, настольный теннис), может контролировать свои движения и управлять ими","Ребенок имеет представление о разных видах спорта (санный спорт, борьба, теннис, синхронное плавание и др.)","Ребенок имеет представление о спортивных событиях и достижениях отечественных спортсменов","Ребенок умеет кататься",{"$nulls":3},"Навыки соблюдения чистоты тела (правила личной гигиены)","Навыки культуры еды (прием пищи) ","Навыки поддержания порядка (правила поведения в быту) ","Навыки ухода за собой (одевание, раздевание) ","Ребенок соблюдает элементарные правила здорового образа жизни и личной гигиены, следит за своей осанкой, может оценить свое самочувствие","Ребенок регулярно выполняет физические упражнения","Ребенок имеет начальные представления о том, что такое здоровье, понимает, как поддержать, укрепить и сохранить его","Ребенок умеет кататься",{"$nulls":3},"Музыкальная деятельность",{"$nulls":12},"Изобразительная деятельность",{"$nulls":12},"Приобщение к искусству",{"$nulls":5},"Конструктивная деятельность"]
[{"$nulls":18},"Область формирования основ гражданственности и патриотизма",{"$nulls":4},"Сфера трудового воспитания",null,null,"Область формирования основ безопасного поведения",{"$nulls":4},"Общее речевое развитие","Формирование словаря",null,null,"Грамматический строй",{"$nulls":3},"Звуковая культура речи","Связная речь",{"$nulls":4},"ЧХЛ",null,null,"Подготовка к обучению грамоте",{"$nulls":5},"Цвет, оттенки","Форма, геометрические фигуры",null,null,"Величина","Ребенок самостоятельно выбирает способ осуществления разных видов познавательной деятельности","Ребенок интересуется субъективно новым и неизвестным в окружающем мире","Ребенок способен применять в жизненных и игровых ситуациях знания о количестве, форме, величине предметов, пространстве, времени","Ребенок имеет разнообразные познавательные умения: определяет противоречия. Формулирует задачу исследования, использует разные способы и средства проверки предположений (сравнение с эталонами, классификацию, систематизацию и др.)","Количество и счет",null,null,"Ориентировка во времени",null,"Ориентировка в пространстве",null,"Пространственно-количественные связи и отношения","Сравнение","Ребенок имеет представления, может показать на картинке и в естественной среде, может рассказать",{"$nulls":4},"Объекты живой природы",{"$nulls":3},"Объекты неживой природы, природные явления",null,"Ребенок стремится к самостоятельному экспериментированию","Ребенок знает правила поведения в природе, проявляет осознанное, бережное отношение к природе и ее ресурсам","Бросание, катание, ловля, метание",null,"Ползанье, лазанье",null,null,"Ходьба",null,null,"Бег",null,null,"Прыжки",{"$nulls":3},"Равновесие",null,"Строевые упражнения",null,"Ребенок выполняет графический диктант","Ребенок обводит по шаблону, по трафарету","Ребенок чертит линии с помощью линейки","Ребенок обводит по контуру, по точкам","Ребенок выполняет штриховку в различных направлениях","Ребенок закрашивает, не выходя за контур","Ребенок свободно владеет карандашом при рисовании округлых линий, завитков в разном направлении",{"$nulls":5},"на санках","на лыжах","на двухколесном велосипеде","на самокате",{"$nulls":7},"на санках","на лыжах","на двухколесном велосипеде","на самокате","Слушание","Пение ","Музыкально-ритмические движения","Песенное творчество","Игра на детских музыкальных инструментах",null,"Театрализованная деятельность",{"$nulls":3},"Танцевально-игровое творчество",null,"У ребенка развит музыкальный вкус, музыкальная память","Рисование ",null,"Лепка ",null,"Аппликация ",null,"Народное ДПИ","Прикладное творчество"]
[{"$f":"Список!B15","v":0},"Отношение к самому себе",{"$nulls":3},"Отношение к сверстникам","Отношение к взрослым","Эмоции",null,null,"Поведение","Семья",null,"Игровое поведение",null,"Ребенок имеет представление об изменениях позиции человека с возрастом","Ребенок имеет представление о школе, школьниках, учителях; стремится к школьному обучению, к познанию, освоению чтения, письма; демонстрирует формированные предпосылки к учебной деятельности и элементы готовности к школьному обучению","Ребенок имеет представление о нравственных качествах людей, их проявлении в поступках и взаимоотношениях","Ребенок имеет представление о признаках и характеристиках государства (территория государства и его границы, столица), атрибутах государственной власти, президенте, столице","Ребенок имеет представление о порядке использования государственной символики","Ребенок имеет представление о волонтерстве","Ребенок имеет представление о государственных праздниках, исторических событиях","Ребенок имеет представление о жизни людей в России, о многообразии стран и народов мира","Ребенок имеет представление об обмене ценностями в процессе производства и потребления товаров и услуг, о денежных отношениях, о реальной стоимости отдельных продуктов питания, игрушек, детских книг","Ребенок имеет представление о об основах финансовой грамоты, основах бережного потребления","Ребенок проявляет инициативность и самостоятельность в процессе самообслуживания, при выполнении трудовых поручений","Ребенок имеет представление о правила безопасного поведения в ситуациях, создающих угрозу жизни и здоровью (погас свет, остался один, потерялся, получил травму)","Ребенок имеет представление о правила безопасного поведения дома, на улице, в природе, в местах большого скопления людей, в магазине, на вокзале, в общественных метах, на праздниках и др.","Ребенок имеет представление о правилах безопасного использования цифровых ресурсов (мобильного телефона, планшета)","Ребенок имеет представление об элементарных правилах оказания первой помощи при первых признаках недомогания, травмах, ушибах","Ребенок проявляет самостоятельность при выполнении правил безопасного поведения","Ребенок владеет речью как средством коммуникации, ведет диалог, владеет коммуникативно-речевыми умениями","Ребенок подбирает точные слова для выражения мысли","Ребенок выполняет операцию классификации – деления освоенных понятий на группы на основе выявленных признаков","Ребенок использует в речи средства языковой выразительности: антонимы, синонимы, многозначные слова, метафоры, олицетворение","Ребенок образует сложные слова посредством слияния основ","Ребенок согласует в речи существительные с числительными, существительные с прилагательными","Ребенок образует по образцу существительные с суффиксами, глаголы с приставками","Ребенок образует в речи сравнительную и превосходную степени имен прилагательных","Ребенок правильно произносит все звуки","Ребенок может пересказать литературное произведение по ролям, близко к тексту, от лица литературного героя","Ребенок может составить описательный рассказ, соблюдая структуру описания","Ребенок может составить повествовательный рассказ по картине, из личного опыта, из коллективного опыта, по набору игрушек, соблюдая структуру повествования","Ребенок может составить рассказ -контаминацию (сочетание описания и повествования, описания и рассуждения)","Ребенок использует в процессе общения объяснительную речь, речь-доказательство, речевое планирование","Ребенок знает и осмысленно воспринимает литературные произведения различных жанров, имеет предпочтения","Ребенок определяет характеры персонажей, мотивы их поведения, оценивает поступки литературных героев","Ребенок проявляет интерес к книгам познавательного характера","Ребенок производит звуковой анализ четырехзвуковых и пятизвуковых слов","Ребенок может интонационно выделить звуки в слове, определить их последовательность, дать им характеристику, составить схему слова, выделить ударный гласный звук в слове","Ребенок может определить количество и последовательность слов в предложении","Ребенок может составить предложение с заданным количеством слов","Ребенок знает названия всех букв","Ребенок читает слоги","Ребенок различает и называет",{"$nulls":8},"Ребенок умеет считать в пределах 10 в прямом и обратном порядке","Ребенок знает состав чисел из двух меньших в пределах первого десятка","Ребенок решает простые арифметические задачи на сложение и вычитание","Ребенок имеет представление о календаре, как системе измерения времени","Ребенок умеет определять время по часам с точностью до четверти часа","Ребенок ориентируется на местности, по схеме, по плану","Ребенок знает способы ориентировки в двухмерном пространстве","Ребенок умеет измерять протяженность, массу и объем с помощью условной мерки; понимает взаимообратные отношения между мерой и результатом измерения","Ребенок сравнивает предметы по 4-6 основаниям с выделением сходства, отличия",{"$nulls":9},"Ребенок имеет представление об использовании человеком свойств неживой природы для хозяйственных нужд (ветряные мельницы, водохранилища, солнечные батареи, ледяные катки)",{"$nulls":3},"Ребенок выполняет различные упражнения с мячом, метание",null,"Ребенок выполняет разные виды ползанья, лазанья ",null,null,"Ребенок выполняет различные виды ходьбы",null,null,"Ребенок выполняет различные виды бега",null,null,"Ребенок выполняет различные виды прыжков",{"$nulls":3},"Ребенок выполняет",null,"Ребенок выполняет разные виды перестроений, построений, передвижений, размыкание и смыкание приставным шагом, повороты","Ребенок может рассчитаться на «первый – второй»",{"$nulls":16},"Ребенок владеет навыками личной гигиены","Ребенок владеет навыками культуры еды","Ребенок владеет навыками поддержания порядка","Ребенок владеет навыками ухода за собой",{"$nulls":7},"У ребенка развит навык восприятия звуков по высоте в пределах квинты-терции","У ребенка развиты певческий голос и вокально-слуховая координация","Ребёнок ритмично и выразительно двигается в соответствие с характером музыки","Ребенок способен самостоятельно придумать мелодию, используя в качестве образца русские народные песни","Ребенок может сыграть простую мелодию на металлофоне, свирели, ударных, и электронных музыкальных инструментах: трещотках, погремушках, треугольниках","Ребенок может исполнить музыкальное произведение в оркестре и в ансамбле","Ребенок проявляет самостоятельность при выборе литературного и музыкального материала для театральной постановки","Ребенок проявляет инициативу при изготовлении атрибутов и декораций к спектаклю","Ребенок имеет представление о средствах погружения в театральные образы (музыка, слова, декорации, грим, костюм и др.)","Ребенок умеет выразительно передавать образы в действии, мимике, пантомимике","Ребенок проявляет активность в доступных видах музыкальной исполнительской деятельности (игра в оркестре, пение, танцевальные движения и др.)","Ребенок помогает придумывать движения, отражающие содержание песни",null,"Ребенок может изобразить предметы по памяти и с натуры, передает их средствами рисунка (форма, пропорции, расположение)","Ребенок способен передавать в рисунке сюжет, строить композицию","Ребенок свободно использует приемы лепки, освоенные ранее (налеп, углубленный рельеф), применяет стеку","Ребенок умеет передавать пропорции, соотношение по величине, выразительность поз, движений, деталей","Ребенок умеет составлять узоры и декоративные композиции из геометрических и растительных элементов на листах бумаги разной формы","Ребенок может выполнить вырезание (симметричное из бумаги, сложенной вдвое; несколько предметов из частей бумаги, сложенной гармошкой)","Ребенок умеет создавать узоры по мотивам народных росписей","Ребенок может сложить бумагу в разных направлениях","Ребенок может сделать разметку с помощью шаблона","Ребенок может выполнить работу по образцу","Ребенок может создать объемную игрушку в технике «оригами»","Ребенок может создать объемную поделку из природного материала","Ребенок может вдеть нитку в иголку, завязать узелок, пришить пуговицу, петельку, выполнить шов «вперед иголка»","Ребенок умеет выделять, называть, группировать произведения по видам искусства: литература, музыка, изобразительное искусство, архитектура, театр, цирк","Ребенок имеет представление о видах изобразительного искусства: графика, декоративно-прикладное искусство, живопись, скульптура, архитектура, фотоискусство","Ребенок имеет представление о жанрах изобразительного искусства: натюрморт, пейзаж, портрет","Ребенок имеет представление о народном искусстве, фольклоре, музыке и художественных промыслах","Ребенок имеет представление о творческих профессиях: художник, композитор, музыкант, актер, артист балета","Ребенок имеет представление о культурно-досуговых местах: театр, музей, библиотека, выставка, кинотеатр, цирк и др.","Ребенок может провести анализ постройки (выделить основные части и характерные детали конструкций)","Ребенок может выполнить постройку по инструкции"]
[null,"Ребенок осознает и признает собственные ошибки, результат поставленных задач, определяет пути развития","Ребенок умеет договариваться и дружить, старается разрешать конфликтные ситуации конструктивными способами","Ребенок способен принимать собственные решения и проявлять инициативу","Ребенок осознанно относится к своему будущему, стремится быть полезным обществу","Ребенок без напоминаний использует в общении формулы словесной вежливости (приветствие, прощание, просьбы, извинения)","Ребенок без напоминаний использует в общении формулы словесной вежливости (приветствие, прощание, просьбы, извинения)","Ребенок понимает чувства и переживания окружающих по невербальным признакам; находит причины и следствия возникновения эмоций, проявляет эмпатию","Ребенок использует социально приемлемые способы проявления эмоций и доступные возрасту регуляции эмоциональных состояний","Ребенок распознает собственные чувства и эмоции, анализирует свои переживания и рассказывает о них","Ребенок самостоятельно соблюдает установленный порядок поведения в группе, регулирует собственную активность","Ребенок имеет представление о необходимости укрепления связи между поколениями, взаимной поддержке детей и взрослых","Ребенок имеет представление о семье, семейных и родственных отношениях (взаимные чувства, правила общения в семье, значимые и памятные события, досуг семьи, семейный бюджет)","Ребенок умеет сотрудничать со сверстниками (побуждает к обсуждению планов, советуется, поддерживает интерес к мнению, инициирует ситуации взаимопомощи, подчеркивает ценность каждого ребенка и его вклад в общее дело, выбирает партнеров по интересам, помогает устанавливать темп совместных действий)","Ребенок владеет разными способами и видами игры, различает условную и реальную ситуации, предлагает и объясняет замысел игры, комбинирует сюжеты на основе реальных, вымышленных ситуаций, выполняет несколько ролей в одной игре, подбирает разные средства для создания игровых образов, согласовывает свои интересы с интересами партнёров по игре",{"$nulls":39}," все цвета спектра и ахроматические цвета, оттенки","плоские и объемные геометрические фигуры; умеет выделять структуру геометрических фигур и устанавливать взаимосвязи между ними","Ребенок умеет классифицировать фигуры по внешним структурным признаками (округлые, многоугольники)","Ребенок владеет различными способами видоизменения геометрических фигур (наложение, соединение, разрезание и др.)","Ребенок умеет измерять длину, ширину, высоту с помощью условной мерки",{"$nulls":13}," о родном населенном пункте (название улиц, некоторых архитектурных особенностях, достопримечательностях), об истории, о выдающихся горожанах, традициях городской жизни"," о назначении общественных учреждений"," о разных видах специального транспорта"," о местах труда людей (завод, больница, магазин и др.)"," о местах отдыха людей","Ребенок имеет представление о наиболее ярких представителях животных и растений разных природных зон (пустыня, степь, тайга, тундра и др.), об их образе жизни, приспособлении к среде обитания, изменениях в жизни в разные сезоны года","Ребенок имеет представление о многообразии водных ресурсов (моря, океаны, реки, водопады и др.)","Ребенок имеет представление о многообразии полезных ископаемых (нефть, уголь, серебро, золото, алмазы и др.)","Ребенок имеет представление о жизненных потребностях, этапах роста и развития животных и растений",null,"Ребенок имеет представление о некоторых небесных телах (планеты, кометы, звезды)",null,null,"бросание вверх, о землю, ловля двумя руками, одной рукой, перебрасывание, передача, прокатывание, забрасывание, ведение","в цель из положения стоя, вдаль, в движущеюся цель","ползанье на четвереньках, на животе, на спине","влезание на гимнастическую стенку и спуск; перелезание с пролета на пролет по диагонали","лазанье по веревочной лестнице; выполнение упражнений на канате","обычная, гимнастическим шагом, скрестным шагом, спиной вперед, выпадами, с закрытыми глазами","приставными шагами назад, в приседе, с различными движениями рук","в различных построениях","в колонне по одному, врассыпную, парами, тройками, четверками","в сочетание с прыжками, высоко поднимая колени, захлестывая голени назад, выбрасывая прямые ноги вперед","челночный, наперегонки, из разных исходных положений, со скакалкой, по пересеченной местности, с наименьшим числом шагов, медленный, быстрый","подпрыгивания на двух ногах в чередовании с ходьбой, на месте и с поворот кругом","смещая ноги вправо-влево-вперед-назад","выпрыгивание на предметы; подпрыгивания вверх из глубокого приседа; прыжки на одной ноге","в длину с места/с разбега, в высоту с места/с разбега","стойка на носках, стойка на одной ноге с закрытыми глазами","кружение с закрытыми глазами, остановкой и сохранением заданной позы"]
["начало года",{"$f":"'Соц.ком.к 7г ч1 Н.г.'!E22","v":0},{"$f":"'Соц.ком.к 7г ч1 Н.г.'!F22","v":0},{"$f":"'Соц.ком.к 7г ч1 Н.г.'!G22","v":0},{"$f":"'Соц.ком.к 7г ч1 Н.г.'!H22","v":0},{"$f":"'Соц.ком.к 7г ч1 Н.г.'!I22","v":0},{"$f":"'Соц.ком.к 7г ч1 Н.г.'!J22","v":0},{"$f":"'Соц.ком.к 7г ч1 Н.г.'!K22","v":0},{"$f":"'Соц.ком.к 7г ч1 Н.г.'!L22","v":0},{"$f":"'Соц.ком.к 7г ч1 Н.г.'!M22","v":0},{"$f":"'Соц.ком.к 7г ч1 Н.г.'!N22","v":0},{"$f":"'Соц.ком.к 7г ч2 Н.г.'!E22","v":0},{"$f":"'Соц.ком.к 7г ч2 Н.г.'!F22","v":0},{"$f":"'Соц.ком.к 7г ч2 Н.г.'!G22","v":0},{"$f":"'Соц.ком.к 7г ч2 Н.г.'!H22","v":0},{"$f":"'Соц.ком.к 7г ч2 Н.г.'!I22","v":0},{"$f":"'Соц.ком.к 7г ч2 Н.г.'!J22","v":0},{"$f":"'Соц.ком.к 7г ч2 Н.г.'!K22","v":0},{"$f":"'Соц.ком. к 7г ч3 Н.г.'!E22","v":0},{"$f":"'Соц.ком. к 7г ч3 Н.г.'!F22","v":0},{"$f":"'Соц.ком. к 7г ч3 Н.г.'!G22","v":0},{"$f":"'Соц.ком. к 7г ч3 Н.г.'!H22","v":0},{"$f":"'Соц.ком. к 7г ч3 Н.г.'!I22","v":0},{"$f":"'Соц.ком. к 7г ч3 Н.г.'!J22","v":0},{"$f":"'Соц.ком. к 7г ч3 Н.г.'!K22","v":0},{"$f":"'Соц.ком. к 7г ч3 Н.г.'!L22","v":0},{"$f":"'Соц.ком. к 7г ч4 Н.г.'!E22","v":0},{"$f":"'Соц.ком. к 7г ч4 Н.г.'!F22","v":0},{"$f":"'Соц.ком. к 7г ч4 Н.г.'!G22","v":0},{"$f":"'Соц.ком. к 7г ч4 Н.г.'!H22","v":0},{"$f":"'Соц.ком. к 7г ч4 Н.г.'!I22","v":0},{"$f":"'Реч.разв.к 7г ч1 Н.г.'!E22","v":0},{"$f":"'Реч.разв.к 7г ч1 Н.г.'!F22","v":0},{"$f":"'Реч.разв.к 7г ч1 Н.г.'!G22","v":0},{"$f":"'Реч.разв.к 7г ч1 Н.г.'!H22","v":0},{"$f":"'Реч.разв.к 7г ч1 Н.г.'!I22","v":0},{"$f":"'Реч.разв.к 7г ч1 Н.г.'!J22","v":0},{"$f":"'Реч.разв.к 7г ч1 Н.г.'!K22","v":0},{"$f":"'Реч.разв.к 7г ч1 Н.г.'!L22","v":0},{"$f":"'Реч.разв.к 7г ч2 Н.г.'!E22","v":0},{"$f":"'Реч.разв.к 7г ч2 Н.г.'!F22","v":0},{"$f":"'Реч.разв.к 7г ч2 Н.г.'!G22","v":0},{"$f":"'Реч.разв.к 7г ч2 Н.г.'!H22","v":0},{"$f":"'Реч.разв.к 7г ч2 Н.г.'!I22","v":0},{"$f":"'Реч.разв.к 7г ч2 Н.г.'!J22","v":0},{"$f":"'Реч.разв.к 7г ч2 Н.г.'!K22","v":0},{"$f":"'Реч.разв.к 7г ч2 Н.г.'!L22","v":0},{"$f":"'Реч.разв.к 7г ч2 Н.г.'!M22","v":0},{"$f":"'Реч.разв.к 7г ч3. Н.г.'!E22","v":0},{"$f":"'Реч.разв.к 7г ч3. Н.г.'!F22","v":0},{"$f":"'Реч.разв.к 7г ч3. Н.г.'!G22","v":0},{"$f":"'Реч.разв.к 7г ч3. Н.г.'!H22","v":0},{"$f":"'Реч.разв.к 7г ч3. Н.г.'!I22","v":0},{"$f":"'Реч.разв.к 7г ч3. Н.г.'!J22","v":0},{"$f":"'Позн.разв. к 7г ч1. Н.г.'!E23","v":0},{"$f":"'Позн.разв. к 7г ч1. Н.г.'!F23","v":0},{"$f":"'Позн.разв. к 7г ч1. Н.г.'!G23","v":0},{"$f":"'Позн.разв. к 7г ч1. Н.г.'!H23","v":0},{"$f":"'Позн.разв. к 7г ч1. Н.г.'!I23","v":0},{"$f":"'Позн.разв. к 7г ч1. Н.г.'!J23","v":0},{"$f":"'Позн.разв. к 7г ч1. Н.г.'!K23","v":0},{"$f":"'Позн.разв. к 7г ч1. Н.г.'!L23","v":0},{"$f":"'Позн.разв. к 7г ч1. Н.г.'!M23","v":0},{"$f":"'Позн.разв. к 7г ч2. Н.г.'!E23","v":0},{"$f":"'Позн.разв. к 7г ч2. Н.г.'!F23","v":0},{"$f":"'Позн.разв. к 7г ч2. Н.г.'!G23","v":0},{"$f":"'Позн.разв. к 7г ч2. Н.г.'!H23","v":0},{"$f":"'Позн.разв. к 7г ч2. Н.г.'!I23","v":0},{"$f":"'Позн.разв. к 7г ч2. Н.г.'!J23","v":0},{"$f":"'Позн.разв. к 7г ч2. Н.г.'!K23","v":0},{"$f":"'Позн.разв. к 7г ч2. Н.г.'!L23","v":0},{"$f":"'Позн.разв. к 7г ч2. Н.г.'!M23","v":0},{"$f":"'Позн.разв. к 7г ч3. Н.г.'!E23","v":0},{"$f":"'Позн.разв. к 7г ч3. Н.г.'!F23","v":0},{"$f":"'Позн.разв. к 7г ч3. Н.г.'!G23","v":0},{"$f":"'Позн.разв. к 7г ч3. Н.г.'!H23","v":0},{"$f":"'Позн.разв. к 7г ч3. Н.г.'!I23","v":0},{"$f":"'Позн.разв. к 7г ч3. Н.г.'!J23","v":0},{"$f":"'Позн.разв. к 7г ч3. Н.г.'!K23","v":0},{"$f":"'Позн.разв. к 7г ч3. Н.г.'!L23","v":0},{"$f":"'Позн.разв. к 7г ч3. Н.г.'!M23","v":0},{"$f":"'Позн.разв. к 7г ч3. Н.г.'!N23","v":0},{"$f":"'Позн.разв. к 7г ч3. Н.г.'!O23","v":0},{"$f":"'Позн.разв. к 7г ч3. Н.г.'!P23","v":0},{"$f":"'Позн.разв. к 7г ч3. Н.г.'!Q23","v":0},{"$f":"'Физ.разв. к 7г ч1. Н.г.'!E23","v":0},{"$f":"'Физ.разв. к 7г ч1. Н.г.'!F23","v":0},{"$f":"'Физ.разв. к 7г ч1. Н.г.'!G23","v":0},{"$f":"'Физ.разв. к 7г ч1. Н.г.'!H23","v":0},{"$f":"'Физ.разв. к 7г ч1. Н.г.'!I23","v":0},{"$f":"'Физ.разв. к 7г ч1. Н.г.'!J23","v":0},{"$f":"'Физ.разв. к 7г ч1. Н.г.'!K23","v":0},{"$f":"'Физ.разв. к 7г ч1. Н.г.'!L23","v":0},{"$f":"'Физ.разв. к 7г ч1. Н.г.'!M23","v":0},{"$f":"'Физ.разв. к 7г ч1. Н.г.'!N23","v":0},{"$f":"'Физ.разв. к 7г ч1. Н.г.'!O23","v":0},{"$f":"'Физ.разв. к 7г ч1. Н.г.'!P23","v":0},{"$f":"'Физ.разв. к 7г ч1. Н.г.'!Q23","v":0},{"$f":"'Физ.разв. к 7г ч1. Н.г.'!R23","v":0},{"$f":"'Физ.разв. к 7г ч1. Н.г.'!S23","v":0},{"$f":"'Физ.разв. к 7г ч1. Н.г.'!T23","v":0},{"$f":"'Физ.разв. к 7г ч1. Н.г.'!U23","v":0},{"$f":"'Физ.разв. к 7г ч1. Н.г.'!V23","v":0},{"$f":"'Физ.разв. к 7г ч1. Н.г.'!W23","v":0},{"$f":"'Физ.разв. к 7г ч2. Н.г.'!E24","v":0},{"$f":"'Физ.разв. к 7г ч2. Н.г.'!F24","v":0},{"$f":"'Физ.разв. к 7г ч2. Н.г.'!G24","v":0},{"$f":"'Физ.разв. к 7г ч2. Н.г.'!H24","v":0},{"$f":"'Физ.разв. к 7г ч2. Н.г.'!I24","v":0},{"$f":"'Физ.разв. к 7г ч2. Н.г.'!J24","v":0},{"$f":"'Физ.разв. к 7г ч2. Н.г.'!K24","v":0},{"$f":"'Физ.разв. к 7г ч2. Н.г.'!L24","v":0},{"$f":"'Физ.разв. к 7г ч2. Н.г.'!M24","v":0},{"$f":"'Физ.разв. к 7г ч2. Н.г.'!N24","v":0},{"$f":"'Физ.разв. к 7г ч2. Н.г.'!O24","v":0},{"$f":"'Физ.разв. к 7г ч2. Н.г.'!P24","v":0},{"$f":"'Физ.разв. к 7г ч2. Н.г.'!Q24","v":0},{"$f":"'Физ.разв. к 7г ч2. Н.г.'!R24","v":0},{"$f":"'Физ.разв. к 7г ч2. Н.г.'!S24","v":0},{"$f":"'Физ.разв. к 7г ч2. Н.г.'!T24","v":0},{"$f":"'Физ.разв. к 7г ч3. Н.г.'!E24","v":0},{"$f":"'Физ.разв. к 7г ч3. Н.г.'!F24","v":0},{"$f":"'Физ.разв. к 7г ч3. Н.г.'!G24","v":0},{"$f":"'Физ.разв. к 7г ч3. Н.г.'!H24","v":0},{"$f":"'Физ.разв. к 7г ч3. Н.г.'!I24","v":0},{"$f":"'Физ.разв. к 7г ч3. Н.г.'!J24","v":0},{"$f":"'Физ.разв. к 7г ч3. Н.г.'!K24","v":0},{"$f":"'Физ.разв. к 7г ч3. Н.г.'!L24","v":0},{"$f":"'Физ.разв. к 7г ч3. Н.г.'!M24","v":0},{"$f":"'Физ.разв. к 7г ч3. Н.г.'!N24","v":0},{"$f":"'Физ.разв. к 7г ч3. Н.г.'!O24","v":0},{"$f":"'Худ.эст.к 7г ч1. Н.г.'!E23","v":0},{"$f":"'Худ.эст.к 7г ч1. Н.г.'!F23","v":0},{"$f":"'Худ.эст.к 7г ч1. Н.г.'!G23","v":0},{"$f":"'Худ.эст.к 7г ч1. Н.г.'!H23","v":0},{"$f":"'Худ.эст.к 7г ч1. Н.г.'!I23","v":0},{"$f":"'Худ.эст.к 7г ч1. Н.г.'!J23","v":0},{"$f":"'Худ.эст.к 7г ч1. Н.г.'!K23","v":0},{"$f":"'Худ.эст.к 7г ч1. Н.г.'!L23","v":0},{"$f":"'Худ.эст.к 7г ч1. Н.г.'!M23","v":0},{"$f":"'Худ.эст.к 7г ч1. Н.г.'!N23","v":0},{"$f":"'Худ.эст.к 7г ч1. Н.г.'!O23","v":0},{"$f":"'Худ.эст.к 7г ч1. Н.г.'!P23","v":0},{"$f":"'Худ.эст.к 7г ч1. Н.г.'!Q23","v":0},{"$f":"'Худ.эст.к 7г ч2. Н.г.'!E23","v":0},{"$f":"'Худ.эст.к 7г ч2. Н.г.'!F23","v":0},{"$f":"'Худ.эст.к 7г ч2. Н.г.'!G23","v":0},{"$f":"'Худ.эст.к 7г ч2. Н.г.'!H23","v":0},{"$f":"'Худ.эст.к 7г ч2. Н.г.'!I23","v":0},{"$f":"'Худ.эст.к 7г ч2. Н.г.'!J23","v":0},{"$f":"'Худ.эст.к 7г ч2. Н.г.'!K23","v":0},{"$f":"'Худ.эст.к 7г ч2. Н.г.'!L23","v":0},{"$f":"'Худ.эст.к 7г ч2. Н.г.'!M23","v":0},{"$f":"'Худ.эст.к 7г ч2. Н.г.'!N23","v":0},{"$f":"'Худ.эст.к 7г ч2. Н.г.'!O23","v":0},{"$f":"'Худ.эст.к 7г ч2. Н.г.'!P23","v":0},{"$f":"'Худ.эст.к 7г ч2. Н.г.'!Q23","v":0},{"$f":"'Худ.эст.к 7г ч3. Н.г.'!E23","v":0},{"$f":"'Худ.эст.к 7г ч3. Н.г.'!F23","v":0},{"$f":"'Худ.эст.к 7г ч3. Н.г.'!G23","v":0},{"$f":"'Худ.эст.к 7г ч3. Н.г.'!H23","v":0},{"$f":"'Худ.эст.к 7г ч3. Н.г.'!I23","v":0},{"$f":"'Худ.эст.к 7г ч3. Н.г.'!J23","v":0},{"$f":"'Худ.эст.к 7г ч3. Н.г.'!K23","v":0},{"$f":"'Худ.эст.к 7г ч3. Н.г.'!L23","v":0}]
["конец года",{"$f":"'Соц.ком.к 7г ч1 К.г.'!E22","v":0},{"$f":"'Соц.ком.к 7г ч1 К.г.'!F22","v":0},{"$f":"'Соц.ком.к 7г ч1 К.г.'!G22","v":0},{"$f":"'Соц.ком.к 7г ч1 К.г.'!H22","v":0},{"$f":"'Соц.ком.к 7г ч1 К.г.'!I22","v":0},{"$f":"'Соц.ком.к 7г ч1 К.г.'!J22","v":0},{"$f":"'Соц.ком.к 7г ч1 К.г.'!K22","v":0},{"$f":"'Соц.ком.к 7г ч1 К.г.'!L22","v":0},{"$f":"'Соц.ком.к 7г ч1 К.г.'!M22","v":0},{"$f":"'Соц.ком.к 7г ч1 К.г.'!N22","v":0},{"$f":"'Соц.ком.к 7г ч2 К.г.'!E22","v":0},{"$f":"'Соц.ком.к 7г ч2 К.г.'!F22","v":0},{"$f":"'Соц.ком.к 7г ч2 К.г.'!G22","v":0},{"$f":"'Соц.ком.к 7г ч2 К.г.'!H22","v":0},{"$f":"'Соц.ком.к 7г ч2 К.г.'!I22","v":0},{"$f":"'Соц.ком.к 7г ч2 К.г.'!J22","v":0},{"$f":"'Соц.ком.к 7г ч2 К.г.'!K22","v":0},{"$f":"'Соц.ком. к 7г ч3 К.г.'!E22","v":0},{"$f":"'Соц.ком. к 7г ч3 К.г.'!F22","v":0},{"$f":"'Соц.ком. к 7г ч3 К.г.'!G22","v":0},{"$f":"'Соц.ком. к 7г ч3 К.г.'!H22","v":0},{"$f":"'Соц.ком. к 7г ч3 К.г.'!I22","v":0},{"$f":"'Соц.ком. к 7г ч3 К.г.'!J22","v":0},{"$f":"'Соц.ком. к 7г ч3 К.г.'!K22","v":0},{"$f":"'Соц.ком. к 7г ч3 К.г.'!L22","v":0},{"$f":"'Соц.ком. к 7г ч4 К.г.'!E22","v":0},{"$f":"'Соц.ком. к 7г ч4 К.г.'!F22","v":0},{"$f":"'Соц.ком. к 7г ч4 К.г.'!G22","v":0},{"$f":"'Соц.ком. к 7г ч4 К.г.'!H22","v":0},{"$f":"'Соц.ком. к 7г ч4 К.г.'!I22","v":0},{"$f":"'Реч.разв.к 7г ч1 К.г.'!E22","v":0},{"$f":"'Реч.разв.к 7г ч1 К.г.'!F22","v":0},{"$f":"'Реч.разв.к 7г ч1 К.г.'!G22","v":0},{"$f":"'Реч.разв.к 7г ч1 К.г.'!H22","v":0},{"$f":"'Реч.разв.к 7г ч1 К.г.'!I22","v":0},{"$f":"'Реч.разв.к 7г ч1 К.г.'!J22","v":0},{"$f":"'Реч.разв.к 7г ч1 К.г.'!K22","v":0},{"$f":"'Реч.разв.к 7г ч1 К.г.'!L22","v":0},{"$f":"'Реч.разв.к 7г ч2 К.г. '!E22","v":0},{"$f":"'Реч.разв.к 7г ч2 К.г. '!F22","v":0},{"$f":"'Реч.разв.к 7г ч2 К.г. '!G22","v":0},{"$f":"'Реч.разв.к 7г ч2 К.г. '!H22","v":0},{"$f":"'Реч.разв.к 7г ч2 К.г. '!I22","v":0},{"$f":"'Реч.разв.к 7г ч2 К.г. '!J22","v":0},{"$f":"'Реч.разв.к 7г ч2 К.г. '!K22","v":0},{"$f":"'Реч.разв.к 7г ч2 К.г. '!L22","v":0},{"$f":"'Реч.разв.к 7г ч2 К.г. '!M22","v":0},{"$f":"'Реч.разв.к 7г ч3. К.г. '!E22","v":0},{"$f":"'Реч.разв.к 7г ч3. К.г. '!F22","v":0},{"$f":"'Реч.разв.к 7г ч3. К.г. '!G22","v":0},{"$f":"'Реч.разв.к 7г ч3. К.г. '!H22","v":0},{"$f":"'Реч.разв.к 7г ч3. К.г. '!I22","v":0},{"$f":"'Реч.разв.к 7г ч3. К.г. '!J22","v":0},{"$f":"'Позн.разв. к 7г ч1. К.г. '!E23","v":0},{"$f":"'Позн.разв. к 7г ч1. К.г. '!F23","v":0},{"$f":"'Позн.разв. к 7г ч1. К.г. '!G23","v":0},{"$f":"'Позн.разв. к 7г ч1. К.г. '!H23","v":0},{"$f":"'Позн.разв. к 7г ч1. К.г. '!I23","v":0},{"$f":"'Позн.разв. к 7г ч1. К.г. '!J23","v":0},{"$f":"'Позн.разв. к 7г ч1. К.г. '!K23","v":0},{"$f":"'Позн.разв. к 7г ч1. К.г. '!L23","v":0},{"$f":"'Позн.разв. к 7г ч1. К.г. '!M23","v":0},{"$f":"'Позн.разв. к 7г ч2. К.г.'!E23","v":0},{"$f":"'Позн.разв. к 7г ч2. К.г.'!F23","v":0},{"$f":"'Позн.разв. к 7г ч2. К.г.'!G23","v":0},{"$f":"'Позн.разв. к 7г ч2. К.г.'!H23","v":0},{"$f":"'Позн.разв. к 7г ч2. К.г.'!I23","v":0},{"$f":"'Позн.разв. к 7г ч2. К.г.'!J23","v":0},{"$f":"'Позн.разв. к 7г ч2. К.г.'!K23","v":0},{"$f":"'Позн.разв. к 7г ч2. К.г.'!L23","v":0},{"$f":"'Позн.разв. к 7г ч2. К.г.'!M23","v":0},{"$f":"'Позн.разв. к 7г ч3. К.г. '!E23","v":0},{"$f":"'Позн.разв. к 7г ч3. К.г. '!F23","v":0},{"$f":"'Позн.разв. к 7г ч3. К.г. '!G23","v":0},{"$f":"'Позн.разв. к 7г ч3. К.г. '!H23","v":0},{"$f":"'Позн.разв. к 7г ч3. К.г. '!I23","v":0},{"$f":"'Позн.разв. к 7г ч3. К.г. '!J23","v":0},{"$f":"'Позн.разв. к 7г ч3. К.г. '!K23","v":0},{"$f":"'Позн.разв. к 7г ч3. К.г. '!L23","v":0},{"$f":"'Позн.разв. к 7г ч3. К.г. '!M23","v":0},{"$f":"'Позн.разв. к 7г ч3. К.г. '!N23","v":0},{"$f":"'Позн.разв. к 7г ч3. К.г. '!O23","v":0},{"$f":"'Позн.разв. к 7г ч3. К.г. '!P23","v":0},{"$f":"'Позн.разв. к 7г ч3. К.г. '!Q23","v":0},{"$f":"'Физ.разв. к 7г ч1. К.г. '!E23","v":0},{"$f":"'Физ.разв. к 7г ч1. К.г. '!F23","v":0},{"$f":"'Физ.разв. к 7г ч1. К.г. '!G23","v":0},{"$f":"'Физ.разв. к 7г ч1. К.г. '!H23","v":0},{"$f":"'Физ.разв. к 7г ч1. К.г. '!I23","v":0},{"$f":"'Физ.разв. к 7г ч1. К.г. '!J23","v":0},{"$f":"'Физ.разв. к 7г ч1. К.г. '!K23","v":0},{"$f":"'Физ.разв. к 7г ч1. К.г. '!L23","v":0},{"$f":"'Физ.разв. к 7г ч1. К.г. '!M23","v":0},{"$f":"'Физ.разв. к 7г ч1. К.г. '!N23","v":0},{"$f":"'Физ.разв. к 7г ч1. К.г. '!O23","v":0},{"$f":"'Физ.разв. к 7г ч1. К.г. '!P23","v":0},{"$f":"'Физ.разв. к 7г ч1. К.г. '!Q23","v":0},{"$f":"'Физ.разв. к 7г ч1. К.г. '!R23","v":0},{"$f":"'Физ.разв. к 7г ч1. К.г. '!S23","v":0},{"$f":"'Физ.разв. к 7г ч1. К.г. '!T23","v":0},{"$f":"'Физ.разв. к 7г ч1. К.г. '!U23","v":0},{"$f":"'Физ.разв. к 7г ч1. К.г. '!V23","v":0},{"$f":"'Физ.разв. к 7г ч1. К.г. '!W23","v":0},{"$f":"'Физ.разв. к 7г ч2. К.г.'!E24","v":0},{"$f":"'Физ.разв. к 7г ч2. К.г.'!F24","v":0},{"$f":"'Физ.разв. к 7г ч2. К.г.'!G24","v":0},{"$f":"'Физ.разв. к 7г ч2. К.г.'!H24","v":0},{"$f":"'Физ.разв. к 7г ч2. К.г.'!I24","v":0},{"$f":"'Физ.разв. к 7г ч2. К.г.'!J24","v":0},{"$f":"'Физ.разв. к 7г ч2. К.г.'!K24","v":0},{"$f":"'Физ.разв. к 7г ч2. К.г.'!L24","v":0},{"$f":"'Физ.разв. к 7г ч2. К.г.'!M24","v":0},{"$f":"'Физ.разв. к 7г ч2. К.г.'!N24","v":0},{"$f":"'Физ.разв. к 7г ч2. К.г.'!O24","v":0},{"$f":"'Физ.разв. к 7г ч2. К.г.'!P24","v":0},{"$f":"'Физ.разв. к 7г ч2. К.г.'!Q24","v":0},{"$f":"'Физ.разв. к 7г ч2. К.г.'!R24","v":0},{"$f":"'Физ.разв. к 7г ч2. К.г.'!S24","v":0},{"$f":"'Физ.разв. к 7г ч2. К.г.'!T24","v":0},{"$f":"'Физ.разв. к 7г ч3. К.г. '!E24","v":0},{"$f":"'Физ.разв. к 7г ч3. К.г. '!F24","v":0},{"$f":"'Физ.разв. к 7г ч3. К.г. '!G24","v":0},{"$f":"'Физ.разв. к 7г ч3. К.г. '!H24","v":0},{"$f":"'Физ.разв. к 7г ч3. К.г. '!I24","v":0},{"$f":"'Физ.разв. к 7г ч3. К.г. '!J24","v":0},{"$f":"'Физ.разв. к 7г ч3. К.г. '!K24","v":0},{"$f":"'Физ.разв. к 7г ч3. К.г. '!L24","v":0},{"$f":"'Физ.разв. к 7г ч3. К.г. '!M24","v":0},{"$f":"'Физ.разв. к 7г ч3. К.г. '!N24","v":0},{"$f":"'Физ.разв. к 7г ч3. К.г. '!O24","v":0},{"$f":"'Худ.эст.к 7г ч1. К.г. '!E23","v":0},{"$f":"'Худ.эст.к 7г ч1. К.г. '!F23","v":0},{"$f":"'Худ.эст.к 7г ч1. К.г. '!G23","v":0},{"$f":"'Худ.эст.к 7г ч1. К.г. '!H23","v":0},{"$f":"'Худ.эст.к 7г ч1. К.г. '!I23","v":0},{"$f":"'Худ.эст.к 7г ч1. К.г. '!J23","v":0},{"$f":"'Худ.эст.к 7г ч1. К.г. '!K23","v":0},{"$f":"'Худ.эст.к 7г ч1. К.г. '!L23","v":0},{"$f":"'Худ.эст.к 7г ч1. К.г. '!M23","v":0},{"$f":"'Худ.эст.к 7г ч1. К.г. '!N23","v":0},{"$f":"'Худ.эст.к 7г ч1. К.г. '!O23","v":0},{"$f":"'Худ.эст.к 7г ч1. К.г. '!P23","v":0},{"$f":"'Худ.эст.к 7г ч1. К.г. '!Q23","v":0},{"$f":"'Худ.эст.к 7г ч2. К.г. '!E23","v":0},{"$f":"'Худ.эст.к 7г ч2. К.г. '!F23","v":0},{"$f":"'Худ.эст.к 7г ч2. К.г. '!G23","v":0},{"$f":"'Худ.эст.к 7г ч2. К.г. '!H23","v":0},{"$f":"'Худ.эст.к 7г ч2. К.г. '!I23","v":0},{"$f":"'Худ.эст.к 7г ч2. К.г. '!J23","v":0},{"$f":"'Худ.эст.к 7г ч2. К.г. '!K23","v":0},{"$f":"'Худ.эст.к 7г ч2. К.г. '!L23","v":0},{"$f":"'Худ.эст.к 7г ч2. К.г. '!M23","v":0},{"$f":"'Худ.эст.к 7г ч2. К.г. '!N23","v":0},{"$f":"'Худ.эст.к 7г ч2. К.г. '!O23","v":0},{"$f":"'Худ.эст.к 7г ч2. К.г. '!P23","v":0},{"$f":"'Худ.эст.к 7г ч2. К.г. '!Q23","v":0},{"$f":"'Худ.эст.к 7г ч3. К.г. '!E23","v":0},{"$f":"'Худ.эст.к 7г ч3. К.г. '!F23","v":0},{"$f":"'Худ.эст.к 7г ч3. К.г. '!G23","v":0},{"$f":"'Худ.эст.к 7г ч3. К.г. '!H23","v":0},{"$f":"'Худ.эст.к 7г ч3. К.г. '!I23","v":0},{"$f":"'Худ.эст.к 7г ч3. К.г. '!J23","v":0},{"$f":"'Худ.эст.к 7г ч3. К.г. '!K23","v":0},{"$f":"'Худ.эст.к 7г ч3. К.г. '!L23","v":0}]

{"sheet":"13","index":50,"n_rows":7,"n_cols":165,"rows_kept":7,"merged":[[0,104,0,110],[0,111,0,112],[0,113,0,115],[0,116,0,119],[0,120,0,123],[0,124,0,126],[0,127,0,130],[1,54,1,58],[1,59,1,62],[1,63,1,71],[1,72,1,76],[1,77,1,84],[1,104,1,106],[1,107,1,110],[1,111,4,111],[1,112,4,112],[1,113,4,113],[1,114,4,114],[1,115,4,115],[1,116,1,119],[1,120,2,120],[1,121,2,121],[1,122,2,122],[1,123,2,123],[1,124,4,124],[1,125,4,125],[1,126,4,126],[1,127,1,130],[1,131,1,143],[1,144,1,156],[1,157,2,162],[1,163,2,164],[2,18,2,22],[2,23,2,25],[2,26,2,30],[2,32,2,34],[2,35,2,38],[2,40,2,44],[2,45,2,47],[2,48,2,53],[2,55,2,57],[2,59,4,59],[2,60,4,60],[2,61,4,61],[2,62,4,62],[2,63,2,65],[2,66,2,67],[2,68,2,69],[2,72,3,76],[2,77,2,80],[2,81,2,82],[2,83,4,83],[2,84,4,84],[2,85,2,86],[2,87,2,89],[2,90,2,92],[2,93,2,95],[2,96,2,99],[2,100,2,101],[2,102,2,103],[2,104,4,104],[2,105,4,105],[2,106,4,106],[2,107,4,107],[2,108,4,108],[2,109,4,109],[2,110,4,110],[2,116,4,116],[2,117,4,117],[2,118,4,118],[2,119,4,119],[2,127,4,127],[2,128,4,128],[2,129,4,129],[2,130,4,130],[2,135,2,136],[2,137,2,140],[2,141,2,142],[2,143,4,143],[2,144,2,145],[2,146,2,147],[2,148,2,149],[2,151,2,156],[3,0,4,0],[3,1,3,4],[3,7,3,9],[3,11,3,12],[3,13,3,14],[3,15,4,15],[3,16,4,16],[3,17,4,17],[3,18,4,18],[3,19,4,19],[3,20,4,20],[3,21,4,21],[3,22,4,22],[3,23,4,23],[3,24,4,24],[3,25,4,25],[3,26,4,26],[3,27,4,27],[3,28,4,28],[3,29,4,29],[3,30,4,30],[3,31,4,31],[3,32,4,32],[3,33,4,33],[3,34,4,34],[3,35,4,35],[3,36,4,36],[3,37,4,37],[3,38,4,38],[3,39,4,39],[3,40,4,40],[3,41,4,41],[3,42,4,42],[3,43,4,43],[3,44,4,44],[3,45,4,45],[3,46,4,46],[3,47,4,47],[3,48,4,48],[3,49,4,49],[3,50,4,50],[3,51,4,51],[3,52,4,52],[3,53,4,53],[3,54,3,58],[3,63,4,63],[3,64,4,64],[3,65,4,65],[3,66,4,66],[3,67,4,67],[3,68,4,68],[3,69,4,69],[3,70,4,70],[3,71,4,71],[3,81,4,81],[3,85,3,86],[3,87,3,89],[3,90,3,92],[3,93,3,95],[3,96,3,99],[3,100,3,101],[3,102,4,102],[3,103,4,103],[3,120,4,120],[3,121,4,121],[3,122,4,122],[3,123,4,123],[3,131,4,131],[3,132,4,132],[3,133,4,133],[3,134,4,134],[3,135,4,135],[3,136,4,136],[3,137,4,137],[3,138,4,138],[3,139,4,139],[3,140,4,140],[3,141,4,141],[3,142,4,142],[3,144,4,144],[3,145,4,145],[3,146,4,146],[3,147,4,147],[3,148,4,148],[3,149,4,149],[3,150,4,150],[3,151,4,151],[3,152,4,152],[3,153,4,153],[3,154,4,154],[3,155,4,155],[3,156,4,156],[3,157,4,157],[3,158,4,158],[3,159,4,159],[3,160,4,160],[3,161,4,161],[3,162,4,162],[3,163,4,163],[3,164,4,164]]}
[{"$nulls":104},"Мелкая моторика",{"$nulls":6},"Подвижные игры",null,"Спорт. игры",null,null,"Спортивные упражнения",{"$nulls":3},"КГН",{"$nulls":3},"ЗОЖ",null,null,"Спортивные упражнения"]
[{"$nulls":54},"Сенсорные эталоны ",{"$nulls":4},"Познавательные действия",{"$nulls":3},"Математические представления",{"$nulls":8},"Окружающий мир",{"$nulls":4},"Природа ",{"$nulls":26},"Координация рук и глаз",null,null,"Графические навыки",{"$nulls":3},"Ребенок использует в самостоятельной деятельности разнообразные по содержанию подвижные игры, проявляет элементы творчества в двигательной деятельности","Ребенок может организовать знакомые подвижные игры со сверстниками, сплотить команду, стремится внести свой вклад в результат команды","Ребенок владеет элементами спортивных игр (городки, баскетбол, футбол, хоккей, бадминтон, настольный теннис), может контролировать свои движения и управлять ими","Ребенок имеет представление о разных видах спорта (санный спорт, борьба, теннис, синхронное плавание и др.)","Ребенок имеет представление о спортивных событиях и достижениях отечественных спортсменов","Ребенок умеет кататься",{"$nulls":3},"Навыки соблюдения чистоты тела (правила личной гигиены)","Навыки культуры еды (прием пищи) ","Навыки поддержания порядка (правила поведения в быту) ","Навыки ухода за собой (одевание, раздевание) ","Ребенок соблюдает элементарные правила здорового образа жизни и личной гигиены, следит за своей осанкой, может оценить свое самочувствие","Ребенок регулярно выполняет физические упражнения","Ребенок имеет начальные представления о том, что такое здоровье, понимает, как поддержать, укрепить и сохранить его","Ребенок умеет кататься",{"$nulls":3},"Музыкальная деятельность",{"$nulls":12},"Изобразительная деятельность",{"$nulls":12},"Приобщение к искусству",{"$nulls":5},"Конструктивная деятельность"]
[{"$nulls":18},"Область формирования основ гражданственности и патриотизма",{"$nulls":4},"Сфера трудового воспитания",null,null,"Область формирования основ безопасного поведения",{"$nulls":4},"Общее речевое развитие","Формирование словаря",null,null,"Грамматический строй",{"$nulls":3},"Звуковая культура речи","Связная речь",{"$nulls":4},"ЧХЛ",null,null,"Подготовка к обучению грамоте",{"$nulls":5},"Цвет, оттенки","Форма, геометрические фигуры",null,null,"Величина","Ребенок самостоятельно выбирает способ осуществления разных видов познавательной деятельности","Ребенок интересуется субъективно новым и неизвестным в окружающем мире","Ребенок способен применять в жизненных и игровых ситуациях знания о количестве, форме, величине предметов, пространстве, времени","Ребенок имеет разнообразные познавательные умения: определяет противоречия. Формулирует задачу исследования, использует разные способы и средства проверки предположений (сравнение с эталонами, классификацию, систематизацию и др.)","Количество и счет",null,null,"Ориентировка во времени",null,"Ориентировка в пространстве",null,"Пространственно-количественные связи и отношения","Сравнение","Ребенок имеет представления, может показать на картинке и в естественной среде, может рассказать",{"$nulls":4},"Объекты живой природы",{"$nulls":3},"Объекты неживой природы, природные явления",null,"Ребенок стремится к самостоятельному экспериментированию","Ребенок знает правила поведения в природе, проявляет осознанное, бережное отношение к природе и ее ресурсам","Бросание, катание, ловля, метание",null,"Ползанье, лазанье",null,null,"Ходьба",null,null,"Бег",null,null,"Прыжки",{"$nulls":3},"Равновесие",null,"Строевые упражнения",null,"Ребенок выполняет графический диктант","Ребенок обводит по шаблону, по трафарету","Ребенок чертит линии с помощью линейки","Ребенок обводит по контуру, по точкам","Ребенок выполняет штриховку в различных направлениях","Ребенок закрашивает, не выходя за контур","Ребенок свободно владеет карандашом при рисовании округлых линий, завитков в разном направлении",{"$nulls":5},"на санках","на лыжах","на двухколесном велосипеде","на самокате",{"$nulls":7},"на санках","на лыжах","на двухколесном велосипеде","на самокате","Слушание","Пение ","Музыкально-ритмические движения","Песенное творчество","Игра на детских музыкальных инструментах",null,"Театрализованная деятельность",{"$nulls":3},"Танцевально-игровое творчество",null,"У ребенка развит музыкальный вкус, музыкальная память","Рисование ",null,"Лепка ",null,"Аппликация ",null,"Народное ДПИ","Прикладное творчество"]
[{"$f":"Список!B16","v":0},"Отношение к самому себе",{"$nulls":3},"Отношение к сверстникам","Отношение к взрослым","Эмоции",null,null,"Поведение","Семья",null,"Игровое поведение",null,"Ребенок имеет представление об изменениях позиции человека с возрастом","Ребенок имеет представление о школе, школьниках, учителях; стремится к школьному обучению, к познанию, освоению чтения, письма; демонстрирует формированные предпосылки к учебной деятельности и элементы готовности к школьному обучению","Ребенок имеет представление о нравственных качествах людей, их проявлении в поступках и взаимоотношениях","Ребенок имеет представление о признаках и характеристиках государства (территория государства и его границы, столица), атрибутах государственной власти, президенте, столице","Ребенок имеет представление о порядке использования государственной символики","Ребенок имеет представление о волонтерстве","Ребенок имеет представление о государственных праздниках, исторических событиях","Ребенок имеет представление о жизни людей в России, о многообразии стран и народов мира","Ребенок имеет представление об обмене ценностями в процессе производства и потребления товаров и услуг, о денежных отношениях, о реальной стоимости отдельных продуктов питания, игрушек, детских книг","Ребенок имеет представление о об основах финансовой грамоты, основах бережного потребления","Ребенок проявляет инициативность и самостоятельность в процессе самообслуживания, при выполнении трудовых поручений","Ребенок имеет представление о правила безопасного поведения в ситуациях, создающих угрозу жизни и здоровью (погас свет, остался один, потерялся, получил травму)","Ребенок имеет представление о правила безопасного поведения дома, на улице, в природе, в местах большого скопления людей, в магазине, на вокзале, в общественных метах, на праздниках и др.","Ребенок имеет представление о правилах безопасного использования цифровых ресурсов (мобильного телефона, планшета)","Ребенок имеет представление об элементарных правилах оказания первой помощи при первых признаках недомогания, травмах, ушибах","Ребенок проявляет самостоятельность при выполнении правил безопасного поведения","Ребенок владеет речью как средством коммуникации, ведет диалог, владеет коммуникативно-речевыми умениями","Ребенок подбирает точные слова для выражения мысли","Ребенок выполняет операцию классификации – деления освоенных понятий на группы на основе выявленных признаков","Ребенок использует в речи средства языковой выразительности: антонимы, синонимы, многозначные слова, метафоры, олицетворение","Ребенок образует сложные слова посредством слияния основ","Ребенок согласует в речи существительные с числительными, существительные с прилагательными","Ребенок образует по образцу существительные с суффиксами, глаголы с приставками","Ребенок образует в речи сравнительную и превосходную степени имен прилагательных","Ребенок правильно произносит все звуки","Ребенок может пересказать литературное произведение по ролям, близко к тексту, от лица литературного героя","Ребенок может составить описательный рассказ, соблюдая структуру описания","Ребенок может составить повествовательный рассказ по картине, из личного опыта, из коллективного опыта, по набору игрушек, соблюдая структуру повествования","Ребенок может составить рассказ -контаминацию (сочетание описания и повествования, описания и рассуждения)","Ребенок использует в процессе общения объяснительную речь, речь-доказательство, речевое планирование","Ребенок знает и осмысленно воспринимает литературные произведения различных жанров, имеет предпочтения","Ребенок определяет характеры персонажей, мотивы их поведения, оценивает поступки литературных героев","Ребенок проявляет интерес к книгам познавательного характера","Ребенок производит звуковой анализ четырехзвуковых и пятизвуковых слов","Ребенок может интонационно выделить звуки в слове, определить их последовательность, дать им характеристику, составить схему слова, выделить ударный гласный звук в слове","Ребенок может определить количество и последовательность слов в предложении","Ребенок может составить предложение с заданным количеством слов","Ребенок знает названия всех букв","Ребенок читает слоги","Ребенок различает и называет",{"$nulls":8},"Ребенок умеет считать в пределах 10 в прямом и обратном порядке","Ребенок знает состав чисел из двух меньших в пределах первого десятка","Ребенок решает простые арифметические задачи на сложение и вычитание","Ребенок имеет представление о календаре, как системе измерения времени","Ребенок умеет определять время по часам с точностью до четверти часа","Ребенок ориентируется на местности, по схеме, по плану","Ребенок знает способы ориентировки в двухмерном пространстве","Ребенок умеет измерять протяженность, массу и объем с помощью условной мерки; понимает взаимообратные отношения между мерой и результатом измерения","Ребенок сравнивает предметы по 4-6 основаниям с выделением сходства, отличия",{"$nulls":9},"Ребенок имеет представление об использовании человеком свойств неживой природы для хозяйственных нужд (ветряные мельницы, водохранилища, солнечные батареи, ледяные катки)",{"$nulls":3},"Ребенок выполняет различные упражнения с мячом, метание",null,"Ребенок выполняет разные виды ползанья, лазанья ",null,null,"Ребенок выполняет различные виды ходьбы",null,null,"Ребенок выполняет различные виды бега",null,null,"Ребенок выполняет различные виды прыжков",{"$nulls":3},"Ребенок выполняет",null,"Ребенок выполняет разные виды перестроений, построений, передвижений, размыкание и смыкание приставным шагом, повороты","Ребенок может рассчитаться на «первый – второй»",{"$nulls":16},"Ребенок владеет навыками личной гигиены","Ребенок владеет навыками культуры еды","Ребенок владеет навыками поддержания порядка","Ребенок владеет навыками ухода за собой",{"$nulls":7},"У ребенка развит навык восприятия звуков по высоте в пределах квинты-терции","У ребенка развиты певческий голос и вокально-слуховая координация","Ребёнок ритмично и выразительно двигается в соответствие с характером музыки","Ребенок способен самостоятельно придумать мелодию, используя в качестве образца русские народные песни","Ребенок может сыграть простую мелодию на металлофоне, свирели, ударных, и электронных музыкальных инструментах: трещотках, погремушках, треугольниках","Ребенок может исполнить музыкальное произведение в оркестре и в ансамбле","Ребенок проявляет самостоятельность при выборе литературного и музыкального материала для театральной постановки","Ребенок проявляет инициативу при изготовлении атрибутов и декораций к спектаклю","Ребенок имеет представление о средствах погружения в театральные образы (музыка, слова, декорации, грим, костюм и др.)","Ребенок умеет выразительно передавать образы в действии, мимике, пантомимике","Ребенок проявляет активность в доступных видах музыкальной исполнительской деятельности (игра в оркестре, пение, танцевальные движения и др.)","Ребенок помогает придумывать движения, отражающие содержание песни",null,"Ребенок может изобразить предметы по памяти и с натуры, передает их средствами рисунка (форма, пропорции, расположение)","Ребенок способен передавать в рисунке сюжет, строить композицию","Ребенок свободно использует приемы лепки, освоенные ранее (налеп, углубленный рельеф), применяет стеку","Ребенок умеет передавать пропорции, соотношение по величине, выразительность поз, движений, деталей","Ребенок умеет составлять узоры и декоративные композиции из геометрических и растительных элементов на листах бумаги разной формы","Ребенок может выполнить вырезание (симметричное из бумаги, сложенной вдвое; несколько предметов из частей бумаги, сложенной гармошкой)","Ребенок умеет создавать узоры по мотивам народных росписей","Ребенок может сложить бумагу в разных направлениях","Ребенок может сделать разметку с помощью шаблона","Ребенок может выполнить работу по образцу","Ребенок может создать объемную игрушку в технике «оригами»","Ребенок может создать объемную поделку из природного материала","Ребенок может вдеть нитку в иголку, завязать узелок, пришить пуговицу, петельку, выполнить шов «вперед иголка»","Ребенок умеет выделять, называть, группировать произведения по видам искусства: литература, музыка, изобразительное искусство, архитектура, театр, цирк","Ребенок имеет представление о видах изобразительного искусства: графика, декоративно-прикладное искусство, живопись, скульптура, архитектура, фотоискусство","Ребенок имеет представление о жанрах изобразительного искусства: натюрморт, пейзаж, портрет","Ребенок имеет представление о народном искусстве, фольклоре, музыке и художественных промыслах","Ребенок имеет представление о творческих профессиях: художник, композитор, музыкант, актер, артист балета","Ребенок имеет представление о культурно-досуговых местах: театр, музей, библиотека, выставка, кинотеатр, цирк и др.","Ребенок может провести анализ постройки (выделить основные части и характерные детали конструкций)","Ребенок может выполнить постройку по инструкции"]
[null,"Ребенок осознает и признает собственные ошибки, результат поставленных задач, определяет пути развития","Ребенок умеет договариваться и дружить, старается разрешать конфликтные ситуации конструктивными способами","Ребенок способен принимать собственные решения и проявлять инициативу","Ребенок осознанно относится к своему будущему, стремится быть полезным обществу","Ребенок без напоминаний использует в общении формулы словесной вежливости (приветствие, прощание, просьбы, извинения)","Ребенок без напоминаний использует в общении формулы словесной вежливости (приветствие, прощание, просьбы, извинения)","Ребенок понимает чувства и переживания окружающих по невербальным признакам; находит причины и следствия возникновения эмоций, проявляет эмпатию","Ребенок использует социально приемлемые способы проявления эмоций и доступные возрасту регуляции эмоциональных состояний","Ребенок распознает собственные чувства и эмоции, анализирует свои переживания и рассказывает о них","Ребенок самостоятельно соблюдает установленный порядок поведения в группе, регулирует собственную активность","Ребенок имеет представление о необходимости укрепления связи между поколениями, взаимной поддержке детей и взрослых","Ребенок имеет представление о семье, семейных и родственных отношениях (взаимные чувства, правила общения в семье, значимые и памятные события, досуг семьи, семейный бюджет)","Ребенок умеет сотрудничать со сверстниками (побуждает к обсуждению планов, советуется, поддерживает интерес к мнению, инициирует ситуации взаимопомощи, подчеркивает ценность каждого ребенка и его вклад в общее дело, выбирает партнеров по интересам, помогает устанавливать темп совместных действий)","Ребенок владеет разными способами и видами игры, различает условную и реальную ситуации, предлагает и объясняет замысел игры, комбинирует сюжеты на основе реальных, вымышленных ситуаций, выполняет несколько ролей в одной игре, подбирает разные средства для создания игровых образов, согласовывает свои интересы с интересами партнёров по игре",{"$nulls":39}," все цвета спектра и ахроматические цвета, оттенки","плоские и объемные геометрические фигуры; умеет выделять структуру геометрических фигур и устанавливать взаимосвязи между ними","Ребенок умеет классифицировать фигуры по внешним структурным признаками (округлые, многоугольники)","Ребенок владеет различными способами видоизменения геометрических фигур (наложение, соединение, разрезание и др.)","Ребенок умеет измерять длину, ширину, высоту с помощью условной мерки",{"$nulls":13}," о родном населенном пункте (название улиц, некоторых архитектурных особенностях, достопримечательностях), об истории, о выдающихся горожанах, традициях городской жизни"," о назначении общественных учреждений"," о разных видах специального транспорта"," о местах труда людей (завод, больница, магазин и др.)"," о местах отдыха людей","Ребенок имеет представление о наиболее ярких представителях животных и растений разных природных зон (пустыня, степь, тайга, тундра и др.), об их образе жизни, приспособлении к среде обитания, изменениях в жизни в разные сезоны года","Ребенок имеет представление о многообразии водных ресурсов (моря, океаны, реки, водопады и др.)","Ребенок имеет представление о многообразии полезных ископаемых (нефть, уголь, серебро, золото, алмазы и др.)","Ребенок имеет представление о жизненных потребностях, этапах роста и развития животных и растений",null,"Ребенок имеет представление о некоторых небесных телах (планеты, кометы, звезды)",null,null,"бросание вверх, о землю, ловля двумя руками, одной рукой, перебрасывание, передача, прокатывание, забрасывание, ведение","в цель из положения стоя, вдаль, в движущеюся цель","ползанье на четвереньках, на животе, на спине","влезание на гимнастическую стенку и спуск; перелезание с пролета на пролет по диагонали","лазанье по веревочной лестнице; выполнение упражнений на канате","обычная, гимнастическим шагом, скрестным шагом, спиной вперед, выпадами, с закрытыми глазами","приставными шагами назад, в приседе, с различными движениями рук","в различных построениях","в колонне по одному, врассыпную, парами, тройками, четверками","в сочетание с прыжками, высоко поднимая колени, захлестывая голени назад, выбрасывая прямые ноги вперед","челночный, наперегонки, из разных исходных положений, со скакалкой, по пересеченной местности, с наименьшим числом шагов, медленный, быстрый","подпрыгивания на двух ногах в чередовании с ходьбой, на месте и с поворот кругом","смещая ноги вправо-влево-вперед-назад","выпрыгивание на предметы; подпрыгивания вверх из глубокого приседа; прыжки на одной ноге","в длину с места/с разбега, в высоту с места/с разбега","стойка на носках, стойка на одной ноге с закрытыми глазами","кружение с закрытыми глазами, остановкой и сохранением заданной позы"]
["начало года",{"$f":"'Соц.ком.к 7г ч1 Н.г.'!E23","v":0},{"$f":"'Соц.ком.к 7г ч1 Н.г.'!F23","v":0},{"$f":"'Соц.ком.к 7г ч1 Н.г.'!G23","v":0},{"$f":"'Соц.ком.к 7г ч1 Н.г.'!H23","v":0},{"$f":"'Соц.ком.к 7г ч1 Н.г.'!I23","v":0},{"$f":"'Соц.ком.к 7г ч1 Н.г.'!J23","v":0},{"$f":"'Соц.ком.к 7г ч1 Н.г.'!K23","v":0},{"$f":"'Соц.ком.к 7г ч1 Н.г.'!L23","v":0},{"$f":"'Соц.ком.к 7г ч1 Н.г.'!M23","v":0},{"$f":"'Соц.ком.к 7г ч1 Н.г.'!N23","v":0},{"$f":"'Соц.ком.к 7г ч2 Н.г.'!E23","v":0},{"$f":"'Соц.ком.к 7г ч2 Н.г.'!F23","v":0},{"$f":"'Соц.ком.к 7г ч2 Н.г.'!G23","v":0},{"$f":"'Соц.ком.к 7г ч2 Н.г.'!H23","v":0},{"$f":"'Соц.ком.к 7г ч2 Н.г.'!I23","v":0},{"$f":"'Соц.ком.к 7г ч2 Н.г.'!J23","v":0},{"$f":"'Соц.ком.к 7г ч2 Н.г.'!K23","v":0},{"$f":"'Соц.ком. к 7г ч3 Н.г.'!E23","v":0},{"$f":"'Соц.ком. к 7г ч3 Н.г.'!F23","v":0},{"$f":"'Соц.ком. к 7г ч3 Н.г.'!G23","v":0},{"$f":"'Соц.ком. к 7г ч3 Н.г.'!H23","v":0},{"$f":"'Соц.ком. к 7г ч3 Н.г.'!I23","v":0},{"$f":"'Соц.ком. к 7г ч3 Н.г.'!J23","v":0},{"$f":"'Соц.ком. к 7г ч3 Н.г.'!K23","v":0},{"$f":"'Соц.ком. к 7г ч3 Н.г.'!L23","v":0},{"$f":"'Соц.ком. к 7г ч4 Н.г.'!E23","v":0},{"$f":"'Соц.ком. к 7г ч4 Н.г.'!F23","v":0},{"$f":"'Соц.ком. к 7г ч4 Н.г.'!G23","v":0},{"$f":"'Соц.ком. к 7г ч4 Н.г.'!H23","v":0},{"$f":"'Соц.ком. к 7г ч4 Н.г.'!I23","v":0},{"$f":"'Реч.разв.к 7г ч1 Н.г.'!E23","v":0},{"$f":"'Реч.разв.к 7г ч1 Н.г.'!F23","v":0},{"$f":"'Реч.разв.к 7г ч1 Н.г.'!G23","v":0},{"$f":"'Реч.разв.к 7г ч1 Н.г.'!H23","v":0},{"$f":"'Реч.разв.к 7г ч1 Н.г.'!I23","v":0},{"$f":"'Реч.разв.к 7г ч1 Н.г.'!J23","v":0},{"$f":"'Реч.разв.к 7г ч1 Н.г.'!K23","v":0},{"$f":"'Реч.разв.к 7г ч1 Н.г.'!L23","v":0},{"$f":"'Реч.разв.к 7г ч2 Н.г.'!E23","v":0},{"$f":"'Реч.разв.к 7г ч2 Н.г.'!F23","v":0},{"$f":"'Реч.разв.к 7г ч2 Н.г.'!G23","v":0},{"$f":"'Реч.разв.к 7г ч2 Н.г.'!H23","v":0},{"$f":"'Реч.разв.к 7г ч2 Н.г.'!I23","v":0},{"$f":"'Реч.разв.к 7г ч2 Н.г.'!J23","v":0},{"$f":"'Реч.разв.к 7г ч2 Н.г.'!K23","v":0},{"$f":"'Реч.разв.к 7г ч2 Н.г.'!L23","v":0},{"$f":"'Реч.разв.к 7г ч2 Н.г.'!M23","v":0},{"$f":"'Реч.разв.к 7г ч3. Н.г.'!E23","v":0},{"$f":"'Реч.разв.к 7г ч3. Н.г.'!F23","v":0},{"$f":"'Реч.разв.к 7г ч3. Н.г.'!G23","v":0},{"$f":"'Реч.разв.к 7г ч3. Н.г.'!H23","v":0},{"$f":"'Реч.разв.к 7г ч3. Н.г.'!I23","v":0},{"$f":"'Реч.разв.к 7г ч3. Н.г.'!J23","v":0},{"$f":"'Позн.разв. к 7г ч1. Н.г.'!E24","v":0},{"$f":"'Позн.разв. к 7г ч1. Н.г.'!F24","v":0},{"$f":"'Позн.разв. к 7г ч1. Н.г.'!G24","v":0},{"$f":"'Позн.разв. к 7г ч1. Н.г.'!H24","v":0},{"$f":"'Позн.разв. к 7г ч1. Н.г.'!I24","v":0},{"$f":"'Позн.разв. к 7г ч1. Н.г.'!J24","v":0},{"$f":"'Позн.разв. к 7г ч1. Н.г.'!K24","v":0},{"$f":"'Позн.разв. к 7г ч1. Н.г.'!L24","v":0},{"$f":"'Позн.разв. к 7г ч1. Н.г.'!M24","v":0},{"$f":"'Позн.разв. к 7г ч2. Н.г.'!E24","v":0},{"$f":"'Позн.разв. к 7г ч2. Н.г.'!F24","v":0},{"$f":"'Позн.разв. к 7г ч2. Н.г.'!G24","v":0},{"$f":"'Позн.разв. к 7г ч2. Н.г.'!H24","v":0},{"$f":"'Позн.разв. к 7г ч2. Н.г.'!I24","v":0},{"$f":"'Позн.разв. к 7г ч2. Н.г.'!J24","v":0},{"$f":"'Позн.разв. к 7г ч2. Н.г.'!K24","v":0},{"$f":"'Позн.разв. к 7г ч2. Н.г.'!L24","v":0},{"$f":"'Позн.разв. к 7г ч2. Н.г.'!M24","v":0},{"$f":"'Позн.разв. к 7г ч3. Н.г.'!E24","v":0},{"$f":"'Позн.разв. к 7г ч3. Н.г.'!F24","v":0},{"$f":"'Позн.разв. к 7г ч3. Н.г.'!G24","v":0},{"$f":"'Позн.разв. к 7г ч3. Н.г.'!H24","v":0},{"$f":"'Позн.разв. к 7г ч3. Н.г.'!I24","v":0},{"$f":"'Позн.разв. к 7г ч3. Н.г.'!J24","v":0},{"$f":"'Позн.разв. к 7г ч3. Н.г.'!K24","v":0},{"$f":"'Позн.разв. к 7г ч3. Н.г.'!L24","v":0},{"$f":"'Позн.разв. к 7г ч3. Н.г.'!M24","v":0},{"$f":"'Позн.разв. к 7г ч3. Н.г.'!N24","v":0},{"$f":"'Позн.разв. к 7г ч3. Н.г.'!O24","v":0},{"$f":"'Позн.разв. к 7г ч3. Н.г.'!P24","v":0},{"$f":"'Позн.разв. к 7г ч3. Н.г.'!Q24","v":0},{"$f":"'Физ.разв. к 7г ч1. Н.г.'!E24","v":0},{"$f":"'Физ.разв. к 7г ч1. Н.г.'!F24","v":0},{"$f":"'Физ.разв. к 7г ч1. Н.г.'!G24","v":0},{"$f":"'Физ.разв. к 7г ч1. Н.г.'!H24","v":0},{"$f":"'Физ.разв. к 7г ч1. Н.г.'!I24","v":0},{"$f":"'Физ.разв. к 7г ч1. Н.г.'!J24","v":0},{"$f":"'Физ.разв. к 7г ч1. Н.г.'!K24","v":0},{"$f":"'Физ.разв. к 7г ч1. Н.г.'!L24","v":0},{"$f":"'Физ.разв. к 7г ч1. Н.г.'!M24","v":0},{"$f":"'Физ.разв. к 7г ч1. Н.г.'!N24","v":0},{"$f":"'Физ.разв. к 7г ч1. Н.г.'!O24","v":0},{"$f":"'Физ.разв. к 7г ч1. Н.г.'!P24","v":0},{"$f":"'Физ.разв. к 7г ч1. Н.г.'!Q24","v":0},{"$f":"'Физ.разв. к 7г ч1. Н.г.'!R24","v":0},{"$f":"'Физ.разв. к 7г ч1. Н.г.'!S24","v":0},{"$f":"'Физ.разв. к 7г ч1. Н.г.'!T24","v":0},{"$f":"'Физ.разв. к 7г ч1. Н.г.'!U24","v":0},{"$f":"'Физ.разв. к 7г ч1. Н.г.'!V24","v":0},{"$f":"'Физ.разв. к 7г ч1. Н.г.'!W24","v":0},{"$f":"'Физ.разв. к 7г ч2. Н.г.'!E25","v":0},{"$f":"'Физ.разв. к 7г ч2. Н.г.'!F25","v":0},{"$f":"'Физ.разв. к 7г ч2. Н.г.'!G25","v":0},{"$f":"'Физ.разв. к 7г ч2. Н.г.'!H25","v":0},{"$f":"'Физ.разв. к 7г ч2. Н.г.'!I25","v":0},{"$f":"'Физ.разв. к 7г ч2. Н.г.'!J25","v":0},{"$f":"'Физ.разв. к 7г ч2. Н.г.'!K25","v":0},{"$f":"'Физ.разв. к 7г ч2. Н.г.'!L25","v":0},{"$f":"'Физ.разв. к 7г ч2. Н.г.'!M25","v":0},{"$f":"'Физ.разв. к 7г ч2. Н.г.'!N25","v":0},{"$f":"'Физ.разв. к 7г ч2. Н.г.'!O25","v":0},{"$f":"'Физ.разв. к 7г ч2. Н.г.'!P25","v":0},{"$f":"'Физ.разв. к 7г ч2. Н.г.'!Q25","v":0},{"$f":"'Физ.разв. к 7г ч2. Н.г.'!R25","v":0},{"$f":"'Физ.разв. к 7г ч2. Н.г.'!S25","v":0},{"$f":"'Физ.разв. к 7г ч2. Н.г.'!T25","v":0},{"$f":"'Физ.разв. к 7г ч3. Н.г.'!E25","v":0},{"$f":"'Физ.разв. к 7г ч3. Н.г.'!F25","v":0},{"$f":"'Физ.разв. к 7г ч3. Н.г.'!G25","v":0},{"$f":"'Физ.разв. к 7г ч3. Н.г.'!H25","v":0},{"$f":"'Физ.разв. к 7г ч3. Н.г.'!I25","v":0},{"$f":"'Физ.разв. к 7г ч3. Н.г.'!J25","v":0},{"$f":"'Физ.разв. к 7г ч3. Н.г.'!K25","v":0},{"$f":"'Физ.разв. к 7г ч3. Н.г.'!L25","v":0},{"$f":"'Физ.разв. к 7г ч3. Н.г.'!M25","v":0},{"$f":"'Физ.разв. к 7г ч3. Н.г.'!N25","v":0},{"$f":"'Физ.разв. к 7г ч3. Н.г.'!O25","v":0},{"$f":"'Худ.эст.к 7г ч1. Н.г.'!E24","v":0},{"$f":"'Худ.эст.к 7г ч1. Н.г.'!F24","v":0},{"$f":"'Худ.эст.к 7г ч1. Н.г.'!G24","v":0},{"$f":"'Худ.эст.к 7г ч1. Н.г.'!H24","v":0},{"$f":"'Худ.эст.к 7г ч1. Н.г.'!I24","v":0},{"$f":"'Худ.эст.к 7г ч1. Н.г.'!J24","v":0},{"$f":"'Худ.эст.к 7г ч1. Н.г.'!K24","v":0},{"$f":"'Худ.эст.к 7г ч1. Н.г.'!L24","v":0},{"$f":"'Худ.эст.к 7г ч1. Н.г.'!M24","v":0},{"$f":"'Худ.эст.к 7г ч1. Н.г.'!N24","v":0},{"$f":"'Худ.эст.к 7г ч1. Н.г.'!O24","v":0},{"$f":"'Худ.эст.к 7г ч1. Н.г.'!P24","v":0},{"$f":"'Худ.эст.к 7г ч1. Н.г.'!Q24","v":0},{"$f":"'Худ.эст.к 7г ч2. Н.г.'!E24","v":0},{"$f":"'Худ.эст.к 7г ч2. Н.г.'!F24","v":0},{"$f":"'Худ.эст.к 7г ч2. Н.г.'!G24","v":0},{"$f":"'Худ.эст.к 7г ч2. Н.г.'!H24","v":0},{"$f":"'Худ.эст.к 7г ч2. Н.г.'!I24","v":0},{"$f":"'Худ.эст.к 7г ч2. Н.г.'!J24","v":0},{"$f":"'Худ.эст.к 7г ч2. Н.г.'!K24","v":0},{"$f":"'Худ.эст.к 7г ч2. Н.г.'!L24","v":0},{"$f":"'Худ.эст.к 7г ч2. Н.г.'!M24","v":0},{"$f":"'Худ.эст.к 7г ч2. Н.г.'!N24","v":0},{"$f":"'Худ.эст.к 7г ч2. Н.г.'!O24","v":0},{"$f":"'Худ.эст.к 7г ч2. Н.г.'!P24","v":0},{"$f":"'Худ.эст.к 7г ч2. Н.г.'!Q24","v":0},{"$f":"'Худ.эст.к 7г ч3. Н.г.'!E24","v":0},{"$f":"'Худ.эст.к 7г ч3. Н.г.'!F24","v":0},{"$f":"'Худ.эст.к 7г ч3. Н.г.'!G24","v":0},{"$f":"'Худ.эст.к 7г ч3. Н.г.'!H24","v":0},{"$f":"'Худ.эст.к 7г ч3. Н.г.'!I24","v":0},{"$f":"'Худ.эст.к 7г ч3. Н.г.'!J24","v":0},{"$f":"'Худ.эст.к 7г ч3. Н.г.'!K24","v":0},{"$f":"'Худ.эст.к 7г ч3. Н.г.'!L24","v":0}]
["конец года",{"$f":"'Соц.ком.к 7г ч1 К.г.'!E23","v":0},{"$f":"'Соц.ком.к 7г ч1 К.г.'!F23","v":0},{"$f":"'Соц.ком.к 7г ч1 К.г.'!G23","v":0},{"$f":"'Соц.ком.к 7г ч1 К.г.'!H23","v":0},{"$f":"'Соц.ком.к 7г ч1 К.г.'!I23","v":0},{"$f":"'Соц.ком.к 7г ч1 К.г.'!J23","v":0},{"$f":"'Соц.ком.к 7г ч1 К.г.'!K23","v":0},{"$f":"'Соц.ком.к 7г ч1 К.г.'!L23","v":0},{"$f":"'Соц.ком.к 7г ч1 К.г.'!M23","v":0},{"$f":"'Соц.ком.к 7г ч1 К.г.'!N23","v":0},{"$f":"'Соц.ком.к 7г ч2 К.г.'!E23","v":0},{"$f":"'Соц.ком.к 7г ч2 К.г.'!F23","v":0},{"$f":"'Соц.ком.к 7г ч2 К.г.'!G23","v":0},{"$f":"'Соц.ком.к 7г ч2 К.г.'!H23","v":0},{"$f":"'Соц.ком.к 7г ч2 К.г.'!I23","v":0},{"$f":"'Соц.ком.к 7г ч2 К.г.'!J23","v":0},{"$f":"'Соц.ком.к 7г ч2 К.г.'!K23","v":0},{"$f":"'Соц.ком. к 7г ч3 К.г.'!E23","v":0},{"$f":"'Соц.ком. к 7г ч3 К.г.'!F23","v":0},{"$f":"'Соц.ком. к 7г ч3 К.г.'!G23","v":0},{"$f":"'Соц.ком. к 7г ч3 К.г.'!H23","v":0},{"$f":"'Соц.ком. к 7г ч3 К.г.'!I23","v":0},{"$f":"'Соц.ком. к 7г ч3 К.г.'!J23","v":0},{"$f":"'Соц.ком. к 7г ч3 К.г.'!K23","v":0},{"$f":"'Соц.ком. к 7г ч3 К.г.'!L23","v":0},{"$f":"'Соц.ком. к 7г ч4 К.г.'!E23","v":0},{"$f":"'Соц.ком. к 7г ч4 К.г.'!F23","v":0},{"$f":"'Соц.ком. к 7г ч4 К.г.'!G23","v":0},{"$f":"'Соц.ком. к 7г ч4 К.г.'!H23","v":0},{"$f":"'Соц.ком. к 7г ч4 К.г.'!I23","v":0},{"$f":"'Реч.разв.к 7г ч1 К.г.'!E23","v":0},{"$f":"'Реч.разв.к 7г ч1 К.г.'!F23","v":0},{"$f":"'Реч.разв.к 7г ч1 К.г.'!G23","v":0},{"$f":"'Реч.разв.к 7г ч1 К.г.'!H23","v":0},{"$f":"'Реч.разв.к 7г ч1 К.г.'!I23","v":0},{"$f":"'Реч.разв.к 7г ч1 К.г.'!J23","v":0},{"$f":"'Реч.разв.к 7г ч1 К.г.'!K23","v":0},{"$f":"'Реч.разв.к 7г ч1 К.г.'!L23","v":0},{"$f":"'Реч.разв.к 7г ч2 К.г. '!E23","v":0},{"$f":"'Реч.разв.к 7г ч2 К.г. '!F23","v":0},{"$f":"'Реч.разв.к 7г ч2 К.г. '!G23","v":0},{"$f":"'Реч.разв.к 7г ч2 К.г. '!H23","v":0},{"$f":"'Реч.разв.к 7г ч2 К.г. '!I23","v":0},{"$f":"'Реч.разв.к 7г ч2 К.г. '!J23","v":0},{"$f":"'Реч.разв.к 7г ч2 К.г. '!K23","v":0},{"$f":"'Реч.разв.к 7г ч2 К.г. '!L23","v":0},{"$f":"'Реч.разв.к 7г ч2 К.г. '!M23","v":0},{"$f":"'Реч.разв.к 7г ч3. К.г. '!E23","v":0},{"$f":"'Реч.разв.к 7г ч3. К.г. '!F23","v":0},{"$f":"'Реч.разв.к 7г ч3. К.г. '!G23","v":0},{"$f":"'Реч.разв.к 7г ч3. К.г. '!H23","v":0},{"$f":"'Реч.разв.к 7г ч3. К.г. '!I23","v":0},{"$f":"'Реч.разв.к 7г ч3. К.г. '!J23","v":0},{"$f":"'Позн.разв. к 7г ч1. К.г. '!E24","v":0},{"$f":"'Позн.разв. к 7г ч1. К.г. '!F24","v":0},{"$f":"'Позн.разв. к 7г ч1. К.г. '!G24","v":0},{"$f":"'Позн.разв. к 7г ч1. К.г. '!H24","v":0},{"$f":"'Позн.разв. к 7г ч1. К.г. '!I24","v":0},{"$f":"'Позн.разв. к 7г ч1. К.г. '!J24","v":0},{"$f":"'Позн.разв. к 7г ч1. К.г. '!K24","v":0},{"$f":"'Позн.разв. к 7г ч1. К.г. '!L24","v":0},{"$f":"'Позн.разв. к 7г ч1. К.г. '!M24","v":0},{"$f":"'Позн.разв. к 7г ч2. К.г.'!E24","v":0},{"$f":"'Позн.разв. к 7г ч2. К.г.'!F24","v":0},{"$f":"'Позн.разв. к 7г ч2. К.г.'!G24","v":0},{"$f":"'Позн.разв. к 7г ч2. К.г.'!H24","v":0},{"$f":"'Позн.разв. к 7г ч2. К.г.'!I24","v":0},{"$f":"'Позн.разв. к 7г ч2. К.г.'!J24","v":0},{"$f":"'Позн.разв. к 7г ч2. К.г.'!K24","v":0},{"$f":"'Позн.разв. к 7г ч2. К.г.'!L24","v":0},{"$f":"'Позн.разв. к 7г ч2. К.г.'!M24","v":0},{"$f":"'Позн.разв. к 7г ч3. К.г. '!E24","v":0},{"$f":"'Позн.разв. к 7г ч3. К.г. '!F24","v":0},{"$f":"'Позн.разв. к 7г ч3. К.г. '!G24","v":0},{"$f":"'Позн.разв. к 7г ч3. К.г. '!H24","v":0},{"$f":"'Позн.разв. к 7г ч3. К.г. '!I24","v":0},{"$f":"'Позн.разв. к 7г ч3. К.г. '!J24","v":0},{"$f":"'Позн.разв. к 7г ч3. К.г. '!K24","v":0},{"$f":"'Позн.разв. к 7г ч3. К.г. '!L24","v":0},{"$f":"'Позн.разв. к 7г ч3. К.г. '!M24","v":0},{"$f":"'Позн.разв. к 7г ч3. К.г. '!N24","v":0},{"$f":"'Позн.разв. к 7г ч3. К.г. '!O24","v":0},{"$f":"'Позн.разв. к 7г ч3. К.г. '!P24","v":0},{"$f":"'Позн.разв. к 7г ч3. К.г. '!Q24","v":0},{"$f":"'Физ.разв. к 7г ч1. К.г. '!E24","v":0},{"$f":"'Физ.разв. к 7г ч1. К.г. '!F24","v":0},{"$f":"'Физ.разв. к 7г ч1. К.г. '!G24","v":0},{"$f":"'Физ.разв. к 7г ч1. К.г. '!H24","v":0},{"$f":"'Физ.разв. к 7г ч1. К.г. '!I24","v":0},{"$f":"'Физ.разв. к 7г ч1. К.г. '!J24","v":0},{"$f":"'Физ.разв. к 7г ч1. К.г. '!K24","v":0},{"$f":"'Физ.разв. к 7г ч1. К.г. '!L24","v":0},{"$f":"'Физ.разв. к 7г ч1. К.г. '!M24","v":0},{"$f":"'Физ.разв. к 7г ч1. К.г. '!N24","v":0},{"$f":"'Физ.разв. к 7г ч1. К.г. '!O24","v":0},{"$f":"'Физ.разв. к 7г ч1. К.г. '!P24","v":0},{"$f":"'Физ.разв. к 7г ч1. К.г. '!Q24","v":0},{"$f":"'Физ.разв. к 7г ч1. К.г. '!R24","v":0},{"$f":"'Физ.разв. к 7г ч1. К.г. '!S24","v":0},{"$f":"'Физ.разв. к 7г ч1. К.г. '!T24","v":0},{"$f":"'Физ.разв. к 7г ч1. К.г. '!U24","v":0},{"$f":"'Физ.разв. к 7г ч1. К.г. '!V24","v":0},{"$f":"'Физ.разв. к 7г ч1. К.г. '!W24","v":0},{"$f":"'Физ.разв. к 7г ч2. К.г.'!E25","v":0},{"$f":"'Физ.разв. к 7г ч2. К.г.'!F25","v":0},{"$f":"'Физ.разв. к 7г ч2. К.г.'!G25","v":0},{"$f":"'Физ.разв. к 7г ч2. К.г.'!H25","v":0},{"$f":"'Физ.разв. к 7г ч2. К.г.'!I25","v":0},{"$f":"'Физ.разв. к 7г ч2. К.г.'!J25","v":0},{"$f":"'Физ.разв. к 7г ч2. К.г.'!K25","v":0},{"$f":"'Физ.разв. к 7г ч2. К.г.'!L25","v":0},{"$f":"'Физ.разв. к 7г ч2. К.г.'!M25","v":0},{"$f":"'Физ.разв. к 7г ч2. К.г.'!N25","v":0},{"$f":"'Физ.разв. к 7г ч2. К.г.'!O25","v":0},{"$f":"'Физ.разв. к 7г ч2. К.г.'!P25","v":0},{"$f":"'Физ.разв. к 7г ч2. К.г.'!Q25","v":0},{"$f":"'Физ.разв. к 7г ч2. К.г.'!R25","v":0},{"$f":"'Физ.разв. к 7г ч2. К.г.'!S25","v":0},{"$f":"'Физ.разв. к 7г ч2. К.г.'!T25","v":0},{"$f":"'Физ.разв. к 7г ч3. К.г. '!E25","v":0},{"$f":"'Физ.разв. к 7г ч3. К.г. '!F25","v":0},{"$f":"'Физ.разв. к 7г ч3. К.г. '!G25","v":0},{"$f":"'Физ.разв. к 7г ч3. К.г. '!H25","v":0},{"$f":"'Физ.разв. к 7г ч3. К.г. '!I25","v":0},{"$f":"'Физ.разв. к 7г ч3. К.г. '!J25","v":0},{"$f":"'Физ.разв. к 7г ч3. К.г. '!K25","v":0},{"$f":"'Физ.разв. к 7г ч3. К.г. '!L25","v":0},{"$f":"'Физ.разв. к 7г ч3. К.г. '!M25","v":0},{"$f":"'Физ.разв. к 7г ч3. К.г. '!N25","v":0},{"$f":"'Физ.разв. к 7г ч3. К.г. '!O25","v":0},{"$f":"'Худ.эст.к 7г ч1. К.г. '!E24","v":0},{"$f":"'Худ.эст.к 7г ч1. К.г. '!F24","v":0},{"$f":"'Худ.эст.к 7г ч1. К.г. '!G24","v":0},{"$f":"'Худ.эст.к 7г ч1. К.г. '!H24","v":0},{"$f":"'Худ.эст.к 7г ч1. К.г. '!I24","v":0},{"$f":"'Худ.эст.к 7г ч1. К.г. '!J24","v":0},{"$f":"'Худ.эст.к 7г ч1. К.г. '!K24","v":0},{"$f":"'Худ.эст.к 7г ч1. К.г. '!L24","v":0},{"$f":"'Худ.эст.к 7г ч1. К.г. '!M24","v":0},{"$f":"'Худ.эст.к 7г ч1. К.г. '!N24","v":0},{"$f":"'Худ.эст.к 7г ч1. К.г. '!O24","v":0},{"$f":"'Худ.эст.к 7г ч1. К.г. '!P24","v":0},{"$f":"'Худ.эст.к 7г ч1. К.г. '!Q24","v":0},{"$f":"'Худ.эст.к 7г ч2. К.г. '!E24","v":0},{"$f":"'Худ.эст.к 7г ч2. К.г. '!F24","v":0},{"$f":"'Худ.эст.к 7г ч2. К.г. '!G24","v":0},{"$f":"'Худ.эст.к 7г ч2. К.г. '!H24","v":0},{"$f":"'Худ.эст.к 7г ч2. К.г. '!I24","v":0},{"$f":"'Худ.эст.к 7г ч2. К.г. '!J24","v":0},{"$f":"'Худ.эст.к 7г ч2. К.г. '!K24","v":0},{"$f":"'Худ.эст.к 7г ч2. К.г. '!L24","v":0},{"$f":"'Худ.эст.к 7г ч2. К.г. '!M24","v":0},{"$f":"'Худ.эст.к 7г ч2. К.г. '!N24","v":0},{"$f":"'Худ.эст.к 7г ч2. К.г. '!O24","v":0},{"$f":"'Худ.эст.к 7г ч2. К.г. '!P24","v":0},{"$f":"'Худ.эст.к 7г ч2. К.г. '!Q24","v":0},{"$f":"'Худ.эст.к 7г ч3. К.г. '!E24","v":0},{"$f":"'Худ.эст.к 7г ч3. К.г. '!F24","v":0},{"$f":"'Худ.эст.к 7г ч3. К.г. '!G24","v":0},{"$f":"'Худ.эст.к 7г ч3. К.г. '!H24","v":0},{"$f":"'Худ.эст.к 7г ч3. К.г. '!I24","v":0},{"$f":"'Худ.эст.к 7г ч3. К.г. '!J24","v":0},{"$f":"'Худ.эст.к 7г ч3. К.г. '!K24","v":0},{"$f":"'Худ.эст.к 7г ч3. К.г. '!L24","v":0}]

{"sheet":"14","index":51,"n_rows":7,"n_cols":165,"rows_kept":7,"merged":[[0,104,0,110],[0,111,0,112],[0,113,0,115],[0,116,0,119],[0,120,0,123],[0,124,0,126],[0,127,0,130],[1,54,1,58],[1,59,1,62],[1,63,1,71],[1,72,1,76],[1,77,1,84],[1,104,1,106],[1,107,1,110],[1,111,4,111],[1,112,4,112],[1,113,4,113],[1,114,4,114],[1,115,4,115],[1,116,1,119],[1,120,2,120],[1,121,2,121],[1,122,2,122],[1,123,2,123],[1,124,4,124],[1,125,4,125],[1,126,4,126],[1,127,1,130],[1,131,1,143],[1,144,1,156],[1,157,2,162],[1,163,2,164],[2,18,2,22],[2,23,2,25],[2,26,2,30],[2,32,2,34],[2,35,2,38],[2,40,2,44],[2,45,2,47],[2,48,2,53],[2,55,2,57],[2,59,4,59],[2,60,4,60],[2,61,4,61],[2,62,4,62],[2,63,2,65],[2,66,2,67],[2,68,2,69],[2,72,3,76],[2,77,2,80],[2,81,2,82],[2,83,4,83],[2,84,4,84],[2,85,2,86],[2,87,2,89],[2,90,2,92],[2,93,2,95],[2,96,2,99],[2,100,2,101],[2,102,2,103],[2,104,4,104],[2,105,4,105],[2,106,4,106],[2,107,4,107],[2,108,4,108],[2,109,4,109],[2,110,4,110],[2,116,4,116],[2,117,4,117],[2,118,4,118],[2,119,4,119],[2,127,4,127],[2,128,4,128],[2,129,4,129],[2,130,4,130],[2,135,2,136],[2,137,2,140],[2,141,2,142],[2,143,4,143],[2,144,2,145],[2,146,2,147],[2,148,2,149],[2,151,2,156],[3,0,4,0],[3,1,3,4],[3,7,3,9],[3,11,3,12],[3,13,3,14],[3,15,4,15],[3,16,4,16],[3,17,4,17],[3,18,4,18],[3,19,4,19],[3,20,4,20],[3,21,4,21],[3,22,4,22],[3,23,4,23],[3,24,4,24],[3,25,4,25],[3,26,4,26],[3,27,4,27],[3,28,4,28],[3,29,4,29],[3,30,4,30],[3,31,4,31],[3,32,4,32],[3,33,4,33],[3,34,4,34],[3,35,4,35],[3,36,4,36],[3,37,4,37],[3,38,4,38],[3,39,4,39],[3,40,4,40],[3,41,4,41],[3,42,4,42],[3,43,4,43],[3,44,4,44],[3,45,4,45],[3,46,4,46],[3,47,4,47],[3,48,4,48],[3,49,4,49],[3,50,4,50],[3,51,4,51],[3,52,4,52],[3,53,4,53],[3,54,3,58],[3,63,4,63],[3,64,4,64],[3,65,4,65],[3,66,4,66],[3,67,4,67],[3,68,4,68],[3,69,4,69],[3,70,4,70],[3,71,4,71],[3,81,4,81],[3,85,3,86],[3,87,3,89],[3,90,3,92],[3,93,3,95],[3,96,3,99],[3,100,3,101],[3,102,4,102],[3,103,4,103],[3,120,4,120],[3,121,4,121],[3,122,4,122],[3,123,4,123],[3,131,4,131],[3,132,4,132],[3,133,4,133],[3,134,4,134],[3,135,4,135],[3,136,4,136],[3,137,4,137],[3,138,4,138],[3,139,4,139],[3,140,4,140],[3,141,4,141],[3,142,4,142],[3,144,4,144],[3,145,4,145],[3,146,4,146],[3,147,4,147],[3,148,4,148],[3,149,4,149],[3,150,4,150],[3,151,4,151],[3,152,4,152],[3,153,4,153],[3,154,4,154],[3,155,4,155],[3,156,4,156],[3,157,4,157],[3,158,4,158],[3,159,4,159],[3,160,4,160],[3,161,4,161],[3,162,4,162],[3,163,4,163],[3,164,4,164]]}
[{"$nulls":104},"Мелкая моторика",{"$nulls":6},"Подвижные игры",null,"Спорт. игры",null,null,"Спортивные упражнения",{"$nulls":3},"КГН",{"$nulls":3},"ЗОЖ",null,null,"Спортивные упражнения"]
[{"$nulls":54},"Сенсорные эталоны ",{"$nulls":4},"Познавательные действия",{"$nulls":3},"Математические представления",{"$nulls":8},"Окружающий мир",{"$nulls":4},"Природа ",{"$nulls":26},"Координация рук и глаз",null,null,"Графические навыки",{"$nulls":3},"Ребенок использует в самостоятельной деятельности разнообразные по содержанию подвижные игры, проявляет элементы творчества в двигательной деятельности","Ребенок может организовать знакомые подвижные игры со сверстниками, сплотить команду, стремится внести свой вклад в результат команды","Ребенок владеет элементами спортивных игр (городки, баскетбол, футбол, хоккей, бадминтон, настольный теннис), может контролировать свои движения и управлять ими","Ребенок имеет представление о разных видах спорта (санный спорт, борьба, теннис, синхронное плавание и др.)","Ребенок имеет представление о спортивных событиях и достижениях отечественных спортсменов","Ребенок умеет кататься",{"$nulls":3},"Навыки соблюдения чистоты тела (правила личной гигиены)","Навыки культуры еды (прием пищи) ","Навыки поддержания порядка (правила поведения в быту) ","Навыки ухода за собой (одевание, раздевание) ","Ребенок соблюдает элементарные правила здорового образа жизни и личной гигиены, следит за своей осанкой, может оценить свое самочувствие","Ребенок регулярно выполняет физические упражнения","Ребенок имеет начальные представления о том, что такое здоровье, понимает, как поддержать, укрепить и сохранить его","Ребенок умеет кататься",{"$nulls":3},"Музыкальная деятельность",{"$nulls":12},"Изобразительная деятельность",{"$nulls":12},"Приобщение к искусству",{"$nulls":5},"Конструктивная деятельность"]
[{"$nulls":18},"Область формирования основ гражданственности и патриотизма",{"$nulls":4},"Сфера трудового воспитания",null,null,"Область формирования основ безопасного поведения",{"$nulls":4},"Общее речевое развитие","Формирование словаря",null,null,"Грамматический строй",{"$nulls":3},"Звуковая культура речи","Связная речь",{"$nulls":4},"ЧХЛ",null,null,"Подготовка к обучению грамоте",{"$nulls":5},"Цвет, оттенки","Форма, геометрические фигуры",null,null,"Величина","Ребенок самостоятельно выбирает способ осуществления разных видов познавательной деятельности","Ребенок интересуется субъективно новым и неизвестным в окружающем мире","Ребенок способен применять в жизненных и игровых ситуациях знания о количестве, форме, величине предметов, пространстве, времени","Ребенок имеет разнообразные познавательные умения: определяет противоречия. Формулирует задачу исследования, использует разные способы и средства проверки предположений (сравнение с эталонами, классификацию, систематизацию и др.)","Количество и счет",null,null,"Ориентировка во времени",null,"Ориентировка в пространстве",null,"Пространственно-количественные связи и отношения","Сравнение","Ребенок имеет представления, может показать на картинке и в естественной среде, может рассказать",{"$nulls":4},"Объекты живой природы",{"$nulls":3},"Объекты неживой природы, природные явления",null,"Ребенок стремится к самостоятельному экспериментированию","Ребенок знает правила поведения в природе, проявляет осознанное, бережное отношение к природе и ее ресурсам","Бросание, катание, ловля, метание",null,"Ползанье, лазанье",null,null,"Ходьба",null,null,"Бег",null,null,"Прыжки",{"$nulls":3},"Равновесие",null,"Строевые упражнения",null,"Ребенок выполняет графический диктант","Ребенок обводит по шаблону, по трафарету","Ребенок чертит линии с помощью линейки","Ребенок обводит по контуру, по точкам","Ребенок выполняет штриховку в различных направлениях","Ребенок закрашивает, не выходя за контур","Ребенок свободно владеет карандашом при рисовании округлых линий, завитков в разном направлении",{"$nulls":5},"на санках","на лыжах","на двухколесном велосипеде","на самокате",{"$nulls":7},"на санках","на лыжах","на двухколесном велосипеде","на самокате","Слушание","Пение ","Музыкально-ритмические движения","Песенное творчество","Игра на детских музыкальных инструментах",null,"Театрализованная деятельность",{"$nulls":3},"Танцевально-игровое творчество",null,"У ребенка развит музыкальный вкус, музыкальная память","Рисование ",null,"Лепка ",null,"Аппликация ",null,"Народное ДПИ","Прикладное творчество"]
[{"$f":"Список!B17","v":0},"Отношение к самому себе",{"$nulls":3},"Отношение к сверстникам","Отношение к взрослым","Эмоции",null,null,"Поведение","Семья",null,"Игровое поведение",null,"Ребенок имеет представление об изменениях позиции человека с возрастом","Ребенок имеет представление о школе, школьниках, учителях; стремится к школьному обучению, к познанию, освоению чтения, письма; демонстрирует формированные предпосылки к учебной деятельности и элементы готовности к школьному обучению","Ребенок имеет представление о нравственных качествах людей, их проявлении в поступках и взаимоотношениях","Ребенок имеет представление о признаках и характеристиках государства (территория государства и его границы, столица), атрибутах государственной власти, президенте, столице","Ребенок имеет представление о порядке использования государственной символики","Ребенок имеет представление о волонтерстве","Ребенок имеет представление о государственных праздниках, исторических событиях","Ребенок имеет представление о жизни людей в России, о многообразии стран и народов мира","Ребенок имеет представление об обмене ценностями в процессе производства и потребления товаров и услуг, о денежных отношениях, о реальной стоимости отдельных продуктов питания, игрушек, детских книг","Ребенок имеет представление о об основах финансовой грамоты, основах бережного потребления","Ребенок проявляет инициативность и самостоятельность в процессе самообслуживания, при выполнении трудовых поручений","Ребенок имеет представление о правила безопасного поведения в ситуациях, создающих угрозу жизни и здоровью (погас свет, остался один, потерялся, получил травму)","Ребенок имеет представление о правила безопасного поведения дома, на улице, в природе, в местах большого скопления людей, в магазине, на вокзале, в общественных метах, на праздниках и др.","Ребенок имеет представление о правилах безопасного использования цифровых ресурсов (мобильного телефона, планшета)","Ребенок имеет представление об элементарных правилах оказания первой помощи при первых признаках недомогания, травмах, ушибах","Ребенок проявляет самостоятельность при выполнении правил безопасного поведения","Ребенок владеет речью как средством коммуникации, ведет диалог, владеет коммуникативно-речевыми умениями","Ребенок подбирает точные слова для выражения мысли","Ребенок выполняет операцию классификации – деления освоенных понятий на группы на основе выявленных признаков","Ребенок использует в речи средства языковой выразительности: антонимы, синонимы, многозначные слова, метафоры, олицетворение","Ребенок образует сложные слова посредством слияния основ","Ребенок согласует в речи существительные с числительными, существительные с прилагательными","Ребенок образует по образцу существительные с суффиксами, глаголы с приставками","Ребенок образует в речи сравнительную и превосходную степени имен прилагательных","Ребенок правильно произносит все звуки","Ребенок может пересказать литературное произведение по ролям, близко к тексту, от лица литературного героя","Ребенок может составить описательный рассказ, соблюдая структуру описания","Ребенок может составить повествовательный рассказ по картине, из личного опыта, из коллективного опыта, по набору игрушек, соблюдая структуру повествования","Ребенок может составить рассказ -контаминацию (сочетание описания и повествования, описания и рассуждения)","Ребенок использует в процессе общения объяснительную речь, речь-доказательство, речевое планирование","Ребенок знает и осмысленно воспринимает литературные произведения различных жанров, имеет предпочтения","Ребенок определяет характеры персонажей, мотивы их поведения, оценивает поступки литературных героев","Ребенок проявляет интерес к книгам познавательного характера","Ребенок производит звуковой анализ четырехзвуковых и пятизвуковых слов","Ребенок может интонационно выделить звуки в слове, определить их последовательность, дать им характеристику, составить схему слова, выделить ударный гласный звук в слове","Ребенок может определить количество и последовательность слов в предложении","Ребенок может составить предложение с заданным количеством слов","Ребенок знает названия всех букв","Ребенок читает слоги","Ребенок различает и называет",{"$nulls":8},"Ребенок умеет считать в пределах 10 в прямом и обратном порядке","Ребенок знает состав чисел из двух меньших в пределах первого десятка","Ребенок решает простые арифметические задачи на сложение и вычитание","Ребенок имеет представление о календаре, как системе измерения времени","Ребенок умеет определять время по часам с точностью до четверти часа","Ребенок ориентируется на местности, по схеме, по плану","Ребенок знает способы ориентировки в двухмерном пространстве","Ребенок умеет измерять протяженность, массу и объем с помощью условной мерки; понимает взаимообратные отношения между мерой и результатом измерения","Ребенок сравнивает предметы по 4-6 основаниям с выделением сходства, отличия",{"$nulls":9},"Ребенок имеет представление об использовании человеком свойств неживой природы для хозяйственных нужд (ветряные мельницы, водохранилища, солнечные батареи, ледяные катки)",{"$nulls":3},"Ребенок выполняет различные упражнения с мячом, метание",null,"Ребенок выполняет разные виды ползанья, лазанья ",null,null,"Ребенок выполняет различные виды ходьбы",null,null,"Ребенок выполняет различные виды бега",null,null,"Ребенок выполняет различные виды прыжков",{"$nulls":3},"Ребенок выполняет",null,"Ребенок выполняет разные виды перестроений, построений, передвижений, размыкание и смыкание приставным шагом, повороты","Ребенок может рассчитаться на «первый – второй»",{"$nulls":16},"Ребенок владеет навыками личной гигиены","Ребенок владеет навыками культуры еды","Ребенок владеет навыками поддержания порядка","Ребенок владеет навыками ухода за собой",{"$nulls":7},"У ребенка развит навык восприятия звуков по высоте в пределах квинты-терции","У ребенка развиты певческий голос и вокально-слуховая координация","Ребёнок ритмично и выразительно двигается в соответствие с характером музыки","Ребенок способен самостоятельно придумать мелодию, используя в качестве образца русские народные песни","Ребенок может сыграть простую мелодию на металлофоне, свирели, ударных, и электронных музыкальных инструментах: трещотках, погремушках, треугольниках","Ребенок может исполнить музыкальное произведение в оркестре и в ансамбле","Ребенок проявляет самостоятельность при выборе литературного и музыкального материала для театральной постановки","Ребенок проявляет инициативу при изготовлении атрибутов и декораций к спектаклю","Ребенок имеет представление о средствах погружения в театральные образы (музыка, слова, декорации, грим, костюм и др.)","Ребенок умеет выразительно передавать образы в действии, мимике, пантомимике","Ребенок проявляет активность в доступных видах музыкальной исполнительской деятельности (игра в оркестре, пение, танцевальные движения и др.)","Ребенок помогает придумывать движения, отражающие содержание песни",null,"Ребенок может изобразить предметы по памяти и с натуры, передает их средствами рисунка (форма, пропорции, расположение)","Ребенок способен передавать в рисунке сюжет, строить композицию","Ребенок свободно использует приемы лепки, освоенные ранее (налеп, углубленный рельеф), применяет стеку","Ребенок умеет передавать пропорции, соотношение по величине, выразительность поз, движений, деталей","Ребенок умеет составлять узоры и декоративные композиции из геометрических и растительных элементов на листах бумаги разной формы","Ребенок может выполнить вырезание (симметричное из бумаги, сложенной вдвое; несколько предметов из частей бумаги, сложенной гармошкой)","Ребенок умеет создавать узоры по мотивам народных росписей","Ребенок может сложить бумагу в разных направлениях","Ребенок может сделать разметку с помощью шаблона","Ребенок может выполнить работу по образцу","Ребенок может создать объемную игрушку в технике «оригами»","Ребенок может создать объемную поделку из природного материала","Ребенок может вдеть нитку в иголку, завязать узелок, пришить пуговицу, петельку, выполнить шов «вперед иголка»","Ребенок умеет выделять, называть, группировать произведения по видам искусства: литература, музыка, изобразительное искусство, архитектура, театр, цирк","Ребенок имеет представление о видах изобразительного искусства: графика, декоративно-прикладное искусство, живопись, скульптура, архитектура, фотоискусство","Ребенок имеет представление о жанрах изобразительного искусства: натюрморт, пейзаж, портрет","Ребенок имеет представление о народном искусстве, фольклоре, музыке и художественных промыслах","Ребенок имеет представление о творческих профессиях: художник, композитор, музыкант, актер, артист балета","Ребенок имеет представление о культурно-досуговых местах: театр, музей, библиотека, выставка, кинотеатр, цирк и др.","Ребенок может провести анализ постройки (выделить основные части и характерные детали конструкций)","Ребенок может выполнить постройку по инструкции"]
[null,"Ребенок осознает и признает собственные ошибки, результат поставленных задач, определяет пути развития","Ребенок умеет договариваться и дружить, старается разрешать конфликтные ситуации конструктивными способами","Ребенок способен принимать собственные решения и проявлять инициативу","Ребенок осознанно относится к своему будущему, стремится быть полезным обществу","Ребенок без напоминаний использует в общении формулы словесной вежливости (приветствие, прощание, просьбы, извинения)","Ребенок без напоминаний использует в общении формулы словесной вежливости (приветствие, прощание, просьбы, извинения)","Ребенок понимает чувства и переживания окружающих по невербальным признакам; находит причины и следствия возникновения эмоций, проявляет эмпатию","Ребенок использует социально приемлемые способы проявления эмоций и доступные возрасту регуляции эмоциональных состояний","Ребенок распознает собственные чувства и эмоции, анализирует свои переживания и рассказывает о них","Ребенок самостоятельно соблюдает установленный порядок поведения в группе, регулирует собственную активность","Ребенок имеет представление о необходимости укрепления связи между поколениями, взаимной поддержке детей и взрослых","Ребенок имеет представление о семье, семейных и родственных отношениях (взаимные чувства, правила общения в семье, значимые и памятные события, досуг семьи, семейный бюджет)","Ребенок умеет сотрудничать со сверстниками (побуждает к обсуждению планов, советуется, поддерживает интерес к мнению, инициирует ситуации взаимопомощи, подчеркивает ценность каждого ребенка и его вклад в общее дело, выбирает партнеров по интересам, помогает устанавливать темп совместных действий)","Ребенок владеет разными способами и видами игры, различает условную и реальную ситуации, предлагает и объясняет замысел игры, комбинирует сюжеты на основе реальных, вымышленных ситуаций, выполняет несколько ролей в одной игре, подбирает разные средства для создания игровых образов, согласовывает свои интересы с интересами партнёров по игре",{"$nulls":39}," все цвета спектра и ахроматические цвета, оттенки","плоские и объемные геометрические фигуры; умеет выделять структуру геометрических фигур и устанавливать взаимосвязи между ними","Ребенок умеет классифицировать фигуры по внешним структурным признаками (округлые, многоугольники)","Ребенок владеет различными способами видоизменения геометрических фигур (наложение, соединение, разрезание и др.)","Ребенок умеет измерять длину, ширину, высоту с помощью условной мерки",{"$nulls":13}," о родном населенном пункте (название улиц, некоторых архитектурных особенностях, достопримечательностях), об истории, о выдающихся горожанах, традициях городской жизни"," о назначении общественных учреждений"," о разных видах специального транспорта"," о местах труда людей (завод, больница, магазин и др.)"," о местах отдыха людей","Ребенок имеет представление о наиболее ярких представителях животных и растений разных природных зон (пустыня, степь, тайга, тундра и др.), об их образе жизни, приспособлении к среде обитания, изменениях в жизни в разные сезоны года","Ребенок имеет представление о многообразии водных ресурсов (моря, океаны, реки, водопады и др.)","Ребенок имеет представление о многообразии полезных ископаемых (нефть, уголь, серебро, золото, алмазы и др.)","Ребенок имеет представление о жизненных потребностях, этапах роста и развития животных и растений",null,"Ребенок имеет представление о некоторых небесных телах (планеты, кометы, звезды)",null,null,"бросание вверх, о землю, ловля двумя руками, одной рукой, перебрасывание, передача, прокатывание, забрасывание, ведение","в цель из положения стоя, вдаль, в движущеюся цель","ползанье на четвереньках, на животе, на спине","влезание на гимнастическую стенку и спуск; перелезание с пролета на пролет по диагонали","лазанье по веревочной лестнице; выполнение упражнений на канате","обычная, гимнастическим шагом, скрестным шагом, спиной вперед, выпадами, с закрытыми глазами","приставными шагами назад, в приседе, с различными движениями рук","в различных построениях","в колонне по одному, врассыпную, парами, тройками, четверками","в сочетание с прыжками, высоко поднимая колени, захлестывая голени назад, выбрасывая прямые ноги вперед","челночный, наперегонки, из разных исходных положений, со скакалкой, по пересеченной местности, с наименьшим числом шагов, медленный, быстрый","подпрыгивания на двух ногах в чередовании с ходьбой, на месте и с поворот кругом","смещая ноги вправо-влево-вперед-назад","выпрыгивание на предметы; подпрыгивания вверх из глубокого приседа; прыжки на одной ноге","в длину с места/с разбега, в высоту с места/с разбега","стойка на носках, стойка на одной ноге с закрытыми глазами","кружение с закрытыми глазами, остановкой и сохранением заданной позы"]
["начало года",{"$f":"'Соц.ком.к 7г ч1 Н.г.'!E24","v":0},{"$f":"'Соц.ком.к 7г ч1 Н.г.'!F24","v":0},{"$f":"'Соц.ком.к 7г ч1 Н.г.'!G24","v":0},{"$f":"'Соц.ком.к 7г ч1 Н.г.'!H24","v":0},{"$f":"'Соц.ком.к 7г ч1 Н.г.'!I24","v":0},{"$f":"'Соц.ком.к 7г ч1 Н.г.'!J24","v":0},{"$f":"'Соц.ком.к 7г ч1 Н.г.'!K24","v":0},{"$f":"'Соц.ком.к 7г ч1 Н.г.'!L24","v":0},{"$f":"'Соц.ком.к 7г ч1 Н.г.'!M24","v":0},{"$f":"'Соц.ком.к 7г ч1 Н.г.'!N24","v":0},{"$f":"'Соц.ком.к 7г ч2 Н.г.'!E24","v":0},{"$f":"'Соц.ком.к 7г ч2 Н.г.'!F24","v":0},{"$f":"'Соц.ком.к 7г ч2 Н.г.'!G24","v":0},{"$f":"'Соц.ком.к 7г ч2 Н.г.'!H24","v":0},{"$f":"'Соц.ком.к 7г ч2 Н.г.'!I24","v":0},{"$f":"'Соц.ком.к 7г ч2 Н.г.'!J24","v":0},{"$f":"'Соц.ком.к 7г ч2 Н.г.'!K24","v":0},{"$f":"'Соц.ком. к 7г ч3 Н.г.'!E24","v":0},{"$f":"'Соц.ком. к 7г ч3 Н.г.'!F24","v":0},{"$f":"'Соц.ком. к 7г ч3 Н.г.'!G24","v":0},{"$f":"'Соц.ком. к 7г ч3 Н.г.'!H24","v":0},{"$f":"'Соц.ком. к 7г ч3 Н.г.'!I24","v":0},{"$f":"'Соц.ком. к 7г ч3 Н.г.'!J24","v":0},{"$f":"'Соц.ком. к 7г ч3 Н.г.'!K24","v":0},{"$f":"'Соц.ком. к 7г ч3 Н.г.'!L24","v":0},{"$f":"'Соц.ком. к 7г ч4 Н.г.'!E24","v":0},{"$f":"'Соц.ком. к 7г ч4 Н.г.'!F24","v":0},{"$f":"'Соц.ком. к 7г ч4 Н.г.'!G24","v":0},{"$f":"'Соц.ком. к 7г ч4 Н.г.'!H24","v":0},{"$f":"'Соц.ком. к 7г ч4 Н.г.'!I24","v":0},{"$f":"'Реч.разв.к 7г ч1 Н.г.'!E24","v":0},{"$f":"'Реч.разв.к 7г ч1 Н.г.'!F24","v":0},{"$f":"'Реч.разв.к 7г ч1 Н.г.'!G24","v":0},{"$f":"'Реч.разв.к 7г ч1 Н.г.'!H24","v":0},{"$f":"'Реч.разв.к 7г ч1 Н.г.'!I24","v":0},{"$f":"'Реч.разв.к 7г ч1 Н.г.'!J24","v":0},{"$f":"'Реч.разв.к 7г ч1 Н.г.'!K24","v":0},{"$f":"'Реч.разв.к 7г ч1 Н.г.'!L24","v":0},{"$f":"'Реч.разв.к 7г ч2 Н.г.'!E24","v":0},{"$f":"'Реч.разв.к 7г ч2 Н.г.'!F24","v":0},{"$f":"'Реч.разв.к 7г ч2 Н.г.'!G24","v":0},{"$f":"'Реч.разв.к 7г ч2 Н.г.'!H24","v":0},{"$f":"'Реч.разв.к 7г ч2 Н.г.'!I24","v":0},{"$f":"'Реч.разв.к 7г ч2 Н.г.'!J24","v":0},{"$f":"'Реч.разв.к 7г ч2 Н.г.'!K24","v":0},{"$f":"'Реч.разв.к 7г ч2 Н.г.'!L24","v":0},{"$f":"'Реч.разв.к 7г ч2 Н.г.'!M24","v":0},{"$f":"'Реч.разв.к 7г ч3. Н.г.'!E24","v":0},{"$f":"'Реч.разв.к 7г ч3. Н.г.'!F24","v":0},{"$f":"'Реч.разв.к 7г ч3. Н.г.'!G24","v":0},{"$f":"'Реч.разв.к 7г ч3. Н.г.'!H24","v":0},{"$f":"'Реч.разв.к 7г ч3. Н.г.'!I24","v":0},{"$f":"'Реч.разв.к 7г ч3. Н.г.'!J24","v":0},{"$f":"'Позн.разв. к 7г ч1. Н.г.'!E25","v":0},{"$f":"'Позн.разв. к 7г ч1. Н.г.'!F25","v":0},{"$f":"'Позн.разв. к 7г ч1. Н.г.'!G25","v":0},{"$f":"'Позн.разв. к 7г ч1. Н.г.'!H25","v":0},{"$f":"'Позн.разв. к 7г ч1. Н.г.'!I25","v":0},{"$f":"'Позн.разв. к 7г ч1. Н.г.'!J25","v":0},{"$f":"'Позн.разв. к 7г ч1. Н.г.'!K25","v":0},{"$f":"'Позн.разв. к 7г ч1. Н.г.'!L25","v":0},{"$f":"'Позн.разв. к 7г ч1. Н.г.'!M25","v":0},{"$f":"'Позн.разв. к 7г ч2. Н.г.'!E25","v":0},{"$f":"'Позн.разв. к 7г ч2. Н.г.'!F25","v":0},{"$f":"'Позн.разв. к 7г ч2. Н.г.'!G25","v":0},{"$f":"'Позн.разв. к 7г ч2. Н.г.'!H25","v":0},{"$f":"'Позн.разв. к 7г ч2. Н.г.'!I25","v":0},{"$f":"'Позн.разв. к 7г ч2. Н.г.'!J25","v":0},{"$f":"'Позн.разв. к 7г ч2. Н.г.'!K25","v":0},{"$f":"'Позн.разв. к 7г ч2. Н.г.'!L25","v":0},{"$f":"'Позн.разв. к 7г ч2. Н.г.'!M25","v":0},{"$f":"'Позн.разв. к 7г ч3. Н.г.'!E25","v":0},{"$f":"'Позн.разв. к 7г ч3. Н.г.'!F25","v":0},{"$f":"'Позн.разв. к 7г ч3. Н.г.'!G25","v":0},{"$f":"'Позн.разв. к 7г ч3. Н.г.'!H25","v":0},{"$f":"'Позн.разв. к 7г ч3. Н.г.'!I25","v":0},{"$f":"'Позн.разв. к 7г ч3. Н.г.'!J25","v":0},{"$f":"'Позн.разв. к 7г ч3. Н.г.'!K25","v":0},{"$f":"'Позн.разв. к 7г ч3. Н.г.'!L25","v":0},{"$f":"'Позн.разв. к 7г ч3. Н.г.'!M25","v":0},{"$f":"'Позн.разв. к 7г ч3. Н.г.'!N25","v":0},{"$f":"'Позн.разв. к 7г ч3. Н.г.'!O25","v":0},{"$f":"'Позн.разв. к 7г ч3. Н.г.'!P25","v":0},{"$f":"'Позн.разв. к 7г ч3. Н.г.'!Q25","v":0},{"$f":"'Физ.разв. к 7г ч1. Н.г.'!E25","v":0},{"$f":"'Физ.разв. к 7г ч1. Н.г.'!F25","v":0},{"$f":"'Физ.разв. к 7г ч1. Н.г.'!G25","v":0},{"$f":"'Физ.разв. к 7г ч1. Н.г.'!H25","v":0},{"$f":"'Физ.разв. к 7г ч1. Н.г.'!I25","v":0},{"$f":"'Физ.разв. к 7г ч1. Н.г.'!J25","v":0},{"$f":"'Физ.разв. к 7г ч1. Н.г.'!K25","v":0},{"$f":"'Физ.разв. к 7г ч1. Н.г.'!L25","v":0},{"$f":"'Физ.разв. к 7г ч1. Н.г.'!M25","v":0},{"$f":"'Физ.разв. к 7г ч1. Н.г.'!N25","v":0},{"$f":"'Физ.разв. к 7г ч1. Н.г.'!O25","v":0},{"$f":"'Физ.разв. к 7г ч1. Н.г.'!P25","v":0},{"$f":"'Физ.разв. к 7г ч1. Н.г.'!Q25","v":0},{"$f":"'Физ.разв. к 7г ч1. Н.г.'!R25","v":0},{"$f":"'Физ.разв. к 7г ч1. Н.г.'!S25","v":0},{"$f":"'Физ.разв. к 7г ч1. Н.г.'!T25","v":0},{"$f":"'Физ.разв. к 7г ч1. Н.г.'!U25","v":0},{"$f":"'Физ.разв. к 7г ч1. Н.г.'!V25","v":0},{"$f":"'Физ.разв. к 7г ч1. Н.г.'!W25","v":0},{"$f":"'Физ.разв. к 7г ч2. Н.г.'!E26","v":0},{"$f":"'Физ.разв. к 7г ч2. Н.г.'!F26","v":0},{"$f":"'Физ.разв. к 7г ч2. Н.г.'!G26","v":0},{"$f":"'Физ.разв. к 7г ч2. Н.г.'!H26","v":0},{"$f":"'Физ.разв. к 7г ч2. Н.г.'!I26","v":0},{"$f":"'Физ.разв. к 7г ч2. Н.г.'!J26","v":0},{"$f":"'Физ.разв. к 7г ч2. Н.г.'!K26","v":0},{"$f":"'Физ.разв. к 7г ч2. Н.г.'!L26","v":0},{"$f":"'Физ.разв. к 7г ч2. Н.г.'!M26","v":0},{"$f":"'Физ.разв. к 7г ч2. Н.г.'!N26","v":0},{"$f":"'Физ.разв. к 7г ч2. Н.г.'!O26","v":0},{"$f":"'Физ.разв. к 7г ч2. Н.г.'!P26","v":0},{"$f":"'Физ.разв. к 7г ч2. Н.г.'!Q26","v":0},{"$f":"'Физ.разв. к 7г ч2. Н.г.'!R26","v":0},{"$f":"'Физ.разв. к 7г ч2. Н.г.'!S26","v":0},{"$f":"'Физ.разв. к 7г ч2. Н.г.'!T26","v":0},{"$f":"'Физ.разв. к 7г ч3. Н.г.'!E26","v":0},{"$f":"'Физ.разв. к 7г ч3. Н.г.'!F26","v":0},{"$f":"'Физ.разв. к 7г ч3. Н.г.'!G26","v":0},{"$f":"'Физ.разв. к 7г ч3. Н.г.'!H26","v":0},{"$f":"'Физ.разв. к 7г ч3. Н.г.'!I26","v":0},{"$f":"'Физ.разв. к 7г ч3. Н.г.'!J26","v":0},{"$f":"'Физ.разв. к 7г ч3. Н.г.'!K26","v":0},{"$f":"'Физ.разв. к 7г ч3. Н.г.'!L26","v":0},{"$f":"'Физ.разв. к 7г ч3. Н.г.'!M26","v":0},{"$f":"'Физ.разв. к 7г ч3. Н.г.'!N26","v":0},{"$f":"'Физ.разв. к 7г ч3. Н.г.'!O26","v":0},{"$f":"'Худ.эст.к 7г ч1. Н.г.'!E25","v":0},{"$f":"'Худ.эст.к 7г ч1. Н.г.'!F25","v":0},{"$f":"'Худ.эст.к 7г ч1. Н.г.'!G25","v":0},{"$f":"'Худ.эст.к 7г ч1. Н.г.'!H25","v":0},{"$f":"'Худ.эст.к 7г ч1. Н.г.'!I25","v":0},{"$f":"'Худ.эст.к 7г ч1. Н.г.'!J25","v":0},{"$f":"'Худ.эст.к 7г ч1. Н.г.'!K25","v":0},{"$f":"'Худ.эст.к 7г ч1. Н.г.'!L25","v":0},{"$f":"'Худ.эст.к 7г ч1. Н.г.'!M25","v":0},{"$f":"'Худ.эст.к 7г ч1. Н.г.'!N25","v":0},{"$f":"'Худ.эст.к 7г ч1. Н.г.'!O25","v":0},{"$f":"'Худ.эст.к 7г ч1. Н.г.'!P25","v":0},{"$f":"'Худ.эст.к 7г ч1. Н.г.'!Q25","v":0},{"$f":"'Худ.эст.к 7г ч2. Н.г.'!E25","v":0},{"$f":"'Худ.эст.к 7г ч2. Н.г.'!F25","v":0},{"$f":"'Худ.эст.к 7г ч2. Н.г.'!G25","v":0},{"$f":"'Худ.эст.к 7г ч2. Н.г.'!H25","v":0},{"$f":"'Худ.эст.к 7г ч2. Н.г.'!I25","v":0},{"$f":"'Худ.эст.к 7г ч2. Н.г.'!J25","v":0},{"$f":"'Худ.эст.к 7г ч2. Н.г.'!K25","v":0},{"$f":"'Худ.эст.к 7г ч2. Н.г.'!L25","v":0},{"$f":"'Худ.эст.к 7г ч2. Н.г.'!M25","v":0},{"$f":"'Худ.эст.к 7г ч2. Н.г.'!N25","v":0},{"$f":"'Худ.эст.к 7г ч2. Н.г.'!O25","v":0},{"$f":"'Худ.эст.к 7г ч2. Н.г.'!P25","v":0},{"$f":"'Худ.эст.к 7г ч2. Н.г.'!Q25","v":0},{"$f":"'Худ.эст.к 7г ч3. Н.г.'!E25","v":0},{"$f":"'Худ.эст.к 7г ч3. Н.г.'!F25","v":0},{"$f":"'Худ.эст.к 7г ч3. Н.г.'!G25","v":0},{"$f":"'Худ.эст.к 7г ч3. Н.г.'!H25","v":0},{"$f":"'Худ.эст.к 7г ч3. Н.г.'!I25","v":0},{"$f":"'Худ.эст.к 7г ч3. Н.г.'!J25","v":0},{"$f":"'Худ.эст.к 7г ч3. Н.г.'!K25","v":0},{"$f":"'Худ.эст.к 7г ч3. Н.г.'!L25","v":0}]
["конец года",{"$f":"'Соц.ком.к 7г ч1 К.г.'!E24","v":0},{"$f":"'Соц.ком.к 7г ч1 К.г.'!F24","v":0},{"$f":"'Соц.ком.к 7г ч1 К.г.'!G24","v":0},{"$f":"'Соц.ком.к 7г ч1 К.г.'!H24","v":0},{"$f":"'Соц.ком.к 7г ч1 К.г.'!I24","v":0},{"$f":"'Соц.ком.к 7г ч1 К.г.'!J24","v":0},{"$f":"'Соц.ком.к 7г ч1 К.г.'!K24","v":0},{"$f":"'Соц.ком.к 7г ч1 К.г.'!L24","v":0},{"$f":"'Соц.ком.к 7г ч1 К.г.'!M24","v":0},{"$f":"'Соц.ком.к 7г ч1 К.г.'!N24","v":0},{"$f":"'Соц.ком.к 7г ч2 К.г.'!E24","v":0},{"$f":"'Соц.ком.к 7г ч2 К.г.'!F24","v":0},{"$f":"'Соц.ком.к 7г ч2 К.г.'!G24","v":0},{"$f":"'Соц.ком.к 7г ч2 К.г.'!H24","v":0},{"$f":"'Соц.ком.к 7г ч2 К.г.'!I24","v":0},{"$f":"'Соц.ком.к 7г ч2 К.г.'!J24","v":0},{"$f":"'Соц.ком.к 7г ч2 К.г.'!K24","v":0},{"$f":"'Соц.ком. к 7г ч3 К.г.'!E24","v":0},{"$f":"'Соц.ком. к 7г ч3 К.г.'!F24","v":0},{"$f":"'Соц.ком. к 7г ч3 К.г.'!G24","v":0},{"$f":"'Соц.ком. к 7г ч3 К.г.'!H24","v":0},{"$f":"'Соц.ком. к 7г ч3 К.г.'!I24","v":0},{"$f":"'Соц.ком. к 7г ч3 К.г.'!J24","v":0},{"$f":"'Соц.ком. к 7г ч3 К.г.'!K24","v":0},{"$f":"'Соц.ком. к 7г ч3 К.г.'!L24","v":0},{"$f":"'Соц.ком. к 7г ч4 К.г.'!E24","v":0},{"$f":"'Соц.ком. к 7г ч4 К.г.'!F24","v":0},{"$f":"'Соц.ком. к 7г ч4 К.г.'!G24","v":0},{"$f":"'Соц.ком. к 7г ч4 К.г.'!H24","v":0},{"$f":"'Соц.ком. к 7г ч4 К.г.'!I24","v":0},{"$f":"'Реч.разв.к 7г ч1 К.г.'!E24","v":0},{"$f":"'Реч.разв.к 7г ч1 К.г.'!F24","v":0},{"$f":"'Реч.разв.к 7г ч1 К.г.'!G24","v":0},{"$f":"'Реч.разв.к 7г ч1 К.г.'!H24","v":0},{"$f":"'Реч.разв.к 7г ч1 К.г.'!I24","v":0},{"$f":"'Реч.разв.к 7г ч1 К.г.'!J24","v":0},{"$f":"'Реч.разв.к 7г ч1 К.г.'!K24","v":0},{"$f":"'Реч.разв.к 7г ч1 К.г.'!L24","v":0},{"$f":"'Реч.разв.к 7г ч2 К.г. '!E24","v":0},{"$f":"'Реч.разв.к 7г ч2 К.г. '!F24","v":0},{"$f":"'Реч.разв.к 7г ч2 К.г. '!G24","v":0},{"$f":"'Реч.разв.к 7г ч2 К.г. '!H24","v":0},{"$f":"'Реч.разв.к 7г ч2 К.г. '!I24","v":0},{"$f":"'Реч.разв.к 7г ч2 К.г. '!J24","v":0},{"$f":"'Реч.разв.к 7г ч2 К.г. '!K24","v":0},{"$f":"'Реч.разв.к 7г ч2 К.г. '!L24","v":0},{"$f":"'Реч.разв.к 7г ч2 К.г. '!M24","v":0},{"$f":"'Реч.разв.к 7г ч3. К.г. '!E24","v":0},{"$f":"'Реч.разв.к 7г ч3. К.г. '!F24","v":0},{"$f":"'Реч.разв.к 7г ч3. К.г. '!G24","v":0},{"$f":"'Реч.разв.к 7г ч3. К.г. '!H24","v":0},{"$f":"'Реч.разв.к 7г ч3. К.г. '!I24","v":0},{"$f":"'Реч.разв.к 7г ч3. К.г. '!J24","v":0},{"$f":"'Позн.разв. к 7г ч1. К.г. '!E25","v":0},{"$f":"'Позн.разв. к 7г ч1. К.г. '!F25","v":0},{"$f":"'Позн.разв. к 7г ч1. К.г. '!G25","v":0},{"$f":"'Позн.разв. к 7г ч1. К.г. '!H25","v":0},{"$f":"'Позн.разв. к 7г ч1. К.г. '!I25","v":0},{"$f":"'Позн.разв. к 7г ч1. К.г. '!J25","v":0},{"$f":"'Позн.разв. к 7г ч1. К.г. '!K25","v":0},{"$f":"'Позн.разв. к 7г ч1. К.г. '!L25","v":0},{"$f":"'Позн.разв. к 7г ч1. К.г. '!M25","v":0},{"$f":"'Позн.разв. к 7г ч2. К.г.'!E25","v":0},{"$f":"'Позн.разв. к 7г ч2. К.г.'!F25","v":0},{"$f":"'Позн.разв. к 7г ч2. К.г.'!G25","v":0},{"$f":"'Позн.разв. к 7г ч2. К.г.'!H25","v":0},{"$f":"'Позн.разв. к 7г ч2. К.г.'!I25","v":0},{"$f":"'Позн.разв. к 7г ч2. К.г.'!J25","v":0},{"$f":"'Позн.разв. к 7г ч2. К.г.'!K25","v":0},{"$f":"'Позн.разв. к 7г ч2. К.г.'!L25","v":0},{"$f":"'Позн.разв. к 7г ч2. К.г.'!M25","v":0},{"$f":"'Позн.разв. к 7г ч3. К.г. '!E25","v":0},{"$f":"'Позн.разв. к 7г ч3. К.г. '!F25","v":0},{"$f":"'Позн.разв. к 7г ч3. К.г. '!G25","v":0},{"$f":"'Позн.разв. к 7г ч3. К.г. '!H25","v":0},{"$f":"'Позн.разв. к 7г ч3. К.г. '!I25","v":0},{"$f":"'Позн.разв. к 7г ч3. К.г. '!J25","v":0},{"$f":"'Позн.разв. к 7г ч3. К.г. '!K25","v":0},{"$f":"'Позн.разв. к 7г ч3. К.г. '!L25","v":0},{"$f":"'Позн.разв. к 7г ч3. К.г. '!M25","v":0},{"$f":"'Позн.разв. к 7г ч3. К.г. '!N25","v":0},{"$f":"'Позн.разв. к 7г ч3. К.г. '!O25","v":0},{"$f":"'Позн.разв. к 7г ч3. К.г. '!P25","v":0},{"$f":"'Позн.разв. к 7г ч3. К.г. '!Q25","v":0},{"$f":"'Физ.разв. к 7г ч1. К.г. '!E25","v":0},{"$f":"'Физ.разв. к 7г ч1. К.г. '!F25","v":0},{"$f":"'Физ.разв. к 7г ч1. К.г. '!G25","v":0},{"$f":"'Физ.разв. к 7г ч1. К.г. '!H25","v":0},{"$f":"'Физ.разв. к 7г ч1. К.г. '!I25","v":0},{"$f":"'Физ.разв. к 7г ч1. К.г. '!J25","v":0},{"$f":"'Физ.разв. к 7г ч1. К.г. '!K25","v":0},{"$f":"'Физ.разв. к 7г ч1. К.г. '!L25","v":0},{"$f":"'Физ.разв. к 7г ч1. К.г. '!M25","v":0},{"$f":"'Физ.разв. к 7г ч1. К.г. '!N25","v":0},{"$f":"'Физ.разв. к 7г ч1. К.г. '!O25","v":0},{"$f":"'Физ.разв. к 7г ч1. К.г. '!P25","v":0},{"$f":"'Физ.разв. к 7г ч1. К.г. '!Q25","v":0},{"$f":"'Физ.разв. к 7г ч1. К.г. '!R25","v":0},{"$f":"'Физ.разв. к 7г ч1. К.г. '!S25","v":0},{"$f":"'Физ.разв. к 7г ч1. К.г. '!T25","v":0},{"$f":"'Физ.разв. к 7г ч1. К.г. '!U25","v":0},{"$f":"'Физ.разв. к 7г ч1. К.г. '!V25","v":0},{"$f":"'Физ.разв. к 7г ч1. К.г. '!W25","v":0},{"$f":"'Физ.разв. к 7г ч2. К.г.'!E26","v":0},{"$f":"'Физ.разв. к 7г ч2. К.г.'!F26","v":0},{"$f":"'Физ.разв. к 7г ч2. К.г.'!G26","v":0},{"$f":"'Физ.разв. к 7г ч2. К.г.'!H26","v":0},{"$f":"'Физ.разв. к 7г ч2. К.г.'!I26","v":0},{"$f":"'Физ.разв. к 7г ч2. К.г.'!J26","v":0},{"$f":"'Физ.разв. к 7г ч2. К.г.'!K26","v":0},{"$f":"'Физ.разв. к 7г ч2. К.г.'!L26","v":0},{"$f":"'Физ.разв. к 7г ч2. К.г.'!M26","v":0},{"$f":"'Физ.разв. к 7г ч2. К.г.'!N26","v":0},{"$f":"'Физ.разв. к 7г ч2. К.г.'!O26","v":0},{"$f":"'Физ.разв. к 7г ч2. К.г.'!P26","v":0},{"$f":"'Физ.разв. к 7г ч2. К.г.'!Q26","v":0},{"$f":"'Физ.разв. к 7г ч2. К.г.'!R26","v":0},{"$f":"'Физ.разв. к 7г ч2. К.г.'!S26","v":0},{"$f":"'Физ.разв. к 7г ч2. К.г.'!T26","v":0},{"$f":"'Физ.разв. к 7г ч3. К.г. '!E26","v":0},{"$f":"'Физ.разв. к 7г ч3. К.г. '!F26","v":0},{"$f":"'Физ.разв. к 7г ч3. К.г. '!G26","v":0},{"$f":"'Физ.разв. к 7г ч3. К.г. '!H26","v":0},{"$f":"'Физ.разв. к 7г ч3. К.г. '!I26","v":0},{"$f":"'Физ.разв. к 7г ч3. К.г. '!J26","v":0},{"$f":"'Физ.разв. к 7г ч3. К.г. '!K26","v":0},{"$f":"'Физ.разв. к 7г ч3. К.г. '!L26","v":0},{"$f":"'Физ.разв. к 7г ч3. К.г. '!M26","v":0},{"$f":"'Физ.разв. к 7г ч3. К.г. '!N26","v":0},{"$f":"'Физ.разв. к 7г ч3. К.г. '!O26","v":0},{"$f":"'Худ.эст.к 7г ч1. К.г. '!E25","v":0},{"$f":"'Худ.эст.к 7г ч1. К.г. '!F25","v":0},{"$f":"'Худ.эст.к 7г ч1. К.г. '!G25","v":0},{"$f":"'Худ.эст.к 7г ч1. К.г. '!H25","v":0},{"$f":"'Худ.эст.к 7г ч1. К.г. '!I25","v":0},{"$f":"'Худ.эст.к 7г ч1. К.г. '!J25","v":0},{"$f":"'Худ.эст.к 7г ч1. К.г. '!K25","v":0},{"$f":"'Худ.эст.к 7г ч1. К.г. '!L25","v":0},{"$f":"'Худ.эст.к 7г ч1. К.г. '!M25","v":0},{"$f":"'Худ.эст.к 7г ч1. К.г. '!N25","v":0},{"$f":"'Худ.эст.к 7г ч1. К.г. '!O25","v":0},{"$f":"'Худ.эст.к 7г ч1. К.г. '!P25","v":0},{"$f":"'Худ.эст.к 7г ч1. К.г. '!Q25","v":0},{"$f":"'Худ.эст.к 7г ч2. К.г. '!E25","v":0},{"$f":"'Худ.эст.к 7г ч2. К.г. '!F25","v":0},{"$f":"'Худ.эст.к 7г ч2. К.г. '!G25","v":0},{"$f":"'Худ.эст.к 7г ч2. К.г. '!H25","v":0},{"$f":"'Худ.эст.к 7г ч2. К.г. '!I25","v":0},{"$f":"'Худ.эст.к 7г ч2. К.г. '!J25","v":0},{"$f":"'Худ.эст.к 7г ч2. К.г. '!K25","v":0},{"$f":"'Худ.эст.к 7г ч2. К.г. '!L25","v":0},{"$f":"'Худ.эст.к 7г ч2. К.г. '!M25","v":0},{"$f":"'Худ.эст.к 7г ч2. К.г. '!N25","v":0},{"$f":"'Худ.эст.к 7г ч2. К.г. '!O25","v":0},{"$f":"'Худ.эст.к 7г ч2. К.г. '!P25","v":0},{"$f":"'Худ.эст.к 7г ч2. К.г. '!Q25","v":0},{"$f":"'Худ.эст.к 7г ч3. К.г. '!E25","v":0},{"$f":"'Худ.эст.к 7г ч3. К.г. '!F25","v":0},{"$f":"'Худ.эст.к 7г ч3. К.г. '!G25","v":0},{"$f":"'Худ.эст.к 7г ч3. К.г. '!H25","v":0},{"$f":"'Худ.эст.к 7г ч3. К.г. '!I25","v":0},{"$f":"'Худ.эст.к 7г ч3. К.г. '!J25","v":0},{"$f":"'Худ.эст.к 7г ч3. К.г. '!K25","v":0},{"$f":"'Худ.эст.к 7г ч3. К.г. '!L25","v":0}]

{"sheet":"15","index":52,"n_rows":7,"n_cols":165,"rows_kept":7,"merged":[[0,104,0,110],[0,111,0,112],[0,113,0,115],[0,116,0,119],[0,120,0,123],[0,124,0,126],[0,127,0,130],[1,54,1,58],[1,59,1,62],[1,63,1,71],[1,72,1,76],[1,77,1,84],[1,104,1,106],[1,107,1,110],[1,111,4,111],[1,112,4,112],[1,113,4,113],[1,114,4,114],[1,115,4,115],[1,116,1,119],[1,120,2,120],[1,121,2,121],[1,122,2,122],[1,123,2,123],[1,124,4,124],[1,125,4,125],[1,126,4,126],[1,127,1,130],[1,131,1,143],[1,144,1,156],[1,157,2,162],[1,163,2,164],[2,18,2,22],[2,23,2,25],[2,26,2,30],[2,32,2,34],[2,35,2,38],[2,40,2,44],[2,45,2,47],[2,48,2,53],[2,55,2,57],[2,59,4,59],[2,60,4,60],[2,61,4,61],[2,62,4,62],[2,63,2,65],[2,66,2,67],[2,68,2,69],[2,72,3,76],[2,77,2,80],[2,81,2,82],[2,83,4,83],[2,84,4,84],[2,85,2,86],[2,87,2,89],[2,90,2,92],[2,93,2,95],[2,96,2,99],[2,100,2,101],[2,102,2,103],[2,104,4,104],[2,105,4,105],[2,106,4,106],[2,107,4,107],[2,108,4,108],[2,109,4,109],[2,110,4,110],[2,116,4,116],[2,117,4,117],[2,118,4,118],[2,119,4,119],[2,127,4,127],[2,128,4,128],[2,129,4,129],[2,130,4,130],[2,135,2,136],[2,137,2,140],[2,141,2,142],[2,143,4,143],[2,144,2,145],[2,146,2,147],[2,148,2,149],[2,151,2,156],[3,0,4,0],[3,1,3,4],[3,7,3,9],[3,11,3,12],[3,13,3,14],[3,15,4,15],[3,16,4,16],[3,17,4,17],[3,18,4,18],[3,19,4,19],[3,20,4,20],[3,21,4,21],[3,22,4,22],[3,23,4,23],[3,24,4,24],[3,25,4,25],[3,26,4,26],[3,27,4,27],[3,28,4,28],[3,29,4,29],[3,30,4,30],[3,31,4,31],[3,32,4,32],[3,33,4,33],[3,34,4,34],[3,35,4,35],[3,36,4,36],[3,37,4,37],[3,38,4,38],[3,39,4,39],[3,40,4,40],[3,41,4,41],[3,42,4,42],[3,43,4,43],[3,44,4,44],[3,45,4,45],[3,46,4,46],[3,47,4,47],[3,48,4,48],[3,49,4,49],[3,50,4,50],[3,51,4,51],[3,52,4,52],[3,53,4,53],[3,54,3,58],[3,63,4,63],[3,64,4,64],[3,65,4,65],[3,66,4,66],[3,67,4,67],[3,68,4,68],[3,69,4,69],[3,70,4,70],[3,71,4,71],[3,81,4,81],[3,85,3,86],[3,87,3,89],[3,90,3,92],[3,93,3,95],[3,96,3,99],[3,100,3,101],[3,102,4,102],[3,103,4,103],[3,120,4,120],[3,121,4,121],[3,122,4,122],[3,123,4,123],[3,131,4,131],[3,132,4,132],[3,133,4,133],[3,134,4,134],[3,135,4,135],[3,136,4,136],[3,137,4,137],[3,138,4,138],[3,139,4,139],[3,140,4,140],[3,141,4,141],[3,142,4,142],[3,144,4,144],[3,145,4,145],[3,146,4,146],[3,147,4,147],[3,148,4,148],[3,149,4,149],[3,150,4,150],[3,151,4,151],[3,152,4,152],[3,153,4,153],[3,154,4,154],[3,155,4,155],[3,156,4,156],[3,157,4,157],[3,158,4,158],[3,159,4,159],[3,160,4,160],[3,161,4,161],[3,162,4,162],[3,163,4,163],[3,164,4,164]]}
[{"$nulls":104},"Мелкая моторика",{"$nulls":6},"Подвижные игры",null,"Спорт. игры",null,null,"Спортивные упражнения",{"$nulls":3},"КГН",{"$nulls":3},"ЗОЖ",null,null,"Спортивные упражнения"]
[{"$nulls":54},"Сенсорные эталоны ",{"$nulls":4},"Познавательные действия",{"$nulls":3},"Математические представления",{"$nulls":8},"Окружающий мир",{"$nulls":4},"Природа ",{"$nulls":26},"Координация рук и глаз",null,null,"Графические навыки",{"$nulls":3},"Ребенок использует в самостоятельной деятельности разнообразные по содержанию подвижные игры, проявляет элементы творчества в двигательной деятельности","Ребенок может организовать знакомые подвижные игры со сверстниками, сплотить команду, стремится внести свой вклад в результат команды","Ребенок владеет элементами спортивных игр (городки, баскетбол, футбол, хоккей, бадминтон, настольный теннис), может контролировать свои движения и управлять ими","Ребенок имеет представление о разных видах спорта (санный спорт, борьба, теннис, синхронное плавание и др.)","Ребенок имеет представление о спортивных событиях и достижениях отечественных спортсменов","Ребенок умеет кататься",{"$nulls":3},"Навыки соблюдения чистоты тела (правила личной гигиены)","Навыки культуры еды (прием пищи) ","Навыки поддержания порядка (правила поведения в быту) ","Навыки ухода за собой (одевание, раздевание) ","Ребенок соблюдает элементарные правила здорового образа жизни и личной гигиены, следит за своей осанкой, может оценить свое самочувствие","Ребенок регулярно выполняет физические упражнения","Ребенок имеет начальные представления о том, что такое здоровье, понимает, как поддержать, укрепить и сохранить его","Ребенок умеет кататься",{"$nulls":3},"Музыкальная деятельность",{"$nulls":12},"Изобразительная деятельность",{"$nulls":12},"Приобщение к искусству",{"$nulls":5},"Конструктивная деятельность"]
[{"$nulls":18},"Область формирования основ гражданственности и патриотизма",{"$nulls":4},"Сфера трудового воспитания",null,null,"Область формирования основ безопасного поведения",{"$nulls":4},"Общее речевое развитие","Формирование словаря",null,null,"Грамматический строй",{"$nulls":3},"Звуковая культура речи","Связная речь",{"$nulls":4},"ЧХЛ",null,null,"Подготовка к обучению грамоте",{"$nulls":5},"Цвет, оттенки","Форма, геометрические фигуры",null,null,"Величина","Ребенок самостоятельно выбирает способ осуществления разных видов познавательной деятельности","Ребенок интересуется субъективно новым и неизвестным в окружающем мире","Ребенок способен применять в жизненных и игровых ситуациях знания о количестве, форме, величине предметов, пространстве, времени","Ребенок имеет разнообразные познавательные умения: определяет противоречия. Формулирует задачу исследования, использует разные способы и средства проверки предположений (сравнение с эталонами, классификацию, систематизацию и др.)","Количество и счет",null,null,"Ориентировка во времени",null,"Ориентировка в пространстве",null,"Пространственно-количественные связи и отношения","Сравнение","Ребенок имеет представления, может показать на картинке и в естественной среде, может рассказать",{"$nulls":4},"Объекты живой природы",{"$nulls":3},"Объекты неживой природы, природные явления",null,"Ребенок стремится к самостоятельному экспериментированию","Ребенок знает правила поведения в природе, проявляет осознанное, бережное отношение к природе и ее ресурсам","Бросание, катание, ловля, метание",null,"Ползанье, лазанье",null,null,"Ходьба",null,null,"Бег",null,null,"Прыжки",{"$nulls":3},"Равновесие",null,"Строевые упражнения",null,"Ребенок выполняет графический диктант","Ребенок обводит по шаблону, по трафарету","Ребенок чертит линии с помощью линейки","Ребенок обводит по контуру, по точкам","Ребенок выполняет штриховку в различных направлениях","Ребенок закрашивает, не выходя за контур","Ребенок свободно владеет карандашом при рисовании округлых линий, завитков в разном направлении",{"$nulls":5},"на санках","на лыжах","на двухколесном велосипеде","на самокате",{"$nulls":7},"на санках","на лыжах","на двухколесном велосипеде","на самокате","Слушание","Пение ","Музыкально-ритмические движения","Песенное творчество","Игра на детских музыкальных инструментах",null,"Театрализованная деятельность",{"$nulls":3},"Танцевально-игровое творчество",null,"У ребенка развит музыкальный вкус, музыкальная память","Рисование ",null,"Лепка ",null,"Аппликация ",null,"Народное ДПИ","Прикладное творчество"]
[{"$f":"Список!B18","v":0},"Отношение к самому себе",{"$nulls":3},"Отношение к сверстникам","Отношение к взрослым","Эмоции",null,null,"Поведение","Семья",null,"Игровое поведение",null,"Ребенок имеет представление об изменениях позиции человека с возрастом","Ребенок имеет представление о школе, школьниках, учителях; стремится к школьному обучению, к познанию, освоению чтения, письма; демонстрирует формированные предпосылки к учебной деятельности и элементы готовности к школьному обучению","Ребенок имеет представление о нравственных качествах людей, их проявлении в поступках и взаимоотношениях","Ребенок имеет представление о признаках и характеристиках государства (территория государства и его границы, столица), атрибутах государственной власти, президенте, столице","Ребенок имеет представление о порядке использования государственной символики","Ребенок имеет представление о волонтерстве","Ребенок имеет представление о государственных праздниках, исторических событиях","Ребенок имеет представление о жизни людей в России, о многообразии стран и народов мира","Ребенок имеет представление об обмене ценностями в процессе производства и потребления товаров и услуг, о денежных отношениях, о реальной стоимости отдельных продуктов питания, игрушек, детских книг","Ребенок имеет представление о об основах финансовой грамоты, основах бережного потребления","Ребенок проявляет инициативность и самостоятельность в процессе самообслуживания, при выполнении трудовых поручений","Ребенок имеет представление о правила безопасного поведения в ситуациях, создающих угрозу жизни и здоровью (погас свет, остался один, потерялся, получил травму)","Ребенок имеет представление о правила безопасного поведения дома, на улице, в природе, в местах большого скопления людей, в магазине, на вокзале, в общественных метах, на праздниках и др.","Ребенок имеет представление о правилах безопасного использования цифровых ресурсов (мобильного телефона, планшета)","Ребенок имеет представление об элементарных правилах оказания первой помощи при первых признаках недомогания, травмах, ушибах","Ребенок проявляет самостоятельность при выполнении правил безопасного поведения","Ребенок владеет речью как средством коммуникации, ведет диалог, владеет коммуникативно-речевыми умениями","Ребенок подбирает точные слова для выражения мысли","Ребенок выполняет операцию классификации – деления освоенных понятий на группы на основе выявленных признаков","Ребенок использует в речи средства языковой выразительности: антонимы, синонимы, многозначные слова, метафоры, олицетворение","Ребенок образует сложные слова посредством слияния основ","Ребенок согласует в речи существительные с числительными, существительные с прилагательными","Ребенок образует по образцу существительные с суффиксами, глаголы с приставками","Ребенок образует в речи сравнительную и превосходную степени имен прилагательных","Ребенок правильно произносит все звуки","Ребенок может пересказать литературное произведение по ролям, близко к тексту, от лица литературного героя","Ребенок может составить описательный рассказ, соблюдая структуру описания","Ребенок может составить повествовательный рассказ по картине, из личного опыта, из коллективного опыта, по набору игрушек, соблюдая структуру повествования","Ребенок может составить рассказ -контаминацию (сочетание описания и повествования, описания и рассуждения)","Ребенок использует в процессе общения объяснительную речь, речь-доказательство, речевое планирование","Ребенок знает и осмысленно воспринимает литературные произведения различных жанров, имеет предпочтения","Ребенок определяет характеры персонажей, мотивы их поведения, оценивает поступки литературных героев","Ребенок проявляет интерес к книгам познавательного характера","Ребенок производит звуковой анализ четырехзвуковых и пятизвуковых слов","Ребенок может интонационно выделить звуки в слове, определить их последовательность, дать им характеристику, составить схему слова, выделить ударный гласный звук в слове","Ребенок может определить количество и последовательность слов в предложении","Ребенок может составить предложение с заданным количеством слов","Ребенок знает названия всех букв","Ребенок читает слоги","Ребенок различает и называет",{"$nulls":8},"Ребенок умеет считать в пределах 10 в прямом и обратном порядке","Ребенок знает состав чисел из двух меньших в пределах первого десятка","Ребенок решает простые арифметические задачи на сложение и вычитание","Ребенок имеет представление о календаре, как системе измерения времени","Ребенок умеет определять время по часам с точностью до четверти часа","Ребенок ориентируется на местности, по схеме, по плану","Ребенок знает способы ориентировки в двухмерном пространстве","Ребенок умеет измерять протяженность, массу и объем с помощью условной мерки; понимает взаимообратные отношения между мерой и результатом измерения","Ребенок сравнивает предметы по 4-6 основаниям с выделением сходства, отличия",{"$nulls":9},"Ребенок имеет представление об использовании человеком свойств неживой природы для хозяйственных нужд (ветряные мельницы, водохранилища, солнечные батареи, ледяные катки)",{"$nulls":3},"Ребенок выполняет различные упражнения с мячом, метание",null,"Ребенок выполняет разные виды ползанья, лазанья ",null,null,"Ребенок выполняет различные виды ходьбы",null,null,"Ребенок выполняет различные виды бега",null,null,"Ребенок выполняет различные виды прыжков",{"$nulls":3},"Ребенок выполняет",null,"Ребенок выполняет разные виды перестроений, построений, передвижений, размыкание и смыкание приставным шагом, повороты","Ребенок может рассчитаться на «первый – второй»",{"$nulls":16},"Ребенок владеет навыками личной гигиены","Ребенок владеет навыками культуры еды","Ребенок владеет навыками поддержания порядка","Ребенок владеет навыками ухода за собой",{"$nulls":7},"У ребенка развит навык восприятия звуков по высоте в пределах квинты-терции","У ребенка развиты певческий голос и вокально-слуховая координация","Ребёнок ритмично и выразительно двигается в соответствие с характером музыки","Ребенок способен самостоятельно придумать мелодию, используя в качестве образца русские народные песни","Ребенок может сыграть простую мелодию на металлофоне, свирели, ударных, и электронных музыкальных инструментах: трещотках, погремушках, треугольниках","Ребенок может исполнить музыкальное произведение в оркестре и в ансамбле","Ребенок проявляет самостоятельность при выборе литературного и музыкального материала для театральной постановки","Ребенок проявляет инициативу при изготовлении атрибутов и декораций к спектаклю","Ребенок имеет представление о средствах погружения в театральные образы (музыка, слова, декорации, грим, костюм и др.)","Ребенок умеет выразительно передавать образы в действии, мимике, пантомимике","Ребенок проявляет активность в доступных видах музыкальной исполнительской деятельности (игра в оркестре, пение, танцевальные движения и др.)","Ребенок помогает придумывать движения, отражающие содержание песни",null,"Ребенок может изобразить предметы по памяти и с натуры, передает их средствами рисунка (форма, пропорции, расположение)","Ребенок способен передавать в рисунке сюжет, строить композицию","Ребенок свободно использует приемы лепки, освоенные ранее (налеп, углубленный рельеф), применяет стеку","Ребенок умеет передавать пропорции, соотношение по величине, выразительность поз, движений, деталей","Ребенок умеет составлять узоры и декоративные композиции из геометрических и растительных элементов на листах бумаги разной формы","Ребенок может выполнить вырезание (симметричное из бумаги, сложенной вдвое; несколько предметов из частей бумаги, сложенной гармошкой)","Ребенок умеет создавать узоры по мотивам народных росписей","Ребенок может сложить бумагу в разных направлениях","Ребенок может сделать разметку с помощью шаблона","Ребенок может выполнить работу по образцу","Ребенок может создать объемную игрушку в технике «оригами»","Ребенок может создать объемную поделку из природного материала","Ребенок может вдеть нитку в иголку, завязать узелок, пришить пуговицу, петельку, выполнить шов «вперед иголка»","Ребенок умеет выделять, называть, группировать произведения по видам искусства: литература, музыка, изобразительное искусство, архитектура, театр, цирк","Ребенок имеет представление о видах изобразительного искусства: графика, декоративно-прикладное искусство, живопись, скульптура, архитектура, фотоискусство","Ребенок имеет представление о жанрах изобразительного искусства: натюрморт, пейзаж, портрет","Ребенок имеет представление о народном искусстве, фольклоре, музыке и художественных промыслах","Ребенок имеет представление о творческих профессиях: художник, композитор, музыкант, актер, артист балета","Ребенок имеет представление о культурно-досуговых местах: театр, музей, библиотека, выставка, кинотеатр, цирк и др.","Ребенок может провести анализ постройки (выделить основные части и характерные детали конструкций)","Ребенок может выполнить постройку по инструкции"]
[null,"Ребенок осознает и признает собственные ошибки, результат поставленных задач, определяет пути развития","Ребенок умеет договариваться и дружить, старается разрешать конфликтные ситуации конструктивными способами","Ребенок способен принимать собственные решения и проявлять инициативу","Ребенок осознанно относится к своему будущему, стремится быть полезным обществу","Ребенок без напоминаний использует в общении формулы словесной вежливости (приветствие, прощание, просьбы, извинения)","Ребенок без напоминаний использует в общении формулы словесной вежливости (приветствие, прощание, просьбы, извинения)","Ребенок понимает чувства и переживания окружающих по невербальным признакам; находит причины и следствия возникновения эмоций, проявляет эмпатию","Ребенок использует социально приемлемые способы проявления эмоций и доступные возрасту регуляции эмоциональных состояний","Ребенок распознает собственные чувства и эмоции, анализирует свои переживания и рассказывает о них","Ребенок самостоятельно соблюдает установленный порядок поведения в группе, регулирует собственную активность","Ребенок имеет представление о необходимости укрепления связи между поколениями, взаимной поддержке детей и взрослых","Ребенок имеет представление о семье, семейных и родственных отношениях (взаимные чувства, правила общения в семье, значимые и памятные события, досуг семьи, семейный бюджет)","Ребенок умеет сотрудничать со сверстниками (побуждает к обсуждению планов, советуется, поддерживает интерес к мнению, инициирует ситуации взаимопомощи, подчеркивает ценность каждого ребенка и его вклад в общее дело, выбирает партнеров по интересам, помогает устанавливать темп совместных действий)","Ребенок владеет разными способами и видами игры, различает условную и реальную ситуации, предлагает и объясняет замысел игры, комбинирует сюжеты на основе реальных, вымышленных ситуаций, выполняет несколько ролей в одной игре, подбирает разные средства для создания игровых образов, согласовывает свои интересы с интересами партнёров по игре",{"$nulls":39}," все цвета спектра и ахроматические цвета, оттенки","плоские и объемные геометрические фигуры; умеет выделять структуру геометрических фигур и устанавливать взаимосвязи между ними","Ребенок умеет классифицировать фигуры по внешним структурным признаками (округлые, многоугольники)","Ребенок владеет различными способами видоизменения геометрических фигур (наложение, соединение, разрезание и др.)","Ребенок умеет измерять длину, ширину, высоту с помощью условной мерки",{"$nulls":13}," о родном населенном пункте (название улиц, некоторых архитектурных особенностях, достопримечательностях), об истории, о выдающихся горожанах, традициях городской жизни"," о назначении общественных учреждений"," о разных видах специального транспорта"," о местах труда людей (завод, больница, магазин и др.)"," о местах отдыха людей","Ребенок имеет представление о наиболее ярких представителях животных и растений разных природных зон (пустыня, степь, тайга, тундра и др.), об их образе жизни, приспособлении к среде обитания, изменениях в жизни в разные сезоны года","Ребенок имеет представление о многообразии водных ресурсов (моря, океаны, реки, водопады и др.)","Ребенок имеет представление о многообразии полезных ископаемых (нефть, уголь, серебро, золото, алмазы и др.)","Ребенок имеет представление о жизненных потребностях, этапах роста и развития животных и растений",null,"Ребенок имеет представление о некоторых небесных телах (планеты, кометы, звезды)",null,null,"бросание вверх, о землю, ловля двумя руками, одной рукой, перебрасывание, передача, прокатывание, забрасывание, ведение","в цель из положения стоя, вдаль, в движущеюся цель","ползанье на четвереньках, на животе, на спине","влезание на гимнастическую стенку и спуск; перелезание с пролета на пролет по диагонали","лазанье по веревочной лестнице; выполнение упражнений на канате","обычная, гимнастическим шагом, скрестным шагом, спиной вперед, выпадами, с закрытыми глазами","приставными шагами назад, в приседе, с различными движениями рук","в различных построениях","в колонне по одному, врассыпную, парами, тройками, четверками","в сочетание с прыжками, высоко поднимая колени, захлестывая голени назад, выбрасывая прямые ноги вперед","челночный, наперегонки, из разных исходных положений, со скакалкой, по пересеченной местности, с наименьшим числом шагов, медленный, быстрый","подпрыгивания на двух ногах в чередовании с ходьбой, на месте и с поворот кругом","смещая ноги вправо-влево-вперед-назад","выпрыгивание на предметы; подпрыгивания вверх из глубокого приседа; прыжки на одной ноге","в длину с места/с разбега, в высоту с места/с разбега","стойка на носках, стойка на одной ноге с закрытыми глазами","кружение с закрытыми глазами, остановкой и сохранением заданной позы"]
["начало года",{"$f":"'Соц.ком.к 7г ч1 Н.г.'!E25","v":0},{"$f":"'Соц.ком.к 7г ч1 Н.г.'!F25","v":0},{"$f":"'Соц.ком.к 7г ч1 Н.г.'!G25","v":0},{"$f":"'Соц.ком.к 7г ч1 Н.г.'!H25","v":0},{"$f":"'Соц.ком.к 7г ч1 Н.г.'!I25","v":0},{"$f":"'Соц.ком.к 7г ч1 Н.г.'!J25","v":0},{"$f":"'Соц.ком.к 7г ч1 Н.г.'!K25","v":0},{"$f":"'Соц.ком.к 7г ч1 Н.г.'!L25","v":0},{"$f":"'Соц.ком.к 7г ч1 Н.г.'!M25","v":0},{"$f":"'Соц.ком.к 7г ч1 Н.г.'!N25","v":0},{"$f":"'Соц.ком.к 7г ч2 Н.г.'!E25","v":0},{"$f":"'Соц.ком.к 7г ч2 Н.г.'!F25","v":0},{"$f":"'Соц.ком.к 7г ч2 Н.г.'!G25","v":0},{"$f":"'Соц.ком.к 7г ч2 Н.г.'!H25","v":0},{"$f":"'Соц.ком.к 7г ч2 Н.г.'!I25","v":0},{"$f":"'Соц.ком.к 7г ч2 Н.г.'!J25","v":0},{"$f":"'Соц.ком.к 7г ч2 Н.г.'!K25","v":0},{"$f":"'Соц.ком. к 7г ч3 Н.г.'!E25","v":0},{"$f":"'Соц.ком. к 7г ч3 Н.г.'!F25","v":0},{"$f":"'Соц.ком. к 7г ч3 Н.г.'!G25","v":0},{"$f":"'Соц.ком. к 7г ч3 Н.г.'!H25","v":0},{"$f":"'Соц.ком. к 7г ч3 Н.г.'!I25","v":0},{"$f":"'Соц.ком. к 7г ч3 Н.г.'!J25","v":0},{"$f":"'Соц.ком. к 7г ч3 Н.г.'!K25","v":0},{"$f":"'Соц.ком. к 7г ч3 Н.г.'!L25","v":0},{"$f":"'Соц.ком. к 7г ч4 Н.г.'!E25","v":0},{"$f":"'Соц.ком. к 7г ч4 Н.г.'!F25","v":0},{"$f":"'Соц.ком. к 7г ч4 Н.г.'!G25","v":0},{"$f":"'Соц.ком. к 7г ч4 Н.г.'!H25","v":0},{"$f":"'Соц.ком. к 7г ч4 Н.г.'!I25","v":0},{"$f":"'Реч.разв.к 7г ч1 Н.г.'!E25","v":0},{"$f":"'Реч.разв.к 7г ч1 Н.г.'!F25","v":0},{"$f":"'Реч.разв.к 7г ч1 Н.г.'!G25","v":0},{"$f":"'Реч.разв.к 7г ч1 Н.г.'!H25","v":0},{"$f":"'Реч.разв.к 7г ч1 Н.г.'!I25","v":0},{"$f":"'Реч.разв.к 7г ч1 Н.г.'!J25","v":0},{"$f":"'Реч.разв.к 7г ч1 Н.г.'!K25","v":0},{"$f":"'Реч.разв.к 7г ч1 Н.г.'!L25","v":0},{"$f":"'Реч.разв.к 7г ч2 Н.г.'!E25","v":0},{"$f":"'Реч.разв.к 7г ч2 Н.г.'!F25","v":0},{"$f":"'Реч.разв.к 7г ч2 Н.г.'!G25","v":0},{"$f":"'Реч.разв.к 7г ч2 Н.г.'!H25","v":0},{"$f":"'Реч.разв.к 7г ч2 Н.г.'!I25","v":0},{"$f":"'Реч.разв.к 7г ч2 Н.г.'!J25","v":0},{"$f":"'Реч.разв.к 7г ч2 Н.г.'!K25","v":0},{"$f":"'Реч.разв.к 7г ч2 Н.г.'!L25","v":0},{"$f":"'Реч.разв.к 7г ч2 Н.г.'!M25","v":0},{"$f":"'Реч.разв.к 7г ч3. Н.г.'!E25","v":0},{"$f":"'Реч.разв.к 7г ч3. Н.г.'!F25","v":0},{"$f":"'Реч.разв.к 7г ч3. Н.г.'!G25","v":0},{"$f":"'Реч.разв.к 7г ч3. Н.г.'!H25","v":0},{"$f":"'Реч.разв.к 7г ч3. Н.г.'!I25","v":0},{"$f":"'Реч.разв.к 7г ч3. Н.г.'!J25","v":0},{"$f":"'Позн.разв. к 7г ч1. Н.г.'!E26","v":0},{"$f":"'Позн.разв. к 7г ч1. Н.г.'!F26","v":0},{"$f":"'Позн.разв. к 7г ч1. Н.г.'!G26","v":0},{"$f":"'Позн.разв. к 7г ч1. Н.г.'!H26","v":0},{"$f":"'Позн.разв. к 7г ч1. Н.г.'!I26","v":0},{"$f":"'Позн.разв. к 7г ч1. Н.г.'!J26","v":0},{"$f":"'Позн.разв. к 7г ч1. Н.г.'!K26","v":0},{"$f":"'Позн.разв. к 7г ч1. Н.г.'!L26","v":0},{"$f":"'Позн.разв. к 7г ч1. Н.г.'!M26","v":0},{"$f":"'Позн.разв. к 7г ч2. Н.г.'!E26","v":0},{"$f":"'Позн.разв. к 7г ч2. Н.г.'!F26","v":0},{"$f":"'Позн.разв. к 7г ч2. Н.г.'!G26","v":0},{"$f":"'Позн.разв. к 7г ч2. Н.г.'!H26","v":0},{"$f":"'Позн.разв. к 7г ч2. Н.г.'!I26","v":0},{"$f":"'Позн.разв. к 7г ч2. Н.г.'!J26","v":0},{"$f":"'Позн.разв. к 7г ч2. Н.г.'!K26","v":0},{"$f":"'Позн.разв. к 7г ч2. Н.г.'!L26","v":0},{"$f":"'Позн.разв. к 7г ч2. Н.г.'!M26","v":0},{"$f":"'Позн.разв. к 7г ч3. Н.г.'!E26","v":0},{"$f":"'Позн.разв. к 7г ч3. Н.г.'!F26","v":0},{"$f":"'Позн.разв. к 7г ч3. Н.г.'!G26","v":0},{"$f":"'Позн.разв. к 7г ч3. Н.г.'!H26","v":0},{"$f":"'Позн.разв. к 7г ч3. Н.г.'!I26","v":0},{"$f":"'Позн.разв. к 7г ч3. Н.г.'!J26","v":0},{"$f":"'Позн.разв. к 7г ч3. Н.г.'!K26","v":0},{"$f":"'Позн.разв. к 7г ч3. Н.г.'!L26","v":0},{"$f":"'Позн.разв. к 7г ч3. Н.г.'!M26","v":0},{"$f":"'Позн.разв. к 7г ч3. Н.г.'!N26","v":0},{"$f":"'Позн.разв. к 7г ч3. Н.г.'!O26","v":0},{"$f":"'Позн.разв. к 7г ч3. Н.г.'!P26","v":0},{"$f":"'Позн.разв. к 7г ч3. Н.г.'!Q26","v":0},{"$f":"'Физ.разв. к 7г ч1. Н.г.'!E26","v":0},{"$f":"'Физ.разв. к 7г ч1. Н.г.'!F26","v":0},{"$f":"'Физ.разв. к 7г ч1. Н.г.'!G26","v":0},{"$f":"'Физ.разв. к 7г ч1. Н.г.'!H26","v":0},{"$f":"'Физ.разв. к 7г ч1. Н.г.'!I26","v":0},{"$f":"'Физ.разв. к 7г ч1. Н.г.'!J26","v":0},{"$f":"'Физ.разв. к 7г ч1. Н.г.'!K26","v":0},{"$f":"'Физ.разв. к 7г ч1. Н.г.'!L26","v":0},{"$f":"'Физ.разв. к 7г ч1. Н.г.'!M26","v":0},{"$f":"'Физ.разв. к 7г ч1. Н.г.'!N26","v":0},{"$f":"'Физ.разв. к 7г ч1. Н.г.'!O26","v":0},{"$f":"'Физ.разв. к 7г ч1. Н.г.'!P26","v":0},{"$f":"'Физ.разв. к 7г ч1. Н.г.'!Q26","v":0},{"$f":"'Физ.разв. к 7г ч1. Н.г.'!R26","v":0},{"$f":"'Физ.разв. к 7г ч1. Н.г.'!S26","v":0},{"$f":"'Физ.разв. к 7г ч1. Н.г.'!T26","v":0},{"$f":"'Физ.разв. к 7г ч1. Н.г.'!U26","v":0},{"$f":"'Физ.разв. к 7г ч1. Н.г.'!V26","v":0},{"$f":"'Физ.разв. к 7г ч1. Н.г.'!W26","v":0},{"$f":"'Физ.разв. к 7г ч2. Н.г.'!E27","v":0},{"$f":"'Физ.разв. к 7г ч2. Н.г.'!F27","v":0},{"$f":"'Физ.разв. к 7г ч2. Н.г.'!G27","v":0},{"$f":"'Физ.разв. к 7г ч2. Н.г.'!H27","v":0},{"$f":"'Физ.разв. к 7г ч2. Н.г.'!I27","v":0},{"$f":"'Физ.разв. к 7г ч2. Н.г.'!J27","v":0},{"$f":"'Физ.разв. к 7г ч2. Н.г.'!K27","v":0},{"$f":"'Физ.разв. к 7г ч2. Н.г.'!L27","v":0},{"$f":"'Физ.разв. к 7г ч2. Н.г.'!M27","v":0},{"$f":"'Физ.разв. к 7г ч2. Н.г.'!N27","v":0},{"$f":"'Физ.разв. к 7г ч2. Н.г.'!O27","v":0},{"$f":"'Физ.разв. к 7г ч2. Н.г.'!P27","v":0},{"$f":"'Физ.разв. к 7г ч2. Н.г.'!Q27","v":0},{"$f":"'Физ.разв. к 7г ч2. Н.г.'!R27","v":0},{"$f":"'Физ.разв. к 7г ч2. Н.г.'!S27","v":0},{"$f":"'Физ.разв. к 7г ч2. Н.г.'!T27","v":0},{"$f":"'Физ.разв. к 7г ч3. Н.г.'!E27","v":0},{"$f":"'Физ.разв. к 7г ч3. Н.г.'!F27","v":0},{"$f":"'Физ.разв. к 7г ч3. Н.г.'!G27","v":0},{"$f":"'Физ.разв. к 7г ч3. Н.г.'!H27","v":0},{"$f":"'Физ.разв. к 7г ч3. Н.г.'!I27","v":0},{"$f":"'Физ.разв. к 7г ч3. Н.г.'!J27","v":0},{"$f":"'Физ.разв. к 7г ч3. Н.г.'!K27","v":0},{"$f":"'Физ.разв. к 7г ч3. Н.г.'!L27","v":0},{"$f":"'Физ.разв. к 7г ч3. Н.г.'!M27","v":0},{"$f":"'Физ.разв. к 7г ч3. Н.г.'!N27","v":0},{"$f":"'Физ.разв. к 7г ч3. Н.г.'!O27","v":0},{"$f":"'Худ.эст.к 7г ч1. Н.г.'!E26","v":0},{"$f":"'Худ.эст.к 7г ч1. Н.г.'!F26","v":0},{"$f":"'Худ.эст.к 7г ч1. Н.г.'!G26","v":0},{"$f":"'Худ.эст.к 7г ч1. Н.г.'!H26","v":0},{"$f":"'Худ.эст.к 7г ч1. Н.г.'!I26","v":0},{"$f":"'Худ.эст.к 7г ч1. Н.г.'!J26","v":0},{"$f":"'Худ.эст.к 7г ч1. Н.г.'!K26","v":0},{"$f":"'Худ.эст.к 7г ч1. Н.г.'!L26","v":0},{"$f":"'Худ.эст.к 7г ч1. Н.г.'!M26","v":0},{"$f":"'Худ.эст.к 7г ч1. Н.г.'!N26","v":0},{"$f":"'Худ.эст.к 7г ч1. Н.г.'!O26","v":0},{"$f":"'Худ.эст.к 7г ч1. Н.г.'!P26","v":0},{"$f":"'Худ.эст.к 7г ч1. Н.г.'!Q26","v":0},{"$f":"'Худ.эст.к 7г ч2. Н.г.'!E26","v":0},{"$f":"'Худ.эст.к 7г ч2. Н.г.'!F26","v":0},{"$f":"'Худ.эст.к 7г ч2. Н.г.'!G26","v":0},{"$f":"'Худ.эст.к 7г ч2. Н.г.'!H26","v":0},{"$f":"'Худ.эст.к 7г ч2. Н.г.'!I26","v":0},{"$f":"'Худ.эст.к 7г ч2. Н.г.'!J26","v":0},{"$f":"'Худ.эст.к 7г ч2. Н.г.'!K26","v":0},{"$f":"'Худ.эст.к 7г ч2. Н.г.'!L26","v":0},{"$f":"'Худ.эст.к 7г ч2. Н.г.'!M26","v":0},{"$f":"'Худ.эст.к 7г ч2. Н.г.'!N26","v":0},{"$f":"'Худ.эст.к 7г ч2. Н.г.'!O26","v":0},{"$f":"'Худ.эст.к 7г ч2. Н.г.'!P26","v":0},{"$f":"'Худ.эст.к 7г ч2. Н.г.'!Q26","v":0},{"$f":"'Худ.эст.к 7г ч3. Н.г.'!E26","v":0},{"$f":"'Худ.эст.к 7г ч3. Н.г.'!F26","v":0},{"$f":"'Худ.эст.к 7г ч3. Н.г.'!G26","v":0},{"$f":"'Худ.эст.к 7г ч3. Н.г.'!H26","v":0},{"$f":"'Худ.эст.к 7г ч3. Н.г.'!I26","v":0},{"$f":"'Худ.эст.к 7г ч3. Н.г.'!J26","v":0},{"$f":"'Худ.эст.к 7г ч3. Н.г.'!K26","v":0},{"$f":"'Худ.эст.к 7г ч3. Н.г.'!L26","v":0}]
["конец года",{"$f":"'Соц.ком.к 7г ч1 К.г.'!E25","v":0},{"$f":"'Соц.ком.к 7г ч1 К.г.'!F25","v":0},{"$f":"'Соц.ком.к 7г ч1 К.г.'!G25","v":0},{"$f":"'Соц.ком.к 7г ч1 К.г.'!H25","v":0},{"$f":"'Соц.ком.к 7г ч1 К.г.'!I25","v":0},{"$f":"'Соц.ком.к 7г ч1 К.г.'!J25","v":0},{"$f":"'Соц.ком.к 7г ч1 К.г.'!K25","v":0},{"$f":"'Соц.ком.к 7г ч1 К.г.'!L25","v":0},{"$f":"'Соц.ком.к 7г ч1 К.г.'!M25","v":0},{"$f":"'Соц.ком.к 7г ч1 К.г.'!N25","v":0},{"$f":"'Соц.ком.к 7г ч2 К.г.'!E25","v":0},{"$f":"'Соц.ком.к 7г ч2 К.г.'!F25","v":0},{"$f":"'Соц.ком.к 7г ч2 К.г.'!G25","v":0},{"$f":"'Соц.ком.к 7г ч2 К.г.'!H25","v":0},{"$f":"'Соц.ком.к 7г ч2 К.г.'!I25","v":0},{"$f":"'Соц.ком.к 7г ч2 К.г.'!J25","v":0},{"$f":"'Соц.ком.к 7г ч2 К.г.'!K25","v":0},{"$f":"'Соц.ком. к 7г ч3 К.г.'!E25","v":0},{"$f":"'Соц.ком. к 7г ч3 К.г.'!F25","v":0},{"$f":"'Соц.ком. к 7г ч3 К.г.'!G25","v":0},{"$f":"'Соц.ком. к 7г ч3 К.г.'!H25","v":0},{"$f":"'Соц.ком. к 7г ч3 К.г.'!I25","v":0},{"$f":"'Соц.ком. к 7г ч3 К.г.'!J25","v":0},{"$f":"'Соц.ком. к 7г ч3 К.г.'!K25","v":0},{"$f":"'Соц.ком. к 7г ч3 К.г.'!L25","v":0},{"$f":"'Соц.ком. к 7г ч4 К.г.'!E25","v":0},{"$f":"'Соц.ком. к 7г ч4 К.г.'!F25","v":0},{"$f":"'Соц.ком. к 7г ч4 К.г.'!G25","v":0},{"$f":"'Соц.ком. к 7г ч4 К.г.'!H25","v":0},{"$f":"'Соц.ком. к 7г ч4 К.г.'!I25","v":0},{"$f":"'Реч.разв.к 7г ч1 К.г.'!E25","v":0},{"$f":"'Реч.разв.к 7г ч1 К.г.'!F25","v":0},{"$f":"'Реч.разв.к 7г ч1 К.г.'!G25","v":0},{"$f":"'Реч.разв.к 7г ч1 К.г.'!H25","v":0},{"$f":"'Реч.разв.к 7г ч1 К.г.'!I25","v":0},{"$f":"'Реч.разв.к 7г ч1 К.г.'!J25","v":0},{"$f":"'Реч.разв.к 7г ч1 К.г.'!K25","v":0},{"$f":"'Реч.разв.к 7г ч1 К.г.'!L25","v":0},{"$f":"'Реч.разв.к 7г ч2 К.г. '!E25","v":0},{"$f":"'Реч.разв.к 7г ч2 К.г. '!F25","v":0},{"$f":"'Реч.разв.к 7г ч2 К.г. '!G25","v":0},{"$f":"'Реч.разв.к 7г ч2 К.г. '!H25","v":0},{"$f":"'Реч.разв.к 7г ч2 К.г. '!I25","v":0},{"$f":"'Реч.разв.к 7г ч2 К.г. '!J25","v":0},{"$f":"'Реч.разв.к 7г ч2 К.г. '!K25","v":0},{"$f":"'Реч.разв.к 7г ч2 К.г. '!L25","v":0},{"$f":"'Реч.разв.к 7г ч2 К.г. '!M25","v":0},{"$f":"'Реч.разв.к 7г ч3. К.г. '!E25","v":0},{"$f":"'Реч.разв.к 7г ч3. К.г. '!F25","v":0},{"$f":"'Реч.разв.к 7г ч3. К.г. '!G25","v":0},{"$f":"'Реч.разв.к 7г ч3. К.г. '!H25","v":0},{"$f":"'Реч.разв.к 7г ч3. К.г. '!I25","v":0},{"$f":"'Реч.разв.к 7г ч3. К.г. '!J25","v":0},{"$f":"'Позн.разв. к 7г ч1. К.г. '!E26","v":0},{"$f":"'Позн.разв. к 7г ч1. К.г. '!F26","v":0},{"$f":"'Позн.разв. к 7г ч1. К.г. '!G26","v":0},{"$f":"'Позн.разв. к 7г ч1. К.г. '!H26","v":0},{"$f":"'Позн.разв. к 7г ч1. К.г. '!I26","v":0},{"$f":"'Позн.разв. к 7г ч1. К.г. '!J26","v":0},{"$f":"'Позн.разв. к 7г ч1. К.г. '!K26","v":0},{"$f":"'Позн.разв. к 7г ч1. К.г. '!L26","v":0},{"$f":"'Позн.разв. к 7г ч1. К.г. '!M26","v":0},{"$f":"'Позн.разв. к 7г ч2. К.г.'!E26","v":0},{"$f":"'Позн.разв. к 7г ч2. К.г.'!F26","v":0},{"$f":"'Позн.разв. к 7г ч2. К.г.'!G26","v":0},{"$f":"'Позн.разв. к 7г ч2. К.г.'!H26","v":0},{"$f":"'Позн.разв. к 7г ч2. К.г.'!I26","v":0},{"$f":"'Позн.разв. к 7г ч2. К.г.'!J26","v":0},{"$f":"'Позн.разв. к 7г ч2. К.г.'!K26","v":0},{"$f":"'Позн.разв. к 7г ч2. К.г.'!L26","v":0},{"$f":"'Позн.разв. к 7г ч2. К.г.'!M26","v":0},{"$f":"'Позн.разв. к 7г ч3. К.г. '!E26","v":0},{"$f":"'Позн.разв. к 7г ч3. К.г. '!F26","v":0},{"$f":"'Позн.разв. к 7г ч3. К.г. '!G26","v":0},{"$f":"'Позн.разв. к 7г ч3. К.г. '!H26","v":0},{"$f":"'Позн.разв. к 7г ч3. К.г. '!I26","v":0},{"$f":"'Позн.разв. к 7г ч3. К.г. '!J26","v":0},{"$f":"'Позн.разв. к 7г ч3. К.г. '!K26","v":0},{"$f":"'Позн.разв. к 7г ч3. К.г. '!L26","v":0},{"$f":"'Позн.разв. к 7г ч3. К.г. '!M26","v":0},{"$f":"'Позн.разв. к 7г ч3. К.г. '!N26","v":0},{"$f":"'Позн.разв. к 7г ч3. К.г. '!O26","v":0},{"$f":"'Позн.разв. к 7г ч3. К.г. '!P26","v":0},{"$f":"'Позн.разв. к 7г ч3. К.г. '!Q26","v":0},{"$f":"'Физ.разв. к 7г ч1. К.г. '!E26","v":0},{"$f":"'Физ.разв. к 7г ч1. К.г. '!F26","v":0},{"$f":"'Физ.разв. к 7г ч1. К.г. '!G26","v":0},{"$f":"'Физ.разв. к 7г ч1. К.г. '!H26","v":0},{"$f":"'Физ.разв. к 7г ч1. К.г. '!I26","v":0},{"$f":"'Физ.разв. к 7г ч1. К.г. '!J26","v":0},{"$f":"'Физ.разв. к 7г ч1. К.г. '!K26","v":0},{"$f":"'Физ.разв. к 7г ч1. К.г. '!L26","v":0},{"$f":"'Физ.разв. к 7г ч1. К.г. '!M26","v":0},{"$f":"'Физ.разв. к 7г ч1. К.г. '!N26","v":0},{"$f":"'Физ.разв. к 7г ч1. К.г. '!O26","v":0},{"$f":"'Физ.разв. к 7г ч1. К.г. '!P26","v":0},{"$f":"'Физ.разв. к 7г ч1. К.г. '!Q26","v":0},{"$f":"'Физ.разв. к 7г ч1. К.г. '!R26","v":0},{"$f":"'Физ.разв. к 7г ч1. К.г. '!S26","v":0},{"$f":"'Физ.разв. к 7г ч1. К.г. '!T26","v":0},{"$f":"'Физ.разв. к 7г ч1. К.г. '!U26","v":0},{"$f":"'Физ.разв. к 7г ч1. К.г. '!V26","v":0},{"$f":"'Физ.разв. к 7г ч1. К.г. '!W26","v":0},{"$f":"'Физ.разв. к 7г ч2. К.г.'!E27","v":0},{"$f":"'Физ.разв. к 7г ч2. К.г.'!F27","v":0},{"$f":"'Физ.разв. к 7г ч2. К.г.'!G27","v":0},{"$f":"'Физ.разв. к 7г ч2. К.г.'!H27","v":0},{"$f":"'Физ.разв. к 7г ч2. К.г.'!I27","v":0},{"$f":"'Физ.разв. к 7г ч2. К.г.'!J27","v":0},{"$f":"'Физ.разв. к 7г ч2. К.г.'!K27","v":0},{"$f":"'Физ.разв. к 7г ч2. К.г.'!L27","v":0},{"$f":"'Физ.разв. к 7г ч2. К.г.'!M27","v":0},{"$f":"'Физ.разв. к 7г ч2. К.г.'!N27","v":0},{"$f":"'Физ.разв. к 7г ч2. К.г.'!O27","v":0},{"$f":"'Физ.разв. к 7г ч2. К.г.'!P27","v":0},{"$f":"'Физ.разв. к 7г ч2. К.г.'!Q27","v":0},{"$f":"'Физ.разв. к 7г ч2. К.г.'!R27","v":0},{"$f":"'Физ.разв. к 7г ч2. К.г.'!S27","v":0},{"$f":"'Физ.разв. к 7г ч2. К.г.'!T27","v":0},{"$f":"'Физ.разв. к 7г ч3. К.г. '!E27","v":0},{"$f":"'Физ.разв. к 7г ч3. К.г. '!F27","v":0},{"$f":"'Физ.разв. к 7г ч3. К.г. '!G27","v":0},{"$f":"'Физ.разв. к 7г ч3. К.г. '!H27","v":0},{"$f":"'Физ.разв. к 7г ч3. К.г. '!I27","v":0},{"$f":"'Физ.разв. к 7г ч3. К.г. '!J27","v":0},{"$f":"'Физ.разв. к 7г ч3. К.г. '!K27","v":0},{"$f":"'Физ.разв. к 7г ч3. К.г. '!L27","v":0},{"$f":"'Физ.разв. к 7г ч3. К.г. '!M27","v":0},{"$f":"'Физ.разв. к 7г ч3. К.г. '!N27","v":0},{"$f":"'Физ.разв. к 7г ч3. К.г. '!O27","v":0},{"$f":"'Худ.эст.к 7г ч1. К.г. '!E26","v":0},{"$f":"'Худ.эст.к 7г ч1. К.г. '!F26","v":0},{"$f":"'Худ.эст.к 7г ч1. К.г. '!G26","v":0},{"$f":"'Худ.эст.к 7г ч1. К.г. '!H26","v":0},{"$f":"'Худ.эст.к 7г ч1. К.г. '!I26","v":0},{"$f":"'Худ.эст.к 7г ч1. К.г. '!J26","v":0},{"$f":"'Худ.эст.к 7г ч1. К.г. '!K26","v":0},{"$f":"'Худ.эст.к 7г ч1. К.г. '!L26","v":0},{"$f":"'Худ.эст.к 7г ч1. К.г. '!M26","v":0},{"$f":"'Худ.эст.к 7г ч1. К.г. '!N26","v":0},{"$f":"'Худ.эст.к 7г ч1. К.г. '!O26","v":0},{"$f":"'Худ.эст.к 7г ч1. К.г. '!P26","v":0},{"$f":"'Худ.эст.к 7г ч1. К.г. '!Q26","v":0},{"$f":"'Худ.эст.к 7г ч2. К.г. '!E26","v":0},{"$f":"'Худ.эст.к 7г ч2. К.г. '!F26","v":0},{"$f":"'Худ.эст.к 7г ч2. К.г. '!G26","v":0},{"$f":"'Худ.эст.к 7г ч2. К.г. '!H26","v":0},{"$f":"'Худ.эст.к 7г ч2. К.г. '!I26","v":0},{"$f":"'Худ.эст.к 7г ч2. К.г. '!J26","v":0},{"$f":"'Худ.эст.к 7г ч2. К.г. '!K26","v":0},{"$f":"'Худ.эст.к 7г ч2. К.г. '!L26","v":0},{"$f":"'Худ.эст.к 7г ч2. К.г. '!M26","v":0},{"$f":"'Худ.эст.к 7г ч2. К.г. '!N26","v":0},{"$f":"'Худ.эст.к 7г ч2. К.г. '!O26","v":0},{"$f":"'Худ.эст.к 7г ч2. К.г. '!P26","v":0},{"$f":"'Худ.эст.к 7г ч2. К.г. '!Q26","v":0},{"$f":"'Худ.эст.к 7г ч3. К.г. '!E26","v":0},{"$f":"'Худ.эст.к 7г ч3. К.г. '!F26","v":0},{"$f":"'Худ.эст.к 7г ч3. К.г. '!G26","v":0},{"$f":"'Худ.эст.к 7г ч3. К.г. '!H26","v":0},{"$f":"'Худ.эст.к 7г ч3. К.г. '!I26","v":0},{"$f":"'Худ.эст.к 7г ч3. К.г. '!J26","v":0},{"$f":"'Худ.эст.к 7г ч3. К.г. '!K26","v":0},{"$f":"'Худ.эст.к 7г ч3. К.г. '!L26","v":0}]

{"sheet":"16","index":53,"n_rows":7,"n_cols":165,"rows_kept":7,"merged":[[0,104,0,110],[0,111,0,112],[0,113,0,115],[0,116,0,119],[0,120,0,123],[0,124,0,126],[0,127,0,130],[1,54,1,58],[1,59,1,62],[1,63,1,71],[1,72,1,76],[1,77,1,84],[1,104,1,106],[1,107,1,110],[1,111,4,111],[1,112,4,112],[1,113,4,113],[1,114,4,114],[1,115,4,115],[1,116,1,119],[1,120,2,120],[1,121,2,121],[1,122,2,122],[1,123,2,123],[1,124,4,124],[1,125,4,125],[1,126,4,126],[1,127,1,130],[1,131,1,143],[1,144,1,156],[1,157,2,162],[1,163,2,164],[2,18,2,22],[2,23,2,25],[2,26,2,30],[2,32,2,34],[2,35,2,38],[2,40,2,44],[2,45,2,47],[2,48,2,53],[2,55,2,57],[2,59,4,59],[2,60,4,60],[2,61,4,61],[2,62,4,62],[2,63,2,65],[2,66,2,67],[2,68,2,69],[2,72,3,76],[2,77,2,80],[2,81,2,82],[2,83,4,83],[2,84,4,84],[2,85,2,86],[2,87,2,89],[2,90,2,92],[2,93,2,95],[2,96,2,99],[2,100,2,101],[2,102,2,103],[2,104,4,104],[2,105,4,105],[2,106,4,106],[2,107,4,107],[2,108,4,108],[2,109,4,109],[2,110,4,110],[2,116,4,116],[2,117,4,117],[2,118,4,118],[2,119,4,119],[2,127,4,127],[2,128,4,128],[2,129,4,129],[2,130,4,130],[2,135,2,136],[2,137,2,140],[2,141,2,142],[2,143,4,143],[2,144,2,145],[2,146,2,147],[2,148,2,149],[2,151,2,156],[3,0,4,0],[3,1,3,4],[3,7,3,9],[3,11,3,12],[3,13,3,14],[3,15,4,15],[3,16,4,16],[3,17,4,17],[3,18,4,18],[3,19,4,19],[3,20,4,20],[3,21,4,21],[3,22,4,22],[3,23,4,23],[3,24,4,24],[3,25,4,25],[3,26,4,26],[3,27,4,27],[3,28,4,28],[3,29,4,29],[3,30,4,30],[3,31,4,31],[3,32,4,32],[3,33,4,33],[3,34,4,34],[3,35,4,35],[3,36,4,36],[3,37,4,37],[3,38,4,38],[3,39,4,39],[3,40,4,40],[3,41,4,41],[3,42,4,42],[3,43,4,43],[3,44,4,44],[3,45,4,45],[3,46,4,46],[3,47,4,47],[3,48,4,48],[3,49,4,49],[3,50,4,50],[3,51,4,51],[3,52,4,52],[3,53,4,53],[3,54,3,58],[3,63,4,63],[3,64,4,64],[3,65,4,65],[3,66,4,66],[3,67,4,67],[3,68,4,68],[3,69,4,69],[3,70,4,70],[3,71,4,71],[3,81,4,81],[3,85,3,86],[3,87,3,89],[3,90,3,92],[3,93,3,95],[3,96,3,99],[3,100,3,101],[3,102,4,102],[3,103,4,103],[3,120,4,120],[3,121,4,121],[3,122,4,122],[3,123,4,123],[3,131,4,131],[3,132,4,132],[3,133,4,133],[3,134,4,134],[3,135,4,135],[3,136,4,136],[3,137,4,137],[3,138,4,138],[3,139,4,139],[3,140,4,140],[3,141,4,141],[3,142,4,142],[3,144,4,144],[3,145,4,145],[3,146,4,146],[3,147,4,147],[3,148,4,148],[3,149,4,149],[3,150,4,150],[3,151,4,151],[3,152,4,152],[3,153,4,153],[3,154,4,154],[3,155,4,155],[3,156,4,156],[3,157,4,157],[3,158,4,158],[3,159,4,159],[3,160,4,160],[3,161,4,161],[3,162,4,162],[3,163,4,163],[3,164,4,164]]}
[{"$nulls":104},"Мелкая моторика",{"$nulls":6},"Подвижные игры",null,"Спорт. игры",null,null,"Спортивные упражнения",{"$nulls":3},"КГН",{"$nulls":3},"ЗОЖ",null,null,"Спортивные упражнения"]
[{"$nulls":54},"Сенсорные эталоны ",{"$nulls":4},"Познавательные действия",{"$nulls":3},"Математические представления",{"$nulls":8},"Окружающий мир",{"$nulls":4},"Природа ",{"$nulls":26},"Координация рук и глаз",null,null,"Графические навыки",{"$nulls":3},"Ребенок использует в самостоятельной деятельности разнообразные по содержанию подвижные игры, проявляет элементы творчества в двигательной деятельности","Ребенок может организовать знакомые подвижные игры со сверстниками, сплотить команду, стремится внести свой вклад в результат команды","Ребенок владеет элементами спортивных игр (городки, баскетбол, футбол, хоккей, бадминтон, настольный теннис), может контролировать свои движения и управлять ими","Ребенок имеет представление о разных видах спорта (санный спорт, борьба, теннис, синхронное плавание и др.)","Ребенок имеет представление о спортивных событиях и достижениях отечественных спортсменов","Ребенок умеет кататься",{"$nulls":3},"Навыки соблюдения чистоты тела (правила личной гигиены)","Навыки культуры еды (прием пищи) ","Навыки поддержания порядка (правила поведения в быту) ","Навыки ухода за собой (одевание, раздевание) ","Ребенок соблюдает элементарные правила здорового образа жизни и личной гигиены, следит за своей осанкой, может оценить свое самочувствие","Ребенок регулярно выполняет физические упражнения","Ребенок имеет начальные представления о том, что такое здоровье, понимает, как поддержать, укрепить и сохранить его","Ребенок умеет кататься",{"$nulls":3},"Музыкальная деятельность",{"$nulls":12},"Изобразительная деятельность",{"$nulls":12},"Приобщение к искусству",{"$nulls":5},"Конструктивная деятельность"]
[{"$nulls":18},"Область формирования основ гражданственности и патриотизма",{"$nulls":4},"Сфера трудового воспитания",null,null,"Область формирования основ безопасного поведения",{"$nulls":4},"Общее речевое развитие","Формирование словаря",null,null,"Грамматический строй",{"$nulls":3},"Звуковая культура речи","Связная речь",{"$nulls":4},"ЧХЛ",null,null,"Подготовка к обучению грамоте",{"$nulls":5},"Цвет, оттенки","Форма, геометрические фигуры",null,null,"Величина","Ребенок самостоятельно выбирает способ осуществления разных видов познавательной деятельности","Ребенок интересуется субъективно новым и неизвестным в окружающем мире","Ребенок способен применять в жизненных и игровых ситуациях знания о количестве, форме, величине предметов, пространстве, времени","Ребенок имеет разнообразные познавательные умения: определяет противоречия. Формулирует задачу исследования, использует разные способы и средства проверки предположений (сравнение с эталонами, классификацию, систематизацию и др.)","Количество и счет",null,null,"Ориентировка во времени",null,"Ориентировка в пространстве",null,"Пространственно-количественные связи и отношения","Сравнение","Ребенок имеет представления, может показать на картинке и в естественной среде, может рассказать",{"$nulls":4},"Объекты живой природы",{"$nulls":3},"Объекты неживой природы, природные явления",null,"Ребенок стремится к самостоятельному экспериментированию","Ребенок знает правила поведения в природе, проявляет осознанное, бережное отношение к природе и ее ресурсам","Бросание, катание, ловля, метание",null,"Ползанье, лазанье",null,null,"Ходьба",null,null,"Бег",null,null,"Прыжки",{"$nulls":3},"Равновесие",null,"Строевые упражнения",null,"Ребенок выполняет графический диктант","Ребенок обводит по шаблону, по трафарету","Ребенок чертит линии с помощью линейки","Ребенок обводит по контуру, по точкам","Ребенок выполняет штриховку в различных направлениях","Ребенок закрашивает, не выходя за контур","Ребенок свободно владеет карандашом при рисовании округлых линий, завитков в разном направлении",{"$nulls":5},"на санках","на лыжах","на двухколесном велосипеде","на самокате",{"$nulls":7},"на санках","на лыжах","на двухколесном велосипеде","на самокате","Слушание","Пение ","Музыкально-ритмические движения","Песенное творчество","Игра на детских музыкальных инструментах",null,"Театрализованная деятельность",{"$nulls":3},"Танцевально-игровое творчество",null,"У ребенка развит музыкальный вкус, музыкальная память","Рисование ",null,"Лепка ",null,"Аппликация ",null,"Народное ДПИ","Прикладное творчество"]
[{"$f":"Список!B19","v":0},"Отношение к самому себе",{"$nulls":3},"Отношение к сверстникам","Отношение к взрослым","Эмоции",null,null,"Поведение","Семья",null,"Игровое поведение",null,"Ребенок имеет представление об изменениях позиции человека с возрастом","Ребенок имеет представление о школе, школьниках, учителях; стремится к школьному обучению, к познанию, освоению чтения, письма; демонстрирует формированные предпосылки к учебной деятельности и элементы готовности к школьному обучению","Ребенок имеет представление о нравственных качествах людей, их проявлении в поступках и взаимоотношениях","Ребенок имеет представление о признаках и характеристиках государства (территория государства и его границы, столица), атрибутах государственной власти, президенте, столице","Ребенок имеет представление о порядке использования государственной символики","Ребенок имеет представление о волонтерстве","Ребенок имеет представление о государственных праздниках, исторических событиях","Ребенок имеет представление о жизни людей в России, о многообразии стран и народов мира","Ребенок имеет представление об обмене ценностями в процессе производства и потребления товаров и услуг, о денежных отношениях, о реальной стоимости отдельных продуктов питания, игрушек, детских книг","Ребенок имеет представление о об основах финансовой грамоты, основах бережного потребления","Ребенок проявляет инициативность и самостоятельность в процессе самообслуживания, при выполнении трудовых поручений","Ребенок имеет представление о правила безопасного поведения в ситуациях, создающих угрозу жизни и здоровью (погас свет, остался один, потерялся, получил травму)","Ребенок имеет представление о правила безопасного поведения дома, на улице, в природе, в местах большого скопления людей, в магазине, на вокзале, в общественных метах, на праздниках и др.","Ребенок имеет представление о правилах безопасного использования цифровых ресурсов (мобильного телефона, планшета)","Ребенок имеет представление об элементарных правилах оказания первой помощи при первых признаках недомогания, травмах, ушибах","Ребенок проявляет самостоятельность при выполнении правил безопасного поведения","Ребенок владеет речью как средством коммуникации, ведет диалог, владеет коммуникативно-речевыми умениями","Ребенок подбирает точные слова для выражения мысли","Ребенок выполняет операцию классификации – деления освоенных понятий на группы на основе выявленных признаков","Ребенок использует в речи средства языковой выразительности: антонимы, синонимы, многозначные слова, метафоры, олицетворение","Ребенок образует сложные слова посредством слияния основ","Ребенок согласует в речи существительные с числительными, существительные с прилагательными","Ребенок образует по образцу существительные с суффиксами, глаголы с приставками","Ребенок образует в речи сравнительную и превосходную степени имен прилагательных","Ребенок правильно произносит все звуки","Ребенок может пересказать литературное произведение по ролям, близко к тексту, от лица литературного героя","Ребенок может составить описательный рассказ, соблюдая структуру описания","Ребенок может составить повествовательный рассказ по картине, из личного опыта, из коллективного опыта, по набору игрушек, соблюдая структуру повествования","Ребенок может составить рассказ -контаминацию (сочетание описания и повествования, описания и рассуждения)","Ребенок использует в процессе общения объяснительную речь, речь-доказательство, речевое планирование","Ребенок знает и осмысленно воспринимает литературные произведения различных жанров, имеет предпочтения","Ребенок определяет характеры персонажей, мотивы их поведения, оценивает поступки литературных героев","Ребенок проявляет интерес к книгам познавательного характера","Ребенок производит звуковой анализ четырехзвуковых и пятизвуковых слов","Ребенок может интонационно выделить звуки в слове, определить их последовательность, дать им характеристику, составить схему слова, выделить ударный гласный звук в слове","Ребенок может определить количество и последовательность слов в предложении","Ребенок может составить предложение с заданным количеством слов","Ребенок знает названия всех букв","Ребенок читает слоги","Ребенок различает и называет",{"$nulls":8},"Ребенок умеет считать в пределах 10 в прямом и обратном порядке","Ребенок знает состав чисел из двух меньших в пределах первого десятка","Ребенок решает простые арифметические задачи на сложение и вычитание","Ребенок имеет представление о календаре, как системе измерения времени","Ребенок умеет определять время по часам с точностью до четверти часа","Ребенок ориентируется на местности, по схеме, по плану","Ребенок знает способы ориентировки в двухмерном пространстве","Ребенок умеет измерять протяженность, массу и объем с помощью условной мерки; понимает взаимообратные отношения между мерой и результатом измерения","Ребенок сравнивает предметы по 4-6 основаниям с выделением сходства, отличия",{"$nulls":9},"Ребенок имеет представление об использовании человеком свойств неживой природы для хозяйственных нужд (ветряные мельницы, водохранилища, солнечные батареи, ледяные катки)",{"$nulls":3},"Ребенок выполняет различные упражнения с мячом, метание",null,"Ребенок выполняет разные виды ползанья, лазанья ",null,null,"Ребенок выполняет различные виды ходьбы",null,null,"Ребенок выполняет различные виды бега",null,null,"Ребенок выполняет различные виды прыжков",{"$nulls":3},"Ребенок выполняет",null,"Ребенок выполняет разные виды перестроений, построений, передвижений, размыкание и смыкание приставным шагом, повороты","Ребенок может рассчитаться на «первый – второй»",{"$nulls":16},"Ребенок владеет навыками личной гигиены","Ребенок владеет навыками культуры еды","Ребенок владеет навыками поддержания порядка","Ребенок владеет навыками ухода за собой",{"$nulls":7},"У ребенка развит навык восприятия звуков по высоте в пределах квинты-терции","У ребенка развиты певческий голос и вокально-слуховая координация","Ребёнок ритмично и выразительно двигается в соответствие с характером музыки","Ребенок способен самостоятельно придумать мелодию, используя в качестве образца русские народные песни","Ребенок может сыграть простую мелодию на металлофоне, свирели, ударных, и электронных музыкальных инструментах: трещотках, погремушках, треугольниках","Ребенок может исполнить музыкальное произведение в оркестре и в ансамбле","Ребенок проявляет самостоятельность при выборе литературного и музыкального материала для театральной постановки","Ребенок проявляет инициативу при изготовлении атрибутов и декораций к спектаклю","Ребенок имеет представление о средствах погружения в театральные образы (музыка, слова, декорации, грим, костюм и др.)","Ребенок умеет выразительно передавать образы в действии, мимике, пантомимике","Ребенок проявляет активность в доступных видах музыкальной исполнительской деятельности (игра в оркестре, пение, танцевальные движения и др.)","Ребенок помогает придумывать движения, отражающие содержание песни",null,"Ребенок может изобразить предметы по памяти и с натуры, передает их средствами рисунка (форма, пропорции, расположение)","Ребенок способен передавать в рисунке сюжет, строить композицию","Ребенок свободно использует приемы лепки, освоенные ранее (налеп, углубленный рельеф), применяет стеку","Ребенок умеет передавать пропорции, соотношение по величине, выразительность поз, движений, деталей","Ребенок умеет составлять узоры и декоративные композиции из геометрических и растительных элементов на листах бумаги разной формы","Ребенок может выполнить вырезание (симметричное из бумаги, сложенной вдвое; несколько предметов из частей бумаги, сложенной гармошкой)","Ребенок умеет создавать узоры по мотивам народных росписей","Ребенок может сложить бумагу в разных направлениях","Ребенок может сделать разметку с помощью шаблона","Ребенок может выполнить работу по образцу","Ребенок может создать объемную игрушку в технике «оригами»","Ребенок может создать объемную поделку из природного материала","Ребенок может вдеть нитку в иголку, завязать узелок, пришить пуговицу, петельку, выполнить шов «вперед иголка»","Ребенок умеет выделять, называть, группировать произведения по видам искусства: литература, музыка, изобразительное искусство, архитектура, театр, цирк","Ребенок имеет представление о видах изобразительного искусства: графика, декоративно-прикладное искусство, живопись, скульптура, архитектура, фотоискусство","Ребенок имеет представление о жанрах изобразительного искусства: натюрморт, пейзаж, портрет","Ребенок имеет представление о народном искусстве, фольклоре, музыке и художественных промыслах","Ребенок имеет представление о творческих профессиях: художник, композитор, музыкант, актер, артист балета","Ребенок имеет представление о культурно-досуговых местах: театр, музей, библиотека, выставка, кинотеатр, цирк и др.","Ребенок может провести анализ постройки (выделить основные части и характерные детали конструкций)","Ребенок может выполнить постройку по инструкции"]
[null,"Ребенок осознает и признает собственные ошибки, результат поставленных задач, определяет пути развития","Ребенок умеет договариваться и дружить, старается разрешать конфликтные ситуации конструктивными способами","Ребенок способен принимать собственные решения и проявлять инициативу","Ребенок осознанно относится к своему будущему, стремится быть полезным обществу","Ребенок без напоминаний использует в общении формулы словесной вежливости (приветствие, прощание, просьбы, извинения)","Ребенок без напоминаний использует в общении формулы словесной вежливости (приветствие, прощание, просьбы, извинения)","Ребенок понимает чувства и переживания окружающих по невербальным признакам; находит причины и следствия возникновения эмоций, проявляет эмпатию","Ребенок использует социально приемлемые способы проявления эмоций и доступные возрасту регуляции эмоциональных состояний","Ребенок распознает собственные чувства и эмоции, анализирует свои переживания и рассказывает о них","Ребенок самостоятельно соблюдает установленный порядок поведения в группе, регулирует собственную активность","Ребенок имеет представление о необходимости укрепления связи между поколениями, взаимной поддержке детей и взрослых","Ребенок имеет представление о семье, семейных и родственных отношениях (взаимные чувства, правила общения в семье, значимые и памятные события, досуг семьи, семейный бюджет)","Ребенок умеет сотрудничать со сверстниками (побуждает к обсуждению планов, советуется, поддерживает интерес к мнению, инициирует ситуации взаимопомощи, подчеркивает ценность каждого ребенка и его вклад в общее дело, выбирает партнеров по интересам, помогает устанавливать темп совместных действий)","Ребенок владеет разными способами и видами игры, различает условную и реальную ситуации, предлагает и объясняет замысел игры, комбинирует сюжеты на основе реальных, вымышленных ситуаций, выполняет несколько ролей в одной игре, подбирает разные средства для создания игровых образов, согласовывает свои интересы с интересами партнёров по игре",{"$nulls":39}," все цвета спектра и ахроматические цвета, оттенки","плоские и объемные геометрические фигуры; умеет выделять структуру геометрических фигур и устанавливать взаимосвязи между ними","Ребенок умеет классифицировать фигуры по внешним структурным признаками (округлые, многоугольники)","Ребенок владеет различными способами видоизменения геометрических фигур (наложение, соединение, разрезание и др.)","Ребенок умеет измерять длину, ширину, высоту с помощью условной мерки",{"$nulls":13}," о родном населенном пункте (название улиц, некоторых архитектурных особенностях, достопримечательностях), об истории, о выдающихся горожанах, традициях городской жизни"," о назначении общественных учреждений"," о разных видах специального транспорта"," о местах труда людей (завод, больница, магазин и др.)"," о местах отдыха людей","Ребенок имеет представление о наиболее ярких представителях животных и растений разных природных зон (пустыня, степь, тайга, тундра и др.), об их образе жизни, приспособлении к среде обитания, изменениях в жизни в разные сезоны года","Ребенок имеет представление о многообразии водных ресурсов (моря, океаны, реки, водопады и др.)","Ребенок имеет представление о многообразии полезных ископаемых (нефть, уголь, серебро, золото, алмазы и др.)","Ребенок имеет представление о жизненных потребностях, этапах роста и развития животных и растений",null,"Ребенок имеет представление о некоторых небесных телах (планеты, кометы, звезды)",null,null,"бросание вверх, о землю, ловля двумя руками, одной рукой, перебрасывание, передача, прокатывание, забрасывание, ведение","в цель из положения стоя, вдаль, в движущеюся цель","ползанье на четвереньках, на животе, на спине","влезание на гимнастическую стенку и спуск; перелезание с пролета на пролет по диагонали","лазанье по веревочной лестнице; выполнение упражнений на канате","обычная, гимнастическим шагом, скрестным шагом, спиной вперед, выпадами, с закрытыми глазами","приставными шагами назад, в приседе, с различными движениями рук","в различных построениях","в колонне по одному, врассыпную, парами, тройками, четверками","в сочетание с прыжками, высоко поднимая колени, захлестывая голени назад, выбрасывая прямые ноги вперед","челночный, наперегонки, из разных исходных положений, со скакалкой, по пересеченной местности, с наименьшим числом шагов, медленный, быстрый","подпрыгивания на двух ногах в чередовании с ходьбой, на месте и с поворот кругом","смещая ноги вправо-влево-вперед-назад","выпрыгивание на предметы; подпрыгивания вверх из глубокого приседа; прыжки на одной ноге","в длину с места/с разбега, в высоту с места/с разбега","стойка на носках, стойка на одной ноге с закрытыми глазами","кружение с закрытыми глазами, остановкой и сохранением заданной позы"]
["начало года",{"$f":"'Соц.ком.к 7г ч1 Н.г.'!E26","v":0},{"$f":"'Соц.ком.к 7г ч1 Н.г.'!F26","v":0},{"$f":"'Соц.ком.к 7г ч1 Н.г.'!G26","v":0},{"$f":"'Соц.ком.к 7г ч1 Н.г.'!H26","v":0},{"$f":"'Соц.ком.к 7г ч1 Н.г.'!I26","v":0},{"$f":"'Соц.ком.к 7г ч1 Н.г.'!J26","v":0},{"$f":"'Соц.ком.к 7г ч1 Н.г.'!K26","v":0},{"$f":"'Соц.ком.к 7г ч1 Н.г.'!L26","v":0},{"$f":"'Соц.ком.к 7г ч1 Н.г.'!M26","v":0},{"$f":"'Соц.ком.к 7г ч1 Н.г.'!N26","v":0},{"$f":"'Соц.ком.к 7г ч2 Н.г.'!E26","v":0},{"$f":"'Соц.ком.к 7г ч2 Н.г.'!F26","v":0},{"$f":"'Соц.ком.к 7г ч2 Н.г.'!G26","v":0},{"$f":"'Соц.ком.к 7г ч2 Н.г.'!H26","v":0},{"$f":"'Соц.ком.к 7г ч2 Н.г.'!I26","v":0},{"$f":"'Соц.ком.к 7г ч2 Н.г.'!J26","v":0},{"$f":"'Соц.ком.к 7г ч2 Н.г.'!K26","v":0},{"$f":"'Соц.ком. к 7г ч3 Н.г.'!E26","v":0},{"$f":"'Соц.ком. к 7г ч3 Н.г.'!F26","v":0},{"$f":"'Соц.ком. к 7г ч3 Н.г.'!G26","v":0},{"$f":"'Соц.ком. к 7г ч3 Н.г.'!H26","v":0},{"$f":"'Соц.ком. к 7г ч3 Н.г.'!I26","v":0},{"$f":"'Соц.ком. к 7г ч3 Н.г.'!J26","v":0},{"$f":"'Соц.ком. к 7г ч3 Н.г.'!K26","v":0},{"$f":"'Соц.ком. к 7г ч3 Н.г.'!L26","v":0},{"$f":"'Соц.ком. к 7г ч4 Н.г.'!E26","v":0},{"$f":"'Соц.ком. к 7г ч4 Н.г.'!F26","v":0},{"$f":"'Соц.ком. к 7г ч4 Н.г.'!G26","v":0},{"$f":"'Соц.ком. к 7г ч4 Н.г.'!H26","v":0},{"$f":"'Соц.ком. к 7г ч4 Н.г.'!I26","v":0},{"$f":"'Реч.разв.к 7г ч1 Н.г.'!E26","v":0},{"$f":"'Реч.разв.к 7г ч1 Н.г.'!F26","v":0},{"$f":"'Реч.разв.к 7г ч1 Н.г.'!G26","v":0},{"$f":"'Реч.разв.к 7г ч1 Н.г.'!H26","v":0},{"$f":"'Реч.разв.к 7г ч1 Н.г.'!I26","v":0},{"$f":"'Реч.разв.к 7г ч1 Н.г.'!J26","v":0},{"$f":"'Реч.разв.к 7г ч1 Н.г.'!K26","v":0},{"$f":"'Реч.разв.к 7г ч1 Н.г.'!L26","v":0},{"$f":"'Реч.разв.к 7г ч2 Н.г.'!E26","v":0},{"$f":"'Реч.разв.к 7г ч2 Н.г.'!F26","v":0},{"$f":"'Реч.разв.к 7г ч2 Н.г.'!G26","v":0},{"$f":"'Реч.разв.к 7г ч2 Н.г.'!H26","v":0},{"$f":"'Реч.разв.к 7г ч2 Н.г.'!I26","v":0},{"$f":"'Реч.разв.к 7г ч2 Н.г.'!J26","v":0},{"$f":"'Реч.разв.к 7г ч2 Н.г.'!K26","v":0},{"$f":"'Реч.разв.к 7г ч2 Н.г.'!L26","v":0},{"$f":"'Реч.разв.к 7г ч2 Н.г.'!M26","v":0},{"$f":"'Реч.разв.к 7г ч3. Н.г.'!E26","v":0},{"$f":"'Реч.разв.к 7г ч3. Н.г.'!F26","v":0},{"$f":"'Реч.разв.к 7г ч3. Н.г.'!G26","v":0},{"$f":"'Реч.разв.к 7г ч3. Н.г.'!H26","v":0},{"$f":"'Реч.разв.к 7г ч3. Н.г.'!I26","v":0},{"$f":"'Реч.разв.к 7г ч3. Н.г.'!J26","v":0},{"$f":"'Позн.разв. к 7г ч1. Н.г.'!E27","v":0},{"$f":"'Позн.разв. к 7г ч1. Н.г.'!F27","v":0},{"$f":"'Позн.разв. к 7г ч1. Н.г.'!G27","v":0},{"$f":"'Позн.разв. к 7г ч1. Н.г.'!H27","v":0},{"$f":"'Позн.разв. к 7г ч1. Н.г.'!I27","v":0},{"$f":"'Позн.разв. к 7г ч1. Н.г.'!J27","v":0},{"$f":"'Позн.разв. к 7г ч1. Н.г.'!K27","v":0},{"$f":"'Позн.разв. к 7г ч1. Н.г.'!L27","v":0},{"$f":"'Позн.разв. к 7г ч1. Н.г.'!M27","v":0},{"$f":"'Позн.разв. к 7г ч2. Н.г.'!E27","v":0},{"$f":"'Позн.разв. к 7г ч2. Н.г.'!F27","v":0},{"$f":"'Позн.разв. к 7г ч2. Н.г.'!G27","v":0},{"$f":"'Позн.разв. к 7г ч2. Н.г.'!H27","v":0},{"$f":"'Позн.разв. к 7г ч2. Н.г.'!I27","v":0},{"$f":"'Позн.разв. к 7г ч2. Н.г.'!J27","v":0},{"$f":"'Позн.разв. к 7г ч2. Н.г.'!K27","v":0},{"$f":"'Позн.разв. к 7г ч2. Н.г.'!L27","v":0},{"$f":"'Позн.разв. к 7г ч2. Н.г.'!M27","v":0},{"$f":"'Позн.разв. к 7г ч3. Н.г.'!E27","v":0},{"$f":"'Позн.разв. к 7г ч3. Н.г.'!F27","v":0},{"$f":"'Позн.разв. к 7г ч3. Н.г.'!G27","v":0},{"$f":"'Позн.разв. к 7г ч3. Н.г.'!H27","v":0},{"$f":"'Позн.разв. к 7г ч3. Н.г.'!I27","v":0},{"$f":"'Позн.разв. к 7г ч3. Н.г.'!J27","v":0},{"$f":"'Позн.разв. к 7г ч3. Н.г.'!K27","v":0},{"$f":"'Позн.разв. к 7г ч3. Н.г.'!L27","v":0},{"$f":"'Позн.разв. к 7г ч3. Н.г.'!M27","v":0},{"$f":"'Позн.разв. к 7г ч3. Н.г.'!N27","v":0},{"$f":"'Позн.разв. к 7г ч3. Н.г.'!O27","v":0},{"$f":"'Позн.разв. к 7г ч3. Н.г.'!P27","v":0},{"$f":"'Позн.разв. к 7г ч3. Н.г.'!Q27","v":0},{"$f":"'Физ.разв. к 7г ч1. Н.г.'!E27","v":0},{"$f":"'Физ.разв. к 7г ч1. Н.г.'!F27","v":0},{"$f":"'Физ.разв. к 7г ч1. Н.г.'!G27","v":0},{"$f":"'Физ.разв. к 7г ч1. Н.г.'!H27","v":0},{"$f":"'Физ.разв. к 7г ч1. Н.г.'!I27","v":0},{"$f":"'Физ.разв. к 7г ч1. Н.г.'!J27","v":0},{"$f":"'Физ.разв. к 7г ч1. Н.г.'!K27","v":0},{"$f":"'Физ.разв. к 7г ч1. Н.г.'!L27","v":0},{"$f":"'Физ.разв. к 7г ч1. Н.г.'!M27","v":0},{"$f":"'Физ.разв. к 7г ч1. Н.г.'!N27","v":0},{"$f":"'Физ.разв. к 7г ч1. Н.г.'!O27","v":0},{"$f":"'Физ.разв. к 7г ч1. Н.г.'!P27","v":0},{"$f":"'Физ.разв. к 7г ч1. Н.г.'!Q27","v":0},{"$f":"'Физ.разв. к 7г ч1. Н.г.'!R27","v":0},{"$f":"'Физ.разв. к 7г ч1. Н.г.'!S27","v":0},{"$f":"'Физ.разв. к 7г ч1. Н.г.'!T27","v":0},{"$f":"'Физ.разв. к 7г ч1. Н.г.'!U27","v":0},{"$f":"'Физ.разв. к 7г ч1. Н.г.'!V27","v":0},{"$f":"'Физ.разв. к 7г ч1. Н.г.'!W27","v":0},{"$f":"'Физ.разв. к 7г ч2. Н.г.'!E28","v":0},{"$f":"'Физ.разв. к 7г ч2. Н.г.'!F28","v":0},{"$f":"'Физ.разв. к 7г ч2. Н.г.'!G28","v":0},{"$f":"'Физ.разв. к 7г ч2. Н.г.'!H28","v":0},{"$f":"'Физ.разв. к 7г ч2. Н.г.'!I28","v":0},{"$f":"'Физ.разв. к 7г ч2. Н.г.'!J28","v":0},{"$f":"'Физ.разв. к 7г ч2. Н.г.'!K28","v":0},{"$f":"'Физ.разв. к 7г ч2. Н.г.'!L28","v":0},{"$f":"'Физ.разв. к 7г ч2. Н.г.'!M28","v":0},{"$f":"'Физ.разв. к 7г ч2. Н.г.'!N28","v":0},{"$f":"'Физ.разв. к 7г ч2. Н.г.'!O28","v":0},{"$f":"'Физ.разв. к 7г ч2. Н.г.'!P28","v":0},{"$f":"'Физ.разв. к 7г ч2. Н.г.'!Q28","v":0},{"$f":"'Физ.разв. к 7г ч2. Н.г.'!R28","v":0},{"$f":"'Физ.разв. к 7г ч2. Н.г.'!S28","v":0},{"$f":"'Физ.разв. к 7г ч2. Н.г.'!T28","v":0},{"$f":"'Физ.разв. к 7г ч3. Н.г.'!E28","v":0},{"$f":"'Физ.разв. к 7г ч3. Н.г.'!F28","v":0},{"$f":"'Физ.разв. к 7г ч3. Н.г.'!G28","v":0},{"$f":"'Физ.разв. к 7г ч3. Н.г.'!H28","v":0},{"$f":"'Физ.разв. к 7г ч3. Н.г.'!I28","v":0},{"$f":"'Физ.разв. к 7г ч3. Н.г.'!J28","v":0},{"$f":"'Физ.разв. к 7г ч3. Н.г.'!K28","v":0},{"$f":"'Физ.разв. к 7г ч3. Н.г.'!L28","v":0},{"$f":"'Физ.разв. к 7г ч3. Н.г.'!M28","v":0},{"$f":"'Физ.разв. к 7г ч3. Н.г.'!N28","v":0},{"$f":"'Физ.разв. к 7г ч3. Н.г.'!O28","v":0},{"$f":"'Худ.эст.к 7г ч1. Н.г.'!E27","v":0},{"$f":"'Худ.эст.к 7г ч1. Н.г.'!F27","v":0},{"$f":"'Худ.эст.к 7г ч1. Н.г.'!G27","v":0},{"$f":"'Худ.эст.к 7г ч1. Н.г.'!H27","v":0},{"$f":"'Худ.эст.к 7г ч1. Н.г.'!I27","v":0},{"$f":"'Худ.эст.к 7г ч1. Н.г.'!J27","v":0},{"$f":"'Худ.эст.к 7г ч1. Н.г.'!K27","v":0},{"$f":"'Худ.эст.к 7г ч1. Н.г.'!L27","v":0},{"$f":"'Худ.эст.к 7г ч1. Н.г.'!M27","v":0},{"$f":"'Худ.эст.к 7г ч1. Н.г.'!N27","v":0},{"$f":"'Худ.эст.к 7г ч1. Н.г.'!O27","v":0},{"$f":"'Худ.эст.к 7г ч1. Н.г.'!P27","v":0},{"$f":"'Худ.эст.к 7г ч1. Н.г.'!Q27","v":0},{"$f":"'Худ.эст.к 7г ч2. Н.г.'!E27","v":0},{"$f":"'Худ.эст.к 7г ч2. Н.г.'!F27","v":0},{"$f":"'Худ.эст.к 7г ч2. Н.г.'!G27","v":0},{"$f":"'Худ.эст.к 7г ч2. Н.г.'!H27","v":0},{"$f":"'Худ.эст.к 7г ч2. Н.г.'!I27","v":0},{"$f":"'Худ.эст.к 7г ч2. Н.г.'!J27","v":0},{"$f":"'Худ.эст.к 7г ч2. Н.г.'!K27","v":0},{"$f":"'Худ.эст.к 7г ч2. Н.г.'!L27","v":0},{"$f":"'Худ.эст.к 7г ч2. Н.г.'!M27","v":0},{"$f":"'Худ.эст.к 7г ч2. Н.г.'!N27","v":0},{"$f":"'Худ.эст.к 7г ч2. Н.г.'!O27","v":0},{"$f":"'Худ.эст.к 7г ч2. Н.г.'!P27","v":0},{"$f":"'Худ.эст.к 7г ч2. Н.г.'!Q27","v":0},{"$f":"'Худ.эст.к 7г ч3. Н.г.'!E27","v":0},{"$f":"'Худ.эст.к 7г ч3. Н.г.'!F27","v":0},{"$f":"'Худ.эст.к 7г ч3. Н.г.'!G27","v":0},{"$f":"'Худ.эст.к 7г ч3. Н.г.'!H27","v":0},{"$f":"'Худ.эст.к 7г ч3. Н.г.'!I27","v":0},{"$f":"'Худ.эст.к 7г ч3. Н.г.'!J27","v":0},{"$f":"'Худ.эст.к 7г ч3. Н.г.'!K27","v":0},{"$f":"'Худ.эст.к 7г ч3. Н.г.'!L27","v":0}]
["конец года",{"$f":"'Соц.ком.к 7г ч1 К.г.'!E26","v":0},{"$f":"'Соц.ком.к 7г ч1 К.г.'!F26","v":0},{"$f":"'Соц.ком.к 7г ч1 К.г.'!G26","v":0},{"$f":"'Соц.ком.к 7г ч1 К.г.'!H26","v":0},{"$f":"'Соц.ком.к 7г ч1 К.г.'!I26","v":0},{"$f":"'Соц.ком.к 7г ч1 К.г.'!J26","v":0},{"$f":"'Соц.ком.к 7г ч1 К.г.'!K26","v":0},{"$f":"'Соц.ком.к 7г ч1 К.г.'!L26","v":0},{"$f":"'Соц.ком.к 7г ч1 К.г.'!M26","v":0},{"$f":"'Соц.ком.к 7г ч1 К.г.'!N26","v":0},{"$f":"'Соц.ком.к 7г ч2 К.г.'!E26","v":0},{"$f":"'Соц.ком.к 7г ч2 К.г.'!F26","v":0},{"$f":"'Соц.ком.к 7г ч2 К.г.'!G26","v":0},{"$f":"'Соц.ком.к 7г ч2 К.г.'!H26","v":0},{"$f":"'Соц.ком.к 7г ч2 К.г.'!I26","v":0},{"$f":"'Соц.ком.к 7г ч2 К.г.'!J26","v":0},{"$f":"'Соц.ком.к 7г ч2 К.г.'!K26","v":0},{"$f":"'Соц.ком. к 7г ч3 К.г.'!E26","v":0},{"$f":"'Соц.ком. к 7г ч3 К.г.'!F26","v":0},{"$f":"'Соц.ком. к 7г ч3 К.г.'!G26","v":0},{"$f":"'Соц.ком. к 7г ч3 К.г.'!H26","v":0},{"$f":"'Соц.ком. к 7г ч3 К.г.'!I26","v":0},{"$f":"'Соц.ком. к 7г ч3 К.г.'!J26","v":0},{"$f":"'Соц.ком. к 7г ч3 К.г.'!K26","v":0},{"$f":"'Соц.ком. к 7г ч3 К.г.'!L26","v":0},{"$f":"'Соц.ком. к 7г ч4 К.г.'!E26","v":0},{"$f":"'Соц.ком. к 7г ч4 К.г.'!F26","v":0},{"$f":"'Соц.ком. к 7г ч4 К.г.'!G26","v":0},{"$f":"'Соц.ком. к 7г ч4 К.г.'!H26","v":0},{"$f":"'Соц.ком. к 7г ч4 К.г.'!I26","v":0},{"$f":"'Реч.разв.к 7г ч1 К.г.'!E26","v":0},{"$f":"'Реч.разв.к 7г ч1 К.г.'!F26","v":0},{"$f":"'Реч.разв.к 7г ч1 К.г.'!G26","v":0},{"$f":"'Реч.разв.к 7г ч1 К.г.'!H26","v":0},{"$f":"'Реч.разв.к 7г ч1 К.г.'!I26","v":0},{"$f":"'Реч.разв.к 7г ч1 К.г.'!J26","v":0},{"$f":"'Реч.разв.к 7г ч1 К.г.'!K26","v":0},{"$f":"'Реч.разв.к 7г ч1 К.г.'!L26","v":0},{"$f":"'Реч.разв.к 7г ч2 К.г. '!E26","v":0},{"$f":"'Реч.разв.к 7г ч2 К.г. '!F26","v":0},{"$f":"'Реч.разв.к 7г ч2 К.г. '!G26","v":0},{"$f":"'Реч.разв.к 7г ч2 К.г. '!H26","v":0},{"$f":"'Реч.разв.к 7г ч2 К.г. '!I26","v":0},{"$f":"'Реч.разв.к 7г ч2 К.г. '!J26","v":0},{"$f":"'Реч.разв.к 7г ч2 К.г. '!K26","v":0},{"$f":"'Реч.разв.к 7г ч2 К.г. '!L26","v":0},{"$f":"'Реч.разв.к 7г ч2 К.г. '!M26","v":0},{"$f":"'Реч.разв.к 7г ч3. К.г. '!E26","v":0},{"$f":"'Реч.разв.к 7г ч3. К.г. '!F26","v":0},{"$f":"'Реч.разв.к 7г ч3. К.г. '!G26","v":0},{"$f":"'Реч.разв.к 7г ч3. К.г. '!H26","v":0},{"$f":"'Реч.разв.к 7г ч3. К.г. '!I26","v":0},{"$f":"'Реч.разв.к 7г ч3. К.г. '!J26","v":0},{"$f":"'Позн.разв. к 7г ч1. К.г. '!E27","v":0},{"$f":"'Позн.разв. к 7г ч1. К.г. '!F27","v":0},{"$f":"'Позн.разв. к 7г ч1. К.г. '!G27","v":0},{"$f":"'Позн.разв. к 7г ч1. К.г. '!H27","v":0},{"$f":"'Позн.разв. к 7г ч1. К.г. '!I27","v":0},{"$f":"'Позн.разв. к 7г ч1. К.г. '!J27","v":0},{"$f":"'Позн.разв. к 7г ч1. К.г. '!K27","v":0},{"$f":"'Позн.разв. к 7г ч1. К.г. '!L27","v":0},{"$f":"'Позн.разв. к 7г ч1. К.г. '!M27","v":0},{"$f":"'Позн.разв. к 7г ч2. К.г.'!E27","v":0},{"$f":"'Позн.разв. к 7г ч2. К.г.'!F27","v":0},{"$f":"'Позн.разв. к 7г ч2. К.г.'!G27","v":0},{"$f":"'Позн.разв. к 7г ч2. К.г.'!H27","v":0},{"$f":"'Позн.разв. к 7г ч2. К.г.'!I27","v":0},{"$f":"'Позн.разв. к 7г ч2. К.г.'!J27","v":0},{"$f":"'Позн.разв. к 7г ч2. К.г.'!K27","v":0},{"$f":"'Позн.разв. к 7г ч2. К.г.'!L27","v":0},{"$f":"'Позн.разв. к 7г ч2. К.г.'!M27","v":0},{"$f":"'Позн.разв. к 7г ч3. К.г. '!E27","v":0},{"$f":"'Позн.разв. к 7г ч3. К.г. '!F27","v":0},{"$f":"'Позн.разв. к 7г ч3. К.г. '!G27","v":0},{"$f":"'Позн.разв. к 7г ч3. К.г. '!H27","v":0},{"$f":"'Позн.разв. к 7г ч3. К.г. '!I27","v":0},{"$f":"'Позн.разв. к 7г ч3. К.г. '!J27","v":0},{"$f":"'Позн.разв. к 7г ч3. К.г. '!K27","v":0},{"$f":"'Позн.разв. к 7г ч3. К.г. '!L27","v":0},{"$f":"'Позн.разв. к 7г ч3. К.г. '!M27","v":0},{"$f":"'Позн.разв. к 7г ч3. К.г. '!N27","v":0},{"$f":"'Позн.разв. к 7г ч3. К.г. '!O27","v":0},{"$f":"'Позн.разв. к 7г ч3. К.г. '!P27","v":0},{"$f":"'Позн.разв. к 7г ч3. К.г. '!Q27","v":0},{"$f":"'Физ.разв. к 7г ч1. К.г. '!E27","v":0},{"$f":"'Физ.разв. к 7г ч1. К.г. '!F27","v":0},{"$f":"'Физ.разв. к 7г ч1. К.г. '!G27","v":0},{"$f":"'Физ.разв. к 7г ч1. К.г. '!H27","v":0},{"$f":"'Физ.разв. к 7г ч1. К.г. '!I27","v":0},{"$f":"'Физ.разв. к 7г ч1. К.г. '!J27","v":0},{"$f":"'Физ.разв. к 7г ч1. К.г. '!K27","v":0},{"$f":"'Физ.разв. к 7г ч1. К.г. '!L27","v":0},{"$f":"'Физ.разв. к 7г ч1. К.г. '!M27","v":0},{"$f":"'Физ.разв. к 7г ч1. К.г. '!N27","v":0},{"$f":"'Физ.разв. к 7г ч1. К.г. '!O27","v":0},{"$f":"'Физ.разв. к 7г ч1. К.г. '!P27","v":0},{"$f":"'Физ.разв. к 7г ч1. К.г. '!Q27","v":0},{"$f":"'Физ.разв. к 7г ч1. К.г. '!R27","v":0},{"$f":"'Физ.разв. к 7г ч1. К.г. '!S27","v":0},{"$f":"'Физ.разв. к 7г ч1. К.г. '!T27","v":0},{"$f":"'Физ.разв. к 7г ч1. К.г. '!U27","v":0},{"$f":"'Физ.разв. к 7г ч1. К.г. '!V27","v":0},{"$f":"'Физ.разв. к 7г ч1. К.г. '!W27","v":0},{"$f":"'Физ.разв. к 7г ч2. К.г.'!E28","v":0},{"$f":"'Физ.разв. к 7г ч2. К.г.'!F28","v":0},{"$f":"'Физ.разв. к 7г ч2. К.г.'!G28","v":0},{"$f":"'Физ.разв. к 7г ч2. К.г.'!H28","v":0},{"$f":"'Физ.разв. к 7г ч2. К.г.'!I28","v":0},{"$f":"'Физ.разв. к 7г ч2. К.г.'!J28","v":0},{"$f":"'Физ.разв. к 7г ч2. К.г.'!K28","v":0},{"$f":"'Физ.разв. к 7г ч2. К.г.'!L28","v":0},{"$f":"'Физ.разв. к 7г ч2. К.г.'!M28","v":0},{"$f":"'Физ.разв. к 7г ч2. К.г.'!N28","v":0},{"$f":"'Физ.разв. к 7г ч2. К.г.'!O28","v":0},{"$f":"'Физ.разв. к 7г ч2. К.г.'!P28","v":0},{"$f":"'Физ.разв. к 7г ч2. К.г.'!Q28","v":0},{"$f":"'Физ.разв. к 7г ч2. К.г.'!R28","v":0},{"$f":"'Физ.разв. к 7г ч2. К.г.'!S28","v":0},{"$f":"'Физ.разв. к 7г ч2. К.г.'!T28","v":0},{"$f":"'Физ.разв. к 7г ч3. К.г. '!E28","v":0},{"$f":"'Физ.разв. к 7г ч3. К.г. '!F28","v":0},{"$f":"'Физ.разв. к 7г ч3. К.г. '!G28","v":0},{"$f":"'Физ.разв. к 7г ч3. К.г. '!H28","v":0},{"$f":"'Физ.разв. к 7г ч3. К.г. '!I28","v":0},{"$f":"'Физ.разв. к 7г ч3. К.г. '!J28","v":0},{"$f":"'Физ.разв. к 7г ч3. К.г. '!K28","v":0},{"$f":"'Физ.разв. к 7г ч3. К.г. '!L28","v":0},{"$f":"'Физ.разв. к 7г ч3. К.г. '!M28","v":0},{"$f":"'Физ.разв. к 7г ч3. К.г. '!N28","v":0},{"$f":"'Физ.разв. к 7г ч3. К.г. '!O28","v":0},{"$f":"'Худ.эст.к 7г ч1. К.г. '!E27","v":0},{"$f":"'Худ.эст.к 7г ч1. К.г. '!F27","v":0},{"$f":"'Худ.эст.к 7г ч1. К.г. '!G27","v":0},{"$f":"'Худ.эст.к 7г ч1. К.г. '!H27","v":0},{"$f":"'Худ.эст.к 7г ч1. К.г. '!I27","v":0},{"$f":"'Худ.эст.к 7г ч1. К.г. '!J27","v":0},{"$f":"'Худ.эст.к 7г ч1. К.г. '!K27","v":0},{"$f":"'Худ.эст.к 7г ч1. К.г. '!L27","v":0},{"$f":"'Худ.эст.к 7г ч1. К.г. '!M27","v":0},{"$f":"'Худ.эст.к 7г ч1. К.г. '!N27","v":0},{"$f":"'Худ.эст.к 7г ч1. К.г. '!O27","v":0},{"$f":"'Худ.эст.к 7г ч1. К.г. '!P27","v":0},{"$f":"'Худ.эст.к 7г ч1. К.г. '!Q27","v":0},{"$f":"'Худ.эст.к 7г ч2. К.г. '!E27","v":0},{"$f":"'Худ.эст.к 7г ч2. К.г. '!F27","v":0},{"$f":"'Худ.эст.к 7г ч2. К.г. '!G27","v":0},{"$f":"'Худ.эст.к 7г ч2. К.г. '!H27","v":0},{"$f":"'Худ.эст.к 7г ч2. К.г. '!I27","v":0},{"$f":"'Худ.эст.к 7г ч2. К.г. '!J27","v":0},{"$f":"'Худ.эст.к 7г ч2. К.г. '!K27","v":0},{"$f":"'Худ.эст.к 7г ч2. К.г. '!L27","v":0},{"$f":"'Худ.эст.к 7г ч2. К.г. '!M27","v":0},{"$f":"'Худ.эст.к 7г ч2. К.г. '!N27","v":0},{"$f":"'Худ.эст.к 7г ч2. К.г. '!O27","v":0},{"$f":"'Худ.эст.к 7г ч2. К.г. '!P27","v":0},{"$f":"'Худ.эст.к 7г ч2. К.г. '!Q27","v":0},{"$f":"'Худ.эст.к 7г ч3. К.г. '!E27","v":0},{"$f":"'Худ.эст.к 7г ч3. К.г. '!F27","v":0},{"$f":"'Худ.эст.к 7г ч3. К.г. '!G27","v":0},{"$f":"'Худ.эст.к 7г ч3. К.г. '!H27","v":0},{"$f":"'Худ.эст.к 7г ч3. К.г. '!I27","v":0},{"$f":"'Худ.эст.к 7г ч3. К.г. '!J27","v":0},{"$f":"'Худ.эст.к 7г ч3. К.г. '!K27","v":0},{"$f":"'Худ.эст.к 7г ч3. К.г. '!L27","v":0}]

{"sheet":"17","index":54,"n_rows":7,"n_cols":165,"rows_kept":7,"merged":[[0,104,0,110],[0,111,0,112],[0,113,0,115],[0,116,0,119],[0,120,0,123],[0,124,0,126],[0,127,0,130],[1,54,1,58],[1,59,1,62],[1,63,1,71],[1,72,1,76],[1,77,1,84],[1,104,1,106],[1,107,1,110],[1,111,4,111],[1,112,4,112],[1,113,4,113],[1,114,4,114],[1,115,4,115],[1,116,1,119],[1,120,2,120],[1,121,2,121],[1,122,2,122],[1,123,2,123],[1,124,4,124],[1,125,4,125],[1,126,4,126],[1,127,1,130],[1,131,1,143],[1,144,1,156],[1,157,2,162],[1,163,2,164],[2,18,2,22],[2,23,2,25],[2,26,2,30],[2,32,2,34],[2,35,2,38],[2,40,2,44],[2,45,2,47],[2,48,2,53],[2,55,2,57],[2,59,4,59],[2,60,4,60],[2,61,4,61],[2,62,4,62],[2,63,2,65],[2,66,2,67],[2,68,2,69],[2,72,3,76],[2,77,2,80],[2,81,2,82],[2,83,4,83],[2,84,4,84],[2,85,2,86],[2,87,2,89],[2,90,2,92],[2,93,2,95],[2,96,2,99],[2,100,2,101],[2,102,2,103],[2,104,4,104],[2,105,4,105],[2,106,4,106],[2,107,4,107],[2,108,4,108],[2,109,4,109],[2,110,4,110],[2,116,4,116],[2,117,4,117],[2,118,4,118],[2,119,4,119],[2,127,4,127],[2,128,4,128],[2,129,4,129],[2,130,4,130],[2,135,2,136],[2,137,2,140],[2,141,2,142],[2,143,4,143],[2,144,2,145],[2,146,2,147],[2,148,2,149],[2,151,2,156],[3,0,4,0],[3,1,3,4],[3,7,3,9],[3,11,3,12],[3,13,3,14],[3,15,4,15],[3,16,4,16],[3,17,4,17],[3,18,4,18],[3,19,4,19],[3,20,4,20],[3,21,4,21],[3,22,4,22],[3,23,4,23],[3,24,4,24],[3,25,4,25],[3,26,4,26],[3,27,4,27],[3,28,4,28],[3,29,4,29],[3,30,4,30],[3,31,4,31],[3,32,4,32],[3,33,4,33],[3,34,4,34],[3,35,4,35],[3,36,4,36],[3,37,4,37],[3,38,4,38],[3,39,4,39],[3,40,4,40],[3,41,4,41],[3,42,4,42],[3,43,4,43],[3,44,4,44],[3,45,4,45],[3,46,4,46],[3,47,4,47],[3,48,4,48],[3,49,4,49],[3,50,4,50],[3,51,4,51],[3,52,4,52],[3,53,4,53],[3,54,3,58],[3,63,4,63],[3,64,4,64],[3,65,4,65],[3,66,4,66],[3,67,4,67],[3,68,4,68],[3,69,4,69],[3,70,4,70],[3,71,4,71],[3,81,4,81],[3,85,3,86],[3,87,3,89],[3,90,3,92],[3,93,3,95],[3,96,3,99],[3,100,3,101],[3,102,4,102],[3,103,4,103],[3,120,4,120],[3,121,4,121],[3,122,4,122],[3,123,4,123],[3,131,4,131],[3,132,4,132],[3,133,4,133],[3,134,4,134],[3,135,4,135],[3,136,4,136],[3,137,4,137],[3,138,4,138],[3,139,4,139],[3,140,4,140],[3,141,4,141],[3,142,4,142],[3,144,4,144],[3,145,4,145],[3,146,4,146],[3,147,4,147],[3,148,4,148],[3,149,4,149],[3,150,4,150],[3,151,4,151],[3,152,4,152],[3,153,4,153],[3,154,4,154],[3,155,4,155],[3,156,4,156],[3,157,4,157],[3,158,4,158],[3,159,4,159],[3,160,4,160],[3,161,4,161],[3,162,4,162],[3,163,4,163],[3,164,4,164]]}
[{"$nulls":104},"Мелкая моторика",{"$nulls":6},"Подвижные игры",null,"Спорт. игры",null,null,"Спортивные упражнения",{"$nulls":3},"КГН",{"$nulls":3},"ЗОЖ",null,null,"Спортивные упражнения"]
[{"$nulls":54},"Сенсорные эталоны ",{"$nulls":4},"Познавательные действия",{"$nulls":3},"Математические представления",{"$nulls":8},"Окружающий мир",{"$nulls":4},"Природа ",{"$nulls":26},"Координация рук и глаз",null,null,"Графические навыки",{"$nulls":3},"Ребенок использует в самостоятельной деятельности разнообразные по содержанию подвижные игры, проявляет элементы творчества в двигательной деятельности","Ребенок может организовать знакомые подвижные игры со сверстниками, сплотить команду, стремится внести свой вклад в результат команды","Ребенок владеет элементами спортивных игр (городки, баскетбол, футбол, хоккей, бадминтон, настольный теннис), может контролировать свои движения и управлять ими","Ребенок имеет представление о разных видах спорта (санный спорт, борьба, теннис, синхронное плавание и др.)","Ребенок имеет представление о спортивных событиях и достижениях отечественных спортсменов","Ребенок умеет кататься",{"$nulls":3},"Навыки соблюдения чистоты тела (правила личной гигиены)","Навыки культуры еды (прием пищи) ","Навыки поддержания порядка (правила поведения в быту) ","Навыки ухода за собой (одевание, раздевание) ","Ребенок соблюдает элементарные правила здорового образа жизни и личной гигиены, следит за своей осанкой, может оценить свое самочувствие","Ребенок регулярно выполняет физические упражнения","Ребенок имеет начальные представления о том, что такое здоровье, понимает, как поддержать, укрепить и сохранить его","Ребенок умеет кататься",{"$nulls":3},"Музыкальная деятельность",{"$nulls":12},"Изобразительная деятельность",{"$nulls":12},"Приобщение к искусству",{"$nulls":5},"Конструктивная деятельность"]
[{"$nulls":18},"Область формирования основ гражданственности и патриотизма",{"$nulls":4},"Сфера трудового воспитания",null,null,"Область формирования основ безопасного поведения",{"$nulls":4},"Общее речевое развитие","Формирование словаря",null,null,"Грамматический строй",{"$nulls":3},"Звуковая культура речи","Связная речь",{"$nulls":4},"ЧХЛ",null,null,"Подготовка к обучению грамоте",{"$nulls":5},"Цвет, оттенки","Форма, геометрические фигуры",null,null,"Величина","Ребенок самостоятельно выбирает способ осуществления разных видов познавательной деятельности","Ребенок интересуется субъективно новым и неизвестным в окружающем мире","Ребенок способен применять в жизненных и игровых ситуациях знания о количестве, форме, величине предметов, пространстве, времени","Ребенок имеет разнообразные познавательные умения: определяет противоречия. Формулирует задачу исследования, использует разные способы и средства проверки предположений (сравнение с эталонами, классификацию, систематизацию и др.)","Количество и счет",null,null,"Ориентировка во времени",null,"Ориентировка в пространстве",null,"Пространственно-количественные связи и отношения","Сравнение","Ребенок имеет представления, может показать на картинке и в естественной среде, может рассказать",{"$nulls":4},"Объекты живой природы",{"$nulls":3},"Объекты неживой природы, природные явления",null,"Ребенок стремится к самостоятельному экспериментированию","Ребенок знает правила поведения в природе, проявляет осознанное, бережное отношение к природе и ее ресурсам","Бросание, катание, ловля, метание",null,"Ползанье, лазанье",null,null,"Ходьба",null,null,"Бег",null,null,"Прыжки",{"$nulls":3},"Равновесие",null,"Строевые упражнения",null,"Ребенок выполняет графический диктант","Ребенок обводит по шаблону, по трафарету","Ребенок чертит линии с помощью линейки","Ребенок обводит по контуру, по точкам","Ребенок выполняет штриховку в различных направлениях","Ребенок закрашивает, не выходя за контур","Ребенок свободно владеет карандашом при рисовании округлых линий, завитков в разном направлении",{"$nulls":5},"на санках","на лыжах","на двухколесном велосипеде","на самокате",{"$nulls":7},"на санках","на лыжах","на двухколесном велосипеде","на самокате","Слушание","Пение ","Музыкально-ритмические движения","Песенное творчество","Игра на детских музыкальных инструментах",null,"Театрализованная деятельность",{"$nulls":3},"Танцевально-игровое творчество",null,"У ребенка развит музыкальный вкус, музыкальная память","Рисование ",null,"Лепка ",null,"Аппликация ",null,"Народное ДПИ","Прикладное творчество"]
[{"$f":"Список!B20","v":0},"Отношение к самому себе",{"$nulls":3},"Отношение к сверстникам","Отношение к взрослым","Эмоции",null,null,"Поведение","Семья",null,"Игровое поведение",null,"Ребенок имеет представление об изменениях позиции человека с возрастом","Ребенок имеет представление о школе, школьниках, учителях; стремится к школьному обучению, к познанию, освоению чтения, письма; демонстрирует формированные предпосылки к учебной деятельности и элементы готовности к школьному обучению","Ребенок имеет представление о нравственных качествах людей, их проявлении в поступках и взаимоотношениях","Ребенок имеет представление о признаках и характеристиках государства (территория государства и его границы, столица), атрибутах государственной власти, президенте, столице","Ребенок имеет представление о порядке использования государственной символики","Ребенок имеет представление о волонтерстве","Ребенок имеет представление о государственных праздниках, исторических событиях","Ребенок имеет представление о жизни людей в России, о многообразии стран и народов мира","Ребенок имеет представление об обмене ценностями в процессе производства и потребления товаров и услуг, о денежных отношениях, о реальной стоимости отдельных продуктов питания, игрушек, детских книг","Ребенок имеет представление о об основах финансовой грамоты, основах бережного потребления","Ребенок проявляет инициативность и самостоятельность в процессе самообслуживания, при выполнении трудовых поручений","Ребенок имеет представление о правила безопасного поведения в ситуациях, создающих угрозу жизни и здоровью (погас свет, остался один, потерялся, получил травму)","Ребенок имеет представление о правила безопасного поведения дома, на улице, в природе, в местах большого скопления людей, в магазине, на вокзале, в общественных метах, на праздниках и др.","Ребенок имеет представление о правилах безопасного использования цифровых ресурсов (мобильного телефона, планшета)","Ребенок имеет представление об элементарных правилах оказания первой помощи при первых признаках недомогания, травмах, ушибах","Ребенок проявляет самостоятельность при выполнении правил безопасного поведения","Ребенок владеет речью как средством коммуникации, ведет диалог, владеет коммуникативно-речевыми умениями","Ребенок подбирает точные слова для выражения мысли","Ребенок выполняет операцию классификации – деления освоенных понятий на группы на основе выявленных признаков","Ребенок использует в речи средства языковой выразительности: антонимы, синонимы, многозначные слова, метафоры, олицетворение","Ребенок образует сложные слова посредством слияния основ","Ребенок согласует в речи существительные с числительными, существительные с прилагательными","Ребенок образует по образцу существительные с суффиксами, глаголы с приставками","Ребенок образует в речи сравнительную и превосходную степени имен прилагательных","Ребенок правильно произносит все звуки","Ребенок может пересказать литературное произведение по ролям, близко к тексту, от лица литературного героя","Ребенок может составить описательный рассказ, соблюдая структуру описания","Ребенок может составить повествовательный рассказ по картине, из личного опыта, из коллективного опыта, по набору игрушек, соблюдая структуру повествования","Ребенок может составить рассказ -контаминацию (сочетание описания и повествования, описания и рассуждения)","Ребенок использует в процессе общения объяснительную речь, речь-доказательство, речевое планирование","Ребенок знает и осмысленно воспринимает литературные произведения различных жанров, имеет предпочтения","Ребенок определяет характеры персонажей, мотивы их поведения, оценивает поступки литературных героев","Ребенок проявляет интерес к книгам познавательного характера","Ребенок производит звуковой анализ четырехзвуковых и пятизвуковых слов","Ребенок может интонационно выделить звуки в слове, определить их последовательность, дать им характеристику, составить схему слова, выделить ударный гласный звук в слове","Ребенок может определить количество и последовательность слов в предложении","Ребенок может составить предложение с заданным количеством слов","Ребенок знает названия всех букв","Ребенок читает слоги","Ребенок различает и называет",{"$nulls":8},"Ребенок умеет считать в пределах 10 в прямом и обратном порядке","Ребенок знает состав чисел из двух меньших в пределах первого десятка","Ребенок решает простые арифметические задачи на сложение и вычитание","Ребенок имеет представление о календаре, как системе измерения времени","Ребенок умеет определять время по часам с точностью до четверти часа","Ребенок ориентируется на местности, по схеме, по плану","Ребенок знает способы ориентировки в двухмерном пространстве","Ребенок умеет измерять протяженность, массу и объем с помощью условной мерки; понимает взаимообратные отношения между мерой и результатом измерения","Ребенок сравнивает предметы по 4-6 основаниям с выделением сходства, отличия",{"$nulls":9},"Ребенок имеет представление об использовании человеком свойств неживой природы для хозяйственных нужд (ветряные мельницы, водохранилища, солнечные батареи, ледяные катки)",{"$nulls":3},"Ребенок выполняет различные упражнения с мячом, метание",null,"Ребенок выполняет разные виды ползанья, лазанья ",null,null,"Ребенок выполняет различные виды ходьбы",null,null,"Ребенок выполняет различные виды бега",null,null,"Ребенок выполняет различные виды прыжков",{"$nulls":3},"Ребенок выполняет",null,"Ребенок выполняет разные виды перестроений, построений, передвижений, размыкание и смыкание приставным шагом, повороты","Ребенок может рассчитаться на «первый – второй»",{"$nulls":16},"Ребенок владеет навыками личной гигиены","Ребенок владеет навыками культуры еды","Ребенок владеет навыками поддержания порядка","Ребенок владеет навыками ухода за собой",{"$nulls":7},"У ребенка развит навык восприятия звуков по высоте в пределах квинты-терции","У ребенка развиты певческий голос и вокально-слуховая координация","Ребёнок ритмично и выразительно двигается в соответствие с характером музыки","Ребенок способен самостоятельно придумать мелодию, используя в качестве образца русские народные песни","Ребенок может сыграть простую мелодию на металлофоне, свирели, ударных, и электронных музыкальных инструментах: трещотках, погремушках, треугольниках","Ребенок может исполнить музыкальное произведение в оркестре и в ансамбле","Ребенок проявляет самостоятельность при выборе литературного и музыкального материала для театральной постановки","Ребенок проявляет инициативу при изготовлении атрибутов и декораций к спектаклю","Ребенок имеет представление о средствах погружения в театральные образы (музыка, слова, декорации, грим, костюм и др.)","Ребенок умеет выразительно передавать образы в действии, мимике, пантомимике","Ребенок проявляет активность в доступных видах музыкальной исполнительской деятельности (игра в оркестре, пение, танцевальные движения и др.)","Ребенок помогает придумывать движения, отражающие содержание песни",null,"Ребенок может изобразить предметы по памяти и с натуры, передает их средствами рисунка (форма, пропорции, расположение)","Ребенок способен передавать в рисунке сюжет, строить композицию","Ребенок свободно использует приемы лепки, освоенные ранее (налеп, углубленный рельеф), применяет стеку","Ребенок умеет передавать пропорции, соотношение по величине, выразительность поз, движений, деталей","Ребенок умеет составлять узоры и декоративные композиции из геометрических и растительных элементов на листах бумаги разной формы","Ребенок может выполнить вырезание (симметричное из бумаги, сложенной вдвое; несколько предметов из частей бумаги, сложенной гармошкой)","Ребенок умеет создавать узоры по мотивам народных росписей","Ребенок может сложить бумагу в разных направлениях","Ребенок может сделать разметку с помощью шаблона","Ребенок может выполнить работу по образцу","Ребенок может создать объемную игрушку в технике «оригами»","Ребенок может создать объемную поделку из природного материала","Ребенок может вдеть нитку в иголку, завязать узелок, пришить пуговицу, петельку, выполнить шов «вперед иголка»","Ребенок умеет выделять, называть, группировать произведения по видам искусства: литература, музыка, изобразительное искусство, архитектура, театр, цирк","Ребенок имеет представление о видах изобразительного искусства: графика, декоративно-прикладное искусство, живопись, скульптура, архитектура, фотоискусство","Ребенок имеет представление о жанрах изобразительного искусства: натюрморт, пейзаж, портрет","Ребенок имеет представление о народном искусстве, фольклоре, музыке и художественных промыслах","Ребенок имеет представление о творческих профессиях: художник, композитор, музыкант, актер, артист балета","Ребенок имеет представление о культурно-досуговых местах: театр, музей, библиотека, выставка, кинотеатр, цирк и др.","Ребенок может провести анализ постройки (выделить основные части и характерные детали конструкций)","Ребенок может выполнить постройку по инструкции"]
[null,"Ребенок осознает и признает собственные ошибки, результат поставленных задач, определяет пути развития","Ребенок умеет договариваться и дружить, старается разрешать конфликтные ситуации конструктивными способами","Ребенок способен принимать собственные решения и проявлять инициативу","Ребенок осознанно относится к своему будущему, стремится быть полезным обществу","Ребенок без напоминаний использует в общении формулы словесной вежливости (приветствие, прощание, просьбы, извинения)","Ребенок без напоминаний использует в общении формулы словесной вежливости (приветствие, прощание, просьбы, извинения)","Ребенок понимает чувства и переживания окружающих по невербальным признакам; находит причины и следствия возникновения эмоций, проявляет эмпатию","Ребенок использует социально приемлемые способы проявления эмоций и доступные возрасту регуляции эмоциональных состояний","Ребенок распознает собственные чувства и эмоции, анализирует свои переживания и рассказывает о них","Ребенок самостоятельно соблюдает установленный порядок поведения в группе, регулирует собственную активность","Ребенок имеет представление о необходимости укрепления связи между поколениями, взаимной поддержке детей и взрослых","Ребенок имеет представление о семье, семейных и родственных отношениях (взаимные чувства, правила общения в семье, значимые и памятные события, досуг семьи, семейный бюджет)","Ребенок умеет сотрудничать со сверстниками (побуждает к обсуждению планов, советуется, поддерживает интерес к мнению, инициирует ситуации взаимопомощи, подчеркивает ценность каждого ребенка и его вклад в общее дело, выбирает партнеров по интересам, помогает устанавливать темп совместных действий)","Ребенок владеет разными способами и видами игры, различает условную и реальную ситуации, предлагает и объясняет замысел игры, комбинирует сюжеты на основе реальных, вымышленных ситуаций, выполняет несколько ролей в одной игре, подбирает разные средства для создания игровых образов, согласовывает свои интересы с интересами партнёров по игре",{"$nulls":39}," все цвета спектра и ахроматические цвета, оттенки","плоские и объемные геометрические фигуры; умеет выделять структуру геометрических фигур и устанавливать взаимосвязи между ними","Ребенок умеет классифицировать фигуры по внешним структурным признаками (округлые, многоугольники)","Ребенок владеет различными способами видоизменения геометрических фигур (наложение, соединение, разрезание и др.)","Ребенок умеет измерять длину, ширину, высоту с помощью условной мерки",{"$nulls":13}," о родном населенном пункте (название улиц, некоторых архитектурных особенностях, достопримечательностях), об истории, о выдающихся горожанах, традициях городской жизни"," о назначении общественных учреждений"," о разных видах специального транспорта"," о местах труда людей (завод, больница, магазин и др.)"," о местах отдыха людей","Ребенок имеет представление о наиболее ярких представителях животных и растений разных природных зон (пустыня, степь, тайга, тундра и др.), об их образе жизни, приспособлении к среде обитания, изменениях в жизни в разные сезоны года","Ребенок имеет представление о многообразии водных ресурсов (моря, океаны, реки, водопады и др.)","Ребенок имеет представление о многообразии полезных ископаемых (нефть, уголь, серебро, золото, алмазы и др.)","Ребенок имеет представление о жизненных потребностях, этапах роста и развития животных и растений",null,"Ребенок имеет представление о некоторых небесных телах (планеты, кометы, звезды)",null,null,"бросание вверх, о землю, ловля двумя руками, одной рукой, перебрасывание, передача, прокатывание, забрасывание, ведение","в цель из положения стоя, вдаль, в движущеюся цель","ползанье на четвереньках, на животе, на спине","влезание на гимнастическую стенку и спуск; перелезание с пролета на пролет по диагонали","лазанье по веревочной лестнице; выполнение упражнений на канате","обычная, гимнастическим шагом, скрестным шагом, спиной вперед, выпадами, с закрытыми глазами","приставными шагами назад, в приседе, с различными движениями рук","в различных построениях","в колонне по одному, врассыпную, парами, тройками, четверками","в сочетание с прыжками, высоко поднимая колени, захлестывая голени назад, выбрасывая прямые ноги вперед","челночный, наперегонки, из разных исходных положений, со скакалкой, по пересеченной местности, с наименьшим числом шагов, медленный, быстрый","подпрыгивания на двух ногах в чередовании с ходьбой, на месте и с поворот кругом","смещая ноги вправо-влево-вперед-назад","выпрыгивание на предметы; подпрыгивания вверх из глубокого приседа; прыжки на одной ноге","в длину с места/с разбега, в высоту с места/с разбега","стойка на носках, стойка на одной ноге с закрытыми глазами","кружение с закрытыми глазами, остановкой и сохранением заданной позы"]
["начало года",{"$f":"'Соц.ком.к 7г ч1 Н.г.'!E27","v":0},{"$f":"'Соц.ком.к 7г ч1 Н.г.'!F27","v":0},{"$f":"'Соц.ком.к 7г ч1 Н.г.'!G27","v":0},{"$f":"'Соц.ком.к 7г ч1 Н.г.'!H27","v":0},{"$f":"'Соц.ком.к 7г ч1 Н.г.'!I27","v":0},{"$f":"'Соц.ком.к 7г ч1 Н.г.'!J27","v":0},{"$f":"'Соц.ком.к 7г ч1 Н.г.'!K27","v":0},{"$f":"'Соц.ком.к 7г ч1 Н.г.'!L27","v":0},{"$f":"'Соц.ком.к 7г ч1 Н.г.'!M27","v":0},{"$f":"'Соц.ком.к 7г ч1 Н.г.'!N27","v":0},{"$f":"'Соц.ком.к 7г ч2 Н.г.'!E27","v":0},{"$f":"'Соц.ком.к 7г ч2 Н.г.'!F27","v":0},{"$f":"'Соц.ком.к 7г ч2 Н.г.'!G27","v":0},{"$f":"'Соц.ком.к 7г ч2 Н.г.'!H27","v":0},{"$f":"'Соц.ком.к 7г ч2 Н.г.'!I27","v":0},{"$f":"'Соц.ком.к 7г ч2 Н.г.'!J27","v":0},{"$f":"'Соц.ком.к 7г ч2 Н.г.'!K27","v":0},{"$f":"'Соц.ком. к 7г ч3 Н.г.'!E27","v":0},{"$f":"'Соц.ком. к 7г ч3 Н.г.'!F27","v":0},{"$f":"'Соц.ком. к 7г ч3 Н.г.'!G27","v":0},{"$f":"'Соц.ком. к 7г ч3 Н.г.'!H27","v":0},{"$f":"'Соц.ком. к 7г ч3 Н.г.'!I27","v":0},{"$f":"'Соц.ком. к 7г ч3 Н.г.'!J27","v":0},{"$f":"'Соц.ком. к 7г ч3 Н.г.'!K27","v":0},{"$f":"'Соц.ком. к 7г ч3 Н.г.'!L27","v":0},{"$f":"'Соц.ком. к 7г ч4 Н.г.'!E27","v":0},{"$f":"'Соц.ком. к 7г ч4 Н.г.'!F27","v":0},{"$f":"'Соц.ком. к 7г ч4 Н.г.'!G27","v":0},{"$f":"'Соц.ком. к 7г ч4 Н.г.'!H27","v":0},{"$f":"'Соц.ком. к 7г ч4 Н.г.'!I27","v":0},{"$f":"'Реч.разв.к 7г ч1 Н.г.'!E27","v":0},{"$f":"'Реч.разв.к 7г ч1 Н.г.'!F27","v":0},{"$f":"'Реч.разв.к 7г ч1 Н.г.'!G27","v":0},{"$f":"'Реч.разв.к 7г ч1 Н.г.'!H27","v":0},{"$f":"'Реч.разв.к 7г ч1 Н.г.'!I27","v":0},{"$f":"'Реч.разв.к 7г ч1 Н.г.'!J27","v":0},{"$f":"'Реч.разв.к 7г ч1 Н.г.'!K27","v":0},{"$f":"'Реч.разв.к 7г ч1 Н.г.'!L27","v":0},{"$f":"'Реч.разв.к 7г ч2 Н.г.'!E27","v":0},{"$f":"'Реч.разв.к 7г ч2 Н.г.'!F27","v":0},{"$f":"'Реч.разв.к 7г ч2 Н.г.'!G27","v":0},{"$f":"'Реч.разв.к 7г ч2 Н.г.'!H27","v":0},{"$f":"'Реч.разв.к 7г ч2 Н.г.'!I27","v":0},{"$f":"'Реч.разв.к 7г ч2 Н.г.'!J27","v":0},{"$f":"'Реч.разв.к 7г ч2 Н.г.'!K27","v":0},{"$f":"'Реч.разв.к 7г ч2 Н.г.'!L27","v":0},{"$f":"'Реч.разв.к 7г ч2 Н.г.'!M27","v":0},{"$f":"'Реч.разв.к 7г ч3. Н.г.'!E27","v":0},{"$f":"'Реч.разв.к 7г ч3. Н.г.'!F27","v":0},{"$f":"'Реч.разв.к 7г ч3. Н.г.'!G27","v":0},{"$f":"'Реч.разв.к 7г ч3. Н.г.'!H27","v":0},{"$f":"'Реч.разв.к 7г ч3. Н.г.'!I27","v":0},{"$f":"'Реч.разв.к 7г ч3. Н.г.'!J27","v":0},{"$f":"'Позн.разв. к 7г ч1. Н.г.'!E28","v":0},{"$f":"'Позн.разв. к 7г ч1. Н.г.'!F28","v":0},{"$f":"'Позн.разв. к 7г ч1. Н.г.'!G28","v":0},{"$f":"'Позн.разв. к 7г ч1. Н.г.'!H28","v":0},{"$f":"'Позн.разв. к 7г ч1. Н.г.'!I28","v":0},{"$f":"'Позн.разв. к 7г ч1. Н.г.'!J28","v":0},{"$f":"'Позн.разв. к 7г ч1. Н.г.'!K28","v":0},{"$f":"'Позн.разв. к 7г ч1. Н.г.'!L28","v":0},{"$f":"'Позн.разв. к 7г ч1. Н.г.'!M28","v":0},{"$f":"'Позн.разв. к 7г ч2. Н.г.'!E28","v":0},{"$f":"'Позн.разв. к 7г ч2. Н.г.'!F28","v":0},{"$f":"'Позн.разв. к 7г ч2. Н.г.'!G28","v":0},{"$f":"'Позн.разв. к 7г ч2. Н.г.'!H28","v":0},{"$f":"'Позн.разв. к 7г ч2. Н.г.'!I28","v":0},{"$f":"'Позн.разв. к 7г ч2. Н.г.'!J28","v":0},{"$f":"'Позн.разв. к 7г ч2. Н.г.'!K28","v":0},{"$f":"'Позн.разв. к 7г ч2. Н.г.'!L28","v":0},{"$f":"'Позн.разв. к 7г ч2. Н.г.'!M28","v":0},{"$f":"'Позн.разв. к 7г ч3. Н.г.'!E28","v":0},{"$f":"'Позн.разв. к 7г ч3. Н.г.'!F28","v":0},{"$f":"'Позн.разв. к 7г ч3. Н.г.'!G28","v":0},{"$f":"'Позн.разв. к 7г ч3. Н.г.'!H28","v":0},{"$f":"'Позн.разв. к 7г ч3. Н.г.'!I28","v":0},{"$f":"'Позн.разв. к 7г ч3. Н.г.'!J28","v":0},{"$f":"'Позн.разв. к 7г ч3. Н.г.'!K28","v":0},{"$f":"'Позн.разв. к 7г ч3. Н.г.'!L28","v":0},{"$f":"'Позн.разв. к 7г ч3. Н.г.'!M28","v":0},{"$f":"'Позн.разв. к 7г ч3. Н.г.'!N28","v":0},{"$f":"'Позн.разв. к 7г ч3. Н.г.'!O28","v":0},{"$f":"'Позн.разв. к 7г ч3. Н.г.'!P28","v":0},{"$f":"'Позн.разв. к 7г ч3. Н.г.'!Q28","v":0},{"$f":"'Физ.разв. к 7г ч1. Н.г.'!E28","v":0},{"$f":"'Физ.разв. к 7г ч1. Н.г.'!F28","v":0},{"$f":"'Физ.разв. к 7г ч1. Н.г.'!G28","v":0},{"$f":"'Физ.разв. к 7г ч1. Н.г.'!H28","v":0},{"$f":"'Физ.разв. к 7г ч1. Н.г.'!I28","v":0},{"$f":"'Физ.разв. к 7г ч1. Н.г.'!J28","v":0},{"$f":"'Физ.разв. к 7г ч1. Н.г.'!K28","v":0},{"$f":"'Физ.разв. к 7г ч1. Н.г.'!L28","v":0},{"$f":"'Физ.разв. к 7г ч1. Н.г.'!M28","v":0},{"$f":"'Физ.разв. к 7г ч1. Н.г.'!N28","v":0},{"$f":"'Физ.разв. к 7г ч1. Н.г.'!O28","v":0},{"$f":"'Физ.разв. к 7г ч1. Н.г.'!P28","v":0},{"$f":"'Физ.разв. к 7г ч1. Н.г.'!Q28","v":0},{"$f":"'Физ.разв. к 7г ч1. Н.г.'!R28","v":0},{"$f":"'Физ.разв. к 7г ч1. Н.г.'!S28","v":0},{"$f":"'Физ.разв. к 7г ч1. Н.г.'!T28","v":0},{"$f":"'Физ.разв. к 7г ч1. Н.г.'!U28","v":0},{"$f":"'Физ.разв. к 7г ч1. Н.г.'!V28","v":0},{"$f":"'Физ.разв. к 7г ч1. Н.г.'!W28","v":0},{"$f":"'Физ.разв. к 7г ч2. Н.г.'!E29","v":0},{"$f":"'Физ.разв. к 7г ч2. Н.г.'!F29","v":0},{"$f":"'Физ.разв. к 7г ч2. Н.г.'!G29","v":0},{"$f":"'Физ.разв. к 7г ч2. Н.г.'!H29","v":0},{"$f":"'Физ.разв. к 7г ч2. Н.г.'!I29","v":0},{"$f":"'Физ.разв. к 7г ч2. Н.г.'!J29","v":0},{"$f":"'Физ.разв. к 7г ч2. Н.г.'!K29","v":0},{"$f":"'Физ.разв. к 7г ч2. Н.г.'!L29","v":0},{"$f":"'Физ.разв. к 7г ч2. Н.г.'!M29","v":0},{"$f":"'Физ.разв. к 7г ч2. Н.г.'!N29","v":0},{"$f":"'Физ.разв. к 7г ч2. Н.г.'!O29","v":0},{"$f":"'Физ.разв. к 7г ч2. Н.г.'!P29","v":0},{"$f":"'Физ.разв. к 7г ч2. Н.г.'!Q29","v":0},{"$f":"'Физ.разв. к 7г ч2. Н.г.'!R29","v":0},{"$f":"'Физ.разв. к 7г ч2. Н.г.'!S29","v":0},{"$f":"'Физ.разв. к 7г ч2. Н.г.'!T29","v":0},{"$f":"'Физ.разв. к 7г ч3. Н.г.'!E29","v":0},{"$f":"'Физ.разв. к 7г ч3. Н.г.'!F29","v":0},{"$f":"'Физ.разв. к 7г ч3. Н.г.'!G29","v":0},{"$f":"'Физ.разв. к 7г ч3. Н.г.'!H29","v":0},{"$f":"'Физ.разв. к 7г ч3. Н.г.'!I29","v":0},{"$f":"'Физ.разв. к 7г ч3. Н.г.'!J29","v":0},{"$f":"'Физ.разв. к 7г ч3. Н.г.'!K29","v":0},{"$f":"'Физ.разв. к 7г ч3. Н.г.'!L29","v":0},{"$f":"'Физ.разв. к 7г ч3. Н.г.'!M29","v":0},{"$f":"'Физ.разв. к 7г ч3. Н.г.'!N29","v":0},{"$f":"'Физ.разв. к 7г ч3. Н.г.'!O29","v":0},{"$f":"'Худ.эст.к 7г ч1. Н.г.'!E28","v":0},{"$f":"'Худ.эст.к 7г ч1. Н.г.'!F28","v":0},{"$f":"'Худ.эст.к 7г ч1. Н.г.'!G28","v":0},{"$f":"'Худ.эст.к 7г ч1. Н.г.'!H28","v":0},{"$f":"'Худ.эст.к 7г ч1. Н.г.'!I28","v":0},{"$f":"'Худ.эст.к 7г ч1. Н.г.'!J28","v":0},{"$f":"'Худ.эст.к 7г ч1. Н.г.'!K28","v":0},{"$f":"'Худ.эст.к 7г ч1. Н.г.'!L28","v":0},{"$f":"'Худ.эст.к 7г ч1. Н.г.'!M28","v":0},{"$f":"'Худ.эст.к 7г ч1. Н.г.'!N28","v":0},{"$f":"'Худ.эст.к 7г ч1. Н.г.'!O28","v":0},{"$f":"'Худ.эст.к 7г ч1. Н.г.'!P28","v":0},{"$f":"'Худ.эст.к 7г ч1. Н.г.'!Q28","v":0},{"$f":"'Худ.эст.к 7г ч2. Н.г.'!E28","v":0},{"$f":"'Худ.эст.к 7г ч2. Н.г.'!F28","v":0},{"$f":"'Худ.эст.к 7г ч2. Н.г.'!G28","v":0},{"$f":"'Худ.эст.к 7г ч2. Н.г.'!H28","v":0},{"$f":"'Худ.эст.к 7г ч2. Н.г.'!I28","v":0},{"$f":"'Худ.эст.к 7г ч2. Н.г.'!J28","v":0},{"$f":"'Худ.эст.к 7г ч2. Н.г.'!K28","v":0},{"$f":"'Худ.эст.к 7г ч2. Н.г.'!L28","v":0},{"$f":"'Худ.эст.к 7г ч2. Н.г.'!M28","v":0},{"$f":"'Худ.эст.к 7г ч2. Н.г.'!N28","v":0},{"$f":"'Худ.эст.к 7г ч2. Н.г.'!O28","v":0},{"$f":"'Худ.эст.к 7г ч2. Н.г.'!P28","v":0},{"$f":"'Худ.эст.к 7г ч2. Н.г.'!Q28","v":0},{"$f":"'Худ.эст.к 7г ч3. Н.г.'!E28","v":0},{"$f":"'Худ.эст.к 7г ч3. Н.г.'!F28","v":0},{"$f":"'Худ.эст.к 7г ч3. Н.г.'!G28","v":0},{"$f":"'Худ.эст.к 7г ч3. Н.г.'!H28","v":0},{"$f":"'Худ.эст.к 7г ч3. Н.г.'!I28","v":0},{"$f":"'Худ.эст.к 7г ч3. Н.г.'!J28","v":0},{"$f":"'Худ.эст.к 7г ч3. Н.г.'!K28","v":0},{"$f":"'Худ.эст.к 7г ч3. Н.г.'!L28","v":0}]
["конец года",{"$f":"'Соц.ком.к 7г ч1 К.г.'!E27","v":0},{"$f":"'Соц.ком.к 7г ч1 К.г.'!F27","v":0},{"$f":"'Соц.ком.к 7г ч1 К.г.'!G27","v":0},{"$f":"'Соц.ком.к 7г ч1 К.г.'!H27","v":0},{"$f":"'Соц.ком.к 7г ч1 К.г.'!I27","v":0},{"$f":"'Соц.ком.к 7г ч1 К.г.'!J27","v":0},{"$f":"'Соц.ком.к 7г ч1 К.г.'!K27","v":0},{"$f":"'Соц.ком.к 7г ч1 К.г.'!L27","v":0},{"$f":"'Соц.ком.к 7г ч1 К.г.'!M27","v":0},{"$f":"'Соц.ком.к 7г ч1 К.г.'!N27","v":0},{"$f":"'Соц.ком.к 7г ч2 К.г.'!E27","v":0},{"$f":"'Соц.ком.к 7г ч2 К.г.'!F27","v":0},{"$f":"'Соц.ком.к 7г ч2 К.г.'!G27","v":0},{"$f":"'Соц.ком.к 7г ч2 К.г.'!H27","v":0},{"$f":"'Соц.ком.к 7г ч2 К.г.'!I27","v":0},{"$f":"'Соц.ком.к 7г ч2 К.г.'!J27","v":0},{"$f":"'Соц.ком.к 7г ч2 К.г.'!K27","v":0},{"$f":"'Соц.ком. к 7г ч3 К.г.'!E27","v":0},{"$f":"'Соц.ком. к 7г ч3 К.г.'!F27","v":0},{"$f":"'Соц.ком. к 7г ч3 К.г.'!G27","v":0},{"$f":"'Соц.ком. к 7г ч3 К.г.'!H27","v":0},{"$f":"'Соц.ком. к 7г ч3 К.г.'!I27","v":0},{"$f":"'Соц.ком. к 7г ч3 К.г.'!J27","v":0},{"$f":"'Соц.ком. к 7г ч3 К.г.'!K27","v":0},{"$f":"'Соц.ком. к 7г ч3 К.г.'!L27","v":0},{"$f":"'Соц.ком. к 7г ч4 К.г.'!E27","v":0},{"$f":"'Соц.ком. к 7г ч4 К.г.'!F27","v":0},{"$f":"'Соц.ком. к 7г ч4 К.г.'!G27","v":0},{"$f":"'Соц.ком. к 7г ч4 К.г.'!H27","v":0},{"$f":"'Соц.ком. к 7г ч4 К.г.'!I27","v":0},{"$f":"'Реч.разв.к 7г ч1 К.г.'!E27","v":0},{"$f":"'Реч.разв.к 7г ч1 К.г.'!F27","v":0},{"$f":"'Реч.разв.к 7г ч1 К.г.'!G27","v":0},{"$f":"'Реч.разв.к 7г ч1 К.г.'!H27","v":0},{"$f":"'Реч.разв.к 7г ч1 К.г.'!I27","v":0},{"$f":"'Реч.разв.к 7г ч1 К.г.'!J27","v":0},{"$f":"'Реч.разв.к 7г ч1 К.г.'!K27","v":0},{"$f":"'Реч.разв.к 7г ч1 К.г.'!L27","v":0},{"$f":"'Реч.разв.к 7г ч2 К.г. '!E27","v":0},{"$f":"'Реч.разв.к 7г ч2 К.г. '!F27","v":0},{"$f":"'Реч.разв.к 7г ч2 К.г. '!G27","v":0},{"$f":"'Реч.разв.к 7г ч2 К.г. '!H27","v":0},{"$f":"'Реч.разв.к 7г ч2 К.г. '!I27","v":0},{"$f":"'Реч.разв.к 7г ч2 К.г. '!J27","v":0},{"$f":"'Реч.разв.к 7г ч2 К.г. '!K27","v":0},{"$f":"'Реч.разв.к 7г ч2 К.г. '!L27","v":0},{"$f":"'Реч.разв.к 7г ч2 К.г. '!M27","v":0},{"$f":"'Реч.разв.к 7г ч3. К.г. '!E27","v":0},{"$f":"'Реч.разв.к 7г ч3. К.г. '!F27","v":0},{"$f":"'Реч.разв.к 7г ч3. К.г. '!G27","v":0},{"$f":"'Реч.разв.к 7г ч3. К.г. '!H27","v":0},{"$f":"'Реч.разв.к 7г ч3. К.г. '!I27","v":0},{"$f":"'Реч.разв.к 7г ч3. К.г. '!J27","v":0},{"$f":"'Позн.разв. к 7г ч1. К.г. '!E28","v":0},{"$f":"'Позн.разв. к 7г ч1. К.г. '!F28","v":0},{"$f":"'Позн.разв. к 7г ч1. К.г. '!G28","v":0},{"$f":"'Позн.разв. к 7г ч1. К.г. '!H28","v":0},{"$f":"'Позн.разв. к 7г ч1. К.г. '!I28","v":0},{"$f":"'Позн.разв. к 7г ч1. К.г. '!J28","v":0},{"$f":"'Позн.разв. к 7г ч1. К.г. '!K28","v":0},{"$f":"'Позн.разв. к 7г ч1. К.г. '!L28","v":0},{"$f":"'Позн.разв. к 7г ч1. К.г. '!M28","v":0},{"$f":"'Позн.разв. к 7г ч2. К.г.'!E28","v":0},{"$f":"'Позн.разв. к 7г ч2. К.г.'!F28","v":0},{"$f":"'Позн.разв. к 7г ч2. К.г.'!G28","v":0},{"$f":"'Позн.разв. к 7г ч2. К.г.'!H28","v":0},{"$f":"'Позн.разв. к 7г ч2. К.г.'!I28","v":0},{"$f":"'Позн.разв. к 7г ч2. К.г.'!J28","v":0},{"$f":"'Позн.разв. к 7г ч2. К.г.'!K28","v":0},{"$f":"'Позн.разв. к 7г ч2. К.г.'!L28","v":0},{"$f":"'Позн.разв. к 7г ч2. К.г.'!M28","v":0},{"$f":"'Позн.разв. к 7г ч3. К.г. '!E28","v":0},{"$f":"'Позн.разв. к 7г ч3. К.г. '!F28","v":0},{"$f":"'Позн.разв. к 7г ч3. К.г. '!G28","v":0},{"$f":"'Позн.разв. к 7г ч3. К.г. '!H28","v":0},{"$f":"'Позн.разв. к 7г ч3. К.г. '!I28","v":0},{"$f":"'Позн.разв. к 7г ч3. К.г. '!J28","v":0},{"$f":"'Позн.разв. к 7г ч3. К.г. '!K28","v":0},{"$f":"'Позн.разв. к 7г ч3. К.г. '!L28","v":0},{"$f":"'Позн.разв. к 7г ч3. К.г. '!M28","v":0},{"$f":"'Позн.разв. к 7г ч3. К.г. '!N28","v":0},{"$f":"'Позн.разв. к 7г ч3. К.г. '!O28","v":0},{"$f":"'Позн.разв. к 7г ч3. К.г. '!P28","v":0},{"$f":"'Позн.разв. к 7г ч3. К.г. '!Q28","v":0},{"$f":"'Физ.разв. к 7г ч1. К.г. '!E28","v":0},{"$f":"'Физ.разв. к 7г ч1. К.г. '!F28","v":0},{"$f":"'Физ.разв. к 7г ч1. К.г. '!G28","v":0},{"$f":"'Физ.разв. к 7г ч1. К.г. '!H28","v":0},{"$f":"'Физ.разв. к 7г ч1. К.г. '!I28","v":0},{"$f":"'Физ.разв. к 7г ч1. К.г. '!J28","v":0},{"$f":"'Физ.разв. к 7г ч1. К.г. '!K28","v":0},{"$f":"'Физ.разв. к 7г ч1. К.г. '!L28","v":0},{"$f":"'Физ.разв. к 7г ч1. К.г. '!M28","v":0},{"$f":"'Физ.разв. к 7г ч1. К.г. '!N28","v":0},{"$f":"'Физ.разв. к 7г ч1. К.г. '!O28","v":0},{"$f":"'Физ.разв. к 7г ч1. К.г. '!P28","v":0},{"$f":"'Физ.разв. к 7г ч1. К.г. '!Q28","v":0},{"$f":"'Физ.разв. к 7г ч1. К.г. '!R28","v":0},{"$f":"'Физ.разв. к 7г ч1. К.г. '!S28","v":0},{"$f":"'Физ.разв. к 7г ч1. К.г. '!T28","v":0},{"$f":"'Физ.разв. к 7г ч1. К.г. '!U28","v":0},{"$f":"'Физ.разв. к 7г ч1. К.г. '!V28","v":0},{"$f":"'Физ.разв. к 7г ч1. К.г. '!W28","v":0},{"$f":"'Физ.разв. к 7г ч2. К.г.'!E29","v":0},{"$f":"'Физ.разв. к 7г ч2. К.г.'!F29","v":0},{"$f":"'Физ.разв. к 7г ч2. К.г.'!G29","v":0},{"$f":"'Физ.разв. к 7г ч2. К.г.'!H29","v":0},{"$f":"'Физ.разв. к 7г ч2. К.г.'!I29","v":0},{"$f":"'Физ.разв. к 7г ч2. К.г.'!J29","v":0},{"$f":"'Физ.разв. к 7г ч2. К.г.'!K29","v":0},{"$f":"'Физ.разв. к 7г ч2. К.г.'!L29","v":0},{"$f":"'Физ.разв. к 7г ч2. К.г.'!M29","v":0},{"$f":"'Физ.разв. к 7г ч2. К.г.'!N29","v":0},{"$f":"'Физ.разв. к 7г ч2. К.г.'!O29","v":0},{"$f":"'Физ.разв. к 7г ч2. К.г.'!P29","v":0},{"$f":"'Физ.разв. к 7г ч2. К.г.'!Q29","v":0},{"$f":"'Физ.разв. к 7г ч2. К.г.'!R29","v":0},{"$f":"'Физ.разв. к 7г ч2. К.г.'!S29","v":0},{"$f":"'Физ.разв. к 7г ч2. К.г.'!T29","v":0},{"$f":"'Физ.разв. к 7г ч3. К.г. '!E29","v":0},{"$f":"'Физ.разв. к 7г ч3. К.г. '!F29","v":0},{"$f":"'Физ.разв. к 7г ч3. К.г. '!G29","v":0},{"$f":"'Физ.разв. к 7г ч3. К.г. '!H29","v":0},{"$f":"'Физ.разв. к 7г ч3. К.г. '!I29","v":0},{"$f":"'Физ.разв. к 7г ч3. К.г. '!J29","v":0},{"$f":"'Физ.разв. к 7г ч3. К.г. '!K29","v":0},{"$f":"'Физ.разв. к 7г ч3. К.г. '!L29","v":0},{"$f":"'Физ.разв. к 7г ч3. К.г. '!M29","v":0},{"$f":"'Физ.разв. к 7г ч3. К.г. '!N29","v":0},{"$f":"'Физ.разв. к 7г ч3. К.г. '!O29","v":0},{"$f":"'Худ.эст.к 7г ч1. К.г. '!E28","v":0},{"$f":"'Худ.эст.к 7г ч1. К.г. '!F28","v":0},{"$f":"'Худ.эст.к 7г ч1. К.г. '!G28","v":0},{"$f":"'Худ.эст.к 7г ч1. К.г. '!H28","v":0},{"$f":"'Худ.эст.к 7г ч1. К.г. '!I28","v":0},{"$f":"'Худ.эст.к 7г ч1. К.г. '!J28","v":0},{"$f":"'Худ.эст.к 7г ч1. К.г. '!K28","v":0},{"$f":"'Худ.эст.к 7г ч1. К.г. '!L28","v":0},{"$f":"'Худ.эст.к 7г ч1. К.г. '!M28","v":0},{"$f":"'Худ.эст.к 7г ч1. К.г. '!N28","v":0},{"$f":"'Худ.эст.к 7г ч1. К.г. '!O28","v":0},{"$f":"'Худ.эст.к 7г ч1. К.г. '!P28","v":0},{"$f":"'Худ.эст.к 7г ч1. К.г. '!Q28","v":0},{"$f":"'Худ.эст.к 7г ч2. К.г. '!E28","v":0},{"$f":"'Худ.эст.к 7г ч2. К.г. '!F28","v":0},{"$f":"'Худ.эст.к 7г ч2. К.г. '!G28","v":0},{"$f":"'Худ.эст.к 7г ч2. К.г. '!H28","v":0},{"$f":"'Худ.эст.к 7г ч2. К.г. '!I28","v":0},{"$f":"'Худ.эст.к 7г ч2. К.г. '!J28","v":0},{"$f":"'Худ.эст.к 7г ч2. К.г. '!K28","v":0},{"$f":"'Худ.эст.к 7г ч2. К.г. '!L28","v":0},{"$f":"'Худ.эст.к 7г ч2. К.г. '!M28","v":0},{"$f":"'Худ.эст.к 7г ч2. К.г. '!N28","v":0},{"$f":"'Худ.эст.к 7г ч2. К.г. '!O28","v":0},{"$f":"'Худ.эст.к 7г ч2. К.г. '!P28","v":0},{"$f":"'Худ.эст.к 7г ч2. К.г. '!Q28","v":0},{"$f":"'Худ.эст.к 7г ч3. К.г. '!E28","v":0},{"$f":"'Худ.эст.к 7г ч3. К.г. '!F28","v":0},{"$f":"'Худ.эст.к 7г ч3. К.г. '!G28","v":0},{"$f":"'Худ.эст.к 7г ч3. К.г. '!H28","v":0},{"$f":"'Худ.эст.к 7г ч3. К.г. '!I28","v":0},{"$f":"'Худ.эст.к 7г ч3. К.г. '!J28","v":0},{"$f":"'Худ.эст.к 7г ч3. К.г. '!K28","v":0},{"$f":"'Худ.эст.к 7г ч3. К.г. '!L28","v":0}]

{"sheet":"18","index":55,"n_rows":7,"n_cols":165,"rows_kept":7,"merged":[[0,104,0,110],[0,111,0,112],[0,113,0,115],[0,116,0,119],[0,120,0,123],[0,124,0,126],[0,127,0,130],[1,54,1,58],[1,59,1,62],[1,63,1,71],[1,72,1,76],[1,77,1,84],[1,104,1,106],[1,107,1,110],[1,111,4,111],[1,112,4,112],[1,113,4,113],[1,114,4,114],[1,115,4,115],[1,116,1,119],[1,120,2,120],[1,121,2,121],[1,122,2,122],[1,123,2,123],[1,124,4,124],[1,125,4,125],[1,126,4,126],[1,127,1,130],[1,131,1,143],[1,144,1,156],[1,157,2,162],[1,163,2,164],[2,18,2,22],[2,23,2,25],[2,26,2,30],[2,32,2,34],[2,35,2,38],[2,40,2,44],[2,45,2,47],[2,48,2,53],[2,55,2,57],[2,59,4,59],[2,60,4,60],[2,61,4,61],[2,62,4,62],[2,63,2,65],[2,66,2,67],[2,68,2,69],[2,72,3,76],[2,77,2,80],[2,81,2,82],[2,83,4,83],[2,84,4,84],[2,85,2,86],[2,87,2,89],[2,90,2,92],[2,93,2,95],[2,96,2,99],[2,100,2,101],[2,102,2,103],[2,104,4,104],[2,105,4,105],[2,106,4,106],[2,107,4,107],[2,108,4,108],[2,109,4,109],[2,110,4,110],[2,116,4,116],[2,117,4,117],[2,118,4,118],[2,119,4,119],[2,127,4,127],[2,128,4,128],[2,129,4,129],[2,130,4,130],[2,135,2,136],[2,137,2,140],[2,141,2,142],[2,143,4,143],[2,144,2,145],[2,146,2,147],[2,148,2,149],[2,151,2,156],[3,0,4,0],[3,1,3,4],[3,7,3,9],[3,11,3,12],[3,13,3,14],[3,15,4,15],[3,16,4,16],[3,17,4,17],[3,18,4,18],[3,19,4,19],[3,20,4,20],[3,21,4,21],[3,22,4,22],[3,23,4,23],[3,24,4,24],[3,25,4,25],[3,26,4,26],[3,27,4,27],[3,28,4,28],[3,29,4,29],[3,30,4,30],[3,31,4,31],[3,32,4,32],[3,33,4,33],[3,34,4,34],[3,35,4,35],[3,36,4,36],[3,37,4,37],[3,38,4,38],[3,39,4,39],[3,40,4,40],[3,41,4,41],[3,42,4,42],[3,43,4,43],[3,44,4,44],[3,45,4,45],[3,46,4,46],[3,47,4,47],[3,48,4,48],[3,49,4,49],[3,50,4,50],[3,51,4,51],[3,52,4,52],[3,53,4,53],[3,54,3,58],[3,63,4,63],[3,64,4,64],[3,65,4,65],[3,66,4,66],[3,67,4,67],[3,68,4,68],[3,69,4,69],[3,70,4,70],[3,71,4,71],[3,81,4,81],[3,85,3,86],[3,87,3,89],[3,90,3,92],[3,93,3,95],[3,96,3,99],[3,100,3,101],[3,102,4,102],[3,103,4,103],[3,120,4,120],[3,121,4,121],[3,122,4,122],[3,123,4,123],[3,131,4,131],[3,132,4,132],[3,133,4,133],[3,134,4,134],[3,135,4,135],[3,136,4,136],[3,137,4,137],[3,138,4,138],[3,139,4,139],[3,140,4,140],[3,141,4,141],[3,142,4,142],[3,144,4,144],[3,145,4,145],[3,146,4,146],[3,147,4,147],[3,148,4,148],[3,149,4,149],[3,150,4,150],[3,151,4,151],[3,152,4,152],[3,153,4,153],[3,154,4,154],[3,155,4,155],[3,156,4,156],[3,157,4,157],[3,158,4,158],[3,159,4,159],[3,160,4,160],[3,161,4,161],[3,162,4,162],[3,163,4,163],[3,164,4,164]]}
[{"$nulls":104},"Мелкая моторика",{"$nulls":6},"Подвижные игры",null,"Спорт. игры",null,null,"Спортивные упражнения",{"$nulls":3},"КГН",{"$nulls":3},"ЗОЖ",null,null,"Спортивные упражнения"]
[{"$nulls":54},"Сенсорные эталоны ",{"$nulls":4},"Познавательные действия",{"$nulls":3},"Математические представления",{"$nulls":8},"Окружающий мир",{"$nulls":4},"Природа ",{"$nulls":26},"Координация рук и глаз",null,null,"Графические навыки",{"$nulls":3},"Ребенок использует в самостоятельной деятельности разнообразные по содержанию подвижные игры, проявляет элементы творчества в двигательной деятельности","Ребенок может организовать знакомые подвижные игры со сверстниками, сплотить команду, стремится внести свой вклад в результат команды","Ребенок владеет элементами спортивных игр (городки, баскетбол, футбол, хоккей, бадминтон, настольный теннис), может контролировать свои движения и управлять ими","Ребенок имеет представление о разных видах спорта (санный спорт, борьба, теннис, синхронное плавание и др.)","Ребенок имеет представление о спортивных событиях и достижениях отечественных спортсменов","Ребенок умеет кататься",{"$nulls":3},"Навыки соблюдения чистоты тела (правила личной гигиены)","Навыки культуры еды (прием пищи) ","Навыки поддержания порядка (правила поведения в быту) ","Навыки ухода за собой (одевание, раздевание) ","Ребенок соблюдает элементарные правила здорового образа жизни и личной гигиены, следит за своей осанкой, может оценить свое самочувствие","Ребенок регулярно выполняет физические упражнения","Ребенок имеет начальные представления о том, что такое здоровье, понимает, как поддержать, укрепить и сохранить его","Ребенок умеет кататься",{"$nulls":3},"Музыкальная деятельность",{"$nulls":12},"Изобразительная деятельность",{"$nulls":12},"Приобщение к искусству",{"$nulls":5},"Конструктивная деятельность"]
[{"$nulls":18},"Область формирования основ гражданственности и патриотизма",{"$nulls":4},"Сфера трудового воспитания",null,null,"Область формирования основ безопасного поведения",{"$nulls":4},"Общее речевое развитие","Формирование словаря",null,null,"Грамматический строй",{"$nulls":3},"Звуковая культура речи","Связная речь",{"$nulls":4},"ЧХЛ",null,null,"Подготовка к обучению грамоте",{"$nulls":5},"Цвет, оттенки","Форма, геометрические фигуры",null,null,"Величина","Ребенок самостоятельно выбирает способ осуществления разных видов познавательной деятельности","Ребенок интересуется субъективно новым и неизвестным в окружающем мире","Ребенок способен применять в жизненных и игровых ситуациях знания о количестве, форме, величине предметов, пространстве, времени","Ребенок имеет разнообразные познавательные умения: определяет противоречия. Формулирует задачу исследования, использует разные способы и средства проверки предположений (сравнение с эталонами, классификацию, систематизацию и др.)","Количество и счет",null,null,"Ориентировка во времени",null,"Ориентировка в пространстве",null,"Пространственно-количественные связи и отношения","Сравнение","Ребенок имеет представления, может показать на картинке и в естественной среде, может рассказать",{"$nulls":4},"Объекты живой природы",{"$nulls":3},"Объекты неживой природы, природные явления",null,"Ребенок стремится к самостоятельному экспериментированию","Ребенок знает правила поведения в природе, проявляет осознанное, бережное отношение к природе и ее ресурсам","Бросание, катание, ловля, метание",null,"Ползанье, лазанье",null,null,"Ходьба",null,null,"Бег",null,null,"Прыжки",{"$nulls":3},"Равновесие",null,"Строевые упражнения",null,"Ребенок выполняет графический диктант","Ребенок обводит по шаблону, по трафарету","Ребенок чертит линии с помощью линейки","Ребенок обводит по контуру, по точкам","Ребенок выполняет штриховку в различных направлениях","Ребенок закрашивает, не выходя за контур","Ребенок свободно владеет карандашом при рисовании округлых линий, завитков в разном направлении",{"$nulls":5},"на санках","на лыжах","на двухколесном велосипеде","на самокате",{"$nulls":7},"на санках","на лыжах","на двухколесном велосипеде","на самокате","Слушание","Пение ","Музыкально-ритмические движения","Песенное творчество","Игра на детских музыкальных инструментах",null,"Театрализованная деятельность",{"$nulls":3},"Танцевально-игровое творчество",null,"У ребенка развит музыкальный вкус, музыкальная память","Рисование ",null,"Лепка ",null,"Аппликация ",null,"Народное ДПИ","Прикладное творчество"]
[{"$f":"Список!B21","v":0},"Отношение к самому себе",{"$nulls":3},"Отношение к сверстникам","Отношение к взрослым","Эмоции",null,null,"Поведение","Семья",null,"Игровое поведение",null,"Ребенок имеет представление об изменениях позиции человека с возрастом","Ребенок имеет представление о школе, школьниках, учителях; стремится к школьному обучению, к познанию, освоению чтения, письма; демонстрирует формированные предпосылки к учебной деятельности и элементы готовности к школьному обучению","Ребенок имеет представление о нравственных качествах людей, их проявлении в поступках и взаимоотношениях","Ребенок имеет представление о признаках и характеристиках государства (территория государства и его границы, столица), атрибутах государственной власти, президенте, столице","Ребенок имеет представление о порядке использования государственной символики","Ребенок имеет представление о волонтерстве","Ребенок имеет представление о государственных праздниках, исторических событиях","Ребенок имеет представление о жизни людей в России, о многообразии стран и народов мира","Ребенок имеет представление об обмене ценностями в процессе производства и потребления товаров и услуг, о денежных отношениях, о реальной стоимости отдельных продуктов питания, игрушек, детских книг","Ребенок имеет представление о об основах финансовой грамоты, основах бережного потребления","Ребенок проявляет инициативность и самостоятельность в процессе самообслуживания, при выполнении трудовых поручений","Ребенок имеет представление о правила безопасного поведения в ситуациях, создающих угрозу жизни и здоровью (погас свет, остался один, потерялся, получил травму)","Ребенок имеет представление о правила безопасного поведения дома, на улице, в природе, в местах большого скопления людей, в магазине, на вокзале, в общественных метах, на праздниках и др.","Ребенок имеет представление о правилах безопасного использования цифровых ресурсов (мобильного телефона, планшета)","Ребенок имеет представление об элементарных правилах оказания первой помощи при первых признаках недомогания, травмах, ушибах","Ребенок проявляет самостоятельность при выполнении правил безопасного поведения","Ребенок владеет речью как средством коммуникации, ведет диалог, владеет коммуникативно-речевыми умениями","Ребенок подбирает точные слова для выражения мысли","Ребенок выполняет операцию классификации – деления освоенных понятий на группы на основе выявленных признаков","Ребенок использует в речи средства языковой выразительности: антонимы, синонимы, многозначные слова, метафоры, олицетворение","Ребенок образует сложные слова посредством слияния основ","Ребенок согласует в речи существительные с числительными, существительные с прилагательными","Ребенок образует по образцу существительные с суффиксами, глаголы с приставками","Ребенок образует в речи сравнительную и превосходную степени имен прилагательных","Ребенок правильно произносит все звуки","Ребенок может пересказать литературное произведение по ролям, близко к тексту, от лица литературного героя","Ребенок может составить описательный рассказ, соблюдая структуру описания","Ребенок может составить повествовательный рассказ по картине, из личного опыта, из коллективного опыта, по набору игрушек, соблюдая структуру повествования","Ребенок может составить рассказ -контаминацию (сочетание описания и повествования, описания и рассуждения)","Ребенок использует в процессе общения объяснительную речь, речь-доказательство, речевое планирование","Ребенок знает и осмысленно воспринимает литературные произведения различных жанров, имеет предпочтения","Ребенок определяет характеры персонажей, мотивы их поведения, оценивает поступки литературных героев","Ребенок проявляет интерес к книгам познавательного характера","Ребенок производит звуковой анализ четырехзвуковых и пятизвуковых слов","Ребенок может интонационно выделить звуки в слове, определить их последовательность, дать им характеристику, составить схему слова, выделить ударный гласный звук в слове","Ребенок может определить количество и последовательность слов в предложении","Ребенок может составить предложение с заданным количеством слов","Ребенок знает названия всех букв","Ребенок читает слоги","Ребенок различает и называет",{"$nulls":8},"Ребенок умеет считать в пределах 10 в прямом и обратном порядке","Ребенок знает состав чисел из двух меньших в пределах первого десятка","Ребенок решает простые арифметические задачи на сложение и вычитание","Ребенок имеет представление о календаре, как системе измерения времени","Ребенок умеет определять время по часам с точностью до четверти часа","Ребенок ориентируется на местности, по схеме, по плану","Ребенок знает способы ориентировки в двухмерном пространстве","Ребенок умеет измерять протяженность, массу и объем с помощью условной мерки; понимает взаимообратные отношения между мерой и результатом измерения","Ребенок сравнивает предметы по 4-6 основаниям с выделением сходства, отличия",{"$nulls":9},"Ребенок имеет представление об использовании человеком свойств неживой природы для хозяйственных нужд (ветряные мельницы, водохранилища, солнечные батареи, ледяные катки)",{"$nulls":3},"Ребенок выполняет различные упражнения с мячом, метание",null,"Ребенок выполняет разные виды ползанья, лазанья ",null,null,"Ребенок выполняет различные виды ходьбы",null,null,"Ребенок выполняет различные виды бега",null,null,"Ребенок выполняет различные виды прыжков",{"$nulls":3},"Ребенок выполняет",null,"Ребенок выполняет разные виды перестроений, построений, передвижений, размыкание и смыкание приставным шагом, повороты","Ребенок может рассчитаться на «первый – второй»",{"$nulls":16},"Ребенок владеет навыками личной гигиены","Ребенок владеет навыками культуры еды","Ребенок владеет навыками поддержания порядка","Ребенок владеет навыками ухода за собой",{"$nulls":7},"У ребенка развит навык восприятия звуков по высоте в пределах квинты-терции","У ребенка развиты певческий голос и вокально-слуховая координация","Ребёнок ритмично и выразительно двигается в соответствие с характером музыки","Ребенок способен самостоятельно придумать мелодию, используя в качестве образца русские народные песни","Ребенок может сыграть простую мелодию на металлофоне, свирели, ударных, и электронных музыкальных инструментах: трещотках, погремушках, треугольниках","Ребенок может исполнить музыкальное произведение в оркестре и в ансамбле","Ребенок проявляет самостоятельность при выборе литературного и музыкального материала для театральной постановки","Ребенок проявляет инициативу при изготовлении атрибутов и декораций к спектаклю","Ребенок имеет представление о средствах погружения в театральные образы (музыка, слова, декорации, грим, костюм и др.)","Ребенок умеет выразительно передавать образы в действии, мимике, пантомимике","Ребенок проявляет активность в доступных видах музыкальной исполнительской деятельности (игра в оркестре, пение, танцевальные движения и др.)","Ребенок помогает придумывать движения, отражающие содержание песни",null,"Ребенок может изобразить предметы по памяти и с натуры, передает их средствами рисунка (форма, пропорции, расположение)","Ребенок способен передавать в рисунке сюжет, строить композицию","Ребенок свободно использует приемы лепки, освоенные ранее (налеп, углубленный рельеф), применяет стеку","Ребенок умеет передавать пропорции, соотношение по величине, выразительность поз, движений, деталей","Ребенок умеет составлять узоры и декоративные композиции из геометрических и растительных элементов на листах бумаги разной формы","Ребенок может выполнить вырезание (симметричное из бумаги, сложенной вдвое; несколько предметов из частей бумаги, сложенной гармошкой)","Ребенок умеет создавать узоры по мотивам народных росписей","Ребенок может сложить бумагу в разных направлениях","Ребенок может сделать разметку с помощью шаблона","Ребенок может выполнить работу по образцу","Ребенок может создать объемную игрушку в технике «оригами»","Ребенок может создать объемную поделку из природного материала","Ребенок может вдеть нитку в иголку, завязать узелок, пришить пуговицу, петельку, выполнить шов «вперед иголка»","Ребенок умеет выделять, называть, группировать произведения по видам искусства: литература, музыка, изобразительное искусство, архитектура, театр, цирк","Ребенок имеет представление о видах изобразительного искусства: графика, декоративно-прикладное искусство, живопись, скульптура, архитектура, фотоискусство","Ребенок имеет представление о жанрах изобразительного искусства: натюрморт, пейзаж, портрет","Ребенок имеет представление о народном искусстве, фольклоре, музыке и художественных промыслах","Ребенок имеет представление о творческих профессиях: художник, композитор, музыкант, актер, артист балета","Ребенок имеет представление о культурно-досуговых местах: театр, музей, библиотека, выставка, кинотеатр, цирк и др.","Ребенок может провести анализ постройки (выделить основные части и характерные детали конструкций)","Ребенок может выполнить постройку по инструкции"]
[null,"Ребенок осознает и признает собственные ошибки, результат поставленных задач, определяет пути развития","Ребенок умеет договариваться и дружить, старается разрешать конфликтные ситуации конструктивными способами","Ребенок способен принимать собственные решения и проявлять инициативу","Ребенок осознанно относится к своему будущему, стремится быть полезным обществу","Ребенок без напоминаний использует в общении формулы словесной вежливости (приветствие, прощание, просьбы, извинения)","Ребенок без напоминаний использует в общении формулы словесной вежливости (приветствие, прощание, просьбы, извинения)","Ребенок понимает чувства и переживания окружающих по невербальным признакам; находит причины и следствия возникновения эмоций, проявляет эмпатию","Ребенок использует социально приемлемые способы проявления эмоций и доступные возрасту регуляции эмоциональных состояний","Ребенок распознает собственные чувства и эмоции, анализирует свои переживания и рассказывает о них","Ребенок самостоятельно соблюдает установленный порядок поведения в группе, регулирует собственную активность","Ребенок имеет представление о необходимости укрепления связи между поколениями, взаимной поддержке детей и взрослых","Ребенок имеет представление о семье, семейных и родственных отношениях (взаимные чувства, правила общения в семье, значимые и памятные события, досуг семьи, семейный бюджет)","Ребенок умеет сотрудничать со сверстниками (побуждает к обсуждению планов, советуется, поддерживает интерес к мнению, инициирует ситуации взаимопомощи, подчеркивает ценность каждого ребенка и его вклад в общее дело, выбирает партнеров по интересам, помогает устанавливать темп совместных действий)","Ребенок владеет разными способами и видами игры, различает условную и реальную ситуации, предлагает и объясняет замысел игры, комбинирует сюжеты на основе реальных, вымышленных ситуаций, выполняет несколько ролей в одной игре, подбирает разные средства для создания игровых образов, согласовывает свои интересы с интересами партнёров по игре",{"$nulls":39}," все цвета спектра и ахроматические цвета, оттенки","плоские и объемные геометрические фигуры; умеет выделять структуру геометрических фигур и устанавливать взаимосвязи между ними","Ребенок умеет классифицировать фигуры по внешним структурным признаками (округлые, многоугольники)","Ребенок владеет различными способами видоизменения геометрических фигур (наложение, соединение, разрезание и др.)","Ребенок умеет измерять длину, ширину, высоту с помощью условной мерки",{"$nulls":13}," о родном населенном пункте (название улиц, некоторых архитектурных особенностях, достопримечательностях), об истории, о выдающихся горожанах, традициях городской жизни"," о назначении общественных учреждений"," о разных видах специального транспорта"," о местах труда людей (завод, больница, магазин и др.)"," о местах отдыха людей","Ребенок имеет представление о наиболее ярких представителях животных и растений разных природных зон (пустыня, степь, тайга, тундра и др.), об их образе жизни, приспособлении к среде обитания, изменениях в жизни в разные сезоны года","Ребенок имеет представление о многообразии водных ресурсов (моря, океаны, реки, водопады и др.)","Ребенок имеет представление о многообразии полезных ископаемых (нефть, уголь, серебро, золото, алмазы и др.)","Ребенок имеет представление о жизненных потребностях, этапах роста и развития животных и растений",null,"Ребенок имеет представление о некоторых небесных телах (планеты, кометы, звезды)",null,null,"бросание вверх, о землю, ловля двумя руками, одной рукой, перебрасывание, передача, прокатывание, забрасывание, ведение","в цель из положения стоя, вдаль, в движущеюся цель","ползанье на четвереньках, на животе, на спине","влезание на гимнастическую стенку и спуск; перелезание с пролета на пролет по диагонали","лазанье по веревочной лестнице; выполнение упражнений на канате","обычная, гимнастическим шагом, скрестным шагом, спиной вперед, выпадами, с закрытыми глазами","приставными шагами назад, в приседе, с различными движениями рук","в различных построениях","в колонне по одному, врассыпную, парами, тройками, четверками","в сочетание с прыжками, высоко поднимая колени, захлестывая голени назад, выбрасывая прямые ноги вперед","челночный, наперегонки, из разных исходных положений, со скакалкой, по пересеченной местности, с наименьшим числом шагов, медленный, быстрый","подпрыгивания на двух ногах в чередовании с ходьбой, на месте и с поворот кругом","смещая ноги вправо-влево-вперед-назад","выпрыгивание на предметы; подпрыгивания вверх из глубокого приседа; прыжки на одной ноге","в длину с места/с разбега, в высоту с места/с разбега","стойка на носках, стойка на одной ноге с закрытыми глазами","кружение с закрытыми глазами, остановкой и сохранением заданной позы"]
["начало года",{"$f":"'Соц.ком.к 7г ч1 Н.г.'!E28","v":0},{"$f":"'Соц.ком.к 7г ч1 Н.г.'!F28","v":0},{"$f":"'Соц.ком.к 7г ч1 Н.г.'!G28","v":0},{"$f":"'Соц.ком.к 7г ч1 Н.г.'!H28","v":0},{"$f":"'Соц.ком.к 7г ч1 Н.г.'!I28","v":0},{"$f":"'Соц.ком.к 7г ч1 Н.г.'!J28","v":0},{"$f":"'Соц.ком.к 7г ч1 Н.г.'!K28","v":0},{"$f":"'Соц.ком.к 7г ч1 Н.г.'!L28","v":0},{"$f":"'Соц.ком.к 7г ч1 Н.г.'!M28","v":0},{"$f":"'Соц.ком.к 7г ч1 Н.г.'!N28","v":0},{"$f":"'Соц.ком.к 7г ч2 Н.г.'!E28","v":0},{"$f":"'Соц.ком.к 7г ч2 Н.г.'!F28","v":0},{"$f":"'Соц.ком.к 7г ч2 Н.г.'!G28","v":0},{"$f":"'Соц.ком.к 7г ч2 Н.г.'!H28","v":0},{"$f":"'Соц.ком.к 7г ч2 Н.г.'!I28","v":0},{"$f":"'Соц.ком.к 7г ч2 Н.г.'!J28","v":0},{"$f":"'Соц.ком.к 7г ч2 Н.г.'!K28","v":0},{"$f":"'Соц.ком. к 7г ч3 Н.г.'!E28","v":0},{"$f":"'Соц.ком. к 7г ч3 Н.г.'!F28","v":0},{"$f":"'Соц.ком. к 7г ч3 Н.г.'!G28","v":0},{"$f":"'Соц.ком. к 7г ч3 Н.г.'!H28","v":0},{"$f":"'Соц.ком. к 7г ч3 Н.г.'!I28","v":0},{"$f":"'Соц.ком. к 7г ч3 Н.г.'!J28","v":0},{"$f":"'Соц.ком. к 7г ч3 Н.г.'!K28","v":0},{"$f":"'Соц.ком. к 7г ч3 Н.г.'!L28","v":0},{"$f":"'Соц.ком. к 7г ч4 Н.г.'!E28","v":0},{"$f":"'Соц.ком. к 7г ч4 Н.г.'!F28","v":0},{"$f":"'Соц.ком. к 7г ч4 Н.г.'!G28","v":0},{"$f":"'Соц.ком. к 7г ч4 Н.г.'!H28","v":0},{"$f":"'Соц.ком. к 7г ч4 Н.г.'!I28","v":0},{"$f":"'Реч.разв.к 7г ч1 Н.г.'!E28","v":0},{"$f":"'Реч.разв.к 7г ч1 Н.г.'!F28","v":0},{"$f":"'Реч.разв.к 7г ч1 Н.г.'!G28","v":0},{"$f":"'Реч.разв.к 7г ч1 Н.г.'!H28","v":0},{"$f":"'Реч.разв.к 7г ч1 Н.г.'!I28","v":0},{"$f":"'Реч.разв.к 7г ч1 Н.г.'!J28","v":0},{"$f":"'Реч.разв.к 7г ч1 Н.г.'!K28","v":0},{"$f":"'Реч.разв.к 7г ч1 Н.г.'!L28","v":0},{"$f":"'Реч.разв.к 7г ч2 Н.г.'!E28","v":0},{"$f":"'Реч.разв.к 7г ч2 Н.г.'!F28","v":0},{"$f":"'Реч.разв.к 7г ч2 Н.г.'!G28","v":0},{"$f":"'Реч.разв.к 7г ч2 Н.г.'!H28","v":0},{"$f":"'Реч.разв.к 7г ч2 Н.г.'!I28","v":0},{"$f":"'Реч.разв.к 7г ч2 Н.г.'!J28","v":0},{"$f":"'Реч.разв.к 7г ч2 Н.г.'!K28","v":0},{"$f":"'Реч.разв.к 7г ч2 Н.г.'!L28","v":0},{"$f":"'Реч.разв.к 7г ч2 Н.г.'!M28","v":0},{"$f":"'Реч.разв.к 7г ч3. Н.г.'!E28","v":0},{"$f":"'Реч.разв.к 7г ч3. Н.г.'!F28","v":0},{"$f":"'Реч.разв.к 7г ч3. Н.г.'!G28","v":0},{"$f":"'Реч.разв.к 7г ч3. Н.г.'!H28","v":0},{"$f":"'Реч.разв.к 7г ч3. Н.г.'!I28","v":0},{"$f":"'Реч.разв.к 7г ч3. Н.г.'!J28","v":0},{"$f":"'Позн.разв. к 7г ч1. Н.г.'!E29","v":0},{"$f":"'Позн.разв. к 7г ч1. Н.г.'!F29","v":0},{"$f":"'Позн.разв. к 7г ч1. Н.г.'!G29","v":0},{"$f":"'Позн.разв. к 7г ч1. Н.г.'!H29","v":0},{"$f":"'Позн.разв. к 7г ч1. Н.г.'!I29","v":0},{"$f":"'Позн.разв. к 7г ч1. Н.г.'!J29","v":0},{"$f":"'Позн.разв. к 7г ч1. Н.г.'!K29","v":0},{"$f":"'Позн.разв. к 7г ч1. Н.г.'!L29","v":0},{"$f":"'Позн.разв. к 7г ч1. Н.г.'!M29","v":0},{"$f":"'Позн.разв. к 7г ч2. Н.г.'!E29","v":0},{"$f":"'Позн.разв. к 7г ч2. Н.г.'!F29","v":0},{"$f":"'Позн.разв. к 7г ч2. Н.г.'!G29","v":0},{"$f":"'Позн.разв. к 7г ч2. Н.г.'!H29","v":0},{"$f":"'Позн.разв. к 7г ч2. Н.г.'!I29","v":0},{"$f":"'Позн.разв. к 7г ч2. Н.г.'!J29","v":0},{"$f":"'Позн.разв. к 7г ч2. Н.г.'!K29","v":0},{"$f":"'Позн.разв. к 7г ч2. Н.г.'!L29","v":0},{"$f":"'Позн.разв. к 7г ч2. Н.г.'!M29","v":0},{"$f":"'Позн.разв. к 7г ч3. Н.г.'!E29","v":0},{"$f":"'Позн.разв. к 7г ч3. Н.г.'!F29","v":0},{"$f":"'Позн.разв. к 7г ч3. Н.г.'!G29","v":0},{"$f":"'Позн.разв. к 7г ч3. Н.г.'!H29","v":0},{"$f":"'Позн.разв. к 7г ч3. Н.г.'!I29","v":0},{"$f":"'Позн.разв. к 7г ч3. Н.г.'!J29","v":0},{"$f":"'Позн.разв. к 7г ч3. Н.г.'!K29","v":0},{"$f":"'Позн.разв. к 7г ч3. Н.г.'!L29","v":0},{"$f":"'Позн.разв. к 7г ч3. Н.г.'!M29","v":0},{"$f":"'Позн.разв. к 7г ч3. Н.г.'!N29","v":0},{"$f":"'Позн.разв. к 7г ч3. Н.г.'!O29","v":0},{"$f":"'Позн.разв. к 7г ч3. Н.г.'!P29","v":0},{"$f":"'Позн.разв. к 7г ч3. Н.г.'!Q29","v":0},{"$f":"'Физ.разв. к 7г ч1. Н.г.'!E29","v":0},{"$f":"'Физ.разв. к 7г ч1. Н.г.'!F29","v":0},{"$f":"'Физ.разв. к 7г ч1. Н.г.'!G29","v":0},{"$f":"'Физ.разв. к 7г ч1. Н.г.'!H29","v":0},{"$f":"'Физ.разв. к 7г ч1. Н.г.'!I29","v":0},{"$f":"'Физ.разв. к 7г ч1. Н.г.'!J29","v":0},{"$f":"'Физ.разв. к 7г ч1. Н.г.'!K29","v":0},{"$f":"'Физ.разв. к 7г ч1. Н.г.'!L29","v":0},{"$f":"'Физ.разв. к 7г ч1. Н.г.'!M29","v":0},{"$f":"'Физ.разв. к 7г ч1. Н.г.'!N29","v":0},{"$f":"'Физ.разв. к 7г ч1. Н.г.'!O29","v":0},{"$f":"'Физ.разв. к 7г ч1. Н.г.'!P29","v":0},{"$f":"'Физ.разв. к 7г ч1. Н.г.'!Q29","v":0},{"$f":"'Физ.разв. к 7г ч1. Н.г.'!R29","v":0},{"$f":"'Физ.разв. к 7г ч1. Н.г.'!S29","v":0},{"$f":"'Физ.разв. к 7г ч1. Н.г.'!T29","v":0},{"$f":"'Физ.разв. к 7г ч1. Н.г.'!U29","v":0},{"$f":"'Физ.разв. к 7г ч1. Н.г.'!V29","v":0},{"$f":"'Физ.разв. к 7г ч1. Н.г.'!W29","v":0},{"$f":"'Физ.разв. к 7г ч2. Н.г.'!E30","v":0},{"$f":"'Физ.разв. к 7г ч2. Н.г.'!F30","v":0},{"$f":"'Физ.разв. к 7г ч2. Н.г.'!G30","v":0},{"$f":"'Физ.разв. к 7г ч2. Н.г.'!H30","v":0},{"$f":"'Физ.разв. к 7г ч2. Н.г.'!I30","v":0},{"$f":"'Физ.разв. к 7г ч2. Н.г.'!J30","v":0},{"$f":"'Физ.разв. к 7г ч2. Н.г.'!K30","v":0},{"$f":"'Физ.разв. к 7г ч2. Н.г.'!L30","v":0},{"$f":"'Физ.разв. к 7г ч2. Н.г.'!M30","v":0},{"$f":"'Физ.разв. к 7г ч2. Н.г.'!N30","v":0},{"$f":"'Физ.разв. к 7г ч2. Н.г.'!O30","v":0},{"$f":"'Физ.разв. к 7г ч2. Н.г.'!P30","v":0},{"$f":"'Физ.разв. к 7г ч2. Н.г.'!Q30","v":0},{"$f":"'Физ.разв. к 7г ч2. Н.г.'!R30","v":0},{"$f":"'Физ.разв. к 7г ч2. Н.г.'!S30","v":0},{"$f":"'Физ.разв. к 7г ч2. Н.г.'!T30","v":0},{"$f":"'Физ.разв. к 7г ч3. Н.г.'!E30","v":0},{"$f":"'Физ.разв. к 7г ч3. Н.г.'!F30","v":0},{"$f":"'Физ.разв. к 7г ч3. Н.г.'!G30","v":0},{"$f":"'Физ.разв. к 7г ч3. Н.г.'!H30","v":0},{"$f":"'Физ.разв. к 7г ч3. Н.г.'!I30","v":0},{"$f":"'Физ.разв. к 7г ч3. Н.г.'!J30","v":0},{"$f":"'Физ.разв. к 7г ч3. Н.г.'!K30","v":0},{"$f":"'Физ.разв. к 7г ч3. Н.г.'!L30","v":0},{"$f":"'Физ.разв. к 7г ч3. Н.г.'!M30","v":0},{"$f":"'Физ.разв. к 7г ч3. Н.г.'!N30","v":0},{"$f":"'Физ.разв. к 7г ч3. Н.г.'!O30","v":0},{"$f":"'Худ.эст.к 7г ч1. Н.г.'!E29","v":0},{"$f":"'Худ.эст.к 7г ч1. Н.г.'!F29","v":0},{"$f":"'Худ.эст.к 7г ч1. Н.г.'!G29","v":0},{"$f":"'Худ.эст.к 7г ч1. Н.г.'!H29","v":0},{"$f":"'Худ.эст.к 7г ч1. Н.г.'!I29","v":0},{"$f":"'Худ.эст.к 7г ч1. Н.г.'!J29","v":0},{"$f":"'Худ.эст.к 7г ч1. Н.г.'!K29","v":0},{"$f":"'Худ.эст.к 7г ч1. Н.г.'!L29","v":0},{"$f":"'Худ.эст.к 7г ч1. Н.г.'!M29","v":0},{"$f":"'Худ.эст.к 7г ч1. Н.г.'!N29","v":0},{"$f":"'Худ.эст.к 7г ч1. Н.г.'!O29","v":0},{"$f":"'Худ.эст.к 7г ч1. Н.г.'!P29","v":0},{"$f":"'Худ.эст.к 7г ч1. Н.г.'!Q29","v":0},{"$f":"'Худ.эст.к 7г ч2. Н.г.'!E29","v":0},{"$f":"'Худ.эст.к 7г ч2. Н.г.'!F29","v":0},{"$f":"'Худ.эст.к 7г ч2. Н.г.'!G29","v":0},{"$f":"'Худ.эст.к 7г ч2. Н.г.'!H29","v":0},{"$f":"'Худ.эст.к 7г ч2. Н.г.'!I29","v":0},{"$f":"'Худ.эст.к 7г ч2. Н.г.'!J29","v":0},{"$f":"'Худ.эст.к 7г ч2. Н.г.'!K29","v":0},{"$f":"'Худ.эст.к 7г ч2. Н.г.'!L29","v":0},{"$f":"'Худ.эст.к 7г ч2. Н.г.'!M29","v":0},{"$f":"'Худ.эст.к 7г ч2. Н.г.'!N29","v":0},{"$f":"'Худ.эст.к 7г ч2. Н.г.'!O29","v":0},{"$f":"'Худ.эст.к 7г ч2. Н.г.'!P29","v":0},{"$f":"'Худ.эст.к 7г ч2. Н.г.'!Q29","v":0},{"$f":"'Худ.эст.к 7г ч3. Н.г.'!E29","v":0},{"$f":"'Худ.эст.к 7г ч3. Н.г.'!F29","v":0},{"$f":"'Худ.эст.к 7г ч3. Н.г.'!G29","v":0},{"$f":"'Худ.эст.к 7г ч3. Н.г.'!H29","v":0},{"$f":"'Худ.эст.к 7г ч3. Н.г.'!I29","v":0},{"$f":"'Худ.эст.к 7г ч3. Н.г.'!J29","v":0},{"$f":"'Худ.эст.к 7г ч3. Н.г.'!K29","v":0},{"$f":"'Худ.эст.к 7г ч3. Н.г.'!L29","v":0}]
["конец года",{"$f":"'Соц.ком.к 7г ч1 К.г.'!E28","v":0},{"$f":"'Соц.ком.к 7г ч1 К.г.'!F28","v":0},{"$f":"'Соц.ком.к 7г ч1 К.г.'!G28","v":0},{"$f":"'Соц.ком.к 7г ч1 К.г.'!H28","v":0},{"$f":"'Соц.ком.к 7г ч1 К.г.'!I28","v":0},{"$f":"'Соц.ком.к 7г ч1 К.г.'!J28","v":0},{"$f":"'Соц.ком.к 7г ч1 К.г.'!K28","v":0},{"$f":"'Соц.ком.к 7г ч1 К.г.'!L28","v":0},{"$f":"'Соц.ком.к 7г ч1 К.г.'!M28","v":0},{"$f":"'Соц.ком.к 7г ч1 К.г.'!N28","v":0},{"$f":"'Соц.ком.к 7г ч2 К.г.'!E30","v":0},{"$f":"'Соц.ком.к 7г ч2 К.г.'!F30","v":0},{"$f":"'Соц.ком.к 7г ч2 К.г.'!G30","v":0},{"$f":"'Соц.ком.к 7г ч2 К.г.'!H30","v":0},{"$f":"'Соц.ком.к 7г ч2 К.г.'!I30","v":0},{"$f":"'Соц.ком.к 7г ч2 К.г.'!J30","v":0},{"$f":"'Соц.ком.к 7г ч2 К.г.'!K30","v":0},{"$f":"'Соц.ком. к 7г ч3 К.г.'!E28","v":0},{"$f":"'Соц.ком. к 7г ч3 К.г.'!F28","v":0},{"$f":"'Соц.ком. к 7г ч3 К.г.'!G28","v":0},{"$f":"'Соц.ком. к 7г ч3 К.г.'!H28","v":0},{"$f":"'Соц.ком. к 7г ч3 К.г.'!I28","v":0},{"$f":"'Соц.ком. к 7г ч3 К.г.'!J28","v":0},{"$f":"'Соц.ком. к 7г ч3 К.г.'!K28","v":0},{"$f":"'Соц.ком. к 7г ч3 К.г.'!L28","v":0},{"$f":"'Соц.ком. к 7г ч4 К.г.'!E28","v":0},{"$f":"'Соц.ком. к 7г ч4 К.г.'!F28","v":0},{"$f":"'Соц.ком. к 7г ч4 К.г.'!G28","v":0},{"$f":"'Соц.ком. к 7г ч4 К.г.'!H28","v":0},{"$f":"'Соц.ком. к 7г ч4 К.г.'!I28","v":0},{"$f":"'Реч.разв.к 7г ч1 К.г.'!E28","v":0},{"$f":"'Реч.разв.к 7г ч1 К.г.'!F28","v":0},{"$f":"'Реч.разв.к 7г ч1 К.г.'!G28","v":0},{"$f":"'Реч.разв.к 7г ч1 К.г.'!H28","v":0},{"$f":"'Реч.разв.к 7г ч1 К.г.'!I28","v":0},{"$f":"'Реч.разв.к 7г ч1 К.г.'!J28","v":0},{"$f":"'Реч.разв.к 7г ч1 К.г.'!K28","v":0},{"$f":"'Реч.разв.к 7г ч1 К.г.'!L28","v":0},{"$f":"'Реч.разв.к 7г ч2 К.г. '!E28","v":0},{"$f":"'Реч.разв.к 7г ч2 К.г. '!F28","v":0},{"$f":"'Реч.разв.к 7г ч2 К.г. '!G28","v":0},{"$f":"'Реч.разв.к 7г ч2 К.г. '!H28","v":0},{"$f":"'Реч.разв.к 7г ч2 К.г. '!I28","v":0},{"$f":"'Реч.разв.к 7г ч2 К.г. '!J28","v":0},{"$f":"'Реч.разв.к 7г ч2 К.г. '!K28","v":0},{"$f":"'Реч.разв.к 7г ч2 К.г. '!L28","v":0},{"$f":"'Реч.разв.к 7г ч2 К.г. '!M28","v":0},{"$f":"'Реч.разв.к 7г ч3. К.г. '!E28","v":0},{"$f":"'Реч.разв.к 7г ч3. К.г. '!F28","v":0},{"$f":"'Реч.разв.к 7г ч3. К.г. '!G28","v":0},{"$f":"'Реч.разв.к 7г ч3. К.г. '!H28","v":0},{"$f":"'Реч.разв.к 7г ч3. К.г. '!I28","v":0},{"$f":"'Реч.разв.к 7г ч3. К.г. '!J28","v":0},{"$f":"'Позн.разв. к 7г ч1. К.г. '!E29","v":0},{"$f":"'Позн.разв. к 7г ч1. К.г. '!F29","v":0},{"$f":"'Позн.разв. к 7г ч1. К.г. '!G29","v":0},{"$f":"'Позн.разв. к 7г ч1. К.г. '!H29","v":0},{"$f":"'Позн.разв. к 7г ч1. К.г. '!I29","v":0},{"$f":"'Позн.разв. к 7г ч1. К.г. '!J29","v":0},{"$f":"'Позн.разв. к 7г ч1. К.г. '!K29","v":0},{"$f":"'Позн.разв. к 7г ч1. К.г. '!L29","v":0},{"$f":"'Позн.разв. к 7г ч1. К.г. '!M29","v":0},{"$f":"'Позн.разв. к 7г ч2. К.г.'!E29","v":0},{"$f":"'Позн.разв. к 7г ч2. К.г.'!F29","v":0},{"$f":"'Позн.разв. к 7г ч2. К.г.'!G29","v":0},{"$f":"'Позн.разв. к 7г ч2. К.г.'!H29","v":0},{"$f":"'Позн.разв. к 7г ч2. К.г.'!I29","v":0},{"$f":"'Позн.разв. к 7г ч2. К.г.'!J29","v":0},{"$f":"'Позн.разв. к 7г ч2. К.г.'!K29","v":0},{"$f":"'Позн.разв. к 7г ч2. К.г.'!L29","v":0},{"$f":"'Позн.разв. к 7г ч2. К.г.'!M29","v":0},{"$f":"'Позн.разв. к 7г ч3. К.г. '!E29","v":0},{"$f":"'Позн.разв. к 7г ч3. К.г. '!F29","v":0},{"$f":"'Позн.разв. к 7г ч3. К.г. '!G29","v":0},{"$f":"'Позн.разв. к 7г ч3. К.г. '!H29","v":0},{"$f":"'Позн.разв. к 7г ч3. К.г. '!I29","v":0},{"$f":"'Позн.разв. к 7г ч3. К.г. '!J29","v":0},{"$f":"'Позн.разв. к 7г ч3. К.г. '!K29","v":0},{"$f":"'Позн.разв. к 7г ч3. К.г. '!L29","v":0},{"$f":"'Позн.разв. к 7г ч3. К.г. '!M29","v":0},{"$f":"'Позн.разв. к 7г ч3. К.г. '!N29","v":0},{"$f":"'Позн.разв. к 7г ч3. К.г. '!O29","v":0},{"$f":"'Позн.разв. к 7г ч3. К.г. '!P29","v":0},{"$f":"'Позн.разв. к 7г ч3. К.г. '!Q29","v":0},{"$f":"'Физ.разв. к 7г ч1. К.г. '!E29","v":0},{"$f":"'Физ.разв. к 7г ч1. К.г. '!F29","v":0},{"$f":"'Физ.разв. к 7г ч1. К.г. '!G29","v":0},{"$f":"'Физ.разв. к 7г ч1. К.г. '!H29","v":0},{"$f":"'Физ.разв. к 7г ч1. К.г. '!I29","v":0},{"$f":"'Физ.разв. к 7г ч1. К.г. '!J29","v":0},{"$f":"'Физ.разв. к 7г ч1. К.г. '!K29","v":0},{"$f":"'Физ.разв. к 7г ч1. К.г. '!L29","v":0},{"$f":"'Физ.разв. к 7г ч1. К.г. '!M29","v":0},{"$f":"'Физ.разв. к 7г ч1. К.г. '!N29","v":0},{"$f":"'Физ.разв. к 7г ч1. К.г. '!O29","v":0},{"$f":"'Физ.разв. к 7г ч1. К.г. '!P29","v":0},{"$f":"'Физ.разв. к 7г ч1. К.г. '!Q29","v":0},{"$f":"'Физ.разв. к 7г ч1. К.г. '!R29","v":0},{"$f":"'Физ.разв. к 7г ч1. К.г. '!S29","v":0},{"$f":"'Физ.разв. к 7г ч1. К.г. '!T29","v":0},{"$f":"'Физ.разв. к 7г ч1. К.г. '!U29","v":0},{"$f":"'Физ.разв. к 7г ч1. К.г. '!V29","v":0},{"$f":"'Физ.разв. к 7г ч1. К.г. '!W29","v":0},{"$f":"'Физ.разв. к 7г ч2. К.г.'!E30","v":0},{"$f":"'Физ.разв. к 7г ч2. К.г.'!F30","v":0},{"$f":"'Физ.разв. к 7г ч2. К.г.'!G30","v":0},{"$f":"'Физ.разв. к 7г ч2. К.г.'!H30","v":0},{"$f":"'Физ.разв. к 7г ч2. К.г.'!I30","v":0},{"$f":"'Физ.разв. к 7г ч2. К.г.'!J30","v":0},{"$f":"'Физ.разв. к 7г ч2. К.г.'!K30","v":0},{"$f":"'Физ.разв. к 7г ч2. К.г.'!L30","v":0},{"$f":"'Физ.разв. к 7г ч2. К.г.'!M30","v":0},{"$f":"'Физ.разв. к 7г ч2. К.г.'!N30","v":0},{"$f":"'Физ.разв. к 7г ч2. К.г.'!O30","v":0},{"$f":"'Физ.разв. к 7г ч2. К.г.'!P30","v":0},{"$f":"'Физ.разв. к 7г ч2. К.г.'!Q30","v":0},{"$f":"'Физ.разв. к 7г ч2. К.г.'!R30","v":0},{"$f":"'Физ.разв. к 7г ч2. К.г.'!S30","v":0},{"$f":"'Физ.разв. к 7г ч2. К.г.'!T30","v":0},{"$f":"'Физ.разв. к 7г ч3. К.г. '!E30","v":0},{"$f":"'Физ.разв. к 7г ч3. К.г. '!F30","v":0},{"$f":"'Физ.разв. к 7г ч3. К.г. '!G30","v":0},{"$f":"'Физ.разв. к 7г ч3. К.г. '!H30","v":0},{"$f":"'Физ.разв. к 7г ч3. К.г. '!I30","v":0},{"$f":"'Физ.разв. к 7г ч3. К.г. '!J30","v":0},{"$f":"'Физ.разв. к 7г ч3. К.г. '!K30","v":0},{"$f":"'Физ.разв. к 7г ч3. К.г. '!L30","v":0},{"$f":"'Физ.разв. к 7г ч3. К.г. '!M30","v":0},{"$f":"'Физ.разв. к 7г ч3. К.г. '!N30","v":0},{"$f":"'Физ.разв. к 7г ч3. К.г. '!O30","v":0},{"$f":"'Худ.эст.к 7г ч1. К.г. '!E29","v":0},{"$f":"'Худ.эст.к 7г ч1. К.г. '!F29","v":0},{"$f":"'Худ.эст.к 7г ч1. К.г. '!G29","v":0},{"$f":"'Худ.эст.к 7г ч1. К.г. '!H29","v":0},{"$f":"'Худ.эст.к 7г ч1. К.г. '!I29","v":0},{"$f":"'Худ.эст.к 7г ч1. К.г. '!J29","v":0},{"$f":"'Худ.эст.к 7г ч1. К.г. '!K29","v":0},{"$f":"'Худ.эст.к 7г ч1. К.г. '!L29","v":0},{"$f":"'Худ.эст.к 7г ч1. К.г. '!M29","v":0},{"$f":"'Худ.эст.к 7г ч1. К.г. '!N29","v":0},{"$f":"'Худ.эст.к 7г ч1. К.г. '!O29","v":0},{"$f":"'Худ.эст.к 7г ч1. К.г. '!P29","v":0},{"$f":"'Худ.эст.к 7г ч1. К.г. '!Q29","v":0},{"$f":"'Худ.эст.к 7г ч2. К.г. '!E29","v":0},{"$f":"'Худ.эст.к 7г ч2. К.г. '!F29","v":0},{"$f":"'Худ.эст.к 7г ч2. К.г. '!G29","v":0},{"$f":"'Худ.эст.к 7г ч2. К.г. '!H29","v":0},{"$f":"'Худ.эст.к 7г ч2. К.г. '!I29","v":0},{"$f":"'Худ.эст.к 7г ч2. К.г. '!J29","v":0},{"$f":"'Худ.эст.к 7г ч2. К.г. '!K29","v":0},{"$f":"'Худ.эст.к 7г ч2. К.г. '!L29","v":0},{"$f":"'Худ.эст.к 7г ч2. К.г. '!M29","v":0},{"$f":"'Худ.эст.к 7г ч2. К.г. '!N29","v":0},{"$f":"'Худ.эст.к 7г ч2. К.г. '!O29","v":0},{"$f":"'Худ.эст.к 7г ч2. К.г. '!P29","v":0},{"$f":"'Худ.эст.к 7г ч2. К.г. '!Q29","v":0},{"$f":"'Худ.эст.к 7г ч3. К.г. '!E29","v":0},{"$f":"'Худ.эст.к 7г ч3. К.г. '!F29","v":0},{"$f":"'Худ.эст.к 7г ч3. К.г. '!G29","v":0},{"$f":"'Худ.эст.к 7г ч3. К.г. '!H29","v":0},{"$f":"'Худ.эст.к 7г ч3. К.г. '!I29","v":0},{"$f":"'Худ.эст.к 7г ч3. К.г. '!J29","v":0},{"$f":"'Худ.эст.к 7г ч3. К.г. '!K29","v":0},{"$f":"'Худ.эст.к 7г ч3. К.г. '!L29","v":0}]

{"sheet":"19","index":56,"n_rows":7,"n_cols":165,"rows_kept":7,"merged":[[0,104,0,110],[0,111,0,112],[0,113,0,115],[0,116,0,119],[0,120,0,123],[0,124,0,126],[0,127,0,130],[1,54,1,58],[1,59,1,62],[1,63,1,71],[1,72,1,76],[1,77,1,84],[1,104,1,106],[1,107,1,110],[1,111,4,111],[1,112,4,112],[1,113,4,113],[1,114,4,114],[1,115,4,115],[1,116,1,119],[1,120,2,120],[1,121,2,121],[1,122,2,122],[1,123,2,123],[1,124,4,124],[1,125,4,125],[1,126,4,126],[1,127,1,130],[1,131,1,143],[1,144,1,156],[1,157,2,162],[1,163,2,164],[2,18,2,22],[2,23,2,25],[2,26,2,30],[2,32,2,34],[2,35,2,38],[2,40,2,44],[2,45,2,47],[2,48,2,53],[2,55,2,57],[2,59,4,59],[2,60,4,60],[2,61,4,61],[2,62,4,62],[2,63,2,65],[2,66,2,67],[2,68,2,69],[2,72,3,76],[2,77,2,80],[2,81,2,82],[2,83,4,83],[2,84,4,84],[2,85,2,86],[2,87,2,89],[2,90,2,92],[2,93,2,95],[2,96,2,99],[2,100,2,101],[2,102,2,103],[2,104,4,104],[2,105,4,105],[2,106,4,106],[2,107,4,107],[2,108,4,108],[2,109,4,109],[2,110,4,110],[2,116,4,116],[2,117,4,117],[2,118,4,118],[2,119,4,119],[2,127,4,127],[2,128,4,128],[2,129,4,129],[2,130,4,130],[2,135,2,136],[2,137,2,140],[2,141,2,142],[2,143,4,143],[2,144,2,145],[2,146,2,147],[2,148,2,149],[2,151,2,156],[3,0,4,0],[3,1,3,4],[3,7,3,9],[3,11,3,12],[3,13,3,14],[3,15,4,15],[3,16,4,16],[3,17,4,17],[3,18,4,18],[3,19,4,19],[3,20,4,20],[3,21,4,21],[3,22,4,22],[3,23,4,23],[3,24,4,24],[3,25,4,25],[3,26,4,26],[3,27,4,27],[3,28,4,28],[3,29,4,29],[3,30,4,30],[3,31,4,31],[3,32,4,32],[3,33,4,33],[3,34,4,34],[3,35,4,35],[3,36,4,36],[3,37,4,37],[3,38,4,38],[3,39,4,39],[3,40,4,40],[3,41,4,41],[3,42,4,42],[3,43,4,43],[3,44,4,44],[3,45,4,45],[3,46,4,46],[3,47,4,47],[3,48,4,48],[3,49,4,49],[3,50,4,50],[3,51,4,51],[3,52,4,52],[3,53,4,53],[3,54,3,58],[3,63,4,63],[3,64,4,64],[3,65,4,65],[3,66,4,66],[3,67,4,67],[3,68,4,68],[3,69,4,69],[3,70,4,70],[3,71,4,71],[3,81,4,81],[3,85,3,86],[3,87,3,89],[3,90,3,92],[3,93,3,95],[3,96,3,99],[3,100,3,101],[3,102,4,102],[3,103,4,103],[3,120,4,120],[3,121,4,121],[3,122,4,122],[3,123,4,123],[3,131,4,131],[3,132,4,132],[3,133,4,133],[3,134,4,134],[3,135,4,135],[3,136,4,136],[3,137,4,137],[3,138,4,138],[3,139,4,139],[3,140,4,140],[3,141,4,141],[3,142,4,142],[3,144,4,144],[3,145,4,145],[3,146,4,146],[3,147,4,147],[3,148,4,148],[3,149,4,149],[3,150,4,150],[3,151,4,151],[3,152,4,152],[3,153,4,153],[3,154,4,154],[3,155,4,155],[3,156,4,156],[3,157,4,157],[3,158,4,158],[3,159,4,159],[3,160,4,160],[3,161,4,161],[3,162,4,162],[3,163,4,163],[3,164,4,164]]}
[{"$nulls":104},"Мелкая моторика",{"$nulls":6},"Подвижные игры",null,"Спорт. игры",null,null,"Спортивные упражнения",{"$nulls":3},"КГН",{"$nulls":3},"ЗОЖ",null,null,"Спортивные упражнения"]
[{"$nulls":54},"Сенсорные эталоны ",{"$nulls":4},"Познавательные действия",{"$nulls":3},"Математические представления",{"$nulls":8},"Окружающий мир",{"$nulls":4},"Природа ",{"$nulls":26},"Координация рук и глаз",null,null,"Графические навыки",{"$nulls":3},"Ребенок использует в самостоятельной деятельности разнообразные по содержанию подвижные игры, проявляет элементы творчества в двигательной деятельности","Ребенок может организовать знакомые подвижные игры со сверстниками, сплотить команду, стремится внести свой вклад в результат команды","Ребенок владеет элементами спортивных игр (городки, баскетбол, футбол, хоккей, бадминтон, настольный теннис), может контролировать свои движения и управлять ими","Ребенок имеет представление о разных видах спорта (санный спорт, борьба, теннис, синхронное плавание и др.)","Ребенок имеет представление о спортивных событиях и достижениях отечественных спортсменов","Ребенок умеет кататься",{"$nulls":3},"Навыки соблюдения чистоты тела (правила личной гигиены)","Навыки культуры еды (прием пищи) ","Навыки поддержания порядка (правила поведения в быту) ","Навыки ухода за собой (одевание, раздевание) ","Ребенок соблюдает элементарные правила здорового образа жизни и личной гигиены, следит за своей осанкой, может оценить свое самочувствие","Ребенок регулярно выполняет физические упражнения","Ребенок имеет начальные представления о том, что такое здоровье, понимает, как поддержать, укрепить и сохранить его","Ребенок умеет кататься",{"$nulls":3},"Музыкальная деятельность",{"$nulls":12},"Изобразительная деятельность",{"$nulls":12},"Приобщение к искусству",{"$nulls":5},"Конструктивная деятельность"]
[{"$nulls":18},"Область формирования основ гражданственности и патриотизма",{"$nulls":4},"Сфера трудового воспитания",null,null,"Область формирования основ безопасного поведения",{"$nulls":4},"Общее речевое развитие","Формирование словаря",null,null,"Грамматический строй",{"$nulls":3},"Звуковая культура речи","Связная речь",{"$nulls":4},"ЧХЛ",null,null,"Подготовка к обучению грамоте",{"$nulls":5},"Цвет, оттенки","Форма, геометрические фигуры",null,null,"Величина","Ребенок самостоятельно выбирает способ осуществления разных видов познавательной деятельности","Ребенок интересуется субъективно новым и неизвестным в окружающем мире","Ребенок способен применять в жизненных и игровых ситуациях знания о количестве, форме, величине предметов, пространстве, времени","Ребенок имеет разнообразные познавательные умения: определяет противоречия. Формулирует задачу исследования, использует разные способы и средства проверки предположений (сравнение с эталонами, классификацию, систематизацию и др.)","Количество и счет",null,null,"Ориентировка во времени",null,"Ориентировка в пространстве",null,"Пространственно-количественные связи и отношения","Сравнение","Ребенок имеет представления, может показать на картинке и в естественной среде, может рассказать",{"$nulls":4},"Объекты живой природы",{"$nulls":3},"Объекты неживой природы, природные явления",null,"Ребенок стремится к самостоятельному экспериментированию","Ребенок знает правила поведения в природе, проявляет осознанное, бережное отношение к природе и ее ресурсам","Бросание, катание, ловля, метание",null,"Ползанье, лазанье",null,null,"Ходьба",null,null,"Бег",null,null,"Прыжки",{"$nulls":3},"Равновесие",null,"Строевые упражнения",null,"Ребенок выполняет графический диктант","Ребенок обводит по шаблону, по трафарету","Ребенок чертит линии с помощью линейки","Ребенок обводит по контуру, по точкам","Ребенок выполняет штриховку в различных направлениях","Ребенок закрашивает, не выходя за контур","Ребенок свободно владеет карандашом при рисовании округлых линий, завитков в разном направлении",{"$nulls":5},"на санках","на лыжах","на двухколесном велосипеде","на самокате",{"$nulls":7},"на санках","на лыжах","на двухколесном велосипеде","на самокате","Слушание","Пение ","Музыкально-ритмические движения","Песенное творчество","Игра на детских музыкальных инструментах",null,"Театрализованная деятельность",{"$nulls":3},"Танцевально-игровое творчество",null,"У ребенка развит музыкальный вкус, музыкальная память","Рисование ",null,"Лепка ",null,"Аппликация ",null,"Народное ДПИ","Прикладное творчество"]
[{"$f":"Список!B22","v":0},"Отношение к самому себе",{"$nulls":3},"Отношение к сверстникам","Отношение к взрослым","Эмоции",null,null,"Поведение","Семья",null,"Игровое поведение",null,"Ребенок имеет представление об изменениях позиции человека с возрастом","Ребенок имеет представление о школе, школьниках, учителях; стремится к школьному обучению, к познанию, освоению чтения, письма; демонстрирует формированные предпосылки к учебной деятельности и элементы готовности к школьному обучению","Ребенок имеет представление о нравственных качествах людей, их проявлении в поступках и взаимоотношениях","Ребенок имеет представление о признаках и характеристиках государства (территория государства и его границы, столица), атрибутах государственной власти, президенте, столице","Ребенок имеет представление о порядке использования государственной символики","Ребенок имеет представление о волонтерстве","Ребенок имеет представление о государственных праздниках, исторических событиях","Ребенок имеет представление о жизни людей в России, о многообразии стран и народов мира","Ребенок имеет представление об обмене ценностями в процессе производства и потребления товаров и услуг, о денежных отношениях, о реальной стоимости отдельных продуктов питания, игрушек, детских книг","Ребенок имеет представление о об основах финансовой грамоты, основах бережного потребления","Ребенок проявляет инициативность и самостоятельность в процессе самообслуживания, при выполнении трудовых поручений","Ребенок имеет представление о правила безопасного поведения в ситуациях, создающих угрозу жизни и здоровью (погас свет, остался один, потерялся, получил травму)","Ребенок имеет представление о правила безопасного поведения дома, на улице, в природе, в местах большого скопления людей, в магазине, на вокзале, в общественных метах, на праздниках и др.","Ребенок имеет представление о правилах безопасного использования цифровых ресурсов (мобильного телефона, планшета)","Ребенок имеет представление об элементарных правилах оказания первой помощи при первых признаках недомогания, травмах, ушибах","Ребенок проявляет самостоятельность при выполнении правил безопасного поведения","Ребенок владеет речью как средством коммуникации, ведет диалог, владеет коммуникативно-речевыми умениями","Ребенок подбирает точные слова для выражения мысли","Ребенок выполняет операцию классификации – деления освоенных понятий на группы на основе выявленных признаков","Ребенок использует в речи средства языковой выразительности: антонимы, синонимы, многозначные слова, метафоры, олицетворение","Ребенок образует сложные слова посредством слияния основ","Ребенок согласует в речи существительные с числительными, существительные с прилагательными","Ребенок образует по образцу существительные с суффиксами, глаголы с приставками","Ребенок образует в речи сравнительную и превосходную степени имен прилагательных","Ребенок правильно произносит все звуки","Ребенок может пересказать литературное произведение по ролям, близко к тексту, от лица литературного героя","Ребенок может составить описательный рассказ, соблюдая структуру описания","Ребенок может составить повествовательный рассказ по картине, из личного опыта, из коллективного опыта, по набору игрушек, соблюдая структуру повествования","Ребенок может составить рассказ -контаминацию (сочетание описания и повествования, описания и рассуждения)","Ребенок использует в процессе общения объяснительную речь, речь-доказательство, речевое планирование","Ребенок знает и осмысленно воспринимает литературные произведения различных жанров, имеет предпочтения","Ребенок определяет характеры персонажей, мотивы их поведения, оценивает поступки литературных героев","Ребенок проявляет интерес к книгам познавательного характера","Ребенок производит звуковой анализ четырехзвуковых и пятизвуковых слов","Ребенок может интонационно выделить звуки в слове, определить их последовательность, дать им характеристику, составить схему слова, выделить ударный гласный звук в слове","Ребенок может определить количество и последовательность слов в предложении","Ребенок может составить предложение с заданным количеством слов","Ребенок знает названия всех букв","Ребенок читает слоги","Ребенок различает и называет",{"$nulls":8},"Ребенок умеет считать в пределах 10 в прямом и обратном порядке","Ребенок знает состав чисел из двух меньших в пределах первого десятка","Ребенок решает простые арифметические задачи на сложение и вычитание","Ребенок имеет представление о календаре, как системе измерения времени","Ребенок умеет определять время по часам с точностью до четверти часа","Ребенок ориентируется на местности, по схеме, по плану","Ребенок знает способы ориентировки в двухмерном пространстве","Ребенок умеет измерять протяженность, массу и объем с помощью условной мерки; понимает взаимообратные отношения между мерой и результатом измерения","Ребенок сравнивает предметы по 4-6 основаниям с выделением сходства, отличия",{"$nulls":9},"Ребенок имеет представление об использовании человеком свойств неживой природы для хозяйственных нужд (ветряные мельницы, водохранилища, солнечные батареи, ледяные катки)",{"$nulls":3},"Ребенок выполняет различные упражнения с мячом, метание",null,"Ребенок выполняет разные виды ползанья, лазанья ",null,null,"Ребенок выполняет различные виды ходьбы",null,null,"Ребенок выполняет различные виды бега",null,null,"Ребенок выполняет различные виды прыжков",{"$nulls":3},"Ребенок выполняет",null,"Ребенок выполняет разные виды перестроений, построений, передвижений, размыкание и смыкание приставным шагом, повороты","Ребенок может рассчитаться на «первый – второй»",{"$nulls":16},"Ребенок владеет навыками личной гигиены","Ребенок владеет навыками культуры еды","Ребенок владеет навыками поддержания порядка","Ребенок владеет навыками ухода за собой",{"$nulls":7},"У ребенка развит навык восприятия звуков по высоте в пределах квинты-терции","У ребенка развиты певческий голос и вокально-слуховая координация","Ребёнок ритмично и выразительно двигается в соответствие с характером музыки","Ребенок способен самостоятельно придумать мелодию, используя в качестве образца русские народные песни","Ребенок может сыграть простую мелодию на металлофоне, свирели, ударных, и электронных музыкальных инструментах: трещотках, погремушках, треугольниках","Ребенок может исполнить музыкальное произведение в оркестре и в ансамбле","Ребенок проявляет самостоятельность при выборе литературного и музыкального материала для театральной постановки","Ребенок проявляет инициативу при изготовлении атрибутов и декораций к спектаклю","Ребенок имеет представление о средствах погружения в театральные образы (музыка, слова, декорации, грим, костюм и др.)","Ребенок умеет выразительно передавать образы в действии, мимике, пантомимике","Ребенок проявляет активность в доступных видах музыкальной исполнительской деятельности (игра в оркестре, пение, танцевальные движения и др.)","Ребенок помогает придумывать движения, отражающие содержание песни",null,"Ребенок может изобразить предметы по памяти и с натуры, передает их средствами рисунка (форма, пропорции, расположение)","Ребенок способен передавать в рисунке сюжет, строить композицию","Ребенок свободно использует приемы лепки, освоенные ранее (налеп, углубленный рельеф), применяет стеку","Ребенок умеет передавать пропорции, соотношение по величине, выразительность поз, движений, деталей","Ребенок умеет составлять узоры и декоративные композиции из геометрических и растительных элементов на листах бумаги разной формы","Ребенок может выполнить вырезание (симметричное из бумаги, сложенной вдвое; несколько предметов из частей бумаги, сложенной гармошкой)","Ребенок умеет создавать узоры по мотивам народных росписей","Ребенок может сложить бумагу в разных направлениях","Ребенок может сделать разметку с помощью шаблона","Ребенок может выполнить работу по образцу","Ребенок может создать объемную игрушку в технике «оригами»","Ребенок может создать объемную поделку из природного материала","Ребенок может вдеть нитку в иголку, завязать узелок, пришить пуговицу, петельку, выполнить шов «вперед иголка»","Ребенок умеет выделять, называть, группировать произведения по видам искусства: литература, музыка, изобразительное искусство, архитектура, театр, цирк","Ребенок имеет представление о видах изобразительного искусства: графика, декоративно-прикладное искусство, живопись, скульптура, архитектура, фотоискусство","Ребенок имеет представление о жанрах изобразительного искусства: натюрморт, пейзаж, портрет","Ребенок имеет представление о народном искусстве, фольклоре, музыке и художественных промыслах","Ребенок имеет представление о творческих профессиях: художник, композитор, музыкант, актер, артист балета","Ребенок имеет представление о культурно-досуговых местах: театр, музей, библиотека, выставка, кинотеатр, цирк и др.","Ребенок может провести анализ постройки (выделить основные части и характерные детали конструкций)","Ребенок может выполнить постройку по инструкции"]
[null,"Ребенок осознает и признает собственные ошибки, результат поставленных задач, определяет пути развития","Ребенок умеет договариваться и дружить, старается разрешать конфликтные ситуации конструктивными способами","Ребенок способен принимать собственные решения и проявлять инициативу","Ребенок осознанно относится к своему будущему, стремится быть полезным обществу","Ребенок без напоминаний использует в общении формулы словесной вежливости (приветствие, прощание, просьбы, извинения)","Ребенок без напоминаний использует в общении формулы словесной вежливости (приветствие, прощание, просьбы, извинения)","Ребенок понимает чувства и переживания окружающих по невербальным признакам; находит причины и следствия возникновения эмоций, проявляет эмпатию","Ребенок использует социально приемлемые способы проявления эмоций и доступные возрасту регуляции эмоциональных состояний","Ребенок распознает собственные чувства и эмоции, анализирует свои переживания и рассказывает о них","Ребенок самостоятельно соблюдает установленный порядок поведения в группе, регулирует собственную активность","Ребенок имеет представление о необходимости укрепления связи между поколениями, взаимной поддержке детей и взрослых","Ребенок имеет представление о семье, семейных и родственных отношениях (взаимные чувства, правила общения в семье, значимые и памятные события, досуг семьи, семейный бюджет)","Ребенок умеет сотрудничать со сверстниками (побуждает к обсуждению планов, советуется, поддерживает интерес к мнению, инициирует ситуации взаимопомощи, подчеркивает ценность каждого ребенка и его вклад в общее дело, выбирает партнеров по интересам, помогает устанавливать темп совместных действий)","Ребенок владеет разными способами и видами игры, различает условную и реальную ситуации, предлагает и объясняет замысел игры, комбинирует сюжеты на основе реальных, вымышленных ситуаций, выполняет несколько ролей в одной игре, подбирает разные средства для создания игровых образов, согласовывает свои интересы с интересами партнёров по игре",{"$nulls":39}," все цвета спектра и ахроматические цвета, оттенки","плоские и объемные геометрические фигуры; умеет выделять структуру геометрических фигур и устанавливать взаимосвязи между ними","Ребенок умеет классифицировать фигуры по внешним структурным признаками (округлые, многоугольники)","Ребенок владеет различными способами видоизменения геометрических фигур (наложение, соединение, разрезание и др.)","Ребенок умеет измерять длину, ширину, высоту с помощью условной мерки",{"$nulls":13}," о родном населенном пункте (название улиц, некоторых архитектурных особенностях, достопримечательностях), об истории, о выдающихся горожанах, традициях городской жизни"," о назначении общественных учреждений"," о разных видах специального транспорта"," о местах труда людей (завод, больница, магазин и др.)"," о местах отдыха людей","Ребенок имеет представление о наиболее ярких представителях животных и растений разных природных зон (пустыня, степь, тайга, тундра и др.), об их образе жизни, приспособлении к среде обитания, изменениях в жизни в разные сезоны года","Ребенок имеет представление о многообразии водных ресурсов (моря, океаны, реки, водопады и др.)","Ребенок имеет представление о многообразии полезных ископаемых (нефть, уголь, серебро, золото, алмазы и др.)","Ребенок имеет представление о жизненных потребностях, этапах роста и развития животных и растений",null,"Ребенок имеет представление о некоторых небесных телах (планеты, кометы, звезды)",null,null,"бросание вверх, о землю, ловля двумя руками, одной рукой, перебрасывание, передача, прокатывание, забрасывание, ведение","в цель из положения стоя, вдаль, в движущеюся цель","ползанье на четвереньках, на животе, на спине","влезание на гимнастическую стенку и спуск; перелезание с пролета на пролет по диагонали","лазанье по веревочной лестнице; выполнение упражнений на канате","обычная, гимнастическим шагом, скрестным шагом, спиной вперед, выпадами, с закрытыми глазами","приставными шагами назад, в приседе, с различными движениями рук","в различных построениях","в колонне по одному, врассыпную, парами, тройками, четверками","в сочетание с прыжками, высоко поднимая колени, захлестывая голени назад, выбрасывая прямые ноги вперед","челночный, наперегонки, из разных исходных положений, со скакалкой, по пересеченной местности, с наименьшим числом шагов, медленный, быстрый","подпрыгивания на двух ногах в чередовании с ходьбой, на месте и с поворот кругом","смещая ноги вправо-влево-вперед-назад","выпрыгивание на предметы; подпрыгивания вверх из глубокого приседа; прыжки на одной ноге","в длину с места/с разбега, в высоту с места/с разбега","стойка на носках, стойка на одной ноге с закрытыми глазами","кружение с закрытыми глазами, остановкой и сохранением заданной позы"]
["начало года",{"$f":"'Соц.ком.к 7г ч1 Н.г.'!E29","v":0},{"$f":"'Соц.ком.к 7г ч1 Н.г.'!F29","v":0},{"$f":"'Соц.ком.к 7г ч1 Н.г.'!G29","v":0},{"$f":"'Соц.ком.к 7г ч1 Н.г.'!H29","v":0},{"$f":"'Соц.ком.к 7г ч1 Н.г.'!I29","v":0},{"$f":"'Соц.ком.к 7г ч1 Н.г.'!J29","v":0},{"$f":"'Соц.ком.к 7г ч1 Н.г.'!K29","v":0},{"$f":"'Соц.ком.к 7г ч1 Н.г.'!L29","v":0},{"$f":"'Соц.ком.к 7г ч1 Н.г.'!M29","v":0},{"$f":"'Соц.ком.к 7г ч1 Н.г.'!N29","v":0},{"$f":"'Соц.ком.к 7г ч2 Н.г.'!E29","v":0},{"$f":"'Соц.ком.к 7г ч2 Н.г.'!F29","v":0},{"$f":"'Соц.ком.к 7г ч2 Н.г.'!G29","v":0},{"$f":"'Соц.ком.к 7г ч2 Н.г.'!H29","v":0},{"$f":"'Соц.ком.к 7г ч2 Н.г.'!I29","v":0},{"$f":"'Соц.ком.к 7г ч2 Н.г.'!J29","v":0},{"$f":"'Соц.ком.к 7г ч2 Н.г.'!K29","v":0},{"$f":"'Соц.ком. к 7г ч3 Н.г.'!E29","v":0},{"$f":"'Соц.ком. к 7г ч3 Н.г.'!F29","v":0},{"$f":"'Соц.ком. к 7г ч3 Н.г.'!G29","v":0},{"$f":"'Соц.ком. к 7г ч3 Н.г.'!H29","v":0},{"$f":"'Соц.ком. к 7г ч3 Н.г.'!I29","v":0},{"$f":"'Соц.ком. к 7г ч3 Н.г.'!J29","v":0},{"$f":"'Соц.ком. к 7г ч3 Н.г.'!K29","v":0},{"$f":"'Соц.ком. к 7г ч3 Н.г.'!L29","v":0},{"$f":"'Соц.ком. к 7г ч4 Н.г.'!E29","v":0},{"$f":"'Соц.ком. к 7г ч4 Н.г.'!F29","v":0},{"$f":"'Соц.ком. к 7г ч4 Н.г.'!G29","v":0},{"$f":"'Соц.ком. к 7г ч4 Н.г.'!H29","v":0},{"$f":"'Соц.ком. к 7г ч4 Н.г.'!I29","v":0},{"$f":"'Реч.разв.к 7г ч1 Н.г.'!E29","v":0},{"$f":"'Реч.разв.к 7г ч1 Н.г.'!F29","v":0},{"$f":"'Реч.разв.к 7г ч1 Н.г.'!G29","v":0},{"$f":"'Реч.разв.к 7г ч1 Н.г.'!H29","v":0},{"$f":"'Реч.разв.к 7г ч1 Н.г.'!I29","v":0},{"$f":"'Реч.разв.к 7г ч1 Н.г.'!J29","v":0},{"$f":"'Реч.разв.к 7г ч1 Н.г.'!K29","v":0},{"$f":"'Реч.разв.к 7г ч1 Н.г.'!L29","v":0},{"$f":"'Реч.разв.к 7г ч2 Н.г.'!E29","v":0},{"$f":"'Реч.разв.к 7г ч2 Н.г.'!F29","v":0},{"$f":"'Реч.разв.к 7г ч2 Н.г.'!G29","v":0},{"$f":"'Реч.разв.к 7г ч2 Н.г.'!H29","v":0},{"$f":"'Реч.разв.к 7г ч2 Н.г.'!I29","v":0},{"$f":"'Реч.разв.к 7г ч2 Н.г.'!J29","v":0},{"$f":"'Реч.разв.к 7г ч2 Н.г.'!K29","v":0},{"$f":"'Реч.разв.к 7г ч2 Н.г.'!L29","v":0},{"$f":"'Реч.разв.к 7г ч2 Н.г.'!M29","v":0},{"$f":"'Реч.разв.к 7г ч3. Н.г.'!E29","v":0},{"$f":"'Реч.разв.к 7г ч3. Н.г.'!F29","v":0},{"$f":"'Реч.разв.к 7г ч3. Н.г.'!G29","v":0},{"$f":"'Реч.разв.к 7г ч3. Н.г.'!H29","v":0},{"$f":"'Реч.разв.к 7г ч3. Н.г.'!I29","v":0},{"$f":"'Реч.разв.к 7г ч3. Н.г.'!J29","v":0},{"$f":"'Позн.разв. к 7г ч1. Н.г.'!E30","v":0},{"$f":"'Позн.разв. к 7г ч1. Н.г.'!F30","v":0},{"$f":"'Позн.разв. к 7г ч1. Н.г.'!G30","v":0},{"$f":"'Позн.разв. к 7г ч1. Н.г.'!H30","v":0},{"$f":"'Позн.разв. к 7г ч1. Н.г.'!I30","v":0},{"$f":"'Позн.разв. к 7г ч1. Н.г.'!J30","v":0},{"$f":"'Позн.разв. к 7г ч1. Н.г.'!K30","v":0},{"$f":"'Позн.разв. к 7г ч1. Н.г.'!L30","v":0},{"$f":"'Позн.разв. к 7г ч1. Н.г.'!M30","v":0},{"$f":"'Позн.разв. к 7г ч2. Н.г.'!E30","v":0},{"$f":"'Позн.разв. к 7г ч2. Н.г.'!F30","v":0},{"$f":"'Позн.разв. к 7г ч2. Н.г.'!G30","v":0},{"$f":"'Позн.разв. к 7г ч2. Н.г.'!H30","v":0},{"$f":"'Позн.разв. к 7г ч2. Н.г.'!I30","v":0},{"$f":"'Позн.разв. к 7г ч2. Н.г.'!J30","v":0},{"$f":"'Позн.разв. к 7г ч2. Н.г.'!K30","v":0},{"$f":"'Позн.разв. к 7г ч2. Н.г.'!L30","v":0},{"$f":"'Позн.разв. к 7г ч2. Н.г.'!M30","v":0},{"$f":"'Позн.разв. к 7г ч3. Н.г.'!E30","v":0},{"$f":"'Позн.разв. к 7г ч3. Н.г.'!F30","v":0},{"$f":"'Позн.разв. к 7г ч3. Н.г.'!G30","v":0},{"$f":"'Позн.разв. к 7г ч3. Н.г.'!H30","v":0},{"$f":"'Позн.разв. к 7г ч3. Н.г.'!I30","v":0},{"$f":"'Позн.разв. к 7г ч3. Н.г.'!J30","v":0},{"$f":"'Позн.разв. к 7г ч3. Н.г.'!K30","v":0},{"$f":"'Позн.разв. к 7г ч3. Н.г.'!L30","v":0},{"$f":"'Позн.разв. к 7г ч3. Н.г.'!M30","v":0},{"$f":"'Позн.разв. к 7г ч3. Н.г.'!N30","v":0},{"$f":"'Позн.разв. к 7г ч3. Н.г.'!O30","v":0},{"$f":"'Позн.разв. к 7г ч3. Н.г.'!P30","v":0},{"$f":"'Позн.разв. к 7г ч3. Н.г.'!Q30","v":0},{"$f":"'Физ.разв. к 7г ч1. Н.г.'!E30","v":0},{"$f":"'Физ.разв. к 7г ч1. Н.г.'!F30","v":0},{"$f":"'Физ.разв. к 7г ч1. Н.г.'!G30","v":0},{"$f":"'Физ.разв. к 7г ч1. Н.г.'!H30","v":0},{"$f":"'Физ.разв. к 7г ч1. Н.г.'!I30","v":0},{"$f":"'Физ.разв. к 7г ч1. Н.г.'!J30","v":0},{"$f":"'Физ.разв. к 7г ч1. Н.г.'!K30","v":0},{"$f":"'Физ.разв. к 7г ч1. Н.г.'!L30","v":0},{"$f":"'Физ.разв. к 7г ч1. Н.г.'!M30","v":0},{"$f":"'Физ.разв. к 7г ч1. Н.г.'!N30","v":0},{"$f":"'Физ.разв. к 7г ч1. Н.г.'!O30","v":0},{"$f":"'Физ.разв. к 7г ч1. Н.г.'!P30","v":0},{"$f":"'Физ.разв. к 7г ч1. Н.г.'!Q30","v":0},{"$f":"'Физ.разв. к 7г ч1. Н.г.'!R30","v":0},{"$f":"'Физ.разв. к 7г ч1. Н.г.'!S30","v":0},{"$f":"'Физ.разв. к 7г ч1. Н.г.'!T30","v":0},{"$f":"'Физ.разв. к 7г ч1. Н.г.'!U30","v":0},{"$f":"'Физ.разв. к 7г ч1. Н.г.'!V30","v":0},{"$f":"'Физ.разв. к 7г ч1. Н.г.'!W30","v":0},{"$f":"'Физ.разв. к 7г ч2. Н.г.'!E31","v":0},{"$f":"'Физ.разв. к 7г ч2. Н.г.'!F31","v":0},{"$f":"'Физ.разв. к 7г ч2. Н.г.'!G31","v":0},{"$f":"'Физ.разв. к 7г ч2. Н.г.'!H31","v":0},{"$f":"'Физ.разв. к 7г ч2. Н.г.'!I31","v":0},{"$f":"'Физ.разв. к 7г ч2. Н.г.'!J31","v":0},{"$f":"'Физ.разв. к 7г ч2. Н.г.'!K31","v":0},{"$f":"'Физ.разв. к 7г ч2. Н.г.'!L31","v":0},{"$f":"'Физ.разв. к 7г ч2. Н.г.'!M31","v":0},{"$f":"'Физ.разв. к 7г ч2. Н.г.'!N31","v":0},{"$f":"'Физ.разв. к 7г ч2. Н.г.'!O31","v":0},{"$f":"'Физ.разв. к 7г ч2. Н.г.'!P31","v":0},{"$f":"'Физ.разв. к 7г ч2. Н.г.'!Q31","v":0},{"$f":"'Физ.разв. к 7г ч2. Н.г.'!R31","v":0},{"$f":"'Физ.разв. к 7г ч2. Н.г.'!S31","v":0},{"$f":"'Физ.разв. к 7г ч2. Н.г.'!T31","v":0},{"$f":"'Физ.разв. к 7г ч3. Н.г.'!E31","v":0},{"$f":"'Физ.разв. к 7г ч3. Н.г.'!F31","v":0},{"$f":"'Физ.разв. к 7г ч3. Н.г.'!G31","v":0},{"$f":"'Физ.разв. к 7г ч3. Н.г.'!H31","v":0},{"$f":"'Физ.разв. к 7г ч3. Н.г.'!I31","v":0},{"$f":"'Физ.разв. к 7г ч3. Н.г.'!J31","v":0},{"$f":"'Физ.разв. к 7г ч3. Н.г.'!K31","v":0},{"$f":"'Физ.разв. к 7г ч3. Н.г.'!L31","v":0},{"$f":"'Физ.разв. к 7г ч3. Н.г.'!M31","v":0},{"$f":"'Физ.разв. к 7г ч3. Н.г.'!N31","v":0},{"$f":"'Физ.разв. к 7г ч3. Н.г.'!O31","v":0},{"$f":"'Худ.эст.к 7г ч1. Н.г.'!E30","v":0},{"$f":"'Худ.эст.к 7г ч1. Н.г.'!F30","v":0},{"$f":"'Худ.эст.к 7г ч1. Н.г.'!G30","v":0},{"$f":"'Худ.эст.к 7г ч1. Н.г.'!H30","v":0},{"$f":"'Худ.эст.к 7г ч1. Н.г.'!I30","v":0},{"$f":"'Худ.эст.к 7г ч1. Н.г.'!J30","v":0},{"$f":"'Худ.эст.к 7г ч1. Н.г.'!K30","v":0},{"$f":"'Худ.эст.к 7г ч1. Н.г.'!L30","v":0},{"$f":"'Худ.эст.к 7г ч1. Н.г.'!M30","v":0},{"$f":"'Худ.эст.к 7г ч1. Н.г.'!N30","v":0},{"$f":"'Худ.эст.к 7г ч1. Н.г.'!O30","v":0},{"$f":"'Худ.эст.к 7г ч1. Н.г.'!P30","v":0},{"$f":"'Худ.эст.к 7г ч1. Н.г.'!Q30","v":0},{"$f":"'Худ.эст.к 7г ч2. Н.г.'!E30","v":0},{"$f":"'Худ.эст.к 7г ч2. Н.г.'!F30","v":0},{"$f":"'Худ.эст.к 7г ч2. Н.г.'!G30","v":0},{"$f":"'Худ.эст.к 7г ч2. Н.г.'!H30","v":0},{"$f":"'Худ.эст.к 7г ч2. Н.г.'!I30","v":0},{"$f":"'Худ.эст.к 7г ч2. Н.г.'!J30","v":0},{"$f":"'Худ.эст.к 7г ч2. Н.г.'!K30","v":0},{"$f":"'Худ.эст.к 7г ч2. Н.г.'!L30","v":0},{"$f":"'Худ.эст.к 7г ч2. Н.г.'!M30","v":0},{"$f":"'Худ.эст.к 7г ч2. Н.г.'!N30","v":0},{"$f":"'Худ.эст.к 7г ч2. Н.г.'!O30","v":0},{"$f":"'Худ.эст.к 7г ч2. Н.г.'!P30","v":0},{"$f":"'Худ.эст.к 7г ч2. Н.г.'!Q30","v":0},{"$f":"'Худ.эст.к 7г ч3. Н.г.'!E30","v":0},{"$f":"'Худ.эст.к 7г ч3. Н.г.'!F30","v":0},{"$f":"'Худ.эст.к 7г ч3. Н.г.'!G30","v":0},{"$f":"'Худ.эст.к 7г ч3. Н.г.'!H30","v":0},{"$f":"'Худ.эст.к 7г ч3. Н.г.'!I30","v":0},{"$f":"'Худ.эст.к 7г ч3. Н.г.'!J30","v":0},{"$f":"'Худ.эст.к 7г ч3. Н.г.'!K30","v":0},{"$f":"'Худ.эст.к 7г ч3. Н.г.'!L30","v":0}]
["конец года",{"$f":"'Соц.ком.к 7г ч1 К.г.'!E29","v":0},{"$f":"'Соц.ком.к 7г ч1 К.г.'!F29","v":0},{"$f":"'Соц.ком.к 7г ч1 К.г.'!G29","v":0},{"$f":"'Соц.ком.к 7г ч1 К.г.'!H29","v":0},{"$f":"'Соц.ком.к 7г ч1 К.г.'!I29","v":0},{"$f":"'Соц.ком.к 7г ч1 К.г.'!J29","v":0},{"$f":"'Соц.ком.к 7г ч1 К.г.'!K29","v":0},{"$f":"'Соц.ком.к 7г ч1 К.г.'!L29","v":0},{"$f":"'Соц.ком.к 7г ч1 К.г.'!M29","v":0},{"$f":"'Соц.ком.к 7г ч1 К.г.'!N29","v":0},{"$f":"'Соц.ком.к 7г ч2 К.г.'!E29","v":0},{"$f":"'Соц.ком.к 7г ч2 К.г.'!F29","v":0},{"$f":"'Соц.ком.к 7г ч2 К.г.'!G29","v":0},{"$f":"'Соц.ком.к 7г ч2 К.г.'!H29","v":0},{"$f":"'Соц.ком.к 7г ч2 К.г.'!I29","v":0},{"$f":"'Соц.ком.к 7г ч2 К.г.'!J29","v":0},{"$f":"'Соц.ком.к 7г ч2 К.г.'!K29","v":0},{"$f":"'Соц.ком. к 7г ч3 К.г.'!E29","v":0},{"$f":"'Соц.ком. к 7г ч3 К.г.'!F29","v":0},{"$f":"'Соц.ком. к 7г ч3 К.г.'!G29","v":0},{"$f":"'Соц.ком. к 7г ч3 К.г.'!H29","v":0},{"$f":"'Соц.ком. к 7г ч3 К.г.'!I29","v":0},{"$f":"'Соц.ком. к 7г ч3 К.г.'!J29","v":0},{"$f":"'Соц.ком. к 7г ч3 К.г.'!K29","v":0},{"$f":"'Соц.ком. к 7г ч3 К.г.'!L29","v":0},{"$f":"'Соц.ком. к 7г ч4 К.г.'!E29","v":0},{"$f":"'Соц.ком. к 7г ч4 К.г.'!F29","v":0},{"$f":"'Соц.ком. к 7г ч4 К.г.'!G29","v":0},{"$f":"'Соц.ком. к 7г ч4 К.г.'!H29","v":0},{"$f":"'Соц.ком. к 7г ч4 К.г.'!I29","v":0},{"$f":"'Реч.разв.к 7г ч1 К.г.'!E29","v":0},{"$f":"'Реч.разв.к 7г ч1 К.г.'!F29","v":0},{"$f":"'Реч.разв.к 7г ч1 К.г.'!G29","v":0},{"$f":"'Реч.разв.к 7г ч1 К.г.'!H29","v":0},{"$f":"'Реч.разв.к 7г ч1 К.г.'!I29","v":0},{"$f":"'Реч.разв.к 7г ч1 К.г.'!J29","v":0},{"$f":"'Реч.разв.к 7г ч1 К.г.'!K29","v":0},{"$f":"'Реч.разв.к 7г ч1 К.г.'!L29","v":0},{"$f":"'Реч.разв.к 7г ч2 К.г. '!E29","v":0},{"$f":"'Реч.разв.к 7г ч2 К.г. '!F29","v":0},{"$f":"'Реч.разв.к 7г ч2 К.г. '!G29","v":0},{"$f":"'Реч.разв.к 7г ч2 К.г. '!H29","v":0},{"$f":"'Реч.разв.к 7г ч2 К.г. '!I29","v":0},{"$f":"'Реч.разв.к 7г ч2 К.г. '!J29","v":0},{"$f":"'Реч.разв.к 7г ч2 К.г. '!K29","v":0},{"$f":"'Реч.разв.к 7г ч2 К.г. '!L29","v":0},{"$f":"'Реч.разв.к 7г ч2 К.г. '!M29","v":0},{"$f":"'Реч.разв.к 7г ч3. К.г. '!E29","v":0},{"$f":"'Реч.разв.к 7г ч3. К.г. '!F29","v":0},{"$f":"'Реч.разв.к 7г ч3. К.г. '!G29","v":0},{"$f":"'Реч.разв.к 7г ч3. К.г. '!H29","v":0},{"$f":"'Реч.разв.к 7г ч3. К.г. '!I29","v":0},{"$f":"'Реч.разв.к 7г ч3. К.г. '!J29","v":0},{"$f":"'Позн.разв. к 7г ч1. К.г. '!E30","v":0},{"$f":"'Позн.разв. к 7г ч1. К.г. '!F30","v":0},{"$f":"'Позн.разв. к 7г ч1. К.г. '!G30","v":0},{"$f":"'Позн.разв. к 7г ч1. К.г. '!H30","v":0},{"$f":"'Позн.разв. к 7г ч1. К.г. '!I30","v":0},{"$f":"'Позн.разв. к 7г ч1. К.г. '!J30","v":0},{"$f":"'Позн.разв. к 7г ч1. К.г. '!K30","v":0},{"$f":"'Позн.разв. к 7г ч1. К.г. '!L30","v":0},{"$f":"'Позн.разв. к 7г ч1. К.г. '!M30","v":0},{"$f":"'Позн.разв. к 7г ч2. К.г.'!E30","v":0},{"$f":"'Позн.разв. к 7г ч2. К.г.'!F30","v":0},{"$f":"'Позн.разв. к 7г ч2. К.г.'!G30","v":0},{"$f":"'Позн.разв. к 7г ч2. К.г.'!H30","v":0},{"$f":"'Позн.разв. к 7г ч2. К.г.'!I30","v":0},{"$f":"'Позн.разв. к 7г ч2. К.г.'!J30","v":0},{"$f":"'Позн.разв. к 7г ч2. К.г.'!K30","v":0},{"$f":"'Позн.разв. к 7г ч2. К.г.'!L30","v":0},{"$f":"'Позн.разв. к 7г ч2. К.г.'!M30","v":0},{"$f":"'Позн.разв. к 7г ч3. К.г. '!E30","v":0},{"$f":"'Позн.разв. к 7г ч3. К.г. '!F30","v":0},{"$f":"'Позн.разв. к 7г ч3. К.г. '!G30","v":0},{"$f":"'Позн.разв. к 7г ч3. К.г. '!H30","v":0},{"$f":"'Позн.разв. к 7г ч3. К.г. '!I30","v":0},{"$f":"'Позн.разв. к 7г ч3. К.г. '!J30","v":0},{"$f":"'Позн.разв. к 7г ч3. К.г. '!K30","v":0},{"$f":"'Позн.разв. к 7г ч3. К.г. '!L30","v":0},{"$f":"'Позн.разв. к 7г ч3. К.г. '!M30","v":0},{"$f":"'Позн.разв. к 7г ч3. К.г. '!N30","v":0},{"$f":"'Позн.разв. к 7г ч3. К.г. '!O30","v":0},{"$f":"'Позн.разв. к 7г ч3. К.г. '!P30","v":0},{"$f":"'Позн.разв. к 7г ч3. К.г. '!Q30","v":0},{"$f":"'Физ.разв. к 7г ч1. К.г. '!E30","v":0},{"$f":"'Физ.разв. к 7г ч1. К.г. '!F30","v":0},{"$f":"'Физ.разв. к 7г ч1. К.г. '!G30","v":0},{"$f":"'Физ.разв. к 7г ч1. К.г. '!H30","v":0},{"$f":"'Физ.разв. к 7г ч1. К.г. '!I30","v":0},{"$f":"'Физ.разв. к 7г ч1. К.г. '!J30","v":0},{"$f":"'Физ.разв. к 7г ч1. К.г. '!K30","v":0},{"$f":"'Физ.разв. к 7г ч1. К.г. '!L30","v":0},{"$f":"'Физ.разв. к 7г ч1. К.г. '!M30","v":0},{"$f":"'Физ.разв. к 7г ч1. К.г. '!N30","v":0},{"$f":"'Физ.разв. к 7г ч1. К.г. '!O30","v":0},{"$f":"'Физ.разв. к 7г ч1. К.г. '!P30","v":0},{"$f":"'Физ.разв. к 7г ч1. К.г. '!Q30","v":0},{"$f":"'Физ.разв. к 7г ч1. К.г. '!R30","v":0},{"$f":"'Физ.разв. к 7г ч1. К.г. '!S30","v":0},{"$f":"'Физ.разв. к 7г ч1. К.г. '!T30","v":0},{"$f":"'Физ.разв. к 7г ч1. К.г. '!U30","v":0},{"$f":"'Физ.разв. к 7г ч1. К.г. '!V30","v":0},{"$f":"'Физ.разв. к 7г ч1. К.г. '!W30","v":0},{"$f":"'Физ.разв. к 7г ч2. К.г.'!E31","v":0},{"$f":"'Физ.разв. к 7г ч2. К.г.'!F31","v":0},{"$f":"'Физ.разв. к 7г ч2. К.г.'!G31","v":0},{"$f":"'Физ.разв. к 7г ч2. К.г.'!H31","v":0},{"$f":"'Физ.разв. к 7г ч2. К.г.'!I31","v":0},{"$f":"'Физ.разв. к 7г ч2. К.г.'!J31","v":0},{"$f":"'Физ.разв. к 7г ч2. К.г.'!K31","v":0},{"$f":"'Физ.разв. к 7г ч2. К.г.'!L31","v":0},{"$f":"'Физ.разв. к 7г ч2. К.г.'!M31","v":0},{"$f":"'Физ.разв. к 7г ч2. К.г.'!N31","v":0},{"$f":"'Физ.разв. к 7г ч2. К.г.'!O31","v":0},{"$f":"'Физ.разв. к 7г ч2. К.г.'!P31","v":0},{"$f":"'Физ.разв. к 7г ч2. К.г.'!Q31","v":0},{"$f":"'Физ.разв. к 7г ч2. К.г.'!R31","v":0},{"$f":"'Физ.разв. к 7г ч2. К.г.'!S31","v":0},{"$f":"'Физ.разв. к 7г ч2. К.г.'!T31","v":0},{"$f":"'Физ.разв. к 7г ч3. К.г. '!E31","v":0},{"$f":"'Физ.разв. к 7г ч3. К.г. '!F31","v":0},{"$f":"'Физ.разв. к 7г ч3. К.г. '!G31","v":0},{"$f":"'Физ.разв. к 7г ч3. К.г. '!H31","v":0},{"$f":"'Физ.разв. к 7г ч3. К.г. '!I31","v":0},{"$f":"'Физ.разв. к 7г ч3. К.г. '!J31","v":0},{"$f":"'Физ.разв. к 7г ч3. К.г. '!K31","v":0},{"$f":"'Физ.разв. к 7г ч3. К.г. '!L31","v":0},{"$f":"'Физ.разв. к 7г ч3. К.г. '!M31","v":0},{"$f":"'Физ.разв. к 7г ч3. К.г. '!N31","v":0},{"$f":"'Физ.разв. к 7г ч3. К.г. '!O31","v":0},{"$f":"'Худ.эст.к 7г ч1. К.г. '!E30","v":0},{"$f":"'Худ.эст.к 7г ч1. К.г. '!F30","v":0},{"$f":"'Худ.эст.к 7г ч1. К.г. '!G30","v":0},{"$f":"'Худ.эст.к 7г ч1. К.г. '!H30","v":0},{"$f":"'Худ.эст.к 7г ч1. К.г. '!I30","v":0},{"$f":"'Худ.эст.к 7г ч1. К.г. '!J30","v":0},{"$f":"'Худ.эст.к 7г ч1. К.г. '!K30","v":0},{"$f":"'Худ.эст.к 7г ч1. К.г. '!L30","v":0},{"$f":"'Худ.эст.к 7г ч1. К.г. '!M30","v":0},{"$f":"'Худ.эст.к 7г ч1. К.г. '!N30","v":0},{"$f":"'Худ.эст.к 7г ч1. К.г. '!O30","v":0},{"$f":"'Худ.эст.к 7г ч1. К.г. '!P30","v":0},{"$f":"'Худ.эст.к 7г ч1. К.г. '!Q30","v":0},{"$f":"'Худ.эст.к 7г ч2. К.г. '!E30","v":0},{"$f":"'Худ.эст.к 7г ч2. К.г. '!F30","v":0},{"$f":"'Худ.эст.к 7г ч2. К.г. '!G30","v":0},{"$f":"'Худ.эст.к 7г ч2. К.г. '!H30","v":0},{"$f":"'Худ.эст.к 7г ч2. К.г. '!I30","v":0},{"$f":"'Худ.эст.к 7г ч2. К.г. '!J30","v":0},{"$f":"'Худ.эст.к 7г ч2. К.г. '!K30","v":0},{"$f":"'Худ.эст.к 7г ч2. К.г. '!L30","v":0},{"$f":"'Худ.эст.к 7г ч2. К.г. '!M30","v":0},{"$f":"'Худ.эст.к 7г ч2. К.г. '!N30","v":0},{"$f":"'Худ.эст.к 7г ч2. К.г. '!O30","v":0},{"$f":"'Худ.эст.к 7г ч2. К.г. '!P30","v":0},{"$f":"'Худ.эст.к 7г ч2. К.г. '!Q30","v":0},{"$f":"'Худ.эст.к 7г ч3. К.г. '!E30","v":0},{"$f":"'Худ.эст.к 7г ч3. К.г. '!F30","v":0},{"$f":"'Худ.эст.к 7г ч3. К.г. '!G30","v":0},{"$f":"'Худ.эст.к 7г ч3. К.г. '!H30","v":0},{"$f":"'Худ.эст.к 7г ч3. К.г. '!I30","v":0},{"$f":"'Худ.эст.к 7г ч3. К.г. '!J30","v":0},{"$f":"'Худ.эст.к 7г ч3. К.г. '!K30","v":0},{"$f":"'Худ.эст.к 7г ч3. К.г. '!L30","v":0}]

{"sheet":"20","index":57,"n_rows":7,"n_cols":165,"rows_kept":7,"merged":[[0,104,0,110],[0,111,0,112],[0,113,0,115],[0,116,0,119],[0,120,0,123],[0,124,0,126],[0,127,0,130],[1,54,1,58],[1,59,1,62],[1,63,1,71],[1,72,1,76],[1,77,1,84],[1,104,1,106],[1,107,1,110],[1,111,4,111],[1,112,4,112],[1,113,4,113],[1,114,4,114],[1,115,4,115],[1,116,1,119],[1,120,2,120],[1,121,2,121],[1,122,2,122],[1,123,2,123],[1,124,4,124],[1,125,4,125],[1,126,4,126],[1,127,1,130],[1,131,1,143],[1,144,1,156],[1,157,2,162],[1,163,2,164],[2,18,2,22],[2,23,2,25],[2,26,2,30],[2,32,2,34],[2,35,2,38],[2,40,2,44],[2,45,2,47],[2,48,2,53],[2,55,2,57],[2,59,4,59],[2,60,4,60],[2,61,4,61],[2,62,4,62],[2,63,2,65],[2,66,2,67],[2,68,2,69],[2,72,3,76],[2,77,2,80],[2,81,2,82],[2,83,4,83],[2,84,4,84],[2,85,2,86],[2,87,2,89],[2,90,2,92],[2,93,2,95],[2,96,2,99],[2,100,2,101],[2,102,2,103],[2,104,4,104],[2,105,4,105],[2,106,4,106],[2,107,4,107],[2,108,4,108],[2,109,4,109],[2,110,4,110],[2,116,4,116],[2,117,4,117],[2,118,4,118],[2,119,4,119],[2,127,4,127],[2,128,4,128],[2,129,4,129],[2,130,4,130],[2,135,2,136],[2,137,2,140],[2,141,2,142],[2,143,4,143],[2,144,2,145],[2,146,2,147],[2,148,2,149],[2,151,2,156],[3,0,4,0],[3,1,3,4],[3,7,3,9],[3,11,3,12],[3,13,3,14],[3,15,4,15],[3,16,4,16],[3,17,4,17],[3,18,4,18],[3,19,4,19],[3,20,4,20],[3,21,4,21],[3,22,4,22],[3,23,4,23],[3,24,4,24],[3,25,4,25],[3,26,4,26],[3,27,4,27],[3,28,4,28],[3,29,4,29],[3,30,4,30],[3,31,4,31],[3,32,4,32],[3,33,4,33],[3,34,4,34],[3,35,4,35],[3,36,4,36],[3,37,4,37],[3,38,4,38],[3,39,4,39],[3,40,4,40],[3,41,4,41],[3,42,4,42],[3,43,4,43],[3,44,4,44],[3,45,4,45],[3,46,4,46],[3,47,4,47],[3,48,4,48],[3,49,4,49],[3,50,4,50],[3,51,4,51],[3,52,4,52],[3,53,4,53],[3,54,3,58],[3,63,4,63],[3,64,4,64],[3,65,4,65],[3,66,4,66],[3,67,4,67],[3,68,4,68],[3,69,4,69],[3,70,4,70],[3,71,4,71],[3,81,4,81],[3,85,3,86],[3,87,3,89],[3,90,3,92],[3,93,3,95],[3,96,3,99],[3,100,3,101],[3,102,4,102],[3,103,4,103],[3,120,4,120],[3,121,4,121],[3,122,4,122],[3,123,4,123],[3,131,4,131],[3,132,4,132],[3,133,4,133],[3,134,4,134],[3,135,4,135],[3,136,4,136],[3,137,4,137],[3,138,4,138],[3,139,4,139],[3,140,4,140],[3,141,4,141],[3,142,4,142],[3,144,4,144],[3,145,4,145],[3,146,4,146],[3,147,4,147],[3,148,4,148],[3,149,4,149],[3,150,4,150],[3,151,4,151],[3,152,4,152],[3,153,4,153],[3,154,4,154],[3,155,4,155],[3,156,4,156],[3,157,4,157],[3,158,4,158],[3,159,4,159],[3,160,4,160],[3,161,4,161],[3,162,4,162],[3,163,4,163],[3,164,4,164]]}
[{"$nulls":104},"Мелкая моторика",{"$nulls":6},"Подвижные игры",null,"Спорт. игры",null,null,"Спортивные упражнения",{"$nulls":3},"КГН",{"$nulls":3},"ЗОЖ",null,null,"Спортивные упражнения"]
[{"$nulls":54},"Сенсорные эталоны ",{"$nulls":4},"Познавательные действия",{"$nulls":3},"Математические представления",{"$nulls":8},"Окружающий мир",{"$nulls":4},"Природа ",{"$nulls":26},"Координация рук и глаз",null,null,"Графические навыки",{"$nulls":3},"Ребенок использует в самостоятельной деятельности разнообразные по содержанию подвижные игры, проявляет элементы творчества в двигательной деятельности","Ребенок может организовать знакомые подвижные игры со сверстниками, сплотить команду, стремится внести свой вклад в результат команды","Ребенок владеет элементами спортивных игр (городки, баскетбол, футбол, хоккей, бадминтон, настольный теннис), может контролировать свои движения и управлять ими","Ребенок имеет представление о разных видах спорта (санный спорт, борьба, теннис, синхронное плавание и др.)","Ребенок имеет представление о спортивных событиях и достижениях отечественных спортсменов","Ребенок умеет кататься",{"$nulls":3},"Навыки соблюдения чистоты тела (правила личной гигиены)","Навыки культуры еды (прием пищи) ","Навыки поддержания порядка (правила поведения в быту) ","Навыки ухода за собой (одевание, раздевание) ","Ребенок соблюдает элементарные правила здорового образа жизни и личной гигиены, следит за своей осанкой, может оценить свое самочувствие","Ребенок регулярно выполняет физические упражнения","Ребенок имеет начальные представления о том, что такое здоровье, понимает, как поддержать, укрепить и сохранить его","Ребенок умеет кататься",{"$nulls":3},"Музыкальная деятельность",{"$nulls":12},"Изобразительная деятельность",{"$nulls":12},"Приобщение к искусству",{"$nulls":5},"Конструктивная деятельность"]
[{"$nulls":18},"Область формирования основ гражданственности и патриотизма",{"$nulls":4},"Сфера трудового воспитания",null,null,"Область формирования основ безопасного поведения",{"$nulls":4},"Общее речевое развитие","Формирование словаря",null,null,"Грамматический строй",{"$nulls":3},"Звуковая культура речи","Связная речь",{"$nulls":4},"ЧХЛ",null,null,"Подготовка к обучению грамоте",{"$nulls":5},"Цвет, оттенки","Форма, геометрические фигуры",null,null,"Величина","Ребенок самостоятельно выбирает способ осуществления разных видов познавательной деятельности","Ребенок интересуется субъективно новым и неизвестным в окружающем мире","Ребенок способен применять в жизненных и игровых ситуациях знания о количестве, форме, величине предметов, пространстве, времени","Ребенок имеет разнообразные познавательные умения: определяет противоречия. Формулирует задачу исследования, использует разные способы и средства проверки предположений (сравнение с эталонами, классификацию, систематизацию и др.)","Количество и счет",null,null,"Ориентировка во времени",null,"Ориентировка в пространстве",null,"Пространственно-количественные связи и отношения","Сравнение","Ребенок имеет представления, может показать на картинке и в естественной среде, может рассказать",{"$nulls":4},"Объекты живой природы",{"$nulls":3},"Объекты неживой природы, природные явления",null,"Ребенок стремится к самостоятельному экспериментированию","Ребенок знает правила поведения в природе, проявляет осознанное, бережное отношение к природе и ее ресурсам","Бросание, катание, ловля, метание",null,"Ползанье, лазанье",null,null,"Ходьба",null,null,"Бег",null,null,"Прыжки",{"$nulls":3},"Равновесие",null,"Строевые упражнения",null,"Ребенок выполняет графический диктант","Ребенок обводит по шаблону, по трафарету","Ребенок чертит линии с помощью линейки","Ребенок обводит по контуру, по точкам","Ребенок выполняет штриховку в различных направлениях","Ребенок закрашивает, не выходя за контур","Ребенок свободно владеет карандашом при рисовании округлых линий, завитков в разном направлении",{"$nulls":5},"на санках","на лыжах","на двухколесном велосипеде","на самокате",{"$nulls":7},"на санках","на лыжах","на двухколесном велосипеде","на самокате","Слушание","Пение ","Музыкально-ритмические движения","Песенное творчество","Игра на детских музыкальных инструментах",null,"Театрализованная деятельность",{"$nulls":3},"Танцевально-игровое творчество",null,"У ребенка развит музыкальный вкус, музыкальная память","Рисование ",null,"Лепка ",null,"Аппликация ",null,"Народное ДПИ","Прикладное творчество"]
[{"$f":"Список!B23","v":0},"Отношение к самому себе",{"$nulls":3},"Отношение к сверстникам","Отношение к взрослым","Эмоции",null,null,"Поведение","Семья",null,"Игровое поведение",null,"Ребенок имеет представление об изменениях позиции человека с возрастом","Ребенок имеет представление о школе, школьниках, учителях; стремится к школьному обучению, к познанию, освоению чтения, письма; демонстрирует формированные предпосылки к учебной деятельности и элементы готовности к школьному обучению","Ребенок имеет представление о нравственных качествах людей, их проявлении в поступках и взаимоотношениях","Ребенок имеет представление о признаках и характеристиках государства (территория государства и его границы, столица), атрибутах государственной власти, президенте, столице","Ребенок имеет представление о порядке использования государственной символики","Ребенок имеет представление о волонтерстве","Ребенок имеет представление о государственных праздниках, исторических событиях","Ребенок имеет представление о жизни людей в России, о многообразии стран и народов мира","Ребенок имеет представление об обмене ценностями в процессе производства и потребления товаров и услуг, о денежных отношениях, о реальной стоимости отдельных продуктов питания, игрушек, детских книг","Ребенок имеет представление о об основах финансовой грамоты, основах бережного потребления","Ребенок проявляет инициативность и самостоятельность в процессе самообслуживания, при выполнении трудовых поручений","Ребенок имеет представление о правила безопасного поведения в ситуациях, создающих угрозу жизни и здоровью (погас свет, остался один, потерялся, получил травму)","Ребенок имеет представление о правила безопасного поведения дома, на улице, в природе, в местах большого скопления людей, в магазине, на вокзале, в общественных метах, на праздниках и др.","Ребенок имеет представление о правилах безопасного использования цифровых ресурсов (мобильного телефона, планшета)","Ребенок имеет представление об элементарных правилах оказания первой помощи при первых признаках недомогания, травмах, ушибах","Ребенок проявляет самостоятельность при выполнении правил безопасного поведения","Ребенок владеет речью как средством коммуникации, ведет диалог, владеет коммуникативно-речевыми умениями","Ребенок подбирает точные слова для выражения мысли","Ребенок выполняет операцию классификации – деления освоенных понятий на группы на основе выявленных признаков","Ребенок использует в речи средства языковой выразительности: антонимы, синонимы, многозначные слова, метафоры, олицетворение","Ребенок образует сложные слова посредством слияния основ","Ребенок согласует в речи существительные с числительными, существительные с прилагательными","Ребенок образует по образцу существительные с суффиксами, глаголы с приставками","Ребенок образует в речи сравнительную и превосходную степени имен прилагательных","Ребенок правильно произносит все звуки","Ребенок может пересказать литературное произведение по ролям, близко к тексту, от лица литературного героя","Ребенок может составить описательный рассказ, соблюдая структуру описания","Ребенок может составить повествовательный рассказ по картине, из личного опыта, из коллективного опыта, по набору игрушек, соблюдая структуру повествования","Ребенок может составить рассказ -контаминацию (сочетание описания и повествования, описания и рассуждения)","Ребенок использует в процессе общения объяснительную речь, речь-доказательство, речевое планирование","Ребенок знает и осмысленно воспринимает литературные произведения различных жанров, имеет предпочтения","Ребенок определяет характеры персонажей, мотивы их поведения, оценивает поступки литературных героев","Ребенок проявляет интерес к книгам познавательного характера","Ребенок производит звуковой анализ четырехзвуковых и пятизвуковых слов","Ребенок может интонационно выделить звуки в слове, определить их последовательность, дать им характеристику, составить схему слова, выделить ударный гласный звук в слове","Ребенок может определить количество и последовательность слов в предложении","Ребенок может составить предложение с заданным количеством слов","Ребенок знает названия всех букв","Ребенок читает слоги","Ребенок различает и называет",{"$nulls":8},"Ребенок умеет считать в пределах 10 в прямом и обратном порядке","Ребенок знает состав чисел из двух меньших в пределах первого десятка","Ребенок решает простые арифметические задачи на сложение и вычитание","Ребенок имеет представление о календаре, как системе измерения времени","Ребенок умеет определять время по часам с точностью до четверти часа","Ребенок ориентируется на местности, по схеме, по плану","Ребенок знает способы ориентировки в двухмерном пространстве","Ребенок умеет измерять протяженность, массу и объем с помощью условной мерки; понимает взаимообратные отношения между мерой и результатом измерения","Ребенок сравнивает предметы по 4-6 основаниям с выделением сходства, отличия",{"$nulls":9},"Ребенок имеет представление об использовании человеком свойств неживой природы для хозяйственных нужд (ветряные мельницы, водохранилища, солнечные батареи, ледяные катки)",{"$nulls":3},"Ребенок выполняет различные упражнения с мячом, метание",null,"Ребенок выполняет разные виды ползанья, лазанья ",null,null,"Ребенок выполняет различные виды ходьбы",null,null,"Ребенок выполняет различные виды бега",null,null,"Ребенок выполняет различные виды прыжков",{"$nulls":3},"Ребенок выполняет",null,"Ребенок выполняет разные виды перестроений, построений, передвижений, размыкание и смыкание приставным шагом, повороты","Ребенок может рассчитаться на «первый – второй»",{"$nulls":16},"Ребенок владеет навыками личной гигиены","Ребенок владеет навыками культуры еды","Ребенок владеет навыками поддержания порядка","Ребенок владеет навыками ухода за собой",{"$nulls":7},"У ребенка развит навык восприятия звуков по высоте в пределах квинты-терции","У ребенка развиты певческий голос и вокально-слуховая координация","Ребёнок ритмично и выразительно двигается в соответствие с характером музыки","Ребенок способен самостоятельно придумать мелодию, используя в качестве образца русские народные песни","Ребенок может сыграть простую мелодию на металлофоне, свирели, ударных, и электронных музыкальных инструментах: трещотках, погремушках, треугольниках","Ребенок может исполнить музыкальное произведение в оркестре и в ансамбле","Ребенок проявляет самостоятельность при выборе литературного и музыкального материала для театральной постановки","Ребенок проявляет инициативу при изготовлении атрибутов и декораций к спектаклю","Ребенок имеет представление о средствах погружения в театральные образы (музыка, слова, декорации, грим, костюм и др.)","Ребенок умеет выразительно передавать образы в действии, мимике, пантомимике","Ребенок проявляет активность в доступных видах музыкальной исполнительской деятельности (игра в оркестре, пение, танцевальные движения и др.)","Ребенок помогает придумывать движения, отражающие содержание песни",null,"Ребенок может изобразить предметы по памяти и с натуры, передает их средствами рисунка (форма, пропорции, расположение)","Ребенок способен передавать в рисунке сюжет, строить композицию","Ребенок свободно использует приемы лепки, освоенные ранее (налеп, углубленный рельеф), применяет стеку","Ребенок умеет передавать пропорции, соотношение по величине, выразительность поз, движений, деталей","Ребенок умеет составлять узоры и декоративные композиции из геометрических и растительных элементов на листах бумаги разной формы","Ребенок может выполнить вырезание (симметричное из бумаги, сложенной вдвое; несколько предметов из частей бумаги, сложенной гармошкой)","Ребенок умеет создавать узоры по мотивам народных росписей","Ребенок может сложить бумагу в разных направлениях","Ребенок может сделать разметку с помощью шаблона","Ребенок может выполнить работу по образцу","Ребенок может создать объемную игрушку в технике «оригами»","Ребенок может создать объемную поделку из природного материала","Ребенок может вдеть нитку в иголку, завязать узелок, пришить пуговицу, петельку, выполнить шов «вперед иголка»","Ребенок умеет выделять, называть, группировать произведения по видам искусства: литература, музыка, изобразительное искусство, архитектура, театр, цирк","Ребенок имеет представление о видах изобразительного искусства: графика, декоративно-прикладное искусство, живопись, скульптура, архитектура, фотоискусство","Ребенок имеет представление о жанрах изобразительного искусства: натюрморт, пейзаж, портрет","Ребенок имеет представление о народном искусстве, фольклоре, музыке и художественных промыслах","Ребенок имеет представление о творческих профессиях: художник, композитор, музыкант, актер, артист балета","Ребенок имеет представление о культурно-досуговых местах: театр, музей, библиотека, выставка, кинотеатр, цирк и др.","Ребенок может провести анализ постройки (выделить основные части и характерные детали конструкций)","Ребенок может выполнить постройку по инструкции"]
[null,"Ребенок осознает и признает собственные ошибки, результат поставленных задач, определяет пути развития","Ребенок умеет договариваться и дружить, старается разрешать конфликтные ситуации конструктивными способами","Ребенок способен принимать собственные решения и проявлять инициативу","Ребенок осознанно относится к своему будущему, стремится быть полезным обществу","Ребенок без напоминаний использует в общении формулы словесной вежливости (приветствие, прощание, просьбы, извинения)","Ребенок без напоминаний использует в общении формулы словесной вежливости (приветствие, прощание, просьбы, извинения)","Ребенок понимает чувства и переживания окружающих по невербальным признакам; находит причины и следствия возникновения эмоций, проявляет эмпатию","Ребенок использует социально приемлемые способы проявления эмоций и доступные возрасту регуляции эмоциональных состояний","Ребенок распознает собственные чувства и эмоции, анализирует свои переживания и рассказывает о них","Ребенок самостоятельно соблюдает установленный порядок поведения в группе, регулирует собственную активность","Ребенок имеет представление о необходимости укрепления связи между поколениями, взаимной поддержке детей и взрослых","Ребенок имеет представление о семье, семейных и родственных отношениях (взаимные чувства, правила общения в семье, значимые и памятные события, досуг семьи, семейный бюджет)","Ребенок умеет сотрудничать со сверстниками (побуждает к обсуждению планов, советуется, поддерживает интерес к мнению, инициирует ситуации взаимопомощи, подчеркивает ценность каждого ребенка и его вклад в общее дело, выбирает партнеров по интересам, помогает устанавливать темп совместных действий)","Ребенок владеет разными способами и видами игры, различает условную и реальную ситуации, предлагает и объясняет замысел игры, комбинирует сюжеты на основе реальных, вымышленных ситуаций, выполняет несколько ролей в одной игре, подбирает разные средства для создания игровых образов, согласовывает свои интересы с интересами партнёров по игре",{"$nulls":39}," все цвета спектра и ахроматические цвета, оттенки","плоские и объемные геометрические фигуры; умеет выделять структуру геометрических фигур и устанавливать взаимосвязи между ними","Ребенок умеет классифицировать фигуры по внешним структурным признаками (округлые, многоугольники)","Ребенок владеет различными способами видоизменения геометрических фигур (наложение, соединение, разрезание и др.)","Ребенок умеет измерять длину, ширину, высоту с помощью условной мерки",{"$nulls":13}," о родном населенном пункте (название улиц, некоторых архитектурных особенностях, достопримечательностях), об истории, о выдающихся горожанах, традициях городской жизни"," о назначении общественных учреждений"," о разных видах специального транспорта"," о местах труда людей (завод, больница, магазин и др.)"," о местах отдыха людей","Ребенок имеет представление о наиболее ярких представителях животных и растений разных природных зон (пустыня, степь, тайга, тундра и др.), об их образе жизни, приспособлении к среде обитания, изменениях в жизни в разные сезоны года","Ребенок имеет представление о многообразии водных ресурсов (моря, океаны, реки, водопады и др.)","Ребенок имеет представление о многообразии полезных ископаемых (нефть, уголь, серебро, золото, алмазы и др.)","Ребенок имеет представление о жизненных потребностях, этапах роста и развития животных и растений",null,"Ребенок имеет представление о некоторых небесных телах (планеты, кометы, звезды)",null,null,"бросание вверх, о землю, ловля двумя руками, одной рукой, перебрасывание, передача, прокатывание, забрасывание, ведение","в цель из положения стоя, вдаль, в движущеюся цель","ползанье на четвереньках, на животе, на спине","влезание на гимнастическую стенку и спуск; перелезание с пролета на пролет по диагонали","лазанье по веревочной лестнице; выполнение упражнений на канате","обычная, гимнастическим шагом, скрестным шагом, спиной вперед, выпадами, с закрытыми глазами","приставными шагами назад, в приседе, с различными движениями рук","в различных построениях","в колонне по одному, врассыпную, парами, тройками, четверками","в сочетание с прыжками, высоко поднимая колени, захлестывая голени назад, выбрасывая прямые ноги вперед","челночный, наперегонки, из разных исходных положений, со скакалкой, по пересеченной местности, с наименьшим числом шагов, медленный, быстрый","подпрыгивания на двух ногах в чередовании с ходьбой, на месте и с поворот кругом","смещая ноги вправо-влево-вперед-назад","выпрыгивание на предметы; подпрыгивания вверх из глубокого приседа; прыжки на одной ноге","в длину с места/с разбега, в высоту с места/с разбега","стойка на носках, стойка на одной ноге с закрытыми глазами","кружение с закрытыми глазами, остановкой и сохранением заданной позы"]
["начало года",{"$f":"'Соц.ком.к 7г ч1 Н.г.'!E30","v":0},{"$f":"'Соц.ком.к 7г ч1 Н.г.'!F30","v":0},{"$f":"'Соц.ком.к 7г ч1 Н.г.'!G30","v":0},{"$f":"'Соц.ком.к 7г ч1 Н.г.'!H30","v":0},{"$f":"'Соц.ком.к 7г ч1 Н.г.'!I30","v":0},{"$f":"'Соц.ком.к 7г ч1 Н.г.'!J30","v":0},{"$f":"'Соц.ком.к 7г ч1 Н.г.'!K30","v":0},{"$f":"'Соц.ком.к 7г ч1 Н.г.'!L30","v":0},{"$f":"'Соц.ком.к 7г ч1 Н.г.'!M30","v":0},{"$f":"'Соц.ком.к 7г ч1 Н.г.'!N30","v":0},{"$f":"'Соц.ком.к 7г ч2 Н.г.'!E30","v":0},{"$f":"'Соц.ком.к 7г ч2 Н.г.'!F30","v":0},{"$f":"'Соц.ком.к 7г ч2 Н.г.'!G30","v":0},{"$f":"'Соц.ком.к 7г ч2 Н.г.'!H30","v":0},{"$f":"'Соц.ком.к 7г ч2 Н.г.'!I30","v":0},{"$f":"'Соц.ком.к 7г ч2 Н.г.'!J30","v":0},{"$f":"'Соц.ком.к 7г ч2 Н.г.'!K30","v":0},{"$f":"'Соц.ком. к 7г ч3 Н.г.'!E30","v":0},{"$f":"'Соц.ком. к 7г ч3 Н.г.'!F30","v":0},{"$f":"'Соц.ком. к 7г ч3 Н.г.'!G30","v":0},{"$f":"'Соц.ком. к 7г ч3 Н.г.'!H30","v":0},{"$f":"'Соц.ком. к 7г ч3 Н.г.'!I30","v":0},{"$f":"'Соц.ком. к 7г ч3 Н.г.'!J30","v":0},{"$f":"'Соц.ком. к 7г ч3 Н.г.'!K30","v":0},{"$f":"'Соц.ком. к 7г ч3 Н.г.'!L30","v":0},{"$f":"'Соц.ком. к 7г ч4 Н.г.'!E30","v":0},{"$f":"'Соц.ком. к 7г ч4 Н.г.'!F30","v":0},{"$f":"'Соц.ком. к 7г ч4 Н.г.'!G30","v":0},{"$f":"'Соц.ком. к 7г ч4 Н.г.'!H30","v":0},{"$f":"'Соц.ком. к 7г ч4 Н.г.'!I30","v":0},{"$f":"'Реч.разв.к 7г ч1 Н.г.'!E30","v":0},{"$f":"'Реч.разв.к 7г ч1 Н.г.'!F30","v":0},{"$f":"'Реч.разв.к 7г ч1 Н.г.'!G30","v":0},{"$f":"'Реч.разв.к 7г ч1 Н.г.'!H30","v":0},{"$f":"'Реч.разв.к 7г ч1 Н.г.'!I30","v":0},{"$f":"'Реч.разв.к 7г ч1 Н.г.'!J30","v":0},{"$f":"'Реч.разв.к 7г ч1 Н.г.'!K30","v":0},{"$f":"'Реч.разв.к 7г ч1 Н.г.'!L30","v":0},{"$f":"'Реч.разв.к 7г ч2 Н.г.'!E30","v":0},{"$f":"'Реч.разв.к 7г ч2 Н.г.'!F30","v":0},{"$f":"'Реч.разв.к 7г ч2 Н.г.'!G30","v":0},{"$f":"'Реч.разв.к 7г ч2 Н.г.'!H30","v":0},{"$f":"'Реч.разв.к 7г ч2 Н.г.'!I30","v":0},{"$f":"'Реч.разв.к 7г ч2 Н.г.'!J30","v":0},{"$f":"'Реч.разв.к 7г ч2 Н.г.'!K30","v":0},{"$f":"'Реч.разв.к 7г ч2 Н.г.'!L30","v":0},{"$f":"'Реч.разв.к 7г ч2 Н.г.'!M30","v":0},{"$f":"'Реч.разв.к 7г ч3. Н.г.'!E30","v":0},{"$f":"'Реч.разв.к 7г ч3. Н.г.'!F30","v":0},{"$f":"'Реч.разв.к 7г ч3. Н.г.'!G30","v":0},{"$f":"'Реч.разв.к 7г ч3. Н.г.'!H30","v":0},{"$f":"'Реч.разв.к 7г ч3. Н.г.'!I30","v":0},{"$f":"'Реч.разв.к 7г ч3. Н.г.'!J30","v":0},{"$f":"'Позн.разв. к 7г ч1. Н.г.'!E31","v":0},{"$f":"'Позн.разв. к 7г ч1. Н.г.'!F31","v":0},{"$f":"'Позн.разв. к 7г ч1. Н.г.'!G31","v":0},{"$f":"'Позн.разв. к 7г ч1. Н.г.'!H31","v":0},{"$f":"'Позн.разв. к 7г ч1. Н.г.'!I31","v":0},{"$f":"'Позн.разв. к 7г ч1. Н.г.'!J31","v":0},{"$f":"'Позн.разв. к 7г ч1. Н.г.'!K31","v":0},{"$f":"'Позн.разв. к 7г ч1. Н.г.'!L31","v":0},{"$f":"'Позн.разв. к 7г ч1. Н.г.'!M31","v":0},{"$f":"'Позн.разв. к 7г ч2. Н.г.'!E31","v":0},{"$f":"'Позн.разв. к 7г ч2. Н.г.'!F31","v":0},{"$f":"'Позн.разв. к 7г ч2. Н.г.'!G31","v":0},{"$f":"'Позн.разв. к 7г ч2. Н.г.'!H31","v":0},{"$f":"'Позн.разв. к 7г ч2. Н.г.'!I31","v":0},{"$f":"'Позн.разв. к 7г ч2. Н.г.'!J31","v":0},{"$f":"'Позн.разв. к 7г ч2. Н.г.'!K31","v":0},{"$f":"'Позн.разв. к 7г ч2. Н.г.'!L31","v":0},{"$f":"'Позн.разв. к 7г ч2. Н.г.'!M31","v":0},{"$f":"'Позн.разв. к 7г ч3. Н.г.'!E31","v":0},{"$f":"'Позн.разв. к 7г ч3. Н.г.'!F31","v":0},{"$f":"'Позн.разв. к 7г ч3. Н.г.'!G31","v":0},{"$f":"'Позн.разв. к 7г ч3. Н.г.'!H31","v":0},{"$f":"'Позн.разв. к 7г ч3. Н.г.'!I31","v":0},{"$f":"'Позн.разв. к 7г ч3. Н.г.'!J31","v":0},{"$f":"'Позн.разв. к 7г ч3. Н.г.'!K31","v":0},{"$f":"'Позн.разв. к 7г ч3. Н.г.'!L31","v":0},{"$f":"'Позн.разв. к 7г ч3. Н.г.'!M31","v":0},{"$f":"'Позн.разв. к 7г ч3. Н.г.'!N31","v":0},{"$f":"'Позн.разв. к 7г ч3. Н.г.'!O31","v":0},{"$f":"'Позн.разв. к 7г ч3. Н.г.'!P31","v":0},{"$f":"'Позн.разв. к 7г ч3. Н.г.'!Q31","v":0},{"$f":"'Физ.разв. к 7г ч1. Н.г.'!E31","v":0},{"$f":"'Физ.разв. к 7г ч1. Н.г.'!F31","v":0},{"$f":"'Физ.разв. к 7г ч1. Н.г.'!G31","v":0},{"$f":"'Физ.разв. к 7г ч1. Н.г.'!H31","v":0},{"$f":"'Физ.разв. к 7г ч1. Н.г.'!I31","v":0},{"$f":"'Физ.разв. к 7г ч1. Н.г.'!J31","v":0},{"$f":"'Физ.разв. к 7г ч1. Н.г.'!K31","v":0},{"$f":"'Физ.разв. к 7г ч1. Н.г.'!L31","v":0},{"$f":"'Физ.разв. к 7г ч1. Н.г.'!M31","v":0},{"$f":"'Физ.разв. к 7г ч1. Н.г.'!N31","v":0},{"$f":"'Физ.разв. к 7г ч1. Н.г.'!O31","v":0},{"$f":"'Физ.разв. к 7г ч1. Н.г.'!P31","v":0},{"$f":"'Физ.разв. к 7г ч1. Н.г.'!Q31","v":0},{"$f":"'Физ.разв. к 7г ч1. Н.г.'!R31","v":0},{"$f":"'Физ.разв. к 7г ч1. Н.г.'!S31","v":0},{"$f":"'Физ.разв. к 7г ч1. Н.г.'!T31","v":0},{"$f":"'Физ.разв. к 7г ч1. Н.г.'!U31","v":0},{"$f":"'Физ.разв. к 7г ч1. Н.г.'!V31","v":0},{"$f":"'Физ.разв. к 7г ч1. Н.г.'!W31","v":0},{"$f":"'Физ.разв. к 7г ч2. Н.г.'!E32","v":0},{"$f":"'Физ.разв. к 7г ч2. Н.г.'!F32","v":0},{"$f":"'Физ.разв. к 7г ч2. Н.г.'!G32","v":0},{"$f":"'Физ.разв. к 7г ч2. Н.г.'!H32","v":0},{"$f":"'Физ.разв. к 7г ч2. Н.г.'!I32","v":0},{"$f":"'Физ.разв. к 7г ч2. Н.г.'!J32","v":0},{"$f":"'Физ.разв. к 7г ч2. Н.г.'!K32","v":0},{"$f":"'Физ.разв. к 7г ч2. Н.г.'!L32","v":0},{"$f":"'Физ.разв. к 7г ч2. Н.г.'!M32","v":0},{"$f":"'Физ.разв. к 7г ч2. Н.г.'!N32","v":0},{"$f":"'Физ.разв. к 7г ч2. Н.г.'!O32","v":0},{"$f":"'Физ.разв. к 7г ч2. Н.г.'!P32","v":0},{"$f":"'Физ.разв. к 7г ч2. Н.г.'!Q32","v":0},{"$f":"'Физ.разв. к 7г ч2. Н.г.'!R32","v":0},{"$f":"'Физ.разв. к 7г ч2. Н.г.'!S32","v":0},{"$f":"'Физ.разв. к 7г ч2. Н.г.'!T32","v":0},{"$f":"'Физ.разв. к 7г ч3. Н.г.'!E32","v":0},{"$f":"'Физ.разв. к 7г ч3. Н.г.'!F32","v":0},{"$f":"'Физ.разв. к 7г ч3. Н.г.'!G32","v":0},{"$f":"'Физ.разв. к 7г ч3. Н.г.'!H32","v":0},{"$f":"'Физ.разв. к 7г ч3. Н.г.'!I32","v":0},{"$f":"'Физ.разв. к 7г ч3. Н.г.'!J32","v":0},{"$f":"'Физ.разв. к 7г ч3. Н.г.'!K32","v":0},{"$f":"'Физ.разв. к 7г ч3. Н.г.'!L32","v":0},{"$f":"'Физ.разв. к 7г ч3. Н.г.'!M32","v":0},{"$f":"'Физ.разв. к 7г ч3. Н.г.'!N32","v":0},{"$f":"'Физ.разв. к 7г ч3. Н.г.'!O32","v":0},{"$f":"'Худ.эст.к 7г ч1. Н.г.'!E31","v":0},{"$f":"'Худ.эст.к 7г ч1. Н.г.'!F31","v":0},{"$f":"'Худ.эст.к 7г ч1. Н.г.'!G31","v":0},{"$f":"'Худ.эст.к 7г ч1. Н.г.'!H31","v":0},{"$f":"'Худ.эст.к 7г ч1. Н.г.'!I31","v":0},{"$f":"'Худ.эст.к 7г ч1. Н.г.'!J31","v":0},{"$f":"'Худ.эст.к 7г ч1. Н.г.'!K31","v":0},{"$f":"'Худ.эст.к 7г ч1. Н.г.'!L31","v":0},{"$f":"'Худ.эст.к 7г ч1. Н.г.'!M31","v":0},{"$f":"'Худ.эст.к 7г ч1. Н.г.'!N31","v":0},{"$f":"'Худ.эст.к 7г ч1. Н.г.'!O31","v":0},{"$f":"'Худ.эст.к 7г ч1. Н.г.'!P31","v":0},{"$f":"'Худ.эст.к 7г ч1. Н.г.'!Q31","v":0},{"$f":"'Худ.эст.к 7г ч2. Н.г.'!E31","v":0},{"$f":"'Худ.эст.к 7г ч2. Н.г.'!F31","v":0},{"$f":"'Худ.эст.к 7г ч2. Н.г.'!G31","v":0},{"$f":"'Худ.эст.к 7г ч2. Н.г.'!H31","v":0},{"$f":"'Худ.эст.к 7г ч2. Н.г.'!I31","v":0},{"$f":"'Худ.эст.к 7г ч2. Н.г.'!J31","v":0},{"$f":"'Худ.эст.к 7г ч2. Н.г.'!K31","v":0},{"$f":"'Худ.эст.к 7г ч2. Н.г.'!L31","v":0},{"$f":"'Худ.эст.к 7г ч2. Н.г.'!M31","v":0},{"$f":"'Худ.эст.к 7г ч2. Н.г.'!N31","v":0},{"$f":"'Худ.эст.к 7г ч2. Н.г.'!O31","v":0},{"$f":"'Худ.эст.к 7г ч2. Н.г.'!P31","v":0},{"$f":"'Худ.эст.к 7г ч2. Н.г.'!Q31","v":0},{"$f":"'Худ.эст.к 7г ч3. Н.г.'!E31","v":0},{"$f":"'Худ.эст.к 7г ч3. Н.г.'!F31","v":0},{"$f":"'Худ.эст.к 7г ч3. Н.г.'!G31","v":0},{"$f":"'Худ.эст.к 7г ч3. Н.г.'!H31","v":0},{"$f":"'Худ.эст.к 7г ч3. Н.г.'!I31","v":0},{"$f":"'Худ.эст.к 7г ч3. Н.г.'!J31","v":0},{"$f":"'Худ.эст.к 7г ч3. Н.г.'!K31","v":0},{"$f":"'Худ.эст.к 7г ч3. Н.г.'!L31","v":0}]
["конец года",{"$f":"'Соц.ком.к 7г ч1 К.г.'!E30","v":0},{"$f":"'Соц.ком.к 7г ч1 К.г.'!F30","v":0},{"$f":"'Соц.ком.к 7г ч1 К.г.'!G30","v":0},{"$f":"'Соц.ком.к 7г ч1 К.г.'!H30","v":0},{"$f":"'Соц.ком.к 7г ч1 К.г.'!I30","v":0},{"$f":"'Соц.ком.к 7г ч1 К.г.'!J30","v":0},{"$f":"'Соц.ком.к 7г ч1 К.г.'!K30","v":0},{"$f":"'Соц.ком.к 7г ч1 К.г.'!L30","v":0},{"$f":"'Соц.ком.к 7г ч1 К.г.'!M30","v":0},{"$f":"'Соц.ком.к 7г ч1 К.г.'!N30","v":0},{"$f":"'Соц.ком.к 7г ч2 К.г.'!E30","v":0},{"$f":"'Соц.ком.к 7г ч2 К.г.'!F30","v":0},{"$f":"'Соц.ком.к 7г ч2 К.г.'!G30","v":0},{"$f":"'Соц.ком.к 7г ч2 К.г.'!H30","v":0},{"$f":"'Соц.ком.к 7г ч2 К.г.'!I30","v":0},{"$f":"'Соц.ком.к 7г ч2 К.г.'!J30","v":0},{"$f":"'Соц.ком.к 7г ч2 К.г.'!K30","v":0},{"$f":"'Соц.ком. к 7г ч3 К.г.'!E30","v":0},{"$f":"'Соц.ком. к 7г ч3 К.г.'!F30","v":0},{"$f":"'Соц.ком. к 7г ч3 К.г.'!G30","v":0},{"$f":"'Соц.ком. к 7г ч3 К.г.'!H30","v":0},{"$f":"'Соц.ком. к 7г ч3 К.г.'!I30","v":0},{"$f":"'Соц.ком. к 7г ч3 К.г.'!J30","v":0},{"$f":"'Соц.ком. к 7г ч3 К.г.'!K30","v":0},{"$f":"'Соц.ком. к 7г ч3 К.г.'!L30","v":0},{"$f":"'Соц.ком. к 7г ч4 К.г.'!E30","v":0},{"$f":"'Соц.ком. к 7г ч4 К.г.'!F30","v":0},{"$f":"'Соц.ком. к 7г ч4 К.г.'!G30","v":0},{"$f":"'Соц.ком. к 7г ч4 К.г.'!H30","v":0},{"$f":"'Соц.ком. к 7г ч4 К.г.'!I30","v":0},{"$f":"'Реч.разв.к 7г ч1 К.г.'!E30","v":0},{"$f":"'Реч.разв.к 7г ч1 К.г.'!F30","v":0},{"$f":"'Реч.разв.к 7г ч1 К.г.'!G30","v":0},{"$f":"'Реч.разв.к 7г ч1 К.г.'!H30","v":0},{"$f":"'Реч.разв.к 7г ч1 К.г.'!I30","v":0},{"$f":"'Реч.разв.к 7г ч1 К.г.'!J30","v":0},{"$f":"'Реч.разв.к 7г ч1 К.г.'!K30","v":0},{"$f":"'Реч.разв.к 7г ч1 К.г.'!L30","v":0},{"$f":"'Реч.разв.к 7г ч2 К.г. '!E30","v":0},{"$f":"'Реч.разв.к 7г ч2 К.г. '!F30","v":0},{"$f":"'Реч.разв.к 7г ч2 К.г. '!G30","v":0},{"$f":"'Реч.разв.к 7г ч2 К.г. '!H30","v":0},{"$f":"'Реч.разв.к 7г ч2 К.г. '!I30","v":0},{"$f":"'Реч.разв.к 7г ч2 К.г. '!J30","v":0},{"$f":"'Реч.разв.к 7г ч2 К.г. '!K30","v":0},{"$f":"'Реч.разв.к 7г ч2 К.г. '!L30","v":0},{"$f":"'Реч.разв.к 7г ч2 К.г. '!M30","v":0},{"$f":"'Реч.разв.к 7г ч3. К.г. '!E30","v":0},{"$f":"'Реч.разв.к 7г ч3. К.г. '!F30","v":0},{"$f":"'Реч.разв.к 7г ч3. К.г. '!G30","v":0},{"$f":"'Реч.разв.к 7г ч3. К.г. '!H30","v":0},{"$f":"'Реч.разв.к 7г ч3. К.г. '!I30","v":0},{"$f":"'Реч.разв.к 7г ч3. К.г. '!J30","v":0},{"$f":"'Позн.разв. к 7г ч1. К.г. '!E31","v":0},{"$f":"'Позн.разв. к 7г ч1. К.г. '!F31","v":0},{"$f":"'Позн.разв. к 7г ч1. К.г. '!G31","v":0},{"$f":"'Позн.разв. к 7г ч1. К.г. '!H31","v":0},{"$f":"'Позн.разв. к 7г ч1. К.г. '!I31","v":0},{"$f":"'Позн.разв. к 7г ч1. К.г. '!J31","v":0},{"$f":"'Позн.разв. к 7г ч1. К.г. '!K31","v":0},{"$f":"'Позн.разв. к 7г ч1. К.г. '!L31","v":0},{"$f":"'Позн.разв. к 7г ч1. К.г. '!M31","v":0},{"$f":"'Позн.разв. к 7г ч2. К.г.'!E31","v":0},{"$f":"'Позн.разв. к 7г ч2. К.г.'!F31","v":0},{"$f":"'Позн.разв. к 7г ч2. К.г.'!G31","v":0},{"$f":"'Позн.разв. к 7г ч2. К.г.'!H31","v":0},{"$f":"'Позн.разв. к 7г ч2. К.г.'!I31","v":0},{"$f":"'Позн.разв. к 7г ч2. К.г.'!J31","v":0},{"$f":"'Позн.разв. к 7г ч2. К.г.'!K31","v":0},{"$f":"'Позн.разв. к 7г ч2. К.г.'!L31","v":0},{"$f":"'Позн.разв. к 7г ч2. К.г.'!M31","v":0},{"$f":"'Позн.разв. к 7г ч3. К.г. '!E31","v":0},{"$f":"'Позн.разв. к 7г ч3. К.г. '!F31","v":0},{"$f":"'Позн.разв. к 7г ч3. К.г. '!G31","v":0},{"$f":"'Позн.разв. к 7г ч3. К.г. '!H31","v":0},{"$f":"'Позн.разв. к 7г ч3. К.г. '!I31","v":0},{"$f":"'Позн.разв. к 7г ч3. К.г. '!J31","v":0},{"$f":"'Позн.разв. к 7г ч3. К.г. '!K31","v":0},{"$f":"'Позн.разв. к 7г ч3. К.г. '!L31","v":0},{"$f":"'Позн.разв. к 7г ч3. К.г. '!M31","v":0},{"$f":"'Позн.разв. к 7г ч3. К.г. '!N31","v":0},{"$f":"'Позн.разв. к 7г ч3. К.г. '!O31","v":0},{"$f":"'Позн.разв. к 7г ч3. К.г. '!P31","v":0},{"$f":"'Позн.разв. к 7г ч3. К.г. '!Q31","v":0},{"$f":"'Физ.разв. к 7г ч1. К.г. '!E31","v":0},{"$f":"'Физ.разв. к 7г ч1. К.г. '!F31","v":0},{"$f":"'Физ.разв. к 7г ч1. К.г. '!G31","v":0},{"$f":"'Физ.разв. к 7г ч1. К.г. '!H31","v":0},{"$f":"'Физ.разв. к 7г ч1. К.г. '!I31","v":0},{"$f":"'Физ.разв. к 7г ч1. К.г. '!J31","v":0},{"$f":"'Физ.разв. к 7г ч1. К.г. '!K31","v":0},{"$f":"'Физ.разв. к 7г ч1. К.г. '!L31","v":0},{"$f":"'Физ.разв. к 7г ч1. К.г. '!M31","v":0},{"$f":"'Физ.разв. к 7г ч1. К.г. '!N31","v":0},{"$f":"'Физ.разв. к 7г ч1. К.г. '!O31","v":0},{"$f":"'Физ.разв. к 7г ч1. К.г. '!P31","v":0},{"$f":"'Физ.разв. к 7г ч1. К.г. '!Q31","v":0},{"$f":"'Физ.разв. к 7г ч1. К.г. '!R31","v":0},{"$f":"'Физ.разв. к 7г ч1. К.г. '!S31","v":0},{"$f":"'Физ.разв. к 7г ч1. К.г. '!T31","v":0},{"$f":"'Физ.разв. к 7г ч1. К.г. '!U31","v":0},{"$f":"'Физ.разв. к 7г ч1. К.г. '!V31","v":0},{"$f":"'Физ.разв. к 7г ч1. К.г. '!W31","v":0},{"$f":"'Физ.разв. к 7г ч2. К.г.'!E32","v":0},{"$f":"'Физ.разв. к 7г ч2. К.г.'!F32","v":0},{"$f":"'Физ.разв. к 7г ч2. К.г.'!G32","v":0},{"$f":"'Физ.разв. к 7г ч2. К.г.'!H32","v":0},{"$f":"'Физ.разв. к 7г ч2. К.г.'!I32","v":0},{"$f":"'Физ.разв. к 7г ч2. К.г.'!J32","v":0},{"$f":"'Физ.разв. к 7г ч2. К.г.'!K32","v":0},{"$f":"'Физ.разв. к 7г ч2. К.г.'!L32","v":0},{"$f":"'Физ.разв. к 7г ч2. К.г.'!M32","v":0},{"$f":"'Физ.разв. к 7г ч2. К.г.'!N32","v":0},{"$f":"'Физ.разв. к 7г ч2. К.г.'!O32","v":0},{"$f":"'Физ.разв. к 7г ч2. К.г.'!P32","v":0},{"$f":"'Физ.разв. к 7г ч2. К.г.'!Q32","v":0},{"$f":"'Физ.разв. к 7г ч2. К.г.'!R32","v":0},{"$f":"'Физ.разв. к 7г ч2. К.г.'!S32","v":0},{"$f":"'Физ.разв. к 7г ч2. К.г.'!T32","v":0},{"$f":"'Физ.разв. к 7г ч3. К.г. '!E32","v":0},{"$f":"'Физ.разв. к 7г ч3. К.г. '!F32","v":0},{"$f":"'Физ.разв. к 7г ч3. К.г. '!G32","v":0},{"$f":"'Физ.разв. к 7г ч3. К.г. '!H32","v":0},{"$f":"'Физ.разв. к 7г ч3. К.г. '!I32","v":0},{"$f":"'Физ.разв. к 7г ч3. К.г. '!J32","v":0},{"$f":"'Физ.разв. к 7г ч3. К.г. '!K32","v":0},{"$f":"'Физ.разв. к 7г ч3. К.г. '!L32","v":0},{"$f":"'Физ.разв. к 7г ч3. К.г. '!M32","v":0},{"$f":"'Физ.разв. к 7г ч3. К.г. '!N32","v":0},{"$f":"'Физ.разв. к 7г ч3. К.г. '!O32","v":0},{"$f":"'Худ.эст.к 7г ч1. К.г. '!E31","v":0},{"$f":"'Худ.эст.к 7г ч1. К.г. '!F31","v":0},{"$f":"'Худ.эст.к 7г ч1. К.г. '!G31","v":0},{"$f":"'Худ.эст.к 7г ч1. К.г. '!H31","v":0},{"$f":"'Худ.эст.к 7г ч1. К.г. '!I31","v":0},{"$f":"'Худ.эст.к 7г ч1. К.г. '!J31","v":0},{"$f":"'Худ.эст.к 7г ч1. К.г. '!K31","v":0},{"$f":"'Худ.эст.к 7г ч1. К.г. '!L31","v":0},{"$f":"'Худ.эст.к 7г ч1. К.г. '!M31","v":0},{"$f":"'Худ.эст.к 7г ч1. К.г. '!N31","v":0},{"$f":"'Худ.эст.к 7г ч1. К.г. '!O31","v":0},{"$f":"'Худ.эст.к 7г ч1. К.г. '!P31","v":0},{"$f":"'Худ.эст.к 7г ч1. К.г. '!Q31","v":0},{"$f":"'Худ.эст.к 7г ч2. К.г. '!E31","v":0},{"$f":"'Худ.эст.к 7г ч2. К.г. '!F31","v":0},{"$f":"'Худ.эст.к 7г ч2. К.г. '!G31","v":0},{"$f":"'Худ.эст.к 7г ч2. К.г. '!H31","v":0},{"$f":"'Худ.эст.к 7г ч2. К.г. '!I31","v":0},{"$f":"'Худ.эст.к 7г ч2. К.г. '!J31","v":0},{"$f":"'Худ.эст.к 7г ч2. К.г. '!K31","v":0},{"$f":"'Худ.эст.к 7г ч2. К.г. '!L31","v":0},{"$f":"'Худ.эст.к 7г ч2. К.г. '!M31","v":0},{"$f":"'Худ.эст.к 7г ч2. К.г. '!N31","v":0},{"$f":"'Худ.эст.к 7г ч2. К.г. '!O31","v":0},{"$f":"'Худ.эст.к 7г ч2. К.г. '!P31","v":0},{"$f":"'Худ.эст.к 7г ч2. К.г. '!Q31","v":0},{"$f":"'Худ.эст.к 7г ч3. К.г. '!E31","v":0},{"$f":"'Худ.эст.к 7г ч3. К.г. '!F31","v":0},{"$f":"'Худ.эст.к 7г ч3. К.г. '!G31","v":0},{"$f":"'Худ.эст.к 7г ч3. К.г. '!H31","v":0},{"$f":"'Худ.эст.к 7г ч3. К.г. '!I31","v":0},{"$f":"'Худ.эст.к 7г ч3. К.г. '!J31","v":0},{"$f":"'Худ.эст.к 7г ч3. К.г. '!K31","v":0},{"$f":"'Худ.эст.к 7г ч3. К.г. '!L31","v":0}]

{"sheet":"21","index":58,"n_rows":7,"n_cols":165,"rows_kept":7,"merged":[[0,104,0,110],[0,111,0,112],[0,113,0,115],[0,116,0,119],[0,120,0,123],[0,124,0,126],[0,127,0,130],[1,54,1,58],[1,59,1,62],[1,63,1,71],[1,72,1,76],[1,77,1,84],[1,104,1,106],[1,107,1,110],[1,111,4,111],[1,112,4,112],[1,113,4,113],[1,114,4,114],[1,115,4,115],[1,116,1,119],[1,120,2,120],[1,121,2,121],[1,122,2,122],[1,123,2,123],[1,124,4,124],[1,125,4,125],[1,126,4,126],[1,127,1,130],[1,131,1,143],[1,144,1,156],[1,157,2,162],[1,163,2,164],[2,18,2,22],[2,23,2,25],[2,26,2,30],[2,32,2,34],[2,35,2,38],[2,40,2,44],[2,45,2,47],[2,48,2,53],[2,55,2,57],[2,59,4,59],[2,60,4,60],[2,61,4,61],[2,62,4,62],[2,63,2,65],[2,66,2,67],[2,68,2,69],[2,72,3,76],[2,77,2,80],[2,81,2,82],[2,83,4,83],[2,84,4,84],[2,85,2,86],[2,87,2,89],[2,90,2,92],[2,93,2,95],[2,96,2,99],[2,100,2,101],[2,102,2,103],[2,104,4,104],[2,105,4,105],[2,106,4,106],[2,107,4,107],[2,108,4,108],[2,109,4,109],[2,110,4,110],[2,116,4,116],[2,117,4,117],[2,118,4,118],[2,119,4,119],[2,127,4,127],[2,128,4,128],[2,129,4,129],[2,130,4,130],[2,135,2,136],[2,137,2,140],[2,141,2,142],[2,143,4,143],[2,144,2,145],[2,146,2,147],[2,148,2,149],[2,151,2,156],[3,0,4,0],[3,1,3,4],[3,7,3,9],[3,11,3,12],[3,13,3,14],[3,15,4,15],[3,16,4,16],[3,17,4,17],[3,18,4,18],[3,19,4,19],[3,20,4,20],[3,21,4,21],[3,22,4,22],[3,23,4,23],[3,24,4,24],[3,25,4,25],[3,26,4,26],[3,27,4,27],[3,28,4,28],[3,29,4,29],[3,30,4,30],[3,31,4,31],[3,32,4,32],[3,33,4,33],[3,34,4,34],[3,35,4,35],[3,36,4,36],[3,37,4,37],[3,38,4,38],[3,39,4,39],[3,40,4,40],[3,41,4,41],[3,42,4,42],[3,43,4,43],[3,44,4,44],[3,45,4,45],[3,46,4,46],[3,47,4,47],[3,48,4,48],[3,49,4,49],[3,50,4,50],[3,51,4,51],[3,52,4,52],[3,53,4,53],[3,54,3,58],[3,63,4,63],[3,64,4,64],[3,65,4,65],[3,66,4,66],[3,67,4,67],[3,68,4,68],[3,69,4,69],[3,70,4,70],[3,71,4,71],[3,81,4,81],[3,85,3,86],[3,87,3,89],[3,90,3,92],[3,93,3,95],[3,96,3,99],[3,100,3,101],[3,102,4,102],[3,103,4,103],[3,120,4,120],[3,121,4,121],[3,122,4,122],[3,123,4,123],[3,131,4,131],[3,132,4,132],[3,133,4,133],[3,134,4,134],[3,135,4,135],[3,136,4,136],[3,137,4,137],[3,138,4,138],[3,139,4,139],[3,140,4,140],[3,141,4,141],[3,142,4,142],[3,144,4,144],[3,145,4,145],[3,146,4,146],[3,147,4,147],[3,148,4,148],[3,149,4,149],[3,150,4,150],[3,151,4,151],[3,152,4,152],[3,153,4,153],[3,154,4,154],[3,155,4,155],[3,156,4,156],[3,157,4,157],[3,158,4,158],[3,159,4,159],[3,160,4,160],[3,161,4,161],[3,162,4,162],[3,163,4,163],[3,164,4,164]]}
[{"$nulls":104},"Мелкая моторика",{"$nulls":6},"Подвижные игры",null,"Спорт. игры",null,null,"Спортивные упражнения",{"$nulls":3},"КГН",{"$nulls":3},"ЗОЖ",null,null,"Спортивные упражнения"]
[{"$nulls":54},"Сенсорные эталоны ",{"$nulls":4},"Познавательные действия",{"$nulls":3},"Математические представления",{"$nulls":8},"Окружающий мир",{"$nulls":4},"Природа ",{"$nulls":26},"Координация рук и глаз",null,null,"Графические навыки",{"$nulls":3},"Ребенок использует в самостоятельной деятельности разнообразные по содержанию подвижные игры, проявляет элементы творчества в двигательной деятельности","Ребенок может организовать знакомые подвижные игры со сверстниками, сплотить команду, стремится внести свой вклад в результат команды","Ребенок владеет элементами спортивных игр (городки, баскетбол, футбол, хоккей, бадминтон, настольный теннис), может контролировать свои движения и управлять ими","Ребенок имеет представление о разных видах спорта (санный спорт, борьба, теннис, синхронное плавание и др.)","Ребенок имеет представление о спортивных событиях и достижениях отечественных спортсменов","Ребенок умеет кататься",{"$nulls":3},"Навыки соблюдения чистоты тела (правила личной гигиены)","Навыки культуры еды (прием пищи) ","Навыки поддержания порядка (правила поведения в быту) ","Навыки ухода за собой (одевание, раздевание) ","Ребенок соблюдает элементарные правила здорового образа жизни и личной гигиены, следит за своей осанкой, может оценить свое самочувствие","Ребенок регулярно выполняет физические упражнения","Ребенок имеет начальные представления о том, что такое здоровье, понимает, как поддержать, укрепить и сохранить его","Ребенок умеет кататься",{"$nulls":3},"Музыкальная деятельность",{"$nulls":12},"Изобразительная деятельность",{"$nulls":12},"Приобщение к искусству",{"$nulls":5},"Конструктивная деятельность"]
[{"$nulls":18},"Область формирования основ гражданственности и патриотизма",{"$nulls":4},"Сфера трудового воспитания",null,null,"Область формирования основ безопасного поведения",{"$nulls":4},"Общее речевое развитие","Формирование словаря",null,null,"Грамматический строй",{"$nulls":3},"Звуковая культура речи","Связная речь",{"$nulls":4},"ЧХЛ",null,null,"Подготовка к обучению грамоте",{"$nulls":5},"Цвет, оттенки","Форма, геометрические фигуры",null,null,"Величина","Ребенок самостоятельно выбирает способ осуществления разных видов познавательной деятельности","Ребенок интересуется субъективно новым и неизвестным в окружающем мире","Ребенок способен применять в жизненных и игровых ситуациях знания о количестве, форме, величине предметов, пространстве, времени","Ребенок имеет разнообразные познавательные умения: определяет противоречия. Формулирует задачу исследования, использует разные способы и средства проверки предположений (сравнение с эталонами, классификацию, систематизацию и др.)","Количество и счет",null,null,"Ориентировка во времени",null,"Ориентировка в пространстве",null,"Пространственно-количественные связи и отношения","Сравнение","Ребенок имеет представления, может показать на картинке и в естественной среде, может рассказать",{"$nulls":4},"Объекты живой природы",{"$nulls":3},"Объекты неживой природы, природные явления",null,"Ребенок стремится к самостоятельному экспериментированию","Ребенок знает правила поведения в природе, проявляет осознанное, бережное отношение к природе и ее ресурсам","Бросание, катание, ловля, метание",null,"Ползанье, лазанье",null,null,"Ходьба",null,null,"Бег",null,null,"Прыжки",{"$nulls":3},"Равновесие",null,"Строевые упражнения",null,"Ребенок выполняет графический диктант","Ребенок обводит по шаблону, по трафарету","Ребенок чертит линии с помощью линейки","Ребенок обводит по контуру, по точкам","Ребенок выполняет штриховку в различных направлениях","Ребенок закрашивает, не выходя за контур","Ребенок свободно владеет карандашом при рисовании округлых линий, завитков в разном направлении",{"$nulls":5},"на санках","на лыжах","на двухколесном велосипеде","на самокате",{"$nulls":7},"на санках","на лыжах","на двухколесном велосипеде","на самокате","Слушание","Пение ","Музыкально-ритмические движения","Песенное творчество","Игра на детских музыкальных инструментах",null,"Театрализованная деятельность",{"$nulls":3},"Танцевально-игровое творчество",null,"У ребенка развит музыкальный вкус, музыкальная память","Рисование ",null,"Лепка ",null,"Аппликация ",null,"Народное ДПИ","Прикладное творчество"]
[{"$f":"Список!B24","v":0},"Отношение к самому себе",{"$nulls":3},"Отношение к сверстникам","Отношение к взрослым","Эмоции",null,null,"Поведение","Семья",null,"Игровое поведение",null,"Ребенок имеет представление об изменениях позиции человека с возрастом","Ребенок имеет представление о школе, школьниках, учителях; стремится к школьному обучению, к познанию, освоению чтения, письма; демонстрирует формированные предпосылки к учебной деятельности и элементы готовности к школьному обучению","Ребенок имеет представление о нравственных качествах людей, их проявлении в поступках и взаимоотношениях","Ребенок имеет представление о признаках и характеристиках государства (территория государства и его границы, столица), атрибутах государственной власти, президенте, столице","Ребенок имеет представление о порядке использования государственной символики","Ребенок имеет представление о волонтерстве","Ребенок имеет представление о государственных праздниках, исторических событиях","Ребенок имеет представление о жизни людей в России, о многообразии стран и народов мира","Ребенок имеет представление об обмене ценностями в процессе производства и потребления товаров и услуг, о денежных отношениях, о реальной стоимости отдельных продуктов питания, игрушек, детских книг","Ребенок имеет представление о об основах финансовой грамоты, основах бережного потребления","Ребенок проявляет инициативность и самостоятельность в процессе самообслуживания, при выполнении трудовых поручений","Ребенок имеет представление о правила безопасного поведения в ситуациях, создающих угрозу жизни и здоровью (погас свет, остался один, потерялся, получил травму)","Ребенок имеет представление о правила безопасного поведения дома, на улице, в природе, в местах большого скопления людей, в магазине, на вокзале, в общественных метах, на праздниках и др.","Ребенок имеет представление о правилах безопасного использования цифровых ресурсов (мобильного телефона, планшета)","Ребенок имеет представление об элементарных правилах оказания первой помощи при первых признаках недомогания, травмах, ушибах","Ребенок проявляет самостоятельность при выполнении правил безопасного поведения","Ребенок владеет речью как средством коммуникации, ведет диалог, владеет коммуникативно-речевыми умениями","Ребенок подбирает точные слова для выражения мысли","Ребенок выполняет операцию классификации – деления освоенных понятий на группы на основе выявленных признаков","Ребенок использует в речи средства языковой выразительности: антонимы, синонимы, многозначные слова, метафоры, олицетворение","Ребенок образует сложные слова посредством слияния основ","Ребенок согласует в речи существительные с числительными, существительные с прилагательными","Ребенок образует по образцу существительные с суффиксами, глаголы с приставками","Ребенок образует в речи сравнительную и превосходную степени имен прилагательных","Ребенок правильно произносит все звуки","Ребенок может пересказать литературное произведение по ролям, близко к тексту, от лица литературного героя","Ребенок может составить описательный рассказ, соблюдая структуру описания","Ребенок может составить повествовательный рассказ по картине, из личного опыта, из коллективного опыта, по набору игрушек, соблюдая структуру повествования","Ребенок может составить рассказ -контаминацию (сочетание описания и повествования, описания и рассуждения)","Ребенок использует в процессе общения объяснительную речь, речь-доказательство, речевое планирование","Ребенок знает и осмысленно воспринимает литературные произведения различных жанров, имеет предпочтения","Ребенок определяет характеры персонажей, мотивы их поведения, оценивает поступки литературных героев","Ребенок проявляет интерес к книгам познавательного характера","Ребенок производит звуковой анализ четырехзвуковых и пятизвуковых слов","Ребенок может интонационно выделить звуки в слове, определить их последовательность, дать им характеристику, составить схему слова, выделить ударный гласный звук в слове","Ребенок может определить количество и последовательность слов в предложении","Ребенок может составить предложение с заданным количеством слов","Ребенок знает названия всех букв","Ребенок читает слоги","Ребенок различает и называет",{"$nulls":8},"Ребенок умеет считать в пределах 10 в прямом и обратном порядке","Ребенок знает состав чисел из двух меньших в пределах первого десятка","Ребенок решает простые арифметические задачи на сложение и вычитание","Ребенок имеет представление о календаре, как системе измерения времени","Ребенок умеет определять время по часам с точностью до четверти часа","Ребенок ориентируется на местности, по схеме, по плану","Ребенок знает способы ориентировки в двухмерном пространстве","Ребенок умеет измерять протяженность, массу и объем с помощью условной мерки; понимает взаимообратные отношения между мерой и результатом измерения","Ребенок сравнивает предметы по 4-6 основаниям с выделением сходства, отличия",{"$nulls":9},"Ребенок имеет представление об использовании человеком свойств неживой природы для хозяйственных нужд (ветряные мельницы, водохранилища, солнечные батареи, ледяные катки)",{"$nulls":3},"Ребенок выполняет различные упражнения с мячом, метание",null,"Ребенок выполняет разные виды ползанья, лазанья ",null,null,"Ребенок выполняет различные виды ходьбы",null,null,"Ребенок выполняет различные виды бега",null,null,"Ребенок выполняет различные виды прыжков",{"$nulls":3},"Ребенок выполняет",null,"Ребенок выполняет разные виды перестроений, построений, передвижений, размыкание и смыкание приставным шагом, повороты","Ребенок может рассчитаться на «первый – второй»",{"$nulls":16},"Ребенок владеет навыками личной гигиены","Ребенок владеет навыками культуры еды","Ребенок владеет навыками поддержания порядка","Ребенок владеет навыками ухода за собой",{"$nulls":7},"У ребенка развит навык восприятия звуков по высоте в пределах квинты-терции","У ребенка развиты певческий голос и вокально-слуховая координация","Ребёнок ритмично и выразительно двигается в соответствие с характером музыки","Ребенок способен самостоятельно придумать мелодию, используя в качестве образца русские народные песни","Ребенок может сыграть простую мелодию на металлофоне, свирели, ударных, и электронных музыкальных инструментах: трещотках, погремушках, треугольниках","Ребенок может исполнить музыкальное произведение в оркестре и в ансамбле","Ребенок проявляет самостоятельность при выборе литературного и музыкального материала для театральной постановки","Ребенок проявляет инициативу при изготовлении атрибутов и декораций к спектаклю","Ребенок имеет представление о средствах погружения в театральные образы (музыка, слова, декорации, грим, костюм и др.)","Ребенок умеет выразительно передавать образы в действии, мимике, пантомимике","Ребенок проявляет активность в доступных видах музыкальной исполнительской деятельности (игра в оркестре, пение, танцевальные движения и др.)","Ребенок помогает придумывать движения, отражающие содержание песни",null,"Ребенок может изобразить предметы по памяти и с натуры, передает их средствами рисунка (форма, пропорции, расположение)","Ребенок способен передавать в рисунке сюжет, строить композицию","Ребенок свободно использует приемы лепки, освоенные ранее (налеп, углубленный рельеф), применяет стеку","Ребенок умеет передавать пропорции, соотношение по величине, выразительность поз, движений, деталей","Ребенок умеет составлять узоры и декоративные композиции из геометрических и растительных элементов на листах бумаги разной формы","Ребенок может выполнить вырезание (симметричное из бумаги, сложенной вдвое; несколько предметов из частей бумаги, сложенной гармошкой)","Ребенок умеет создавать узоры по мотивам народных росписей","Ребенок может сложить бумагу в разных направлениях","Ребенок может сделать разметку с помощью шаблона","Ребенок может выполнить работу по образцу","Ребенок может создать объемную игрушку в технике «оригами»","Ребенок может создать объемную поделку из природного материала","Ребенок может вдеть нитку в иголку, завязать узелок, пришить пуговицу, петельку, выполнить шов «вперед иголка»","Ребенок умеет выделять, называть, группировать произведения по видам искусства: литература, музыка, изобразительное искусство, архитектура, театр, цирк","Ребенок имеет представление о видах изобразительного искусства: графика, декоративно-прикладное искусство, живопись, скульптура, архитектура, фотоискусство","Ребенок имеет представление о жанрах изобразительного искусства: натюрморт, пейзаж, портрет","Ребенок имеет представление о народном искусстве, фольклоре, музыке и художественных промыслах","Ребенок имеет представление о творческих профессиях: художник, композитор, музыкант, актер, артист балета","Ребенок имеет представление о культурно-досуговых местах: театр, музей, библиотека, выставка, кинотеатр, цирк и др.","Ребенок может провести анализ постройки (выделить основные части и характерные детали конструкций)","Ребенок может выполнить постройку по инструкции"]
[null,"Ребенок осознает и признает собственные ошибки, результат поставленных задач, определяет пути развития","Ребенок умеет договариваться и дружить, старается разрешать конфликтные ситуации конструктивными способами","Ребенок способен принимать собственные решения и проявлять инициативу","Ребенок осознанно относится к своему будущему, стремится быть полезным обществу","Ребенок без напоминаний использует в общении формулы словесной вежливости (приветствие, прощание, просьбы, извинения)","Ребенок без напоминаний использует в общении формулы словесной вежливости (приветствие, прощание, просьбы, извинения)","Ребенок понимает чувства и переживания окружающих по невербальным признакам; находит причины и следствия возникновения эмоций, проявляет эмпатию","Ребенок использует социально приемлемые способы проявления эмоций и доступные возрасту регуляции эмоциональных состояний","Ребенок распознает собственные чувства и эмоции, анализирует свои переживания и рассказывает о них","Ребенок самостоятельно соблюдает установленный порядок поведения в группе, регулирует собственную активность","Ребенок имеет представление о необходимости укрепления связи между поколениями, взаимной поддержке детей и взрослых","Ребенок имеет представление о семье, семейных и родственных отношениях (взаимные чувства, правила общения в семье, значимые и памятные события, досуг семьи, семейный бюджет)","Ребенок умеет сотрудничать со сверстниками (побуждает к обсуждению планов, советуется, поддерживает интерес к мнению, инициирует ситуации взаимопомощи, подчеркивает ценность каждого ребенка и его вклад в общее дело, выбирает партнеров по интересам, помогает устанавливать темп совместных действий)","Ребенок владеет разными способами и видами игры, различает условную и реальную ситуации, предлагает и объясняет замысел игры, комбинирует сюжеты на основе реальных, вымышленных ситуаций, выполняет несколько ролей в одной игре, подбирает разные средства для создания игровых образов, согласовывает свои интересы с интересами партнёров по игре",{"$nulls":39}," все цвета спектра и ахроматические цвета, оттенки","плоские и объемные геометрические фигуры; умеет выделять структуру геометрических фигур и устанавливать взаимосвязи между ними","Ребенок умеет классифицировать фигуры по внешним структурным признаками (округлые, многоугольники)","Ребенок владеет различными способами видоизменения геометрических фигур (наложение, соединение, разрезание и др.)","Ребенок умеет измерять длину, ширину, высоту с помощью условной мерки",{"$nulls":13}," о родном населенном пункте (название улиц, некоторых архитектурных особенностях, достопримечательностях), об истории, о выдающихся горожанах, традициях городской жизни"," о назначении общественных учреждений"," о разных видах специального транспорта"," о местах труда людей (завод, больница, магазин и др.)"," о местах отдыха людей","Ребенок имеет представление о наиболее ярких представителях животных и растений разных природных зон (пустыня, степь, тайга, тундра и др.), об их образе жизни, приспособлении к среде обитания, изменениях в жизни в разные сезоны года","Ребенок имеет представление о многообразии водных ресурсов (моря, океаны, реки, водопады и др.)","Ребенок имеет представление о многообразии полезных ископаемых (нефть, уголь, серебро, золото, алмазы и др.)","Ребенок имеет представление о жизненных потребностях, этапах роста и развития животных и растений",null,"Ребенок имеет представление о некоторых небесных телах (планеты, кометы, звезды)",null,null,"бросание вверх, о землю, ловля двумя руками, одной рукой, перебрасывание, передача, прокатывание, забрасывание, ведение","в цель из положения стоя, вдаль, в движущеюся цель","ползанье на четвереньках, на животе, на спине","влезание на гимнастическую стенку и спуск; перелезание с пролета на пролет по диагонали","лазанье по веревочной лестнице; выполнение упражнений на канате","обычная, гимнастическим шагом, скрестным шагом, спиной вперед, выпадами, с закрытыми глазами","приставными шагами назад, в приседе, с различными движениями рук","в различных построениях","в колонне по одному, врассыпную, парами, тройками, четверками","в сочетание с прыжками, высоко поднимая колени, захлестывая голени назад, выбрасывая прямые ноги вперед","челночный, наперегонки, из разных исходных положений, со скакалкой, по пересеченной местности, с наименьшим числом шагов, медленный, быстрый","подпрыгивания на двух ногах в чередовании с ходьбой, на месте и с поворот кругом","смещая ноги вправо-влево-вперед-назад","выпрыгивание на предметы; подпрыгивания вверх из глубокого приседа; прыжки на одной ноге","в длину с места/с разбега, в высоту с места/с разбега","стойка на носках, стойка на одной ноге с закрытыми глазами","кружение с закрытыми глазами, остановкой и сохранением заданной позы"]
["начало года",{"$f":"'Соц.ком.к 7г ч1 Н.г.'!E31","v":0},{"$f":"'Соц.ком.к 7г ч1 Н.г.'!F31","v":0},{"$f":"'Соц.ком.к 7г ч1 Н.г.'!G31","v":0},{"$f":"'Соц.ком.к 7г ч1 Н.г.'!H31","v":0},{"$f":"'Соц.ком.к 7г ч1 Н.г.'!I31","v":0},{"$f":"'Соц.ком.к 7г ч1 Н.г.'!J31","v":0},{"$f":"'Соц.ком.к 7г ч1 Н.г.'!K31","v":0},{"$f":"'Соц.ком.к 7г ч1 Н.г.'!L31","v":0},{"$f":"'Соц.ком.к 7г ч1 Н.г.'!M31","v":0},{"$f":"'Соц.ком.к 7г ч1 Н.г.'!N31","v":0},{"$f":"'Соц.ком.к 7г ч2 Н.г.'!E31","v":0},{"$f":"'Соц.ком.к 7г ч2 Н.г.'!F31","v":0},{"$f":"'Соц.ком.к 7г ч2 Н.г.'!G31","v":0},{"$f":"'Соц.ком.к 7г ч2 Н.г.'!H31","v":0},{"$f":"'Соц.ком.к 7г ч2 Н.г.'!I31","v":0},{"$f":"'Соц.ком.к 7г ч2 Н.г.'!J31","v":0},{"$f":"'Соц.ком.к 7г ч2 Н.г.'!K31","v":0},{"$f":"'Соц.ком. к 7г ч3 Н.г.'!E31","v":0},{"$f":"'Соц.ком. к 7г ч3 Н.г.'!F31","v":0},{"$f":"'Соц.ком. к 7г ч3 Н.г.'!G31","v":0},{"$f":"'Соц.ком. к 7г ч3 Н.г.'!H31","v":0},{"$f":"'Соц.ком. к 7г ч3 Н.г.'!I31","v":0},{"$f":"'Соц.ком. к 7г ч3 Н.г.'!J31","v":0},{"$f":"'Соц.ком. к 7г ч3 Н.г.'!K31","v":0},{"$f":"'Соц.ком. к 7г ч3 Н.г.'!L31","v":0},{"$f":"'Соц.ком. к 7г ч4 Н.г.'!E31","v":0},{"$f":"'Соц.ком. к 7г ч4 Н.г.'!F31","v":0},{"$f":"'Соц.ком. к 7г ч4 Н.г.'!G31","v":0},{"$f":"'Соц.ком. к 7г ч4 Н.г.'!H31","v":0},{"$f":"'Соц.ком. к 7г ч4 Н.г.'!I31","v":0},{"$f":"'Реч.разв.к 7г ч1 Н.г.'!E31","v":0},{"$f":"'Реч.разв.к 7г ч1 Н.г.'!F31","v":0},{"$f":"'Реч.разв.к 7г ч1 Н.г.'!G31","v":0},{"$f":"'Реч.разв.к 7г ч1 Н.г.'!H31","v":0},{"$f":"'Реч.разв.к 7г ч1 Н.г.'!I31","v":0},{"$f":"'Реч.разв.к 7г ч1 Н.г.'!J31","v":0},{"$f":"'Реч.разв.к 7г ч1 Н.г.'!K31","v":0},{"$f":"'Реч.разв.к 7г ч1 Н.г.'!L31","v":0},{"$f":"'Реч.разв.к 7г ч2 Н.г.'!E31","v":0},{"$f":"'Реч.разв.к 7г ч2 Н.г.'!F31","v":0},{"$f":"'Реч.разв.к 7г ч2 Н.г.'!G31","v":0},{"$f":"'Реч.разв.к 7г ч2 Н.г.'!H31","v":0},{"$f":"'Реч.разв.к 7г ч2 Н.г.'!I31","v":0},{"$f":"'Реч.разв.к 7г ч2 Н.г.'!J31","v":0},{"$f":"'Реч.разв.к 7г ч2 Н.г.'!K31","v":0},{"$f":"'Реч.разв.к 7г ч2 Н.г.'!L31","v":0},{"$f":"'Реч.разв.к 7г ч2 Н.г.'!M31","v":0},{"$f":"'Реч.разв.к 7г ч3. Н.г.'!E31","v":0},{"$f":"'Реч.разв.к 7г ч3. Н.г.'!F31","v":0},{"$f":"'Реч.разв.к 7г ч3. Н.г.'!G31","v":0},{"$f":"'Реч.разв.к 7г ч3. Н.г.'!H31","v":0},{"$f":"'Реч.разв.к 7г ч3. Н.г.'!I31","v":0},{"$f":"'Реч.разв.к 7г ч3. Н.г.'!J31","v":0},{"$f":"'Позн.разв. к 7г ч1. Н.г.'!E32","v":0},{"$f":"'Позн.разв. к 7г ч1. Н.г.'!F32","v":0},{"$f":"'Позн.разв. к 7г ч1. Н.г.'!G32","v":0},{"$f":"'Позн.разв. к 7г ч1. Н.г.'!H32","v":0},{"$f":"'Позн.разв. к 7г ч1. Н.г.'!I32","v":0},{"$f":"'Позн.разв. к 7г ч1. Н.г.'!J32","v":0},{"$f":"'Позн.разв. к 7г ч1. Н.г.'!K32","v":0},{"$f":"'Позн.разв. к 7г ч1. Н.г.'!L32","v":0},{"$f":"'Позн.разв. к 7г ч1. Н.г.'!M32","v":0},{"$f":"'Позн.разв. к 7г ч2. Н.г.'!E32","v":0},{"$f":"'Позн.разв. к 7г ч2. Н.г.'!F32","v":0},{"$f":"'Позн.разв. к 7г ч2. Н.г.'!G32","v":0},{"$f":"'Позн.разв. к 7г ч2. Н.г.'!H32","v":0},{"$f":"'Позн.разв. к 7г ч2. Н.г.'!I32","v":0},{"$f":"'Позн.разв. к 7г ч2. Н.г.'!J32","v":0},{"$f":"'Позн.разв. к 7г ч2. Н.г.'!K32","v":0},{"$f":"'Позн.разв. к 7г ч2. Н.г.'!L32","v":0},{"$f":"'Позн.разв. к 7г ч2. Н.г.'!M32","v":0},{"$f":"'Позн.разв. к 7г ч3. Н.г.'!E32","v":0},{"$f":"'Позн.разв. к 7г ч3. Н.г.'!F32","v":0},{"$f":"'Позн.разв. к 7г ч3. Н.г.'!G32","v":0},{"$f":"'Позн.разв. к 7г ч3. Н.г.'!H32","v":0},{"$f":"'Позн.разв. к 7г ч3. Н.г.'!I32","v":0},{"$f":"'Позн.разв. к 7г ч3. Н.г.'!J32","v":0},{"$f":"'Позн.разв. к 7г ч3. Н.г.'!K32","v":0},{"$f":"'Позн.разв. к 7г ч3. Н.г.'!L32","v":0},{"$f":"'Позн.разв. к 7г ч3. Н.г.'!M32","v":0},{"$f":"'Позн.разв. к 7г ч3. Н.г.'!N32","v":0},{"$f":"'Позн.разв. к 7г ч3. Н.г.'!O32","v":0},{"$f":"'Позн.разв. к 7г ч3. Н.г.'!P32","v":0},{"$f":"'Позн.разв. к 7г ч3. Н.г.'!Q32","v":0},{"$f":"'Физ.разв. к 7г ч1. Н.г.'!E32","v":0},{"$f":"'Физ.разв. к 7г ч1. Н.г.'!F32","v":0},{"$f":"'Физ.разв. к 7г ч1. Н.г.'!G32","v":0},{"$f":"'Физ.разв. к 7г ч1. Н.г.'!H32","v":0},{"$f":"'Физ.разв. к 7г ч1. Н.г.'!I32","v":0},{"$f":"'Физ.разв. к 7г ч1. Н.г.'!J32","v":0},{"$f":"'Физ.разв. к 7г ч1. Н.г.'!K32","v":0},{"$f":"'Физ.разв. к 7г ч1. Н.г.'!L32","v":0},{"$f":"'Физ.разв. к 7г ч1. Н.г.'!M32","v":0},{"$f":"'Физ.разв. к 7г ч1. Н.г.'!N32","v":0},{"$f":"'Физ.разв. к 7г ч1. Н.г.'!O32","v":0},{"$f":"'Физ.разв. к 7г ч1. Н.г.'!P32","v":0},{"$f":"'Физ.разв. к 7г ч1. Н.г.'!Q32","v":0},{"$f":"'Физ.разв. к 7г ч1. Н.г.'!R32","v":0},{"$f":"'Физ.разв. к 7г ч1. Н.г.'!S32","v":0},{"$f":"'Физ.разв. к 7г ч1. Н.г.'!T32","v":0},{"$f":"'Физ.разв. к 7г ч1. Н.г.'!U32","v":0},{"$f":"'Физ.разв. к 7г ч1. Н.г.'!V32","v":0},{"$f":"'Физ.разв. к 7г ч1. Н.г.'!W32","v":0},{"$f":"'Физ.разв. к 7г ч2. Н.г.'!E33","v":0},{"$f":"'Физ.разв. к 7г ч2. Н.г.'!F33","v":0},{"$f":"'Физ.разв. к 7г ч2. Н.г.'!G33","v":0},{"$f":"'Физ.разв. к 7г ч2. Н.г.'!H33","v":0},{"$f":"'Физ.разв. к 7г ч2. Н.г.'!I33","v":0},{"$f":"'Физ.разв. к 7г ч2. Н.г.'!J33","v":0},{"$f":"'Физ.разв. к 7г ч2. Н.г.'!K33","v":0},{"$f":"'Физ.разв. к 7г ч2. Н.г.'!L33","v":0},{"$f":"'Физ.разв. к 7г ч2. Н.г.'!M33","v":0},{"$f":"'Физ.разв. к 7г ч2. Н.г.'!N33","v":0},{"$f":"'Физ.разв. к 7г ч2. Н.г.'!O33","v":0},{"$f":"'Физ.разв. к 7г ч2. Н.г.'!P33","v":0},{"$f":"'Физ.разв. к 7г ч2. Н.г.'!Q33","v":0},{"$f":"'Физ.разв. к 7г ч2. Н.г.'!R33","v":0},{"$f":"'Физ.разв. к 7г ч2. Н.г.'!S33","v":0},{"$f":"'Физ.разв. к 7г ч2. Н.г.'!T33","v":0},{"$f":"'Физ.разв. к 7г ч3. Н.г.'!E33","v":0},{"$f":"'Физ.разв. к 7г ч3. Н.г.'!F33","v":0},{"$f":"'Физ.разв. к 7г ч3. Н.г.'!G33","v":0},{"$f":"'Физ.разв. к 7г ч3. Н.г.'!H33","v":0},{"$f":"'Физ.разв. к 7г ч3. Н.г.'!I33","v":0},{"$f":"'Физ.разв. к 7г ч3. Н.г.'!J33","v":0},{"$f":"'Физ.разв. к 7г ч3. Н.г.'!K33","v":0},{"$f":"'Физ.разв. к 7г ч3. Н.г.'!L33","v":0},{"$f":"'Физ.разв. к 7г ч3. Н.г.'!M33","v":0},{"$f":"'Физ.разв. к 7г ч3. Н.г.'!N33","v":0},{"$f":"'Физ.разв. к 7г ч3. Н.г.'!O33","v":0},{"$f":"'Худ.эст.к 7г ч1. Н.г.'!E32","v":0},{"$f":"'Худ.эст.к 7г ч1. Н.г.'!F32","v":0},{"$f":"'Худ.эст.к 7г ч1. Н.г.'!G32","v":0},{"$f":"'Худ.эст.к 7г ч1. Н.г.'!H32","v":0},{"$f":"'Худ.эст.к 7г ч1. Н.г.'!I32","v":0},{"$f":"'Худ.эст.к 7г ч1. Н.г.'!J32","v":0},{"$f":"'Худ.эст.к 7г ч1. Н.г.'!K32","v":0},{"$f":"'Худ.эст.к 7г ч1. Н.г.'!L32","v":0},{"$f":"'Худ.эст.к 7г ч1. Н.г.'!M32","v":0},{"$f":"'Худ.эст.к 7г ч1. Н.г.'!N32","v":0},{"$f":"'Худ.эст.к 7г ч1. Н.г.'!O32","v":0},{"$f":"'Худ.эст.к 7г ч1. Н.г.'!P32","v":0},{"$f":"'Худ.эст.к 7г ч1. Н.г.'!Q32","v":0},{"$f":"'Худ.эст.к 7г ч2. Н.г.'!E32","v":0},{"$f":"'Худ.эст.к 7г ч2. Н.г.'!F32","v":0},{"$f":"'Худ.эст.к 7г ч2. Н.г.'!G32","v":0},{"$f":"'Худ.эст.к 7г ч2. Н.г.'!H32","v":0},{"$f":"'Худ.эст.к 7г ч2. Н.г.'!I32","v":0},{"$f":"'Худ.эст.к 7г ч2. Н.г.'!J32","v":0},{"$f":"'Худ.эст.к 7г ч2. Н.г.'!K32","v":0},{"$f":"'Худ.эст.к 7г ч2. Н.г.'!L32","v":0},{"$f":"'Худ.эст.к 7г ч2. Н.г.'!M32","v":0},{"$f":"'Худ.эст.к 7г ч2. Н.г.'!N32","v":0},{"$f":"'Худ.эст.к 7г ч2. Н.г.'!O32","v":0},{"$f":"'Худ.эст.к 7г ч2. Н.г.'!P32","v":0},{"$f":"'Худ.эст.к 7г ч2. Н.г.'!Q32","v":0},{"$f":"'Худ.эст.к 7г ч3. Н.г.'!E32","v":0},{"$f":"'Худ.эст.к 7г ч3. Н.г.'!F32","v":0},{"$f":"'Худ.эст.к 7г ч3. Н.г.'!G32","v":0},{"$f":"'Худ.эст.к 7г ч3. Н.г.'!H32","v":0},{"$f":"'Худ.эст.к 7г ч3. Н.г.'!I32","v":0},{"$f":"'Худ.эст.к 7г ч3. Н.г.'!J32","v":0},{"$f":"'Худ.эст.к 7г ч3. Н.г.'!K32","v":0},{"$f":"'Худ.эст.к 7г ч3. Н.г.'!L32","v":0}]
["конец года",{"$f":"'Соц.ком.к 7г ч1 К.г.'!E31","v":0},{"$f":"'Соц.ком.к 7г ч1 К.г.'!F31","v":0},{"$f":"'Соц.ком.к 7г ч1 К.г.'!G31","v":0},{"$f":"'Соц.ком.к 7г ч1 К.г.'!H31","v":0},{"$f":"'Соц.ком.к 7г ч1 К.г.'!I31","v":0},{"$f":"'Соц.ком.к 7г ч1 К.г.'!J31","v":0},{"$f":"'Соц.ком.к 7г ч1 К.г.'!K31","v":0},{"$f":"'Соц.ком.к 7г ч1 К.г.'!L31","v":0},{"$f":"'Соц.ком.к 7г ч1 К.г.'!M31","v":0},{"$f":"'Соц.ком.к 7г ч1 К.г.'!N31","v":0},{"$f":"'Соц.ком.к 7г ч2 К.г.'!E31","v":0},{"$f":"'Соц.ком.к 7г ч2 К.г.'!F31","v":0},{"$f":"'Соц.ком.к 7г ч2 К.г.'!G31","v":0},{"$f":"'Соц.ком.к 7г ч2 К.г.'!H31","v":0},{"$f":"'Соц.ком.к 7г ч2 К.г.'!I31","v":0},{"$f":"'Соц.ком.к 7г ч2 К.г.'!J31","v":0},{"$f":"'Соц.ком.к 7г ч2 К.г.'!K31","v":0},{"$f":"'Соц.ком. к 7г ч3 К.г.'!E31","v":0},{"$f":"'Соц.ком. к 7г ч3 К.г.'!F31","v":0},{"$f":"'Соц.ком. к 7г ч3 К.г.'!G31","v":0},{"$f":"'Соц.ком. к 7г ч3 К.г.'!H31","v":0},{"$f":"'Соц.ком. к 7г ч3 К.г.'!I31","v":0},{"$f":"'Соц.ком. к 7г ч3 К.г.'!J31","v":0},{"$f":"'Соц.ком. к 7г ч3 К.г.'!K31","v":0},{"$f":"'Соц.ком. к 7г ч3 К.г.'!L31","v":0},{"$f":"'Соц.ком. к 7г ч4 К.г.'!E31","v":0},{"$f":"'Соц.ком. к 7г ч4 К.г.'!F31","v":0},{"$f":"'Соц.ком. к 7г ч4 К.г.'!G31","v":0},{"$f":"'Соц.ком. к 7г ч4 К.г.'!H31","v":0},{"$f":"'Соц.ком. к 7г ч4 К.г.'!I31","v":0},{"$f":"'Реч.разв.к 7г ч1 К.г.'!E31","v":0},{"$f":"'Реч.разв.к 7г ч1 К.г.'!F31","v":0},{"$f":"'Реч.разв.к 7г ч1 К.г.'!G31","v":0},{"$f":"'Реч.разв.к 7г ч1 К.г.'!H31","v":0},{"$f":"'Реч.разв.к 7г ч1 К.г.'!I31","v":0},{"$f":"'Реч.разв.к 7г ч1 К.г.'!J31","v":0},{"$f":"'Реч.разв.к 7г ч1 К.г.'!K31","v":0},{"$f":"'Реч.разв.к 7г ч1 К.г.'!L31","v":0},{"$f":"'Реч.разв.к 7г ч2 К.г. '!E31","v":0},{"$f":"'Реч.разв.к 7г ч2 К.г. '!F31","v":0},{"$f":"'Реч.разв.к 7г ч2 К.г. '!G31","v":0},{"$f":"'Реч.разв.к 7г ч2 К.г. '!H31","v":0},{"$f":"'Реч.разв.к 7г ч2 К.г. '!I31","v":0},{"$f":"'Реч.разв.к 7г ч2 К.г. '!J31","v":0},{"$f":"'Реч.разв.к 7г ч2 К.г. '!K31","v":0},{"$f":"'Реч.разв.к 7г ч2 К.г. '!L31","v":0},{"$f":"'Реч.разв.к 7г ч2 К.г. '!M31","v":0},{"$f":"'Реч.разв.к 7г ч3. К.г. '!E31","v":0},{"$f":"'Реч.разв.к 7г ч3. К.г. '!F31","v":0},{"$f":"'Реч.разв.к 7г ч3. К.г. '!G31","v":0},{"$f":"'Реч.разв.к 7г ч3. К.г. '!H31","v":0},{"$f":"'Реч.разв.к 7г ч3. К.г. '!I31","v":0},{"$f":"'Реч.разв.к 7г ч3. К.г. '!J31","v":0},{"$f":"'Позн.разв. к 7г ч1. К.г. '!E32","v":0},{"$f":"'Позн.разв. к 7г ч1. К.г. '!F32","v":0},{"$f":"'Позн.разв. к 7г ч1. К.г. '!G32","v":0},{"$f":"'Позн.разв. к 7г ч1. К.г. '!H32","v":0},{"$f":"'Позн.разв. к 7г ч1. К.г. '!I32","v":0},{"$f":"'Позн.разв. к 7г ч1. К.г. '!J32","v":0},{"$f":"'Позн.разв. к 7г ч1. К.г. '!K32","v":0},{"$f":"'Позн.разв. к 7г ч1. К.г. '!L32","v":0},{"$f":"'Позн.разв. к 7г ч1. К.г. '!M32","v":0},{"$f":"'Позн.разв. к 7г ч2. К.г.'!E32","v":0},{"$f":"'Позн.разв. к 7г ч2. К.г.'!F32","v":0},{"$f":"'Позн.разв. к 7г ч2. К.г.'!G32","v":0},{"$f":"'Позн.разв. к 7г ч2. К.г.'!H32","v":0},{"$f":"'Позн.разв. к 7г ч2. К.г.'!I32","v":0},{"$f":"'Позн.разв. к 7г ч2. К.г.'!J32","v":0},{"$f":"'Позн.разв. к 7г ч2. К.г.'!K32","v":0},{"$f":"'Позн.разв. к 7г ч2. К.г.'!L32","v":0},{"$f":"'Позн.разв. к 7г ч2. К.г.'!M32","v":0},{"$f":"'Позн.разв. к 7г ч3. К.г. '!E32","v":0},{"$f":"'Позн.разв. к 7г ч3. К.г. '!F32","v":0},{"$f":"'Позн.разв. к 7г ч3. К.г. '!G32","v":0},{"$f":"'Позн.разв. к 7г ч3. К.г. '!H32","v":0},{"$f":"'Позн.разв. к 7г ч3. К.г. '!I32","v":0},{"$f":"'Позн.разв. к 7г ч3. К.г. '!J32","v":0},{"$f":"'Позн.разв. к 7г ч3. К.г. '!K32","v":0},{"$f":"'Позн.разв. к 7г ч3. К.г. '!L32","v":0},{"$f":"'Позн.разв. к 7г ч3. К.г. '!M32","v":0},{"$f":"'Позн.разв. к 7г ч3. К.г. '!N32","v":0},{"$f":"'Позн.разв. к 7г ч3. К.г. '!O32","v":0},{"$f":"'Позн.разв. к 7г ч3. К.г. '!P32","v":0},{"$f":"'Позн.разв. к 7г ч3. К.г. '!Q32","v":0},{"$f":"'Физ.разв. к 7г ч1. К.г. '!E32","v":0},{"$f":"'Физ.разв. к 7г ч1. К.г. '!F32","v":0},{"$f":"'Физ.разв. к 7г ч1. К.г. '!G32","v":0},{"$f":"'Физ.разв. к 7г ч1. К.г. '!H32","v":0},{"$f":"'Физ.разв. к 7г ч1. К.г. '!I32","v":0},{"$f":"'Физ.разв. к 7г ч1. К.г. '!J32","v":0},{"$f":"'Физ.разв. к 7г ч1. К.г. '!K32","v":0},{"$f":"'Физ.разв. к 7г ч1. К.г. '!L32","v":0},{"$f":"'Физ.разв. к 7г ч1. К.г. '!M32","v":0},{"$f":"'Физ.разв. к 7г ч1. К.г. '!N32","v":0},{"$f":"'Физ.разв. к 7г ч1. К.г. '!O32","v":0},{"$f":"'Физ.разв. к 7г ч1. К.г. '!P32","v":0},{"$f":"'Физ.разв. к 7г ч1. К.г. '!Q32","v":0},{"$f":"'Физ.разв. к 7г ч1. К.г. '!R32","v":0},{"$f":"'Физ.разв. к 7г ч1. К.г. '!S32","v":0},{"$f":"'Физ.разв. к 7г ч1. К.г. '!T32","v":0},{"$f":"'Физ.разв. к 7г ч1. К.г. '!U32","v":0},{"$f":"'Физ.разв. к 7г ч1. К.г. '!V32","v":0},{"$f":"'Физ.разв. к 7г ч1. К.г. '!W32","v":0},{"$f":"'Физ.разв. к 7г ч2. К.г.'!E33","v":0},{"$f":"'Физ.разв. к 7г ч2. К.г.'!F33","v":0},{"$f":"'Физ.разв. к 7г ч2. К.г.'!G33","v":0},{"$f":"'Физ.разв. к 7г ч2. К.г.'!H33","v":0},{"$f":"'Физ.разв. к 7г ч2. К.г.'!I33","v":0},{"$f":"'Физ.разв. к 7г ч2. К.г.'!J33","v":0},{"$f":"'Физ.разв. к 7г ч2. К.г.'!K33","v":0},{"$f":"'Физ.разв. к 7г ч2. К.г.'!L33","v":0},{"$f":"'Физ.разв. к 7г ч2. К.г.'!M33","v":0},{"$f":"'Физ.разв. к 7г ч2. К.г.'!N33","v":0},{"$f":"'Физ.разв. к 7г ч2. К.г.'!O33","v":0},{"$f":"'Физ.разв. к 7г ч2. К.г.'!P33","v":0},{"$f":"'Физ.разв. к 7г ч2. К.г.'!Q33","v":0},{"$f":"'Физ.разв. к 7г ч2. К.г.'!R33","v":0},{"$f":"'Физ.разв. к 7г ч2. К.г.'!S33","v":0},{"$f":"'Физ.разв. к 7г ч2. К.г.'!T33","v":0},{"$f":"'Физ.разв. к 7г ч3. К.г. '!E33","v":0},{"$f":"'Физ.разв. к 7г ч3. К.г. '!F33","v":0},{"$f":"'Физ.разв. к 7г ч3. К.г. '!G33","v":0},{"$f":"'Физ.разв. к 7г ч3. К.г. '!H33","v":0},{"$f":"'Физ.разв. к 7г ч3. К.г. '!I33","v":0},{"$f":"'Физ.разв. к 7г ч3. К.г. '!J33","v":0},{"$f":"'Физ.разв. к 7г ч3. К.г. '!K33","v":0},{"$f":"'Физ.разв. к 7г ч3. К.г. '!L33","v":0},{"$f":"'Физ.разв. к 7г ч3. К.г. '!M33","v":0},{"$f":"'Физ.разв. к 7г ч3. К.г. '!N33","v":0},{"$f":"'Физ.разв. к 7г ч3. К.г. '!O33","v":0},{"$f":"'Худ.эст.к 7г ч1. К.г. '!E32","v":0},{"$f":"'Худ.эст.к 7г ч1. К.г. '!F32","v":0},{"$f":"'Худ.эст.к 7г ч1. К.г. '!G32","v":0},{"$f":"'Худ.эст.к 7г ч1. К.г. '!H32","v":0},{"$f":"'Худ.эст.к 7г ч1. К.г. '!I32","v":0},{"$f":"'Худ.эст.к 7г ч1. К.г. '!J32","v":0},{"$f":"'Худ.эст.к 7г ч1. К.г. '!K32","v":0},{"$f":"'Худ.эст.к 7г ч1. К.г. '!L32","v":0},{"$f":"'Худ.эст.к 7г ч1. К.г. '!M32","v":0},{"$f":"'Худ.эст.к 7г ч1. К.г. '!N32","v":0},{"$f":"'Худ.эст.к 7г ч1. К.г. '!O32","v":0},{"$f":"'Худ.эст.к 7г ч1. К.г. '!P32","v":0},{"$f":"'Худ.эст.к 7г ч1. К.г. '!Q32","v":0},{"$f":"'Худ.эст.к 7г ч2. К.г. '!E32","v":0},{"$f":"'Худ.эст.к 7г ч2. К.г. '!F32","v":0},{"$f":"'Худ.эст.к 7г ч2. К.г. '!G32","v":0},{"$f":"'Худ.эст.к 7г ч2. К.г. '!H32","v":0},{"$f":"'Худ.эст.к 7г ч2. К.г. '!I32","v":0},{"$f":"'Худ.эст.к 7г ч2. К.г. '!J32","v":0},{"$f":"'Худ.эст.к 7г ч2. К.г. '!K32","v":0},{"$f":"'Худ.эст.к 7г ч2. К.г. '!L32","v":0},{"$f":"'Худ.эст.к 7г ч2. К.г. '!M32","v":0},{"$f":"'Худ.эст.к 7г ч2. К.г. '!N32","v":0},{"$f":"'Худ.эст.к 7г ч2. К.г. '!O32","v":0},{"$f":"'Худ.эст.к 7г ч2. К.г. '!P32","v":0},{"$f":"'Худ.эст.к 7г ч2. К.г. '!Q32","v":0},{"$f":"'Худ.эст.к 7г ч3. К.г. '!E32","v":0},{"$f":"'Худ.эст.к 7г ч3. К.г. '!F32","v":0},{"$f":"'Худ.эст.к 7г ч3. К.г. '!G32","v":0},{"$f":"'Худ.эст.к 7г ч3. К.г. '!H32","v":0},{"$f":"'Худ.эст.к 7г ч3. К.г. '!I32","v":0},{"$f":"'Худ.эст.к 7г ч3. К.г. '!J32","v":0},{"$f":"'Худ.эст.к 7г ч3. К.г. '!K32","v":0},{"$f":"'Худ.эст.к 7г ч3. К.г. '!L32","v":0}]

{"sheet":"22","index":59,"n_rows":7,"n_cols":165,"rows_kept":7,"merged":[[0,104,0,110],[0,111,0,112],[0,113,0,115],[0,116,0,119],[0,120,0,123],[0,124,0,126],[0,127,0,130],[1,54,1,58],[1,59,1,62],[1,63,1,71],[1,72,1,76],[1,77,1,84],[1,104,1,106],[1,107,1,110],[1,111,4,111],[1,112,4,112],[1,113,4,113],[1,114,4,114],[1,115,4,115],[1,116,1,119],[1,120,2,120],[1,121,2,121],[1,122,2,122],[1,123,2,123],[1,124,4,124],[1,125,4,125],[1,126,4,126],[1,127,1,130],[1,131,1,143],[1,144,1,156],[1,157,2,162],[1,163,2,164],[2,18,2,22],[2,23,2,25],[2,26,2,30],[2,32,2,34],[2,35,2,38],[2,40,2,44],[2,45,2,47],[2,48,2,53],[2,55,2,57],[2,59,4,59],[2,60,4,60],[2,61,4,61],[2,62,4,62],[2,63,2,65],[2,66,2,67],[2,68,2,69],[2,72,3,76],[2,77,2,80],[2,81,2,82],[2,83,4,83],[2,84,4,84],[2,85,2,86],[2,87,2,89],[2,90,2,92],[2,93,2,95],[2,96,2,99],[2,100,2,101],[2,102,2,103],[2,104,4,104],[2,105,4,105],[2,106,4,106],[2,107,4,107],[2,108,4,108],[2,109,4,109],[2,110,4,110],[2,116,4,116],[2,117,4,117],[2,118,4,118],[2,119,4,119],[2,127,4,127],[2,128,4,128],[2,129,4,129],[2,130,4,130],[2,135,2,136],[2,137,2,140],[2,141,2,142],[2,143,4,143],[2,144,2,145],[2,146,2,147],[2,148,2,149],[2,151,2,156],[3,0,4,0],[3,1,3,4],[3,7,3,9],[3,11,3,12],[3,13,3,14],[3,15,4,15],[3,16,4,16],[3,17,4,17],[3,18,4,18],[3,19,4,19],[3,20,4,20],[3,21,4,21],[3,22,4,22],[3,23,4,23],[3,24,4,24],[3,25,4,25],[3,26,4,26],[3,27,4,27],[3,28,4,28],[3,29,4,29],[3,30,4,30],[3,31,4,31],[3,32,4,32],[3,33,4,33],[3,34,4,34],[3,35,4,35],[3,36,4,36],[3,37,4,37],[3,38,4,38],[3,39,4,39],[3,40,4,40],[3,41,4,41],[3,42,4,42],[3,43,4,43],[3,44,4,44],[3,45,4,45],[3,46,4,46],[3,47,4,47],[3,48,4,48],[3,49,4,49],[3,50,4,50],[3,51,4,51],[3,52,4,52],[3,53,4,53],[3,54,3,58],[3,63,4,63],[3,64,4,64],[3,65,4,65],[3,66,4,66],[3,67,4,67],[3,68,4,68],[3,69,4,69],[3,70,4,70],[3,71,4,71],[3,81,4,81],[3,85,3,86],[3,87,3,89],[3,90,3,92],[3,93,3,95],[3,96,3,99],[3,100,3,101],[3,102,4,102],[3,103,4,103],[3,120,4,120],[3,121,4,121],[3,122,4,122],[3,123,4,123],[3,131,4,131],[3,132,4,132],[3,133,4,133],[3,134,4,134],[3,135,4,135],[3,136,4,136],[3,137,4,137],[3,138,4,138],[3,139,4,139],[3,140,4,140],[3,141,4,141],[3,142,4,142],[3,144,4,144],[3,145,4,145],[3,146,4,146],[3,147,4,147],[3,148,4,148],[3,149,4,149],[3,150,4,150],[3,151,4,151],[3,152,4,152],[3,153,4,153],[3,154,4,154],[3,155,4,155],[3,156,4,156],[3,157,4,157],[3,158,4,158],[3,159,4,159],[3,160,4,160],[3,161,4,161],[3,162,4,162],[3,163,4,163],[3,164,4,164]]}
[{"$nulls":104},"Мелкая моторика",{"$nulls":6},"Подвижные игры",null,"Спорт. игры",null,null,"Спортивные упражнения",{"$nulls":3},"КГН",{"$nulls":3},"ЗОЖ",null,null,"Спортивные упражнения"]
[{"$nulls":54},"Сенсорные эталоны ",{"$nulls":4},"Познавательные действия",{"$nulls":3},"Математические представления",{"$nulls":8},"Окружающий мир",{"$nulls":4},"Природа ",{"$nulls":26},"Координация рук и глаз",null,null,"Графические навыки",{"$nulls":3},"Ребенок использует в самостоятельной деятельности разнообразные по содержанию подвижные игры, проявляет элементы творчества в двигательной деятельности","Ребенок может организовать знакомые подвижные игры со сверстниками, сплотить команду, стремится внести свой вклад в результат команды","Ребенок владеет элементами спортивных игр (городки, баскетбол, футбол, хоккей, бадминтон, настольный теннис), может контролировать свои движения и управлять ими","Ребенок имеет представление о разных видах спорта (санный спорт, борьба, теннис, синхронное плавание и др.)","Ребенок имеет представление о спортивных событиях и достижениях отечественных спортсменов","Ребенок умеет кататься",{"$nulls":3},"Навыки соблюдения чистоты тела (правила личной гигиены)","Навыки культуры еды (прием пищи) ","Навыки поддержания порядка (правила поведения в быту) ","Навыки ухода за собой (одевание, раздевание) ","Ребенок соблюдает элементарные правила здорового образа жизни и личной гигиены, следит за своей осанкой, может оценить свое самочувствие","Ребенок регулярно выполняет физические упражнения","Ребенок имеет начальные представления о том, что такое здоровье, понимает, как поддержать, укрепить и сохранить его","Ребенок умеет кататься",{"$nulls":3},"Музыкальная деятельность",{"$nulls":12},"Изобразительная деятельность",{"$nulls":12},"Приобщение к искусству",{"$nulls":5},"Конструктивная деятельность"]
[{"$nulls":18},"Область формирования основ гражданственности и патриотизма",{"$nulls":4},"Сфера трудового воспитания",null,null,"Область формирования основ безопасного поведения",{"$nulls":4},"Общее речевое развитие","Формирование словаря",null,null,"Грамматический строй",{"$nulls":3},"Звуковая культура речи","Связная речь",{"$nulls":4},"ЧХЛ",null,null,"Подготовка к обучению грамоте",{"$nulls":5},"Цвет, оттенки","Форма, геометрические фигуры",null,null,"Величина","Ребенок самостоятельно выбирает способ осуществления разных видов познавательной деятельности","Ребенок интересуется субъективно новым и неизвестным в окружающем мире","Ребенок способен применять в жизненных и игровых ситуациях знания о количестве, форме, величине предметов, пространстве, времени","Ребенок имеет разнообразные познавательные умения: определяет противоречия. Формулирует задачу исследования, использует разные способы и средства проверки предположений (сравнение с эталонами, классификацию, систематизацию и др.)","Количество и счет",null,null,"Ориентировка во времени",null,"Ориентировка в пространстве",null,"Пространственно-количественные связи и отношения","Сравнение","Ребенок имеет представления, может показать на картинке и в естественной среде, может рассказать",{"$nulls":4},"Объекты живой природы",{"$nulls":3},"Объекты неживой природы, природные явления",null,"Ребенок стремится к самостоятельному экспериментированию","Ребенок знает правила поведения в природе, проявляет осознанное, бережное отношение к природе и ее ресурсам","Бросание, катание, ловля, метание",null,"Ползанье, лазанье",null,null,"Ходьба",null,null,"Бег",null,null,"Прыжки",{"$nulls":3},"Равновесие",null,"Строевые упражнения",null,"Ребенок выполняет графический диктант","Ребенок обводит по шаблону, по трафарету","Ребенок чертит линии с помощью линейки","Ребенок обводит по контуру, по точкам","Ребенок выполняет штриховку в различных направлениях","Ребенок закрашивает, не выходя за контур","Ребенок свободно владеет карандашом при рисовании округлых линий, завитков в разном направлении",{"$nulls":5},"на санках","на лыжах","на двухколесном велосипеде","на самокате",{"$nulls":7},"на санках","на лыжах","на двухколесном велосипеде","на самокате","Слушание","Пение ","Музыкально-ритмические движения","Песенное творчество","Игра на детских музыкальных инструментах",null,"Театрализованная деятельность",{"$nulls":3},"Танцевально-игровое творчество",null,"У ребенка развит музыкальный вкус, музыкальная память","Рисование ",null,"Лепка ",null,"Аппликация ",null,"Народное ДПИ","Прикладное творчество"]
[{"$f":"Список!B25","v":0},"Отношение к самому себе",{"$nulls":3},"Отношение к сверстникам","Отношение к взрослым","Эмоции",null,null,"Поведение","Семья",null,"Игровое поведение",null,"Ребенок имеет представление об изменениях позиции человека с возрастом","Ребенок имеет представление о школе, школьниках, учителях; стремится к школьному обучению, к познанию, освоению чтения, письма; демонстрирует формированные предпосылки к учебной деятельности и элементы готовности к школьному обучению","Ребенок имеет представление о нравственных качествах людей, их проявлении в поступках и взаимоотношениях","Ребенок имеет представление о признаках и характеристиках государства (территория государства и его границы, столица), атрибутах государственной власти, президенте, столице","Ребенок имеет представление о порядке использования государственной символики","Ребенок имеет представление о волонтерстве","Ребенок имеет представление о государственных праздниках, исторических событиях","Ребенок имеет представление о жизни людей в России, о многообразии стран и народов мира","Ребенок имеет представление об обмене ценностями в процессе производства и потребления товаров и услуг, о денежных отношениях, о реальной стоимости отдельных продуктов питания, игрушек, детских книг","Ребенок имеет представление о об основах финансовой грамоты, основах бережного потребления","Ребенок проявляет инициативность и самостоятельность в процессе самообслуживания, при выполнении трудовых поручений","Ребенок имеет представление о правила безопасного поведения в ситуациях, создающих угрозу жизни и здоровью (погас свет, остался один, потерялся, получил травму)","Ребенок имеет представление о правила безопасного поведения дома, на улице, в природе, в местах большого скопления людей, в магазине, на вокзале, в общественных метах, на праздниках и др.","Ребенок имеет представление о правилах безопасного использования цифровых ресурсов (мобильного телефона, планшета)","Ребенок имеет представление об элементарных правилах оказания первой помощи при первых признаках недомогания, травмах, ушибах","Ребенок проявляет самостоятельность при выполнении правил безопасного поведения","Ребенок владеет речью как средством коммуникации, ведет диалог, владеет коммуникативно-речевыми умениями","Ребенок подбирает точные слова для выражения мысли","Ребенок выполняет операцию классификации – деления освоенных понятий на группы на основе выявленных признаков","Ребенок использует в речи средства языковой выразительности: антонимы, синонимы, многозначные слова, метафоры, олицетворение","Ребенок образует сложные слова посредством слияния основ","Ребенок согласует в речи существительные с числительными, существительные с прилагательными","Ребенок образует по образцу существительные с суффиксами, глаголы с приставками","Ребенок образует в речи сравнительную и превосходную степени имен прилагательных","Ребенок правильно произносит все звуки","Ребенок может пересказать литературное произведение по ролям, близко к тексту, от лица литературного героя","Ребенок может составить описательный рассказ, соблюдая структуру описания","Ребенок может составить повествовательный рассказ по картине, из личного опыта, из коллективного опыта, по набору игрушек, соблюдая структуру повествования","Ребенок может составить рассказ -контаминацию (сочетание описания и повествования, описания и рассуждения)","Ребенок использует в процессе общения объяснительную речь, речь-доказательство, речевое планирование","Ребенок знает и осмысленно воспринимает литературные произведения различных жанров, имеет предпочтения","Ребенок определяет характеры персонажей, мотивы их поведения, оценивает поступки литературных героев","Ребенок проявляет интерес к книгам познавательного характера","Ребенок производит звуковой анализ четырехзвуковых и пятизвуковых слов","Ребенок может интонационно выделить звуки в слове, определить их последовательность, дать им характеристику, составить схему слова, выделить ударный гласный звук в слове","Ребенок может определить количество и последовательность слов в предложении","Ребенок может составить предложение с заданным количеством слов","Ребенок знает названия всех букв","Ребенок читает слоги","Ребенок различает и называет",{"$nulls":8},"Ребенок умеет считать в пределах 10 в прямом и обратном порядке","Ребенок знает состав чисел из двух меньших в пределах первого десятка","Ребенок решает простые арифметические задачи на сложение и вычитание","Ребенок имеет представление о календаре, как системе измерения времени","Ребенок умеет определять время по часам с точностью до четверти часа","Ребенок ориентируется на местности, по схеме, по плану","Ребенок знает способы ориентировки в двухмерном пространстве","Ребенок умеет измерять протяженность, массу и объем с помощью условной мерки; понимает взаимообратные отношения между мерой и результатом измерения","Ребенок сравнивает предметы по 4-6 основаниям с выделением сходства, отличия",{"$nulls":9},"Ребенок имеет представление об использовании человеком свойств неживой природы для хозяйственных нужд (ветряные мельницы, водохранилища, солнечные батареи, ледяные катки)",{"$nulls":3},"Ребенок выполняет различные упражнения с мячом, метание",null,"Ребенок выполняет разные виды ползанья, лазанья ",null,null,"Ребенок выполняет различные виды ходьбы",null,null,"Ребенок выполняет различные виды бега",null,null,"Ребенок выполняет различные виды прыжков",{"$nulls":3},"Ребенок выполняет",null,"Ребенок выполняет разные виды перестроений, построений, передвижений, размыкание и смыкание приставным шагом, повороты","Ребенок может рассчитаться на «первый – второй»",{"$nulls":16},"Ребенок владеет навыками личной гигиены","Ребенок владеет навыками культуры еды","Ребенок владеет навыками поддержания порядка","Ребенок владеет навыками ухода за собой",{"$nulls":7},"У ребенка развит навык восприятия звуков по высоте в пределах квинты-терции","У ребенка развиты певческий голос и вокально-слуховая координация","Ребёнок ритмично и выразительно двигается в соответствие с характером музыки","Ребенок способен самостоятельно придумать мелодию, используя в качестве образца русские народные песни","Ребенок может сыграть простую мелодию на металлофоне, свирели, ударных, и электронных музыкальных инструментах: трещотках, погремушках, треугольниках","Ребенок может исполнить музыкальное произведение в оркестре и в ансамбле","Ребенок проявляет самостоятельность при выборе литературного и музыкального материала для театральной постановки","Ребенок проявляет инициативу при изготовлении атрибутов и декораций к спектаклю","Ребенок имеет представление о средствах погружения в театральные образы (музыка, слова, декорации, грим, костюм и др.)","Ребенок умеет выразительно передавать образы в действии, мимике, пантомимике","Ребенок проявляет активность в доступных видах музыкальной исполнительской деятельности (игра в оркестре, пение, танцевальные движения и др.)","Ребенок помогает придумывать движения, отражающие содержание песни",null,"Ребенок может изобразить предметы по памяти и с натуры, передает их средствами рисунка (форма, пропорции, расположение)","Ребенок способен передавать в рисунке сюжет, строить композицию","Ребенок свободно использует приемы лепки, освоенные ранее (налеп, углубленный рельеф), применяет стеку","Ребенок умеет передавать пропорции, соотношение по величине, выразительность поз, движений, деталей","Ребенок умеет составлять узоры и декоративные композиции из геометрических и растительных элементов на листах бумаги разной формы","Ребенок может выполнить вырезание (симметричное из бумаги, сложенной вдвое; несколько предметов из частей бумаги, сложенной гармошкой)","Ребенок умеет создавать узоры по мотивам народных росписей","Ребенок может сложить бумагу в разных направлениях","Ребенок может сделать разметку с помощью шаблона","Ребенок может выполнить работу по образцу","Ребенок может создать объемную игрушку в технике «оригами»","Ребенок может создать объемную поделку из природного материала","Ребенок может вдеть нитку в иголку, завязать узелок, пришить пуговицу, петельку, выполнить шов «вперед иголка»","Ребенок умеет выделять, называть, группировать произведения по видам искусства: литература, музыка, изобразительное искусство, архитектура, театр, цирк","Ребенок имеет представление о видах изобразительного искусства: графика, декоративно-прикладное искусство, живопись, скульптура, архитектура, фотоискусство","Ребенок имеет представление о жанрах изобразительного искусства: натюрморт, пейзаж, портрет","Ребенок имеет представление о народном искусстве, фольклоре, музыке и художественных промыслах","Ребенок имеет представление о творческих профессиях: художник, композитор, музыкант, актер, артист балета","Ребенок имеет представление о культурно-досуговых местах: театр, музей, библиотека, выставка, кинотеатр, цирк и др.","Ребенок может провести анализ постройки (выделить основные части и характерные детали конструкций)","Ребенок может выполнить постройку по инструкции"]
[null,"Ребенок осознает и признает собственные ошибки, результат поставленных задач, определяет пути развития","Ребенок умеет договариваться и дружить, старается разрешать конфликтные ситуации конструктивными способами","Ребенок способен принимать собственные решения и проявлять инициативу","Ребенок осознанно относится к своему будущему, стремится быть полезным обществу","Ребенок без напоминаний использует в общении формулы словесной вежливости (приветствие, прощание, просьбы, извинения)","Ребенок без напоминаний использует в общении формулы словесной вежливости (приветствие, прощание, просьбы, извинения)","Ребенок понимает чувства и переживания окружающих по невербальным признакам; находит причины и следствия возникновения эмоций, проявляет эмпатию","Ребенок использует социально приемлемые способы проявления эмоций и доступные возрасту регуляции эмоциональных состояний","Ребенок распознает собственные чувства и эмоции, анализирует свои переживания и рассказывает о них","Ребенок самостоятельно соблюдает установленный порядок поведения в группе, регулирует собственную активность","Ребенок имеет представление о необходимости укрепления связи между поколениями, взаимной поддержке детей и взрослых","Ребенок имеет представление о семье, семейных и родственных отношениях (взаимные чувства, правила общения в семье, значимые и памятные события, досуг семьи, семейный бюджет)","Ребенок умеет сотрудничать со сверстниками (побуждает к обсуждению планов, советуется, поддерживает интерес к мнению, инициирует ситуации взаимопомощи, подчеркивает ценность каждого ребенка и его вклад в общее дело, выбирает партнеров по интересам, помогает устанавливать темп совместных действий)","Ребенок владеет разными способами и видами игры, различает условную и реальную ситуации, предлагает и объясняет замысел игры, комбинирует сюжеты на основе реальных, вымышленных ситуаций, выполняет несколько ролей в одной игре, подбирает разные средства для создания игровых образов, согласовывает свои интересы с интересами партнёров по игре",{"$nulls":39}," все цвета спектра и ахроматические цвета, оттенки","плоские и объемные геометрические фигуры; умеет выделять структуру геометрических фигур и устанавливать взаимосвязи между ними","Ребенок умеет классифицировать фигуры по внешним структурным признаками (округлые, многоугольники)","Ребенок владеет различными способами видоизменения геометрических фигур (наложение, соединение, разрезание и др.)","Ребенок умеет измерять длину, ширину, высоту с помощью условной мерки",{"$nulls":13}," о родном населенном пункте (название улиц, некоторых архитектурных особенностях, достопримечательностях), об истории, о выдающихся горожанах, традициях городской жизни"," о назначении общественных учреждений"," о разных видах специального транспорта"," о местах труда людей (завод, больница, магазин и др.)"," о местах отдыха людей","Ребенок имеет представление о наиболее ярких представителях животных и растений разных природных зон (пустыня, степь, тайга, тундра и др.), об их образе жизни, приспособлении к среде обитания, изменениях в жизни в разные сезоны года","Ребенок имеет представление о многообразии водных ресурсов (моря, океаны, реки, водопады и др.)","Ребенок имеет представление о многообразии полезных ископаемых (нефть, уголь, серебро, золото, алмазы и др.)","Ребенок имеет представление о жизненных потребностях, этапах роста и развития животных и растений",null,"Ребенок имеет представление о некоторых небесных телах (планеты, кометы, звезды)",null,null,"бросание вверх, о землю, ловля двумя руками, одной рукой, перебрасывание, передача, прокатывание, забрасывание, ведение","в цель из положения стоя, вдаль, в движущеюся цель","ползанье на четвереньках, на животе, на спине","влезание на гимнастическую стенку и спуск; перелезание с пролета на пролет по диагонали","лазанье по веревочной лестнице; выполнение упражнений на канате","обычная, гимнастическим шагом, скрестным шагом, спиной вперед, выпадами, с закрытыми глазами","приставными шагами назад, в приседе, с различными движениями рук","в различных построениях","в колонне по одному, врассыпную, парами, тройками, четверками","в сочетание с прыжками, высоко поднимая колени, захлестывая голени назад, выбрасывая прямые ноги вперед","челночный, наперегонки, из разных исходных положений, со скакалкой, по пересеченной местности, с наименьшим числом шагов, медленный, быстрый","подпрыгивания на двух ногах в чередовании с ходьбой, на месте и с поворот кругом","смещая ноги вправо-влево-вперед-назад","выпрыгивание на предметы; подпрыгивания вверх из глубокого приседа; прыжки на одной ноге","в длину с места/с разбега, в высоту с места/с разбега","стойка на носках, стойка на одной ноге с закрытыми глазами","кружение с закрытыми глазами, остановкой и сохранением заданной позы"]
["начало года",{"$f":"'Соц.ком.к 7г ч1 Н.г.'!E32","v":0},{"$f":"'Соц.ком.к 7г ч1 Н.г.'!F32","v":0},{"$f":"'Соц.ком.к 7г ч1 Н.г.'!G32","v":0},{"$f":"'Соц.ком.к 7г ч1 Н.г.'!H32","v":0},{"$f":"'Соц.ком.к 7г ч1 Н.г.'!I32","v":0},{"$f":"'Соц.ком.к 7г ч1 Н.г.'!J32","v":0},{"$f":"'Соц.ком.к 7г ч1 Н.г.'!K32","v":0},{"$f":"'Соц.ком.к 7г ч1 Н.г.'!L32","v":0},{"$f":"'Соц.ком.к 7г ч1 Н.г.'!M32","v":0},{"$f":"'Соц.ком.к 7г ч1 Н.г.'!N32","v":0},{"$f":"'Соц.ком.к 7г ч2 Н.г.'!E32","v":0},{"$f":"'Соц.ком.к 7г ч2 Н.г.'!F32","v":0},{"$f":"'Соц.ком.к 7г ч2 Н.г.'!G32","v":0},{"$f":"'Соц.ком.к 7г ч2 Н.г.'!H32","v":0},{"$f":"'Соц.ком.к 7г ч2 Н.г.'!I32","v":0},{"$f":"'Соц.ком.к 7г ч2 Н.г.'!J32","v":0},{"$f":"'Соц.ком.к 7г ч2 Н.г.'!K32","v":0},{"$f":"'Соц.ком. к 7г ч3 Н.г.'!E32","v":0},{"$f":"'Соц.ком. к 7г ч3 Н.г.'!F32","v":0},{"$f":"'Соц.ком. к 7г ч3 Н.г.'!G32","v":0},{"$f":"'Соц.ком. к 7г ч3 Н.г.'!H32","v":0},{"$f":"'Соц.ком. к 7г ч3 Н.г.'!I32","v":0},{"$f":"'Соц.ком. к 7г ч3 Н.г.'!J32","v":0},{"$f":"'Соц.ком. к 7г ч3 Н.г.'!K32","v":0},{"$f":"'Соц.ком. к 7г ч3 Н.г.'!L32","v":0},{"$f":"'Соц.ком. к 7г ч4 Н.г.'!E32","v":0},{"$f":"'Соц.ком. к 7г ч4 Н.г.'!F32","v":0},{"$f":"'Соц.ком. к 7г ч4 Н.г.'!G32","v":0},{"$f":"'Соц.ком. к 7г ч4 Н.г.'!H32","v":0},{"$f":"'Соц.ком. к 7г ч4 Н.г.'!I32","v":0},{"$f":"'Реч.разв.к 7г ч1 Н.г.'!E32","v":0},{"$f":"'Реч.разв.к 7г ч1 Н.г.'!F32","v":0},{"$f":"'Реч.разв.к 7г ч1 Н.г.'!G32","v":0},{"$f":"'Реч.разв.к 7г ч1 Н.г.'!H32","v":0},{"$f":"'Реч.разв.к 7г ч1 Н.г.'!I32","v":0},{"$f":"'Реч.разв.к 7г ч1 Н.г.'!J32","v":0},{"$f":"'Реч.разв.к 7г ч1 Н.г.'!K32","v":0},{"$f":"'Реч.разв.к 7г ч1 Н.г.'!L32","v":0},{"$f":"'Реч.разв.к 7г ч2 Н.г.'!E32","v":0},{"$f":"'Реч.разв.к 7г ч2 Н.г.'!F32","v":0},{"$f":"'Реч.разв.к 7г ч2 Н.г.'!G32","v":0},{"$f":"'Реч.разв.к 7г ч2 Н.г.'!H32","v":0},{"$f":"'Реч.разв.к 7г ч2 Н.г.'!I32","v":0},{"$f":"'Реч.разв.к 7г ч2 Н.г.'!J32","v":0},{"$f":"'Реч.разв.к 7г ч2 Н.г.'!K32","v":0},{"$f":"'Реч.разв.к 7г ч2 Н.г.'!L32","v":0},{"$f":"'Реч.разв.к 7г ч2 Н.г.'!M32","v":0},{"$f":"'Реч.разв.к 7г ч3. Н.г.'!E32","v":0},{"$f":"'Реч.разв.к 7г ч3. Н.г.'!F32","v":0},{"$f":"'Реч.разв.к 7г ч3. Н.г.'!G32","v":0},{"$f":"'Реч.разв.к 7г ч3. Н.г.'!H32","v":0},{"$f":"'Реч.разв.к 7г ч3. Н.г.'!I32","v":0},{"$f":"'Реч.разв.к 7г ч3. Н.г.'!J32","v":0},{"$f":"'Позн.разв. к 7г ч1. Н.г.'!E33","v":0},{"$f":"'Позн.разв. к 7г ч1. Н.г.'!F33","v":0},{"$f":"'Позн.разв. к 7г ч1. Н.г.'!G33","v":0},{"$f":"'Позн.разв. к 7г ч1. Н.г.'!H33","v":0},{"$f":"'Позн.разв. к 7г ч1. Н.г.'!I33","v":0},{"$f":"'Позн.разв. к 7г ч1. Н.г.'!J33","v":0},{"$f":"'Позн.разв. к 7г ч1. Н.г.'!K33","v":0},{"$f":"'Позн.разв. к 7г ч1. Н.г.'!L33","v":0},{"$f":"'Позн.разв. к 7г ч1. Н.г.'!M33","v":0},{"$f":"'Позн.разв. к 7г ч2. Н.г.'!E33","v":0},{"$f":"'Позн.разв. к 7г ч2. Н.г.'!F33","v":0},{"$f":"'Позн.разв. к 7г ч2. Н.г.'!G33","v":0},{"$f":"'Позн.разв. к 7г ч2. Н.г.'!H33","v":0},{"$f":"'Позн.разв. к 7г ч2. Н.г.'!I33","v":0},{"$f":"'Позн.разв. к 7г ч2. Н.г.'!J33","v":0},{"$f":"'Позн.разв. к 7г ч2. Н.г.'!K33","v":0},{"$f":"'Позн.разв. к 7г ч2. Н.г.'!L33","v":0},{"$f":"'Позн.разв. к 7г ч2. Н.г.'!M33","v":0},{"$f":"'Позн.разв. к 7г ч3. Н.г.'!E33","v":0},{"$f":"'Позн.разв. к 7г ч3. Н.г.'!F33","v":0},{"$f":"'Позн.разв. к 7г ч3. Н.г.'!G33","v":0},{"$f":"'Позн.разв. к 7г ч3. Н.г.'!H33","v":0},{"$f":"'Позн.разв. к 7г ч3. Н.г.'!I33","v":0},{"$f":"'Позн.разв. к 7г ч3. Н.г.'!J33","v":0},{"$f":"'Позн.разв. к 7г ч3. Н.г.'!K33","v":0},{"$f":"'Позн.разв. к 7г ч3. Н.г.'!L33","v":0},{"$f":"'Позн.разв. к 7г ч3. Н.г.'!M33","v":0},{"$f":"'Позн.разв. к 7г ч3. Н.г.'!N33","v":0},{"$f":"'Позн.разв. к 7г ч3. Н.г.'!O33","v":0},{"$f":"'Позн.разв. к 7г ч3. Н.г.'!P33","v":0},{"$f":"'Позн.разв. к 7г ч3. Н.г.'!Q33","v":0},{"$f":"'Физ.разв. к 7г ч1. Н.г.'!E33","v":0},{"$f":"'Физ.разв. к 7г ч1. Н.г.'!F33","v":0},{"$f":"'Физ.разв. к 7г ч1. Н.г.'!G33","v":0},{"$f":"'Физ.разв. к 7г ч1. Н.г.'!H33","v":0},{"$f":"'Физ.разв. к 7г ч1. Н.г.'!I33","v":0},{"$f":"'Физ.разв. к 7г ч1. Н.г.'!J33","v":0},{"$f":"'Физ.разв. к 7г ч1. Н.г.'!K33","v":0},{"$f":"'Физ.разв. к 7г ч1. Н.г.'!L33","v":0},{"$f":"'Физ.разв. к 7г ч1. Н.г.'!M33","v":0},{"$f":"'Физ.разв. к 7г ч1. Н.г.'!N33","v":0},{"$f":"'Физ.разв. к 7г ч1. Н.г.'!O33","v":0},{"$f":"'Физ.разв. к 7г ч1. Н.г.'!P33","v":0},{"$f":"'Физ.разв. к 7г ч1. Н.г.'!Q33","v":0},{"$f":"'Физ.разв. к 7г ч1. Н.г.'!R33","v":0},{"$f":"'Физ.разв. к 7г ч1. Н.г.'!S33","v":0},{"$f":"'Физ.разв. к 7г ч1. Н.г.'!T33","v":0},{"$f":"'Физ.разв. к 7г ч1. Н.г.'!U33","v":0},{"$f":"'Физ.разв. к 7г ч1. Н.г.'!V33","v":0},{"$f":"'Физ.разв. к 7г ч1. Н.г.'!W33","v":0},{"$f":"'Физ.разв. к 7г ч2. Н.г.'!E34","v":0},{"$f":"'Физ.разв. к 7г ч2. Н.г.'!F34","v":0},{"$f":"'Физ.разв. к 7г ч2. Н.г.'!G34","v":0},{"$f":"'Физ.разв. к 7г ч2. Н.г.'!H34","v":0},{"$f":"'Физ.разв. к 7г ч2. Н.г.'!I34","v":0},{"$f":"'Физ.разв. к 7г ч2. Н.г.'!J34","v":0},{"$f":"'Физ.разв. к 7г ч2. Н.г.'!K34","v":0},{"$f":"'Физ.разв. к 7г ч2. Н.г.'!L34","v":0},{"$f":"'Физ.разв. к 7г ч2. Н.г.'!M34","v":0},{"$f":"'Физ.разв. к 7г ч2. Н.г.'!N34","v":0},{"$f":"'Физ.разв. к 7г ч2. Н.г.'!O34","v":0},{"$f":"'Физ.разв. к 7г ч2. Н.г.'!P34","v":0},{"$f":"'Физ.разв. к 7г ч2. Н.г.'!Q34","v":0},{"$f":"'Физ.разв. к 7г ч2. Н.г.'!R34","v":0},{"$f":"'Физ.разв. к 7г ч2. Н.г.'!S34","v":0},{"$f":"'Физ.разв. к 7г ч2. Н.г.'!T34","v":0},{"$f":"'Физ.разв. к 7г ч3. Н.г.'!E34","v":0},{"$f":"'Физ.разв. к 7г ч3. Н.г.'!F34","v":0},{"$f":"'Физ.разв. к 7г ч3. Н.г.'!G34","v":0},{"$f":"'Физ.разв. к 7г ч3. Н.г.'!H34","v":0},{"$f":"'Физ.разв. к 7г ч3. Н.г.'!I34","v":0},{"$f":"'Физ.разв. к 7г ч3. Н.г.'!J34","v":0},{"$f":"'Физ.разв. к 7г ч3. Н.г.'!K34","v":0},{"$f":"'Физ.разв. к 7г ч3. Н.г.'!L34","v":0},{"$f":"'Физ.разв. к 7г ч3. Н.г.'!M34","v":0},{"$f":"'Физ.разв. к 7г ч3. Н.г.'!N34","v":0},{"$f":"'Физ.разв. к 7г ч3. Н.г.'!O34","v":0},{"$f":"'Худ.эст.к 7г ч1. Н.г.'!E33","v":0},{"$f":"'Худ.эст.к 7г ч1. Н.г.'!F33","v":0},{"$f":"'Худ.эст.к 7г ч1. Н.г.'!G33","v":0},{"$f":"'Худ.эст.к 7г ч1. Н.г.'!H33","v":0},{"$f":"'Худ.эст.к 7г ч1. Н.г.'!I33","v":0},{"$f":"'Худ.эст.к 7г ч1. Н.г.'!J33","v":0},{"$f":"'Худ.эст.к 7г ч1. Н.г.'!K33","v":0},{"$f":"'Худ.эст.к 7г ч1. Н.г.'!L33","v":0},{"$f":"'Худ.эст.к 7г ч1. Н.г.'!M33","v":0},{"$f":"'Худ.эст.к 7г ч1. Н.г.'!N33","v":0},{"$f":"'Худ.эст.к 7г ч1. Н.г.'!O33","v":0},{"$f":"'Худ.эст.к 7г ч1. Н.г.'!P33","v":0},{"$f":"'Худ.эст.к 7г ч1. Н.г.'!Q33","v":0},{"$f":"'Худ.эст.к 7г ч2. Н.г.'!E33","v":0},{"$f":"'Худ.эст.к 7г ч2. Н.г.'!F33","v":0},{"$f":"'Худ.эст.к 7г ч2. Н.г.'!G33","v":0},{"$f":"'Худ.эст.к 7г ч2. Н.г.'!H33","v":0},{"$f":"'Худ.эст.к 7г ч2. Н.г.'!I33","v":0},{"$f":"'Худ.эст.к 7г ч2. Н.г.'!J33","v":0},{"$f":"'Худ.эст.к 7г ч2. Н.г.'!K33","v":0},{"$f":"'Худ.эст.к 7г ч2. Н.г.'!L33","v":0},{"$f":"'Худ.эст.к 7г ч2. Н.г.'!M33","v":0},{"$f":"'Худ.эст.к 7г ч2. Н.г.'!N33","v":0},{"$f":"'Худ.эст.к 7г ч2. Н.г.'!O33","v":0},{"$f":"'Худ.эст.к 7г ч2. Н.г.'!P33","v":0},{"$f":"'Худ.эст.к 7г ч2. Н.г.'!Q33","v":0},{"$f":"'Худ.эст.к 7г ч3. Н.г.'!E33","v":0},{"$f":"'Худ.эст.к 7г ч3. Н.г.'!F33","v":0},{"$f":"'Худ.эст.к 7г ч3. Н.г.'!G33","v":0},{"$f":"'Худ.эст.к 7г ч3. Н.г.'!H33","v":0},{"$f":"'Худ.эст.к 7г ч3. Н.г.'!I33","v":0},{"$f":"'Худ.эст.к 7г ч3. Н.г.'!J33","v":0},{"$f":"'Худ.эст.к 7г ч3. Н.г.'!K33","v":0},{"$f":"'Худ.эст.к 7г ч3. Н.г.'!L33","v":0}]
["конец года",{"$f":"'Соц.ком.к 7г ч1 К.г.'!E32","v":0},{"$f":"'Соц.ком.к 7г ч1 К.г.'!F32","v":0},{"$f":"'Соц.ком.к 7г ч1 К.г.'!G32","v":0},{"$f":"'Соц.ком.к 7г ч1 К.г.'!H32","v":0},{"$f":"'Соц.ком.к 7г ч1 К.г.'!I32","v":0},{"$f":"'Соц.ком.к 7г ч1 К.г.'!J32","v":0},{"$f":"'Соц.ком.к 7г ч1 К.г.'!K32","v":0},{"$f":"'Соц.ком.к 7г ч1 К.г.'!L32","v":0},{"$f":"'Соц.ком.к 7г ч1 К.г.'!M32","v":0},{"$f":"'Соц.ком.к 7г ч1 К.г.'!N32","v":0},{"$f":"'Соц.ком.к 7г ч2 К.г.'!E32","v":0},{"$f":"'Соц.ком.к 7г ч2 К.г.'!F32","v":0},{"$f":"'Соц.ком.к 7г ч2 К.г.'!G32","v":0},{"$f":"'Соц.ком.к 7г ч2 К.г.'!H32","v":0},{"$f":"'Соц.ком.к 7г ч2 К.г.'!I32","v":0},{"$f":"'Соц.ком.к 7г ч2 К.г.'!J32","v":0},{"$f":"'Соц.ком.к 7г ч2 К.г.'!K32","v":0},{"$f":"'Соц.ком. к 7г ч3 К.г.'!E32","v":0},{"$f":"'Соц.ком. к 7г ч3 К.г.'!F32","v":0},{"$f":"'Соц.ком. к 7г ч3 К.г.'!G32","v":0},{"$f":"'Соц.ком. к 7г ч3 К.г.'!H32","v":0},{"$f":"'Соц.ком. к 7г ч3 К.г.'!I32","v":0},{"$f":"'Соц.ком. к 7г ч3 К.г.'!J32","v":0},{"$f":"'Соц.ком. к 7г ч3 К.г.'!K32","v":0},{"$f":"'Соц.ком. к 7г ч3 К.г.'!L32","v":0},{"$f":"'Соц.ком. к 7г ч4 К.г.'!E32","v":0},{"$f":"'Соц.ком. к 7г ч4 К.г.'!F32","v":0},{"$f":"'Соц.ком. к 7г ч4 К.г.'!G32","v":0},{"$f":"'Соц.ком. к 7г ч4 К.г.'!H32","v":0},{"$f":"'Соц.ком. к 7г ч4 К.г.'!I32","v":0},{"$f":"'Реч.разв.к 7г ч1 К.г.'!E32","v":0},{"$f":"'Реч.разв.к 7г ч1 К.г.'!F32","v":0},{"$f":"'Реч.разв.к 7г ч1 К.г.'!G32","v":0},{"$f":"'Реч.разв.к 7г ч1 К.г.'!H32","v":0},{"$f":"'Реч.разв.к 7г ч1 К.г.'!I32","v":0},{"$f":"'Реч.разв.к 7г ч1 К.г.'!J32","v":0},{"$f":"'Реч.разв.к 7г ч1 К.г.'!K32","v":0},{"$f":"'Реч.разв.к 7г ч1 К.г.'!L32","v":0},{"$f":"'Реч.разв.к 7г ч2 К.г. '!E32","v":0},{"$f":"'Реч.разв.к 7г ч2 К.г. '!F32","v":0},{"$f":"'Реч.разв.к 7г ч2 К.г. '!G32","v":0},{"$f":"'Реч.разв.к 7г ч2 К.г. '!H32","v":0},{"$f":"'Реч.разв.к 7г ч2 К.г. '!I32","v":0},{"$f":"'Реч.разв.к 7г ч2 К.г. '!J32","v":0},{"$f":"'Реч.разв.к 7г ч2 К.г. '!K32","v":0},{"$f":"'Реч.разв.к 7г ч2 К.г. '!L32","v":0},{"$f":"'Реч.разв.к 7г ч2 К.г. '!M32","v":0},{"$f":"'Реч.разв.к 7г ч3. К.г. '!E32","v":0},{"$f":"'Реч.разв.к 7г ч3. К.г. '!F32","v":0},{"$f":"'Реч.разв.к 7г ч3. К.г. '!G32","v":0},{"$f":"'Реч.разв.к 7г ч3. К.г. '!H32","v":0},{"$f":"'Реч.разв.к 7г ч3. К.г. '!I32","v":0},{"$f":"'Реч.разв.к 7г ч3. К.г. '!J32","v":0},{"$f":"'Позн.разв. к 7г ч1. К.г. '!E33","v":0},{"$f":"'Позн.разв. к 7г ч1. К.г. '!F33","v":0},{"$f":"'Позн.разв. к 7г ч1. К.г. '!G33","v":0},{"$f":"'Позн.разв. к 7г ч1. К.г. '!H33","v":0},{"$f":"'Позн.разв. к 7г ч1. К.г. '!I33","v":0},{"$f":"'Позн.разв. к 7г ч1. К.г. '!J33","v":0},{"$f":"'Позн.разв. к 7г ч1. К.г. '!K33","v":0},{"$f":"'Позн.разв. к 7г ч1. К.г. '!L33","v":0},{"$f":"'Позн.разв. к 7г ч1. К.г. '!M33","v":0},{"$f":"'Позн.разв. к 7г ч2. К.г.'!E33","v":0},{"$f":"'Позн.разв. к 7г ч2. К.г.'!F33","v":0},{"$f":"'Позн.разв. к 7г ч2. К.г.'!G33","v":0},{"$f":"'Позн.разв. к 7г ч2. К.г.'!H33","v":0},{"$f":"'Позн.разв. к 7г ч2. К.г.'!I33","v":0},{"$f":"'Позн.разв. к 7г ч2. К.г.'!J33","v":0},{"$f":"'Позн.разв. к 7г ч2. К.г.'!K33","v":0},{"$f":"'Позн.разв. к 7г ч2. К.г.'!L33","v":0},{"$f":"'Позн.разв. к 7г ч2. К.г.'!M33","v":0},{"$f":"'Позн.разв. к 7г ч3. К.г. '!E33","v":0},{"$f":"'Позн.разв. к 7г ч3. К.г. '!F33","v":0},{"$f":"'Позн.разв. к 7г ч3. К.г. '!G33","v":0},{"$f":"'Позн.разв. к 7г ч3. К.г. '!H33","v":0},{"$f":"'Позн.разв. к 7г ч3. К.г. '!I33","v":0},{"$f":"'Позн.разв. к 7г ч3. К.г. '!J33","v":0},{"$f":"'Позн.разв. к 7г ч3. К.г. '!K33","v":0},{"$f":"'Позн.разв. к 7г ч3. К.г. '!L33","v":0},{"$f":"'Позн.разв. к 7г ч3. К.г. '!M33","v":0},{"$f":"'Позн.разв. к 7г ч3. К.г. '!N33","v":0},{"$f":"'Позн.разв. к 7г ч3. К.г. '!O33","v":0},{"$f":"'Позн.разв. к 7г ч3. К.г. '!P33","v":0},{"$f":"'Позн.разв. к 7г ч3. К.г. '!Q33","v":0},{"$f":"'Физ.разв. к 7г ч1. К.г. '!E33","v":0},{"$f":"'Физ.разв. к 7г ч1. К.г. '!F33","v":0},{"$f":"'Физ.разв. к 7г ч1. К.г. '!G33","v":0},{"$f":"'Физ.разв. к 7г ч1. К.г. '!H33","v":0},{"$f":"'Физ.разв. к 7г ч1. К.г. '!I33","v":0},{"$f":"'Физ.разв. к 7г ч1. К.г. '!J33","v":0},{"$f":"'Физ.разв. к 7г ч1. К.г. '!K33","v":0},{"$f":"'Физ.разв. к 7г ч1. К.г. '!L33","v":0},{"$f":"'Физ.разв. к 7г ч1. К.г. '!M33","v":0},{"$f":"'Физ.разв. к 7г ч1. К.г. '!N33","v":0},{"$f":"'Физ.разв. к 7г ч1. К.г. '!O33","v":0},{"$f":"'Физ.разв. к 7г ч1. К.г. '!P33","v":0},{"$f":"'Физ.разв. к 7г ч1. К.г. '!Q33","v":0},{"$f":"'Физ.разв. к 7г ч1. К.г. '!R33","v":0},{"$f":"'Физ.разв. к 7г ч1. К.г. '!S33","v":0},{"$f":"'Физ.разв. к 7г ч1. К.г. '!T33","v":0},{"$f":"'Физ.разв. к 7г ч1. К.г. '!U33","v":0},{"$f":"'Физ.разв. к 7г ч1. К.г. '!V33","v":0},{"$f":"'Физ.разв. к 7г ч1. К.г. '!W33","v":0},{"$f":"'Физ.разв. к 7г ч2. К.г.'!E34","v":0},{"$f":"'Физ.разв. к 7г ч2. К.г.'!F34","v":0},{"$f":"'Физ.разв. к 7г ч2. К.г.'!G34","v":0},{"$f":"'Физ.разв. к 7г ч2. К.г.'!H34","v":0},{"$f":"'Физ.разв. к 7г ч2. К.г.'!I34","v":0},{"$f":"'Физ.разв. к 7г ч2. К.г.'!J34","v":0},{"$f":"'Физ.разв. к 7г ч2. К.г.'!K34","v":0},{"$f":"'Физ.разв. к 7г ч2. К.г.'!L34","v":0},{"$f":"'Физ.разв. к 7г ч2. К.г.'!M34","v":0},{"$f":"'Физ.разв. к 7г ч2. К.г.'!N34","v":0},{"$f":"'Физ.разв. к 7г ч2. К.г.'!O34","v":0},{"$f":"'Физ.разв. к 7г ч2. К.г.'!P34","v":0},{"$f":"'Физ.разв. к 7г ч2. К.г.'!Q34","v":0},{"$f":"'Физ.разв. к 7г ч2. К.г.'!R34","v":0},{"$f":"'Физ.разв. к 7г ч2. К.г.'!S34","v":0},{"$f":"'Физ.разв. к 7г ч2. К.г.'!T34","v":0},{"$f":"'Физ.разв. к 7г ч3. К.г. '!E34","v":0},{"$f":"'Физ.разв. к 7г ч3. К.г. '!F34","v":0},{"$f":"'Физ.разв. к 7г ч3. К.г. '!G34","v":0},{"$f":"'Физ.разв. к 7г ч3. К.г. '!H34","v":0},{"$f":"'Физ.разв. к 7г ч3. К.г. '!I34","v":0},{"$f":"'Физ.разв. к 7г ч3. К.г. '!J34","v":0},{"$f":"'Физ.разв. к 7г ч3. К.г. '!K34","v":0},{"$f":"'Физ.разв. к 7г ч3. К.г. '!L34","v":0},{"$f":"'Физ.разв. к 7г ч3. К.г. '!M34","v":0},{"$f":"'Физ.разв. к 7г ч3. К.г. '!N34","v":0},{"$f":"'Физ.разв. к 7г ч3. К.г. '!O34","v":0},{"$f":"'Худ.эст.к 7г ч1. К.г. '!E33","v":0},{"$f":"'Худ.эст.к 7г ч1. К.г. '!F33","v":0},{"$f":"'Худ.эст.к 7г ч1. К.г. '!G33","v":0},{"$f":"'Худ.эст.к 7г ч1. К.г. '!H33","v":0},{"$f":"'Худ.эст.к 7г ч1. К.г. '!I33","v":0},{"$f":"'Худ.эст.к 7г ч1. К.г. '!J33","v":0},{"$f":"'Худ.эст.к 7г ч1. К.г. '!K33","v":0},{"$f":"'Худ.эст.к 7г ч1. К.г. '!L33","v":0},{"$f":"'Худ.эст.к 7г ч1. К.г. '!M33","v":0},{"$f":"'Худ.эст.к 7г ч1. К.г. '!N33","v":0},{"$f":"'Худ.эст.к 7г ч1. К.г. '!O33","v":0},{"$f":"'Худ.эст.к 7г ч1. К.г. '!P33","v":0},{"$f":"'Худ.эст.к 7г ч1. К.г. '!Q33","v":0},{"$f":"'Худ.эст.к 7г ч2. К.г. '!E33","v":0},{"$f":"'Худ.эст.к 7г ч2. К.г. '!F33","v":0},{"$f":"'Худ.эст.к 7г ч2. К.г. '!G33","v":0},{"$f":"'Худ.эст.к 7г ч2. К.г. '!H33","v":0},{"$f":"'Худ.эст.к 7г ч2. К.г. '!I33","v":0},{"$f":"'Худ.эст.к 7г ч2. К.г. '!J33","v":0},{"$f":"'Худ.эст.к 7г ч2. К.г. '!K33","v":0},{"$f":"'Худ.эст.к 7г ч2. К.г. '!L33","v":0},{"$f":"'Худ.эст.к 7г ч2. К.г. '!M33","v":0},{"$f":"'Худ.эст.к 7г ч2. К.г. '!N33","v":0},{"$f":"'Худ.эст.к 7г ч2. К.г. '!O33","v":0},{"$f":"'Худ.эст.к 7г ч2. К.г. '!P33","v":0},{"$f":"'Худ.эст.к 7г ч2. К.г. '!Q33","v":0},{"$f":"'Худ.эст.к 7г ч3. К.г. '!E33","v":0},{"$f":"'Худ.эст.к 7г ч3. К.г. '!F33","v":0},{"$f":"'Худ.эст.к 7г ч3. К.г. '!G33","v":0},{"$f":"'Худ.эст.к 7г ч3. К.г. '!H33","v":0},{"$f":"'Худ.эст.к 7г ч3. К.г. '!I33","v":0},{"$f":"'Худ.эст.к 7г ч3. К.г. '!J33","v":0},{"$f":"'Худ.эст.к 7г ч3. К.г. '!K33","v":0},{"$f":"'Худ.эст.к 7г ч3. К.г. '!L33","v":0}]

{"sheet":"23","index":60,"n_rows":7,"n_cols":165,"rows_kept":7,"merged":[[0,104,0,110],[0,111,0,112],[0,113,0,115],[0,116,0,119],[0,120,0,123],[0,124,0,126],[0,127,0,130],[1,54,1,58],[1,59,1,62],[1,63,1,71],[1,72,1,76],[1,77,1,84],[1,104,1,106],[1,107,1,110],[1,111,4,111],[1,112,4,112],[1,113,4,113],[1,114,4,114],[1,115,4,115],[1,116,1,119],[1,120,2,120],[1,121,2,121],[1,122,2,122],[1,123,2,123],[1,124,4,124],[1,125,4,125],[1,126,4,126],[1,127,1,130],[1,131,1,143],[1,144,1,156],[1,157,2,162],[1,163,2,164],[2,18,2,22],[2,23,2,25],[2,26,2,30],[2,32,2,34],[2,35,2,38],[2,40,2,44],[2,45,2,47],[2,48,2,53],[2,55,2,57],[2,59,4,59],[2,60,4,60],[2,61,4,61],[2,62,4,62],[2,63,2,65],[2,66,2,67],[2,68,2,69],[2,72,3,76],[2,77,2,80],[2,81,2,82],[2,83,4,83],[2,84,4,84],[2,85,2,86],[2,87,2,89],[2,90,2,92],[2,93,2,95],[2,96,2,99],[2,100,2,101],[2,102,2,103],[2,104,4,104],[2,105,4,105],[2,106,4,106],[2,107,4,107],[2,108,4,108],[2,109,4,109],[2,110,4,110],[2,116,4,116],[2,117,4,117],[2,118,4,118],[2,119,4,119],[2,127,4,127],[2,128,4,128],[2,129,4,129],[2,130,4,130],[2,135,2,136],[2,137,2,140],[2,141,2,142],[2,143,4,143],[2,144,2,145],[2,146,2,147],[2,148,2,149],[2,151,2,156],[3,0,4,0],[3,1,3,4],[3,7,3,9],[3,11,3,12],[3,13,3,14],[3,15,4,15],[3,16,4,16],[3,17,4,17],[3,18,4,18],[3,19,4,19],[3,20,4,20],[3,21,4,21],[3,22,4,22],[3,23,4,23],[3,24,4,24],[3,25,4,25],[3,26,4,26],[3,27,4,27],[3,28,4,28],[3,29,4,29],[3,30,4,30],[3,31,4,31],[3,32,4,32],[3,33,4,33],[3,34,4,34],[3,35,4,35],[3,36,4,36],[3,37,4,37],[3,38,4,38],[3,39,4,39],[3,40,4,40],[3,41,4,41],[3,42,4,42],[3,43,4,43],[3,44,4,44],[3,45,4,45],[3,46,4,46],[3,47,4,47],[3,48,4,48],[3,49,4,49],[3,50,4,50],[3,51,4,51],[3,52,4,52],[3,53,4,53],[3,54,3,58],[3,63,4,63],[3,64,4,64],[3,65,4,65],[3,66,4,66],[3,67,4,67],[3,68,4,68],[3,69,4,69],[3,70,4,70],[3,71,4,71],[3,81,4,81],[3,85,3,86],[3,87,3,89],[3,90,3,92],[3,93,3,95],[3,96,3,99],[3,100,3,101],[3,102,4,102],[3,103,4,103],[3,120,4,120],[3,121,4,121],[3,122,4,122],[3,123,4,123],[3,131,4,131],[3,132,4,132],[3,133,4,133],[3,134,4,134],[3,135,4,135],[3,136,4,136],[3,137,4,137],[3,138,4,138],[3,139,4,139],[3,140,4,140],[3,141,4,141],[3,142,4,142],[3,144,4,144],[3,145,4,145],[3,146,4,146],[3,147,4,147],[3,148,4,148],[3,149,4,149],[3,150,4,150],[3,151,4,151],[3,152,4,152],[3,153,4,153],[3,154,4,154],[3,155,4,155],[3,156,4,156],[3,157,4,157],[3,158,4,158],[3,159,4,159],[3,160,4,160],[3,161,4,161],[3,162,4,162],[3,163,4,163],[3,164,4,164]]}
[{"$nulls":104},"Мелкая моторика",{"$nulls":6},"Подвижные игры",null,"Спорт. игры",null,null,"Спортивные упражнения",{"$nulls":3},"КГН",{"$nulls":3},"ЗОЖ",null,null,"Спортивные упражнения"]
[{"$nulls":54},"Сенсорные эталоны ",{"$nulls":4},"Познавательные действия",{"$nulls":3},"Математические представления",{"$nulls":8},"Окружающий мир",{"$nulls":4},"Природа ",{"$nulls":26},"Координация рук и глаз",null,null,"Графические навыки",{"$nulls":3},"Ребенок использует в самостоятельной деятельности разнообразные по содержанию подвижные игры, проявляет элементы творчества в двигательной деятельности","Ребенок может организовать знакомые подвижные игры со сверстниками, сплотить команду, стремится внести свой вклад в результат команды","Ребенок владеет элементами спортивных игр (городки, баскетбол, футбол, хоккей, бадминтон, настольный теннис), может контролировать свои движения и управлять ими","Ребенок имеет представление о разных видах спорта (санный спорт, борьба, теннис, синхронное плавание и др.)","Ребенок имеет представление о спортивных событиях и достижениях отечественных спортсменов","Ребенок умеет кататься",{"$nulls":3},"Навыки соблюдения чистоты тела (правила личной гигиены)","Навыки культуры еды (прием пищи) ","Навыки поддержания порядка (правила поведения в быту) ","Навыки ухода за собой (одевание, раздевание) ","Ребенок соблюдает элементарные правила здорового образа жизни и личной гигиены, следит за своей осанкой, может оценить свое самочувствие","Ребенок регулярно выполняет физические упражнения","Ребенок имеет начальные представления о том, что такое здоровье, понимает, как поддержать, укрепить и сохранить его","Ребенок умеет кататься",{"$nulls":3},"Музыкальная деятельность",{"$nulls":12},"Изобразительная деятельность",{"$nulls":12},"Приобщение к искусству",{"$nulls":5},"Конструктивная деятельность"]
[{"$nulls":18},"Область формирования основ гражданственности и патриотизма",{"$nulls":4},"Сфера трудового воспитания",null,null,"Область формирования основ безопасного поведения",{"$nulls":4},"Общее речевое развитие","Формирование словаря",null,null,"Грамматический строй",{"$nulls":3},"Звуковая культура речи","Связная речь",{"$nulls":4},"ЧХЛ",null,null,"Подготовка к обучению грамоте",{"$nulls":5},"Цвет, оттенки","Форма, геометрические фигуры",null,null,"Величина","Ребенок самостоятельно выбирает способ осуществления разных видов познавательной деятельности","Ребенок интересуется субъективно новым и неизвестным в окружающем мире","Ребенок способен применять в жизненных и игровых ситуациях знания о количестве, форме, величине предметов, пространстве, времени","Ребенок имеет разнообразные познавательные умения: определяет противоречия. Формулирует задачу исследования, использует разные способы и средства проверки предположений (сравнение с эталонами, классификацию, систематизацию и др.)","Количество и счет",null,null,"Ориентировка во времени",null,"Ориентировка в пространстве",null,"Пространственно-количественные связи и отношения","Сравнение","Ребенок имеет представления, может показать на картинке и в естественной среде, может рассказать",{"$nulls":4},"Объекты живой природы",{"$nulls":3},"Объекты неживой природы, природные явления",null,"Ребенок стремится к самостоятельному экспериментированию","Ребенок знает правила поведения в природе, проявляет осознанное, бережное отношение к природе и ее ресурсам","Бросание, катание, ловля, метание",null,"Ползанье, лазанье",null,null,"Ходьба",null,null,"Бег",null,null,"Прыжки",{"$nulls":3},"Равновесие",null,"Строевые упражнения",null,"Ребенок выполняет графический диктант","Ребенок обводит по шаблону, по трафарету","Ребенок чертит линии с помощью линейки","Ребенок обводит по контуру, по точкам","Ребенок выполняет штриховку в различных направлениях","Ребенок закрашивает, не выходя за контур","Ребенок свободно владеет карандашом при рисовании округлых линий, завитков в разном направлении",{"$nulls":5},"на санках","на лыжах","на двухколесном велосипеде","на самокате",{"$nulls":7},"на санках","на лыжах","на двухколесном велосипеде","на самокате","Слушание","Пение ","Музыкально-ритмические движения","Песенное творчество","Игра на детских музыкальных инструментах",null,"Театрализованная деятельность",{"$nulls":3},"Танцевально-игровое творчество",null,"У ребенка развит музыкальный вкус, музыкальная память","Рисование ",null,"Лепка ",null,"Аппликация ",null,"Народное ДПИ","Прикладное творчество"]
[{"$f":"Список!B26","v":0},"Отношение к самому себе",{"$nulls":3},"Отношение к сверстникам","Отношение к взрослым","Эмоции",null,null,"Поведение","Семья",null,"Игровое поведение",null,"Ребенок имеет представление об изменениях позиции человека с возрастом","Ребенок имеет представление о школе, школьниках, учителях; стремится к школьному обучению, к познанию, освоению чтения, письма; демонстрирует формированные предпосылки к учебной деятельности и элементы готовности к школьному обучению","Ребенок имеет представление о нравственных качествах людей, их проявлении в поступках и взаимоотношениях","Ребенок имеет представление о признаках и характеристиках государства (территория государства и его границы, столица), атрибутах государственной власти, президенте, столице","Ребенок имеет представление о порядке использования государственной символики","Ребенок имеет представление о волонтерстве","Ребенок имеет представление о государственных праздниках, исторических событиях","Ребенок имеет представление о жизни людей в России, о многообразии стран и народов мира","Ребенок имеет представление об обмене ценностями в процессе производства и потребления товаров и услуг, о денежных отношениях, о реальной стоимости отдельных продуктов питания, игрушек, детских книг","Ребенок имеет представление о об основах финансовой грамоты, основах бережного потребления","Ребенок проявляет инициативность и самостоятельность в процессе самообслуживания, при выполнении трудовых поручений","Ребенок имеет представление о правила безопасного поведения в ситуациях, создающих угрозу жизни и здоровью (погас свет, остался один, потерялся, получил травму)","Ребенок имеет представление о правила безопасного поведения дома, на улице, в природе, в местах большого скопления людей, в магазине, на вокзале, в общественных метах, на праздниках и др.","Ребенок имеет представление о правилах безопасного использования цифровых ресурсов (мобильного телефона, планшета)","Ребенок имеет представление об элементарных правилах оказания первой помощи при первых признаках недомогания, травмах, ушибах","Ребенок проявляет самостоятельность при выполнении правил безопасного поведения","Ребенок владеет речью как средством коммуникации, ведет диалог, владеет коммуникативно-речевыми умениями","Ребенок подбирает точные слова для выражения мысли","Ребенок выполняет операцию классификации – деления освоенных понятий на группы на основе выявленных признаков","Ребенок использует в речи средства языковой выразительности: антонимы, синонимы, многозначные слова, метафоры, олицетворение","Ребенок образует сложные слова посредством слияния основ","Ребенок согласует в речи существительные с числительными, существительные с прилагательными","Ребенок образует по образцу существительные с суффиксами, глаголы с приставками","Ребенок образует в речи сравнительную и превосходную степени имен прилагательных","Ребенок правильно произносит все звуки","Ребенок может пересказать литературное произведение по ролям, близко к тексту, от лица литературного героя","Ребенок может составить описательный рассказ, соблюдая структуру описания","Ребенок может составить повествовательный рассказ по картине, из личного опыта, из коллективного опыта, по набору игрушек, соблюдая структуру повествования","Ребенок может составить рассказ -контаминацию (сочетание описания и повествования, описания и рассуждения)","Ребенок использует в процессе общения объяснительную речь, речь-доказательство, речевое планирование","Ребенок знает и осмысленно воспринимает литературные произведения различных жанров, имеет предпочтения","Ребенок определяет характеры персонажей, мотивы их поведения, оценивает поступки литературных героев","Ребенок проявляет интерес к книгам познавательного характера","Ребенок производит звуковой анализ четырехзвуковых и пятизвуковых слов","Ребенок может интонационно выделить звуки в слове, определить их последовательность, дать им характеристику, составить схему слова, выделить ударный гласный звук в слове","Ребенок может определить количество и последовательность слов в предложении","Ребенок может составить предложение с заданным количеством слов","Ребенок знает названия всех букв","Ребенок читает слоги","Ребенок различает и называет",{"$nulls":8},"Ребенок умеет считать в пределах 10 в прямом и обратном порядке","Ребенок знает состав чисел из двух меньших в пределах первого десятка","Ребенок решает простые арифметические задачи на сложение и вычитание","Ребенок имеет представление о календаре, как системе измерения времени","Ребенок умеет определять время по часам с точностью до четверти часа","Ребенок ориентируется на местности, по схеме, по плану","Ребенок знает способы ориентировки в двухмерном пространстве","Ребенок умеет измерять протяженность, массу и объем с помощью условной мерки; понимает взаимообратные отношения между мерой и результатом измерения","Ребенок сравнивает предметы по 4-6 основаниям с выделением сходства, отличия",{"$nulls":9},"Ребенок имеет представление об использовании человеком свойств неживой природы для хозяйственных нужд (ветряные мельницы, водохранилища, солнечные батареи, ледяные катки)",{"$nulls":3},"Ребенок выполняет различные упражнения с мячом, метание",null,"Ребенок выполняет разные виды ползанья, лазанья ",null,null,"Ребенок выполняет различные виды ходьбы",null,null,"Ребенок выполняет различные виды бега",null,null,"Ребенок выполняет различные виды прыжков",{"$nulls":3},"Ребенок выполняет",null,"Ребенок выполняет разные виды перестроений, построений, передвижений, размыкание и смыкание приставным шагом, повороты","Ребенок может рассчитаться на «первый – второй»",{"$nulls":16},"Ребенок владеет навыками личной гигиены","Ребенок владеет навыками культуры еды","Ребенок владеет навыками поддержания порядка","Ребенок владеет навыками ухода за собой",{"$nulls":7},"У ребенка развит навык восприятия звуков по высоте в пределах квинты-терции","У ребенка развиты певческий голос и вокально-слуховая координация","Ребёнок ритмично и выразительно двигается в соответствие с характером музыки","Ребенок способен самостоятельно придумать мелодию, используя в качестве образца русские народные песни","Ребенок может сыграть простую мелодию на металлофоне, свирели, ударных, и электронных музыкальных инструментах: трещотках, погремушках, треугольниках","Ребенок может исполнить музыкальное произведение в оркестре и в ансамбле","Ребенок проявляет самостоятельность при выборе литературного и музыкального материала для театральной постановки","Ребенок проявляет инициативу при изготовлении атрибутов и декораций к спектаклю","Ребенок имеет представление о средствах погружения в театральные образы (музыка, слова, декорации, грим, костюм и др.)","Ребенок умеет выразительно передавать образы в действии, мимике, пантомимике","Ребенок проявляет активность в доступных видах музыкальной исполнительской деятельности (игра в оркестре, пение, танцевальные движения и др.)","Ребенок помогает придумывать движения, отражающие содержание песни",null,"Ребенок может изобразить предметы по памяти и с натуры, передает их средствами рисунка (форма, пропорции, расположение)","Ребенок способен передавать в рисунке сюжет, строить композицию","Ребенок свободно использует приемы лепки, освоенные ранее (налеп, углубленный рельеф), применяет стеку","Ребенок умеет передавать пропорции, соотношение по величине, выразительность поз, движений, деталей","Ребенок умеет составлять узоры и декоративные композиции из геометрических и растительных элементов на листах бумаги разной формы","Ребенок может выполнить вырезание (симметричное из бумаги, сложенной вдвое; несколько предметов из частей бумаги, сложенной гармошкой)","Ребенок умеет создавать узоры по мотивам народных росписей","Ребенок может сложить бумагу в разных направлениях","Ребенок может сделать разметку с помощью шаблона","Ребенок может выполнить работу по образцу","Ребенок может создать объемную игрушку в технике «оригами»","Ребенок может создать объемную поделку из природного материала","Ребенок может вдеть нитку в иголку, завязать узелок, пришить пуговицу, петельку, выполнить шов «вперед иголка»","Ребенок умеет выделять, называть, группировать произведения по видам искусства: литература, музыка, изобразительное искусство, архитектура, театр, цирк","Ребенок имеет представление о видах изобразительного искусства: графика, декоративно-прикладное искусство, живопись, скульптура, архитектура, фотоискусство","Ребенок имеет представление о жанрах изобразительного искусства: натюрморт, пейзаж, портрет","Ребенок имеет представление о народном искусстве, фольклоре, музыке и художественных промыслах","Ребенок имеет представление о творческих профессиях: художник, композитор, музыкант, актер, артист балета","Ребенок имеет представление о культурно-досуговых местах: театр, музей, библиотека, выставка, кинотеатр, цирк и др.","Ребенок может провести анализ постройки (выделить основные части и характерные детали конструкций)","Ребенок может выполнить постройку по инструкции"]
[null,"Ребенок осознает и признает собственные ошибки, результат поставленных задач, определяет пути развития","Ребенок умеет договариваться и дружить, старается разрешать конфликтные ситуации конструктивными способами","Ребенок способен принимать собственные решения и проявлять инициативу","Ребенок осознанно относится к своему будущему, стремится быть полезным обществу","Ребенок без напоминаний использует в общении формулы словесной вежливости (приветствие, прощание, просьбы, извинения)","Ребенок без напоминаний использует в общении формулы словесной вежливости (приветствие, прощание, просьбы, извинения)","Ребенок понимает чувства и переживания окружающих по невербальным признакам; находит причины и следствия возникновения эмоций, проявляет эмпатию","Ребенок использует социально приемлемые способы проявления эмоций и доступные возрасту регуляции эмоциональных состояний","Ребенок распознает собственные чувства и эмоции, анализирует свои переживания и рассказывает о них","Ребенок самостоятельно соблюдает установленный порядок поведения в группе, регулирует собственную активность","Ребенок имеет представление о необходимости укрепления связи между поколениями, взаимной поддержке детей и взрослых","Ребенок имеет представление о семье, семейных и родственных отношениях (взаимные чувства, правила общения в семье, значимые и памятные события, досуг семьи, семейный бюджет)","Ребенок умеет сотрудничать со сверстниками (побуждает к обсуждению планов, советуется, поддерживает интерес к мнению, инициирует ситуации взаимопомощи, подчеркивает ценность каждого ребенка и его вклад в общее дело, выбирает партнеров по интересам, помогает устанавливать темп совместных действий)","Ребенок владеет разными способами и видами игры, различает условную и реальную ситуации, предлагает и объясняет замысел игры, комбинирует сюжеты на основе реальных, вымышленных ситуаций, выполняет несколько ролей в одной игре, подбирает разные средства для создания игровых образов, согласовывает свои интересы с интересами партнёров по игре",{"$nulls":39}," все цвета спектра и ахроматические цвета, оттенки","плоские и объемные геометрические фигуры; умеет выделять структуру геометрических фигур и устанавливать взаимосвязи между ними","Ребенок умеет классифицировать фигуры по внешним структурным признаками (округлые, многоугольники)","Ребенок владеет различными способами видоизменения геометрических фигур (наложение, соединение, разрезание и др.)","Ребенок умеет измерять длину, ширину, высоту с помощью условной мерки",{"$nulls":13}," о родном населенном пункте (название улиц, некоторых архитектурных особенностях, достопримечательностях), об истории, о выдающихся горожанах, традициях городской жизни"," о назначении общественных учреждений"," о разных видах специального транспорта"," о местах труда людей (завод, больница, магазин и др.)"," о местах отдыха людей","Ребенок имеет представление о наиболее ярких представителях животных и растений разных природных зон (пустыня, степь, тайга, тундра и др.), об их образе жизни, приспособлении к среде обитания, изменениях в жизни в разные сезоны года","Ребенок имеет представление о многообразии водных ресурсов (моря, океаны, реки, водопады и др.)","Ребенок имеет представление о многообразии полезных ископаемых (нефть, уголь, серебро, золото, алмазы и др.)","Ребенок имеет представление о жизненных потребностях, этапах роста и развития животных и растений",null,"Ребенок имеет представление о некоторых небесных телах (планеты, кометы, звезды)",null,null,"бросание вверх, о землю, ловля двумя руками, одной рукой, перебрасывание, передача, прокатывание, забрасывание, ведение","в цель из положения стоя, вдаль, в движущеюся цель","ползанье на четвереньках, на животе, на спине","влезание на гимнастическую стенку и спуск; перелезание с пролета на пролет по диагонали","лазанье по веревочной лестнице; выполнение упражнений на канате","обычная, гимнастическим шагом, скрестным шагом, спиной вперед, выпадами, с закрытыми глазами","приставными шагами назад, в приседе, с различными движениями рук","в различных построениях","в колонне по одному, врассыпную, парами, тройками, четверками","в сочетание с прыжками, высоко поднимая колени, захлестывая голени назад, выбрасывая прямые ноги вперед","челночный, наперегонки, из разных исходных положений, со скакалкой, по пересеченной местности, с наименьшим числом шагов, медленный, быстрый","подпрыгивания на двух ногах в чередовании с ходьбой, на месте и с поворот кругом","смещая ноги вправо-влево-вперед-назад","выпрыгивание на предметы; подпрыгивания вверх из глубокого приседа; прыжки на одной ноге","в длину с места/с разбега, в высоту с места/с разбега","стойка на носках, стойка на одной ноге с закрытыми глазами","кружение с закрытыми глазами, остановкой и сохранением заданной позы"]
["начало года",{"$f":"'Соц.ком.к 7г ч1 Н.г.'!E33","v":0},{"$f":"'Соц.ком.к 7г ч1 Н.г.'!F33","v":0},{"$f":"'Соц.ком.к 7г ч1 Н.г.'!G33","v":0},{"$f":"'Соц.ком.к 7г ч1 Н.г.'!H33","v":0},{"$f":"'Соц.ком.к 7г ч1 Н.г.'!I33","v":0},{"$f":"'Соц.ком.к 7г ч1 Н.г.'!J33","v":0},{"$f":"'Соц.ком.к 7г ч1 Н.г.'!K33","v":0},{"$f":"'Соц.ком.к 7г ч1 Н.г.'!L33","v":0},{"$f":"'Соц.ком.к 7г ч1 Н.г.'!M33","v":0},{"$f":"'Соц.ком.к 7г ч1 Н.г.'!N33","v":0},{"$f":"'Соц.ком.к 7г ч2 Н.г.'!E33","v":0},{"$f":"'Соц.ком.к 7г ч2 Н.г.'!F33","v":0},{"$f":"'Соц.ком.к 7г ч2 Н.г.'!G33","v":0},{"$f":"'Соц.ком.к 7г ч2 Н.г.'!H33","v":0},{"$f":"'Соц.ком.к 7г ч2 Н.г.'!I33","v":0},{"$f":"'Соц.ком.к 7г ч2 Н.г.'!J33","v":0},{"$f":"'Соц.ком.к 7г ч2 Н.г.'!K33","v":0},{"$f":"'Соц.ком. к 7г ч3 Н.г.'!E33","v":0},{"$f":"'Соц.ком. к 7г ч3 Н.г.'!F33","v":0},{"$f":"'Соц.ком. к 7г ч3 Н.г.'!G33","v":0},{"$f":"'Соц.ком. к 7г ч3 Н.г.'!H33","v":0},{"$f":"'Соц.ком. к 7г ч3 Н.г.'!I33","v":0},{"$f":"'Соц.ком. к 7г ч3 Н.г.'!J33","v":0},{"$f":"'Соц.ком. к 7г ч3 Н.г.'!K33","v":0},{"$f":"'Соц.ком. к 7г ч3 Н.г.'!L33","v":0},{"$f":"'Соц.ком. к 7г ч4 Н.г.'!E33","v":0},{"$f":"'Соц.ком. к 7г ч4 Н.г.'!F33","v":0},{"$f":"'Соц.ком. к 7г ч4 Н.г.'!G33","v":0},{"$f":"'Соц.ком. к 7г ч4 Н.г.'!H33","v":0},{"$f":"'Соц.ком. к 7г ч4 Н.г.'!I33","v":0},{"$f":"'Реч.разв.к 7г ч1 Н.г.'!E33","v":0},{"$f":"'Реч.разв.к 7г ч1 Н.г.'!F33","v":0},{"$f":"'Реч.разв.к 7г ч1 Н.г.'!G33","v":0},{"$f":"'Реч.разв.к 7г ч1 Н.г.'!H33","v":0},{"$f":"'Реч.разв.к 7г ч1 Н.г.'!I33","v":0},{"$f":"'Реч.разв.к 7г ч1 Н.г.'!J33","v":0},{"$f":"'Реч.разв.к 7г ч1 Н.г.'!K33","v":0},{"$f":"'Реч.разв.к 7г ч1 Н.г.'!L33","v":0},{"$f":"'Реч.разв.к 7г ч2 Н.г.'!E33","v":0},{"$f":"'Реч.разв.к 7г ч2 Н.г.'!F33","v":0},{"$f":"'Реч.разв.к 7г ч2 Н.г.'!G33","v":0},{"$f":"'Реч.разв.к 7г ч2 Н.г.'!H33","v":0},{"$f":"'Реч.разв.к 7г ч2 Н.г.'!I33","v":0},{"$f":"'Реч.разв.к 7г ч2 Н.г.'!J33","v":0},{"$f":"'Реч.разв.к 7г ч2 Н.г.'!K33","v":0},{"$f":"'Реч.разв.к 7г ч2 Н.г.'!L33","v":0},{"$f":"'Реч.разв.к 7г ч2 Н.г.'!M33","v":0},{"$f":"'Реч.разв.к 7г ч3. Н.г.'!E33","v":0},{"$f":"'Реч.разв.к 7г ч3. Н.г.'!F33","v":0},{"$f":"'Реч.разв.к 7г ч3. Н.г.'!G33","v":0},{"$f":"'Реч.разв.к 7г ч3. Н.г.'!H33","v":0},{"$f":"'Реч.разв.к 7г ч3. Н.г.'!I33","v":0},{"$f":"'Реч.разв.к 7г ч3. Н.г.'!J33","v":0},{"$f":"'Позн.разв. к 7г ч1. Н.г.'!E34","v":0},{"$f":"'Позн.разв. к 7г ч1. Н.г.'!F34","v":0},{"$f":"'Позн.разв. к 7г ч1. Н.г.'!G34","v":0},{"$f":"'Позн.разв. к 7г ч1. Н.г.'!H34","v":0},{"$f":"'Позн.разв. к 7г ч1. Н.г.'!I34","v":0},{"$f":"'Позн.разв. к 7г ч1. Н.г.'!J34","v":0},{"$f":"'Позн.разв. к 7г ч1. Н.г.'!K34","v":0},{"$f":"'Позн.разв. к 7г ч1. Н.г.'!L34","v":0},{"$f":"'Позн.разв. к 7г ч1. Н.г.'!M34","v":0},{"$f":"'Позн.разв. к 7г ч2. Н.г.'!E34","v":0},{"$f":"'Позн.разв. к 7г ч2. Н.г.'!F34","v":0},{"$f":"'Позн.разв. к 7г ч2. Н.г.'!G34","v":0},{"$f":"'Позн.разв. к 7г ч2. Н.г.'!H34","v":0},{"$f":"'Позн.разв. к 7г ч2. Н.г.'!I34","v":0},{"$f":"'Позн.разв. к 7г ч2. Н.г.'!J34","v":0},{"$f":"'Позн.разв. к 7г ч2. Н.г.'!K34","v":0},{"$f":"'Позн.разв. к 7г ч2. Н.г.'!L34","v":0},{"$f":"'Позн.разв. к 7г ч2. Н.г.'!M34","v":0},{"$f":"'Позн.разв. к 7г ч3. Н.г.'!E34","v":0},{"$f":"'Позн.разв. к 7г ч3. Н.г.'!F34","v":0},{"$f":"'Позн.разв. к 7г ч3. Н.г.'!G34","v":0},{"$f":"'Позн.разв. к 7г ч3. Н.г.'!H34","v":0},{"$f":"'Позн.разв. к 7г ч3. Н.г.'!I34","v":0},{"$f":"'Позн.разв. к 7г ч3. Н.г.'!J34","v":0},{"$f":"'Позн.разв. к 7г ч3. Н.г.'!K34","v":0},{"$f":"'Позн.разв. к 7г ч3. Н.г.'!L34","v":0},{"$f":"'Позн.разв. к 7г ч3. Н.г.'!M34","v":0},{"$f":"'Позн.разв. к 7г ч3. Н.г.'!N34","v":0},{"$f":"'Позн.разв. к 7г ч3. Н.г.'!O34","v":0},{"$f":"'Позн.разв. к 7г ч3. Н.г.'!P34","v":0},{"$f":"'Позн.разв. к 7г ч3. Н.г.'!Q34","v":0},{"$f":"'Физ.разв. к 7г ч1. Н.г.'!E34","v":0},{"$f":"'Физ.разв. к 7г ч1. Н.г.'!F34","v":0},{"$f":"'Физ.разв. к 7г ч1. Н.г.'!G34","v":0},{"$f":"'Физ.разв. к 7г ч1. Н.г.'!H34","v":0},{"$f":"'Физ.разв. к 7г ч1. Н.г.'!I34","v":0},{"$f":"'Физ.разв. к 7г ч1. Н.г.'!J34","v":0},{"$f":"'Физ.разв. к 7г ч1. Н.г.'!K34","v":0},{"$f":"'Физ.разв. к 7г ч1. Н.г.'!L34","v":0},{"$f":"'Физ.разв. к 7г ч1. Н.г.'!M34","v":0},{"$f":"'Физ.разв. к 7г ч1. Н.г.'!N34","v":0},{"$f":"'Физ.разв. к 7г ч1. Н.г.'!O34","v":0},{"$f":"'Физ.разв. к 7г ч1. Н.г.'!P34","v":0},{"$f":"'Физ.разв. к 7г ч1. Н.г.'!Q34","v":0},{"$f":"'Физ.разв. к 7г ч1. Н.г.'!R34","v":0},{"$f":"'Физ.разв. к 7г ч1. Н.г.'!S34","v":0},{"$f":"'Физ.разв. к 7г ч1. Н.г.'!T34","v":0},{"$f":"'Физ.разв. к 7г ч1. Н.г.'!U34","v":0},{"$f":"'Физ.разв. к 7г ч1. Н.г.'!V34","v":0},{"$f":"'Физ.разв. к 7г ч1. Н.г.'!W34","v":0},{"$f":"'Физ.разв. к 7г ч2. Н.г.'!E35","v":0},{"$f":"'Физ.разв. к 7г ч2. Н.г.'!F35","v":0},{"$f":"'Физ.разв. к 7г ч2. Н.г.'!G35","v":0},{"$f":"'Физ.разв. к 7г ч2. Н.г.'!H35","v":0},{"$f":"'Физ.разв. к 7г ч2. Н.г.'!I35","v":0},{"$f":"'Физ.разв. к 7г ч2. Н.г.'!J35","v":0},{"$f":"'Физ.разв. к 7г ч2. Н.г.'!K35","v":0},{"$f":"'Физ.разв. к 7г ч2. Н.г.'!L35","v":0},{"$f":"'Физ.разв. к 7г ч2. Н.г.'!M35","v":0},{"$f":"'Физ.разв. к 7г ч2. Н.г.'!N35","v":0},{"$f":"'Физ.разв. к 7г ч2. Н.г.'!O35","v":0},{"$f":"'Физ.разв. к 7г ч2. Н.г.'!P35","v":0},{"$f":"'Физ.разв. к 7г ч2. Н.г.'!Q35","v":0},{"$f":"'Физ.разв. к 7г ч2. Н.г.'!R35","v":0},{"$f":"'Физ.разв. к 7г ч2. Н.г.'!S35","v":0},{"$f":"'Физ.разв. к 7г ч2. Н.г.'!T35","v":0},{"$f":"'Физ.разв. к 7г ч3. Н.г.'!E35","v":0},{"$f":"'Физ.разв. к 7г ч3. Н.г.'!F35","v":0},{"$f":"'Физ.разв. к 7г ч3. Н.г.'!G35","v":0},{"$f":"'Физ.разв. к 7г ч3. Н.г.'!H35","v":0},{"$f":"'Физ.разв. к 7г ч3. Н.г.'!I35","v":0},{"$f":"'Физ.разв. к 7г ч3. Н.г.'!J35","v":0},{"$f":"'Физ.разв. к 7г ч3. Н.г.'!K35","v":0},{"$f":"'Физ.разв. к 7г ч3. Н.г.'!L35","v":0},{"$f":"'Физ.разв. к 7г ч3. Н.г.'!M35","v":0},{"$f":"'Физ.разв. к 7г ч3. Н.г.'!N35","v":0},{"$f":"'Физ.разв. к 7г ч3. Н.г.'!O35","v":0},{"$f":"'Худ.эст.к 7г ч1. Н.г.'!E34","v":0},{"$f":"'Худ.эст.к 7г ч1. Н.г.'!F34","v":0},{"$f":"'Худ.эст.к 7г ч1. Н.г.'!G34","v":0},{"$f":"'Худ.эст.к 7г ч1. Н.г.'!H34","v":0},{"$f":"'Худ.эст.к 7г ч1. Н.г.'!I34","v":0},{"$f":"'Худ.эст.к 7г ч1. Н.г.'!J34","v":0},{"$f":"'Худ.эст.к 7г ч1. Н.г.'!K34","v":0},{"$f":"'Худ.эст.к 7г ч1. Н.г.'!L34","v":0},{"$f":"'Худ.эст.к 7г ч1. Н.г.'!M34","v":0},{"$f":"'Худ.эст.к 7г ч1. Н.г.'!N34","v":0},{"$f":"'Худ.эст.к 7г ч1. Н.г.'!O34","v":0},{"$f":"'Худ.эст.к 7г ч1. Н.г.'!P34","v":0},{"$f":"'Худ.эст.к 7г ч1. Н.г.'!Q34","v":0},{"$f":"'Худ.эст.к 7г ч2. Н.г.'!E34","v":0},{"$f":"'Худ.эст.к 7г ч2. Н.г.'!F34","v":0},{"$f":"'Худ.эст.к 7г ч2. Н.г.'!G34","v":0},{"$f":"'Худ.эст.к 7г ч2. Н.г.'!H34","v":0},{"$f":"'Худ.эст.к 7г ч2. Н.г.'!I34","v":0},{"$f":"'Худ.эст.к 7г ч2. Н.г.'!J34","v":0},{"$f":"'Худ.эст.к 7г ч2. Н.г.'!K34","v":0},{"$f":"'Худ.эст.к 7г ч2. Н.г.'!L34","v":0},{"$f":"'Худ.эст.к 7г ч2. Н.г.'!M34","v":0},{"$f":"'Худ.эст.к 7г ч2. Н.г.'!N34","v":0},{"$f":"'Худ.эст.к 7г ч2. Н.г.'!O34","v":0},{"$f":"'Худ.эст.к 7г ч2. Н.г.'!P34","v":0},{"$f":"'Худ.эст.к 7г ч2. Н.г.'!Q34","v":0},{"$f":"'Худ.эст.к 7г ч3. Н.г.'!E34","v":0},{"$f":"'Худ.эст.к 7г ч3. Н.г.'!F34","v":0},{"$f":"'Худ.эст.к 7г ч3. Н.г.'!G34","v":0},{"$f":"'Худ.эст.к 7г ч3. Н.г.'!H34","v":0},{"$f":"'Худ.эст.к 7г ч3. Н.г.'!I34","v":0},{"$f":"'Худ.эст.к 7г ч3. Н.г.'!J34","v":0},{"$f":"'Худ.эст.к 7г ч3. Н.г.'!K34","v":0},{"$f":"'Худ.эст.к 7г ч3. Н.г.'!L34","v":0}]
["конец года",{"$f":"'Соц.ком.к 7г ч1 К.г.'!E33","v":0},{"$f":"'Соц.ком.к 7г ч1 К.г.'!F33","v":0},{"$f":"'Соц.ком.к 7г ч1 К.г.'!G33","v":0},{"$f":"'Соц.ком.к 7г ч1 К.г.'!H33","v":0},{"$f":"'Соц.ком.к 7г ч1 К.г.'!I33","v":0},{"$f":"'Соц.ком.к 7г ч1 К.г.'!J33","v":0},{"$f":"'Соц.ком.к 7г ч1 К.г.'!K33","v":0},{"$f":"'Соц.ком.к 7г ч1 К.г.'!L33","v":0},{"$f":"'Соц.ком.к 7г ч1 К.г.'!M33","v":0},{"$f":"'Соц.ком.к 7г ч1 К.г.'!N33","v":0},{"$f":"'Соц.ком.к 7г ч2 К.г.'!E33","v":0},{"$f":"'Соц.ком.к 7г ч2 К.г.'!F33","v":0},{"$f":"'Соц.ком.к 7г ч2 К.г.'!G33","v":0},{"$f":"'Соц.ком.к 7г ч2 К.г.'!H33","v":0},{"$f":"'Соц.ком.к 7г ч2 К.г.'!I33","v":0},{"$f":"'Соц.ком.к 7г ч2 К.г.'!J33","v":0},{"$f":"'Соц.ком.к 7г ч2 К.г.'!K33","v":0},{"$f":"'Соц.ком. к 7г ч3 К.г.'!E33","v":0},{"$f":"'Соц.ком. к 7г ч3 К.г.'!F33","v":0},{"$f":"'Соц.ком. к 7г ч3 К.г.'!G33","v":0},{"$f":"'Соц.ком. к 7г ч3 К.г.'!H33","v":0},{"$f":"'Соц.ком. к 7г ч3 К.г.'!I33","v":0},{"$f":"'Соц.ком. к 7г ч3 К.г.'!J33","v":0},{"$f":"'Соц.ком. к 7г ч3 К.г.'!K33","v":0},{"$f":"'Соц.ком. к 7г ч3 К.г.'!L33","v":0},{"$f":"'Соц.ком. к 7г ч4 К.г.'!E33","v":0},{"$f":"'Соц.ком. к 7г ч4 К.г.'!F33","v":0},{"$f":"'Соц.ком. к 7г ч4 К.г.'!G33","v":0},{"$f":"'Соц.ком. к 7г ч4 К.г.'!H33","v":0},{"$f":"'Соц.ком. к 7г ч4 К.г.'!I33","v":0},{"$f":"'Реч.разв.к 7г ч1 К.г.'!E33","v":0},{"$f":"'Реч.разв.к 7г ч1 К.г.'!F33","v":0},{"$f":"'Реч.разв.к 7г ч1 К.г.'!G33","v":0},{"$f":"'Реч.разв.к 7г ч1 К.г.'!H33","v":0},{"$f":"'Реч.разв.к 7г ч1 К.г.'!I33","v":0},{"$f":"'Реч.разв.к 7г ч1 К.г.'!J33","v":0},{"$f":"'Реч.разв.к 7г ч1 К.г.'!K33","v":0},{"$f":"'Реч.разв.к 7г ч1 К.г.'!L33","v":0},{"$f":"'Реч.разв.к 7г ч2 К.г. '!E33","v":0},{"$f":"'Реч.разв.к 7г ч2 К.г. '!F33","v":0},{"$f":"'Реч.разв.к 7г ч2 К.г. '!G33","v":0},{"$f":"'Реч.разв.к 7г ч2 К.г. '!H33","v":0},{"$f":"'Реч.разв.к 7г ч2 К.г. '!I33","v":0},{"$f":"'Реч.разв.к 7г ч2 К.г. '!J33","v":0},{"$f":"'Реч.разв.к 7г ч2 К.г. '!K33","v":0},{"$f":"'Реч.разв.к 7г ч2 К.г. '!L33","v":0},{"$f":"'Реч.разв.к 7г ч2 К.г. '!M33","v":0},{"$f":"'Реч.разв.к 7г ч3. К.г. '!E33","v":0},{"$f":"'Реч.разв.к 7г ч3. К.г. '!F33","v":0},{"$f":"'Реч.разв.к 7г ч3. К.г. '!G33","v":0},{"$f":"'Реч.разв.к 7г ч3. К.г. '!H33","v":0},{"$f":"'Реч.разв.к 7г ч3. К.г. '!I33","v":0},{"$f":"'Реч.разв.к 7г ч3. К.г. '!J33","v":0},{"$f":"'Позн.разв. к 7г ч1. К.г. '!E34","v":0},{"$f":"'Позн.разв. к 7г ч1. К.г. '!F34","v":0},{"$f":"'Позн.разв. к 7г ч1. К.г. '!G34","v":0},{"$f":"'Позн.разв. к 7г ч1. К.г. '!H34","v":0},{"$f":"'Позн.разв. к 7г ч1. К.г. '!I34","v":0},{"$f":"'Позн.разв. к 7г ч1. К.г. '!J34","v":0},{"$f":"'Позн.разв. к 7г ч1. К.г. '!K34","v":0},{"$f":"'Позн.разв. к 7г ч1. К.г. '!L34","v":0},{"$f":"'Позн.разв. к 7г ч1. К.г. '!M34","v":0},{"$f":"'Позн.разв. к 7г ч2. К.г.'!E34","v":0},{"$f":"'Позн.разв. к 7г ч2. К.г.'!F34","v":0},{"$f":"'Позн.разв. к 7г ч2. К.г.'!G34","v":0},{"$f":"'Позн.разв. к 7г ч2. К.г.'!H34","v":0},{"$f":"'Позн.разв. к 7г ч2. К.г.'!I34","v":0},{"$f":"'Позн.разв. к 7г ч2. К.г.'!J34","v":0},{"$f":"'Позн.разв. к 7г ч2. К.г.'!K34","v":0},{"$f":"'Позн.разв. к 7г ч2. К.г.'!L34","v":0},{"$f":"'Позн.разв. к 7г ч2. К.г.'!M34","v":0},{"$f":"'Позн.разв. к 7г ч3. К.г. '!E34","v":0},{"$f":"'Позн.разв. к 7г ч3. К.г. '!F34","v":0},{"$f":"'Позн.разв. к 7г ч3. К.г. '!G34","v":0},{"$f":"'Позн.разв. к 7г ч3. К.г. '!H34","v":0},{"$f":"'Позн.разв. к 7г ч3. К.г. '!I34","v":0},{"$f":"'Позн.разв. к 7г ч3. К.г. '!J34","v":0},{"$f":"'Позн.разв. к 7г ч3. К.г. '!K34","v":0},{"$f":"'Позн.разв. к 7г ч3. К.г. '!L34","v":0},{"$f":"'Позн.разв. к 7г ч3. К.г. '!M34","v":0},{"$f":"'Позн.разв. к 7г ч3. К.г. '!N34","v":0},{"$f":"'Позн.разв. к 7г ч3. К.г. '!O34","v":0},{"$f":"'Позн.разв. к 7г ч3. К.г. '!P34","v":0},{"$f":"'Позн.разв. к 7г ч3. К.г. '!Q34","v":0},{"$f":"'Физ.разв. к 7г ч1. К.г. '!E34","v":0},{"$f":"'Физ.разв. к 7г ч1. К.г. '!F34","v":0},{"$f":"'Физ.разв. к 7г ч1. К.г. '!G34","v":0},{"$f":"'Физ.разв. к 7г ч1. К.г. '!H34","v":0},{"$f":"'Физ.разв. к 7г ч1. К.г. '!I34","v":0},{"$f":"'Физ.разв. к 7г ч1. К.г. '!J34","v":0},{"$f":"'Физ.разв. к 7г ч1. К.г. '!K34","v":0},{"$f":"'Физ.разв. к 7г ч1. К.г. '!L34","v":0},{"$f":"'Физ.разв. к 7г ч1. К.г. '!M34","v":0},{"$f":"'Физ.разв. к 7г ч1. К.г. '!N34","v":0},{"$f":"'Физ.разв. к 7г ч1. К.г. '!O34","v":0},{"$f":"'Физ.разв. к 7г ч1. К.г. '!P34","v":0},{"$f":"'Физ.разв. к 7г ч1. К.г. '!Q34","v":0},{"$f":"'Физ.разв. к 7г ч1. К.г. '!R34","v":0},{"$f":"'Физ.разв. к 7г ч1. К.г. '!S34","v":0},{"$f":"'Физ.разв. к 7г ч1. К.г. '!T34","v":0},{"$f":"'Физ.разв. к 7г ч1. К.г. '!U34","v":0},{"$f":"'Физ.разв. к 7г ч1. К.г. '!V34","v":0},{"$f":"'Физ.разв. к 7г ч1. К.г. '!W34","v":0},{"$f":"'Физ.разв. к 7г ч2. К.г.'!E35","v":0},{"$f":"'Физ.разв. к 7г ч2. К.г.'!F35","v":0},{"$f":"'Физ.разв. к 7г ч2. К.г.'!G35","v":0},{"$f":"'Физ.разв. к 7г ч2. К.г.'!H35","v":0},{"$f":"'Физ.разв. к 7г ч2. К.г.'!I35","v":0},{"$f":"'Физ.разв. к 7г ч2. К.г.'!J35","v":0},{"$f":"'Физ.разв. к 7г ч2. К.г.'!K35","v":0},{"$f":"'Физ.разв. к 7г ч2. К.г.'!L35","v":0},{"$f":"'Физ.разв. к 7г ч2. К.г.'!M35","v":0},{"$f":"'Физ.разв. к 7г ч2. К.г.'!N35","v":0},{"$f":"'Физ.разв. к 7г ч2. К.г.'!O35","v":0},{"$f":"'Физ.разв. к 7г ч2. К.г.'!P35","v":0},{"$f":"'Физ.разв. к 7г ч2. К.г.'!Q35","v":0},{"$f":"'Физ.разв. к 7г ч2. К.г.'!R35","v":0},{"$f":"'Физ.разв. к 7г ч2. К.г.'!S35","v":0},{"$f":"'Физ.разв. к 7г ч2. К.г.'!T35","v":0},{"$f":"'Физ.разв. к 7г ч3. К.г. '!E35","v":0},{"$f":"'Физ.разв. к 7г ч3. К.г. '!F35","v":0},{"$f":"'Физ.разв. к 7г ч3. К.г. '!G35","v":0},{"$f":"'Физ.разв. к 7г ч3. К.г. '!H35","v":0},{"$f":"'Физ.разв. к 7г ч3. К.г. '!I35","v":0},{"$f":"'Физ.разв. к 7г ч3. К.г. '!J35","v":0},{"$f":"'Физ.разв. к 7г ч3. К.г. '!K35","v":0},{"$f":"'Физ.разв. к 7г ч3. К.г. '!L35","v":0},{"$f":"'Физ.разв. к 7г ч3. К.г. '!M35","v":0},{"$f":"'Физ.разв. к 7г ч3. К.г. '!N35","v":0},{"$f":"'Физ.разв. к 7г ч3. К.г. '!O35","v":0},{"$f":"'Худ.эст.к 7г ч1. К.г. '!E34","v":0},{"$f":"'Худ.эст.к 7г ч1. К.г. '!F34","v":0},{"$f":"'Худ.эст.к 7г ч1. К.г. '!G34","v":0},{"$f":"'Худ.эст.к 7г ч1. К.г. '!H34","v":0},{"$f":"'Худ.эст.к 7г ч1. К.г. '!I34","v":0},{"$f":"'Худ.эст.к 7г ч1. К.г. '!J34","v":0},{"$f":"'Худ.эст.к 7г ч1. К.г. '!K34","v":0},{"$f":"'Худ.эст.к 7г ч1. К.г. '!L34","v":0},{"$f":"'Худ.эст.к 7г ч1. К.г. '!M34","v":0},{"$f":"'Худ.эст.к 7г ч1. К.г. '!N34","v":0},{"$f":"'Худ.эст.к 7г ч1. К.г. '!O34","v":0},{"$f":"'Худ.эст.к 7г ч1. К.г. '!P34","v":0},{"$f":"'Худ.эст.к 7г ч1. К.г. '!Q34","v":0},{"$f":"'Худ.эст.к 7г ч2. К.г. '!E34","v":0},{"$f":"'Худ.эст.к 7г ч2. К.г. '!F34","v":0},{"$f":"'Худ.эст.к 7г ч2. К.г. '!G34","v":0},{"$f":"'Худ.эст.к 7г ч2. К.г. '!H34","v":0},{"$f":"'Худ.эст.к 7г ч2. К.г. '!I34","v":0},{"$f":"'Худ.эст.к 7г ч2. К.г. '!J34","v":0},{"$f":"'Худ.эст.к 7г ч2. К.г. '!K34","v":0},{"$f":"'Худ.эст.к 7г ч2. К.г. '!L34","v":0},{"$f":"'Худ.эст.к 7г ч2. К.г. '!M34","v":0},{"$f":"'Худ.эст.к 7г ч2. К.г. '!N34","v":0},{"$f":"'Худ.эст.к 7г ч2. К.г. '!O34","v":0},{"$f":"'Худ.эст.к 7г ч2. К.г. '!P34","v":0},{"$f":"'Худ.эст.к 7г ч2. К.г. '!Q34","v":0},{"$f":"'Худ.эст.к 7г ч3. К.г. '!E34","v":0},{"$f":"'Худ.эст.к 7г ч3. К.г. '!F34","v":0},{"$f":"'Худ.эст.к 7г ч3. К.г. '!G34","v":0},{"$f":"'Худ.эст.к 7г ч3. К.г. '!H34","v":0},{"$f":"'Худ.эст.к 7г ч3. К.г. '!I34","v":0},{"$f":"'Худ.эст.к 7г ч3. К.г. '!J34","v":0},{"$f":"'Худ.эст.к 7г ч3. К.г. '!K34","v":0},{"$f":"'Худ.эст.к 7г ч3. К.г. '!L34","v":0}]

{"sheet":"24","index":61,"n_rows":7,"n_cols":165,"rows_kept":7,"merged":[[0,104,0,110],[0,111,0,112],[0,113,0,115],[0,116,0,119],[0,120,0,123],[0,124,0,126],[0,127,0,130],[1,54,1,58],[1,59,1,62],[1,63,1,71],[1,72,1,76],[1,77,1,84],[1,104,1,106],[1,107,1,110],[1,111,4,111],[1,112,4,112],[1,113,4,113],[1,114,4,114],[1,115,4,115],[1,116,1,119],[1,120,2,120],[1,121,2,121],[1,122,2,122],[1,123,2,123],[1,124,4,124],[1,125,4,125],[1,126,4,126],[1,127,1,130],[1,131,1,143],[1,144,1,156],[1,157,2,162],[1,163,2,164],[2,18,2,22],[2,23,2,25],[2,26,2,30],[2,32,2,34],[2,35,2,38],[2,40,2,44],[2,45,2,47],[2,48,2,53],[2,55,2,57],[2,59,4,59],[2,60,4,60],[2,61,4,61],[2,62,4,62],[2,63,2,65],[2,66,2,67],[2,68,2,69],[2,72,3,76],[2,77,2,80],[2,81,2,82],[2,83,4,83],[2,84,4,84],[2,85,2,86],[2,87,2,89],[2,90,2,92],[2,93,2,95],[2,96,2,99],[2,100,2,101],[2,102,2,103],[2,104,4,104],[2,105,4,105],[2,106,4,106],[2,107,4,107],[2,108,4,108],[2,109,4,109],[2,110,4,110],[2,116,4,116],[2,117,4,117],[2,118,4,118],[2,119,4,119],[2,127,4,127],[2,128,4,128],[2,129,4,129],[2,130,4,130],[2,135,2,136],[2,137,2,140],[2,141,2,142],[2,143,4,143],[2,144,2,145],[2,146,2,147],[2,148,2,149],[2,151,2,156],[3,0,4,0],[3,1,3,4],[3,7,3,9],[3,11,3,12],[3,13,3,14],[3,15,4,15],[3,16,4,16],[3,17,4,17],[3,18,4,18],[3,19,4,19],[3,20,4,20],[3,21,4,21],[3,22,4,22],[3,23,4,23],[3,24,4,24],[3,25,4,25],[3,26,4,26],[3,27,4,27],[3,28,4,28],[3,29,4,29],[3,30,4,30],[3,31,4,31],[3,32,4,32],[3,33,4,33],[3,34,4,34],[3,35,4,35],[3,36,4,36],[3,37,4,37],[3,38,4,38],[3,39,4,39],[3,40,4,40],[3,41,4,41],[3,42,4,42],[3,43,4,43],[3,44,4,44],[3,45,4,45],[3,46,4,46],[3,47,4,47],[3,48,4,48],[3,49,4,49],[3,50,4,50],[3,51,4,51],[3,52,4,52],[3,53,4,53],[3,54,3,58],[3,63,4,63],[3,64,4,64],[3,65,4,65],[3,66,4,66],[3,67,4,67],[3,68,4,68],[3,69,4,69],[3,70,4,70],[3,71,4,71],[3,81,4,81],[3,85,3,86],[3,87,3,89],[3,90,3,92],[3,93,3,95],[3,96,3,99],[3,100,3,101],[3,102,4,102],[3,103,4,103],[3,120,4,120],[3,121,4,121],[3,122,4,122],[3,123,4,123],[3,131,4,131],[3,132,4,132],[3,133,4,133],[3,134,4,134],[3,135,4,135],[3,136,4,136],[3,137,4,137],[3,138,4,138],[3,139,4,139],[3,140,4,140],[3,141,4,141],[3,142,4,142],[3,144,4,144],[3,145,4,145],[3,146,4,146],[3,147,4,147],[3,148,4,148],[3,149,4,149],[3,150,4,150],[3,151,4,151],[3,152,4,152],[3,153,4,153],[3,154,4,154],[3,155,4,155],[3,156,4,156],[3,157,4,157],[3,158,4,158],[3,159,4,159],[3,160,4,160],[3,161,4,161],[3,162,4,162],[3,163,4,163],[3,164,4,164]]}
[{"$nulls":104},"Мелкая моторика",{"$nulls":6},"Подвижные игры",null,"Спорт. игры",null,null,"Спортивные упражнения",{"$nulls":3},"КГН",{"$nulls":3},"ЗОЖ",null,null,"Спортивные упражнения"]
[{"$nulls":54},"Сенсорные эталоны ",{"$nulls":4},"Познавательные действия",{"$nulls":3},"Математические представления",{"$nulls":8},"Окружающий мир",{"$nulls":4},"Природа ",{"$nulls":26},"Координация рук и глаз",null,null,"Графические навыки",{"$nulls":3},"Ребенок использует в самостоятельной деятельности разнообразные по содержанию подвижные игры, проявляет элементы творчества в двигательной деятельности","Ребенок может организовать знакомые подвижные игры со сверстниками, сплотить команду, стремится внести свой вклад в результат команды","Ребенок владеет элементами спортивных игр (городки, баскетбол, футбол, хоккей, бадминтон, настольный теннис), может контролировать свои движения и управлять ими","Ребенок имеет представление о разных видах спорта (санный спорт, борьба, теннис, синхронное плавание и др.)","Ребенок имеет представление о спортивных событиях и достижениях отечественных спортсменов","Ребенок умеет кататься",{"$nulls":3},"Навыки соблюдения чистоты тела (правила личной гигиены)","Навыки культуры еды (прием пищи) ","Навыки поддержания порядка (правила поведения в быту) ","Навыки ухода за собой (одевание, раздевание) ","Ребенок соблюдает элементарные правила здорового образа жизни и личной гигиены, следит за своей осанкой, может оценить свое самочувствие","Ребенок регулярно выполняет физические упражнения","Ребенок имеет начальные представления о том, что такое здоровье, понимает, как поддержать, укрепить и сохранить его","Ребенок умеет кататься",{"$nulls":3},"Музыкальная деятельность",{"$nulls":12},"Изобразительная деятельность",{"$nulls":12},"Приобщение к искусству",{"$nulls":5},"Конструктивная деятельность"]
[{"$nulls":18},"Область формирования основ гражданственности и патриотизма",{"$nulls":4},"Сфера трудового воспитания",null,null,"Область формирования основ безопасного поведения",{"$nulls":4},"Общее речевое развитие","Формирование словаря",null,null,"Грамматический строй",{"$nulls":3},"Звуковая культура речи","Связная речь",{"$nulls":4},"ЧХЛ",null,null,"Подготовка к обучению грамоте",{"$nulls":5},"Цвет, оттенки","Форма, геометрические фигуры",null,null,"Величина","Ребенок самостоятельно выбирает способ осуществления разных видов познавательной деятельности","Ребенок интересуется субъективно новым и неизвестным в окружающем мире","Ребенок способен применять в жизненных и игровых ситуациях знания о количестве, форме, величине предметов, пространстве, времени","Ребенок имеет разнообразные познавательные умения: определяет противоречия. Формулирует задачу исследования, использует разные способы и средства проверки предположений (сравнение с эталонами, классификацию, систематизацию и др.)","Количество и счет",null,null,"Ориентировка во времени",null,"Ориентировка в пространстве",null,"Пространственно-количественные связи и отношения","Сравнение","Ребенок имеет представления, может показать на картинке и в естественной среде, может рассказать",{"$nulls":4},"Объекты живой природы",{"$nulls":3},"Объекты неживой природы, природные явления",null,"Ребенок стремится к самостоятельному экспериментированию","Ребенок знает правила поведения в природе, проявляет осознанное, бережное отношение к природе и ее ресурсам","Бросание, катание, ловля, метание",null,"Ползанье, лазанье",null,null,"Ходьба",null,null,"Бег",null,null,"Прыжки",{"$nulls":3},"Равновесие",null,"Строевые упражнения",null,"Ребенок выполняет графический диктант","Ребенок обводит по шаблону, по трафарету","Ребенок чертит линии с помощью линейки","Ребенок обводит по контуру, по точкам","Ребенок выполняет штриховку в различных направлениях","Ребенок закрашивает, не выходя за контур","Ребенок свободно владеет карандашом при рисовании округлых линий, завитков в разном направлении",{"$nulls":5},"на санках","на лыжах","на двухколесном велосипеде","на самокате",{"$nulls":7},"на санках","на лыжах","на двухколесном велосипеде","на самокате","Слушание","Пение ","Музыкально-ритмические движения","Песенное творчество","Игра на детских музыкальных инструментах",null,"Театрализованная деятельность",{"$nulls":3},"Танцевально-игровое творчество",null,"У ребенка развит музыкальный вкус, музыкальная память","Рисование ",null,"Лепка ",null,"Аппликация ",null,"Народное ДПИ","Прикладное творчество"]
[{"$f":"Список!B27","v":0},"Отношение к самому себе",{"$nulls":3},"Отношение к сверстникам","Отношение к взрослым","Эмоции",null,null,"Поведение","Семья",null,"Игровое поведение",null,"Ребенок имеет представление об изменениях позиции человека с возрастом","Ребенок имеет представление о школе, школьниках, учителях; стремится к школьному обучению, к познанию, освоению чтения, письма; демонстрирует формированные предпосылки к учебной деятельности и элементы готовности к школьному обучению","Ребенок имеет представление о нравственных качествах людей, их проявлении в поступках и взаимоотношениях","Ребенок имеет представление о признаках и характеристиках государства (территория государства и его границы, столица), атрибутах государственной власти, президенте, столице","Ребенок имеет представление о порядке использования государственной символики","Ребенок имеет представление о волонтерстве","Ребенок имеет представление о государственных праздниках, исторических событиях","Ребенок имеет представление о жизни людей в России, о многообразии стран и народов мира","Ребенок имеет представление об обмене ценностями в процессе производства и потребления товаров и услуг, о денежных отношениях, о реальной стоимости отдельных продуктов питания, игрушек, детских книг","Ребенок имеет представление о об основах финансовой грамоты, основах бережного потребления","Ребенок проявляет инициативность и самостоятельность в процессе самообслуживания, при выполнении трудовых поручений","Ребенок имеет представление о правила безопасного поведения в ситуациях, создающих угрозу жизни и здоровью (погас свет, остался один, потерялся, получил травму)","Ребенок имеет представление о правила безопасного поведения дома, на улице, в природе, в местах большого скопления людей, в магазине, на вокзале, в общественных метах, на праздниках и др.","Ребенок имеет представление о правилах безопасного использования цифровых ресурсов (мобильного телефона, планшета)","Ребенок имеет представление об элементарных правилах оказания первой помощи при первых признаках недомогания, травмах, ушибах","Ребенок проявляет самостоятельность при выполнении правил безопасного поведения","Ребенок владеет речью как средством коммуникации, ведет диалог, владеет коммуникативно-речевыми умениями","Ребенок подбирает точные слова для выражения мысли","Ребенок выполняет операцию классификации – деления освоенных понятий на группы на основе выявленных признаков","Ребенок использует в речи средства языковой выразительности: антонимы, синонимы, многозначные слова, метафоры, олицетворение","Ребенок образует сложные слова посредством слияния основ","Ребенок согласует в речи существительные с числительными, существительные с прилагательными","Ребенок образует по образцу существительные с суффиксами, глаголы с приставками","Ребенок образует в речи сравнительную и превосходную степени имен прилагательных","Ребенок правильно произносит все звуки","Ребенок может пересказать литературное произведение по ролям, близко к тексту, от лица литературного героя","Ребенок может составить описательный рассказ, соблюдая структуру описания","Ребенок может составить повествовательный рассказ по картине, из личного опыта, из коллективного опыта, по набору игрушек, соблюдая структуру повествования","Ребенок может составить рассказ -контаминацию (сочетание описания и повествования, описания и рассуждения)","Ребенок использует в процессе общения объяснительную речь, речь-доказательство, речевое планирование","Ребенок знает и осмысленно воспринимает литературные произведения различных жанров, имеет предпочтения","Ребенок определяет характеры персонажей, мотивы их поведения, оценивает поступки литературных героев","Ребенок проявляет интерес к книгам познавательного характера","Ребенок производит звуковой анализ четырехзвуковых и пятизвуковых слов","Ребенок может интонационно выделить звуки в слове, определить их последовательность, дать им характеристику, составить схему слова, выделить ударный гласный звук в слове","Ребенок может определить количество и последовательность слов в предложении","Ребенок может составить предложение с заданным количеством слов","Ребенок знает названия всех букв","Ребенок читает слоги","Ребенок различает и называет",{"$nulls":8},"Ребенок умеет считать в пределах 10 в прямом и обратном порядке","Ребенок знает состав чисел из двух меньших в пределах первого десятка","Ребенок решает простые арифметические задачи на сложение и вычитание","Ребенок имеет представление о календаре, как системе измерения времени","Ребенок умеет определять время по часам с точностью до четверти часа","Ребенок ориентируется на местности, по схеме, по плану","Ребенок знает способы ориентировки в двухмерном пространстве","Ребенок умеет измерять протяженность, массу и объем с помощью условной мерки; понимает взаимообратные отношения между мерой и результатом измерения","Ребенок сравнивает предметы по 4-6 основаниям с выделением сходства, отличия",{"$nulls":9},"Ребенок имеет представление об использовании человеком свойств неживой природы для хозяйственных нужд (ветряные мельницы, водохранилища, солнечные батареи, ледяные катки)",{"$nulls":3},"Ребенок выполняет различные упражнения с мячом, метание",null,"Ребенок выполняет разные виды ползанья, лазанья ",null,null,"Ребенок выполняет различные виды ходьбы",null,null,"Ребенок выполняет различные виды бега",null,null,"Ребенок выполняет различные виды прыжков",{"$nulls":3},"Ребенок выполняет",null,"Ребенок выполняет разные виды перестроений, построений, передвижений, размыкание и смыкание приставным шагом, повороты","Ребенок может рассчитаться на «первый – второй»",{"$nulls":16},"Ребенок владеет навыками личной гигиены","Ребенок владеет навыками культуры еды","Ребенок владеет навыками поддержания порядка","Ребенок владеет навыками ухода за собой",{"$nulls":7},"У ребенка развит навык восприятия звуков по высоте в пределах квинты-терции","У ребенка развиты певческий голос и вокально-слуховая координация","Ребёнок ритмично и выразительно двигается в соответствие с характером музыки","Ребенок способен самостоятельно придумать мелодию, используя в качестве образца русские народные песни","Ребенок может сыграть простую мелодию на металлофоне, свирели, ударных, и электронных музыкальных инструментах: трещотках, погремушках, треугольниках","Ребенок может исполнить музыкальное произведение в оркестре и в ансамбле","Ребенок проявляет самостоятельность при выборе литературного и музыкального материала для театральной постановки","Ребенок проявляет инициативу при изготовлении атрибутов и декораций к спектаклю","Ребенок имеет представление о средствах погружения в театральные образы (музыка, слова, декорации, грим, костюм и др.)","Ребенок умеет выразительно передавать образы в действии, мимике, пантомимике","Ребенок проявляет активность в доступных видах музыкальной исполнительской деятельности (игра в оркестре, пение, танцевальные движения и др.)","Ребенок помогает придумывать движения, отражающие содержание песни",null,"Ребенок может изобразить предметы по памяти и с натуры, передает их средствами рисунка (форма, пропорции, расположение)","Ребенок способен передавать в рисунке сюжет, строить композицию","Ребенок свободно использует приемы лепки, освоенные ранее (налеп, углубленный рельеф), применяет стеку","Ребенок умеет передавать пропорции, соотношение по величине, выразительность поз, движений, деталей","Ребенок умеет составлять узоры и декоративные композиции из геометрических и растительных элементов на листах бумаги разной формы","Ребенок может выполнить вырезание (симметричное из бумаги, сложенной вдвое; несколько предметов из частей бумаги, сложенной гармошкой)","Ребенок умеет создавать узоры по мотивам народных росписей","Ребенок может сложить бумагу в разных направлениях","Ребенок может сделать разметку с помощью шаблона","Ребенок может выполнить работу по образцу","Ребенок может создать объемную игрушку в технике «оригами»","Ребенок может создать объемную поделку из природного материала","Ребенок может вдеть нитку в иголку, завязать узелок, пришить пуговицу, петельку, выполнить шов «вперед иголка»","Ребенок умеет выделять, называть, группировать произведения по видам искусства: литература, музыка, изобразительное искусство, архитектура, театр, цирк","Ребенок имеет представление о видах изобразительного искусства: графика, декоративно-прикладное искусство, живопись, скульптура, архитектура, фотоискусство","Ребенок имеет представление о жанрах изобразительного искусства: натюрморт, пейзаж, портрет","Ребенок имеет представление о народном искусстве, фольклоре, музыке и художественных промыслах","Ребенок имеет представление о творческих профессиях: художник, композитор, музыкант, актер, артист балета","Ребенок имеет представление о культурно-досуговых местах: театр, музей, библиотека, выставка, кинотеатр, цирк и др.","Ребенок может провести анализ постройки (выделить основные части и характерные детали конструкций)","Ребенок может выполнить постройку по инструкции"]
[null,"Ребенок осознает и признает собственные ошибки, результат поставленных задач, определяет пути развития","Ребенок умеет договариваться и дружить, старается разрешать конфликтные ситуации конструктивными способами","Ребенок способен принимать собственные решения и проявлять инициативу","Ребенок осознанно относится к своему будущему, стремится быть полезным обществу","Ребенок без напоминаний использует в общении формулы словесной вежливости (приветствие, прощание, просьбы, извинения)","Ребенок без напоминаний использует в общении формулы словесной вежливости (приветствие, прощание, просьбы, извинения)","Ребенок понимает чувства и переживания окружающих по невербальным признакам; находит причины и следствия возникновения эмоций, проявляет эмпатию","Ребенок использует социально приемлемые способы проявления эмоций и доступные возрасту регуляции эмоциональных состояний","Ребенок распознает собственные чувства и эмоции, анализирует свои переживания и рассказывает о них","Ребенок самостоятельно соблюдает установленный порядок поведения в группе, регулирует собственную активность","Ребенок имеет представление о необходимости укрепления связи между поколениями, взаимной поддержке детей и взрослых","Ребенок имеет представление о семье, семейных и родственных отношениях (взаимные чувства, правила общения в семье, значимые и памятные события, досуг семьи, семейный бюджет)","Ребенок умеет сотрудничать со сверстниками (побуждает к обсуждению планов, советуется, поддерживает интерес к мнению, инициирует ситуации взаимопомощи, подчеркивает ценность каждого ребенка и его вклад в общее дело, выбирает партнеров по интересам, помогает устанавливать темп совместных действий)","Ребенок владеет разными способами и видами игры, различает условную и реальную ситуации, предлагает и объясняет замысел игры, комбинирует сюжеты на основе реальных, вымышленных ситуаций, выполняет несколько ролей в одной игре, подбирает разные средства для создания игровых образов, согласовывает свои интересы с интересами партнёров по игре",{"$nulls":39}," все цвета спектра и ахроматические цвета, оттенки","плоские и объемные геометрические фигуры; умеет выделять структуру геометрических фигур и устанавливать взаимосвязи между ними","Ребенок умеет классифицировать фигуры по внешним структурным признаками (округлые, многоугольники)","Ребенок владеет различными способами видоизменения геометрических фигур (наложение, соединение, разрезание и др.)","Ребенок умеет измерять длину, ширину, высоту с помощью условной мерки",{"$nulls":13}," о родном населенном пункте (название улиц, некоторых архитектурных особенностях, достопримечательностях), об истории, о выдающихся горожанах, традициях городской жизни"," о назначении общественных учреждений"," о разных видах специального транспорта"," о местах труда людей (завод, больница, магазин и др.)"," о местах отдыха людей","Ребенок имеет представление о наиболее ярких представителях животных и растений разных природных зон (пустыня, степь, тайга, тундра и др.), об их образе жизни, приспособлении к среде обитания, изменениях в жизни в разные сезоны года","Ребенок имеет представление о многообразии водных ресурсов (моря, океаны, реки, водопады и др.)","Ребенок имеет представление о многообразии полезных ископаемых (нефть, уголь, серебро, золото, алмазы и др.)","Ребенок имеет представление о жизненных потребностях, этапах роста и развития животных и растений",null,"Ребенок имеет представление о некоторых небесных телах (планеты, кометы, звезды)",null,null,"бросание вверх, о землю, ловля двумя руками, одной рукой, перебрасывание, передача, прокатывание, забрасывание, ведение","в цель из положения стоя, вдаль, в движущеюся цель","ползанье на четвереньках, на животе, на спине","влезание на гимнастическую стенку и спуск; перелезание с пролета на пролет по диагонали","лазанье по веревочной лестнице; выполнение упражнений на канате","обычная, гимнастическим шагом, скрестным шагом, спиной вперед, выпадами, с закрытыми глазами","приставными шагами назад, в приседе, с различными движениями рук","в различных построениях","в колонне по одному, врассыпную, парами, тройками, четверками","в сочетание с прыжками, высоко поднимая колени, захлестывая голени назад, выбрасывая прямые ноги вперед","челночный, наперегонки, из разных исходных положений, со скакалкой, по пересеченной местности, с наименьшим числом шагов, медленный, быстрый","подпрыгивания на двух ногах в чередовании с ходьбой, на месте и с поворот кругом","смещая ноги вправо-влево-вперед-назад","выпрыгивание на предметы; подпрыгивания вверх из глубокого приседа; прыжки на одной ноге","в длину с места/с разбега, в высоту с места/с разбега","стойка на носках, стойка на одной ноге с закрытыми глазами","кружение с закрытыми глазами, остановкой и сохранением заданной позы"]
["начало года",{"$f":"'Соц.ком.к 7г ч1 Н.г.'!E34","v":0},{"$f":"'Соц.ком.к 7г ч1 Н.г.'!F34","v":0},{"$f":"'Соц.ком.к 7г ч1 Н.г.'!G34","v":0},{"$f":"'Соц.ком.к 7г ч1 Н.г.'!H34","v":0},{"$f":"'Соц.ком.к 7г ч1 Н.г.'!I34","v":0},{"$f":"'Соц.ком.к 7г ч1 Н.г.'!J34","v":0},{"$f":"'Соц.ком.к 7г ч1 Н.г.'!K34","v":0},{"$f":"'Соц.ком.к 7г ч1 Н.г.'!L34","v":0},{"$f":"'Соц.ком.к 7г ч1 Н.г.'!M34","v":0},{"$f":"'Соц.ком.к 7г ч1 Н.г.'!N34","v":0},{"$f":"'Соц.ком.к 7г ч2 Н.г.'!E34","v":0},{"$f":"'Соц.ком.к 7г ч2 Н.г.'!F34","v":0},{"$f":"'Соц.ком.к 7г ч2 Н.г.'!G34","v":0},{"$f":"'Соц.ком.к 7г ч2 Н.г.'!H34","v":0},{"$f":"'Соц.ком.к 7г ч2 Н.г.'!I34","v":0},{"$f":"'Соц.ком.к 7г ч2 Н.г.'!J34","v":0},{"$f":"'Соц.ком.к 7г ч2 Н.г.'!K34","v":0},{"$f":"'Соц.ком. к 7г ч3 Н.г.'!E34","v":0},{"$f":"'Соц.ком. к 7г ч3 Н.г.'!F34","v":0},{"$f":"'Соц.ком. к 7г ч3 Н.г.'!G34","v":0},{"$f":"'Соц.ком. к 7г ч3 Н.г.'!H34","v":0},{"$f":"'Соц.ком. к 7г ч3 Н.г.'!I34","v":0},{"$f":"'Соц.ком. к 7г ч3 Н.г.'!J34","v":0},{"$f":"'Соц.ком. к 7г ч3 Н.г.'!K34","v":0},{"$f":"'Соц.ком. к 7г ч3 Н.г.'!L34","v":0},{"$f":"'Соц.ком. к 7г ч4 Н.г.'!E34","v":0},{"$f":"'Соц.ком. к 7г ч4 Н.г.'!F34","v":0},{"$f":"'Соц.ком. к 7г ч4 Н.г.'!G34","v":0},{"$f":"'Соц.ком. к 7г ч4 Н.г.'!H34","v":0},{"$f":"'Соц.ком. к 7г ч4 Н.г.'!I34","v":0},{"$f":"'Реч.разв.к 7г ч1 Н.г.'!E34","v":0},{"$f":"'Реч.разв.к 7г ч1 Н.г.'!F34","v":0},{"$f":"'Реч.разв.к 7г ч1 Н.г.'!G34","v":0},{"$f":"'Реч.разв.к 7г ч1 Н.г.'!H34","v":0},{"$f":"'Реч.разв.к 7г ч1 Н.г.'!I34","v":0},{"$f":"'Реч.разв.к 7г ч1 Н.г.'!J34","v":0},{"$f":"'Реч.разв.к 7г ч1 Н.г.'!K34","v":0},{"$f":"'Реч.разв.к 7г ч1 Н.г.'!L34","v":0},{"$f":"'Реч.разв.к 7г ч2 Н.г.'!E34","v":0},{"$f":"'Реч.разв.к 7г ч2 Н.г.'!F34","v":0},{"$f":"'Реч.разв.к 7г ч2 Н.г.'!G34","v":0},{"$f":"'Реч.разв.к 7г ч2 Н.г.'!H34","v":0},{"$f":"'Реч.разв.к 7г ч2 Н.г.'!I34","v":0},{"$f":"'Реч.разв.к 7г ч2 Н.г.'!J34","v":0},{"$f":"'Реч.разв.к 7г ч2 Н.г.'!K34","v":0},{"$f":"'Реч.разв.к 7г ч2 Н.г.'!L34","v":0},{"$f":"'Реч.разв.к 7г ч2 Н.г.'!M34","v":0},{"$f":"'Реч.разв.к 7г ч3. Н.г.'!E34","v":0},{"$f":"'Реч.разв.к 7г ч3. Н.г.'!F34","v":0},{"$f":"'Реч.разв.к 7г ч3. Н.г.'!G34","v":0},{"$f":"'Реч.разв.к 7г ч3. Н.г.'!H34","v":0},{"$f":"'Реч.разв.к 7г ч3. Н.г.'!I34","v":0},{"$f":"'Реч.разв.к 7г ч3. Н.г.'!J34","v":0},{"$f":"'Позн.разв. к 7г ч1. Н.г.'!E35","v":0},{"$f":"'Позн.разв. к 7г ч1. Н.г.'!F35","v":0},{"$f":"'Позн.разв. к 7г ч1. Н.г.'!G35","v":0},{"$f":"'Позн.разв. к 7г ч1. Н.г.'!H35","v":0},{"$f":"'Позн.разв. к 7г ч1. Н.г.'!I35","v":0},{"$f":"'Позн.разв. к 7г ч1. Н.г.'!J35","v":0},{"$f":"'Позн.разв. к 7г ч1. Н.г.'!K35","v":0},{"$f":"'Позн.разв. к 7г ч1. Н.г.'!L35","v":0},{"$f":"'Позн.разв. к 7г ч1. Н.г.'!M35","v":0},{"$f":"'Позн.разв. к 7г ч2. Н.г.'!E35","v":0},{"$f":"'Позн.разв. к 7г ч2. Н.г.'!F35","v":0},{"$f":"'Позн.разв. к 7г ч2. Н.г.'!G35","v":0},{"$f":"'Позн.разв. к 7г ч2. Н.г.'!H35","v":0},{"$f":"'Позн.разв. к 7г ч2. Н.г.'!I35","v":0},{"$f":"'Позн.разв. к 7г ч2. Н.г.'!J35","v":0},{"$f":"'Позн.разв. к 7г ч2. Н.г.'!K35","v":0},{"$f":"'Позн.разв. к 7г ч2. Н.г.'!L35","v":0},{"$f":"'Позн.разв. к 7г ч2. Н.г.'!M35","v":0},{"$f":"'Позн.разв. к 7г ч3. Н.г.'!E35","v":0},{"$f":"'Позн.разв. к 7г ч3. Н.г.'!F35","v":0},{"$f":"'Позн.разв. к 7г ч3. Н.г.'!G35","v":0},{"$f":"'Позн.разв. к 7г ч3. Н.г.'!H35","v":0},{"$f":"'Позн.разв. к 7г ч3. Н.г.'!I35","v":0},{"$f":"'Позн.разв. к 7г ч3. Н.г.'!J35","v":0},{"$f":"'Позн.разв. к 7г ч3. Н.г.'!K35","v":0},{"$f":"'Позн.разв. к 7г ч3. Н.г.'!L35","v":0},{"$f":"'Позн.разв. к 7г ч3. Н.г.'!M35","v":0},{"$f":"'Позн.разв. к 7г ч3. Н.г.'!N35","v":0},{"$f":"'Позн.разв. к 7г ч3. Н.г.'!O35","v":0},{"$f":"'Позн.разв. к 7г ч3. Н.г.'!P35","v":0},{"$f":"'Позн.разв. к 7г ч3. Н.г.'!Q35","v":0},{"$f":"'Физ.разв. к 7г ч1. Н.г.'!E35","v":0},{"$f":"'Физ.разв. к 7г ч1. Н.г.'!F35","v":0},{"$f":"'Физ.разв. к 7г ч1. Н.г.'!G35","v":0},{"$f":"'Физ.разв. к 7г ч1. Н.г.'!H35","v":0},{"$f":"'Физ.разв. к 7г ч1. Н.г.'!I35","v":0},{"$f":"'Физ.разв. к 7г ч1. Н.г.'!J35","v":0},{"$f":"'Физ.разв. к 7г ч1. Н.г.'!K35","v":0},{"$f":"'Физ.разв. к 7г ч1. Н.г.'!L35","v":0},{"$f":"'Физ.разв. к 7г ч1. Н.г.'!M35","v":0},{"$f":"'Физ.разв. к 7г ч1. Н.г.'!N35","v":0},{"$f":"'Физ.разв. к 7г ч1. Н.г.'!O35","v":0},{"$f":"'Физ.разв. к 7г ч1. Н.г.'!P35","v":0},{"$f":"'Физ.разв. к 7г ч1. Н.г.'!Q35","v":0},{"$f":"'Физ.разв. к 7г ч1. Н.г.'!R35","v":0},{"$f":"'Физ.разв. к 7г ч1. Н.г.'!S35","v":0},{"$f":"'Физ.разв. к 7г ч1. Н.г.'!T35","v":0},{"$f":"'Физ.разв. к 7г ч1. Н.г.'!U35","v":0},{"$f":"'Физ.разв. к 7г ч1. Н.г.'!V35","v":0},{"$f":"'Физ.разв. к 7г ч1. Н.г.'!W35","v":0},{"$f":"'Физ.разв. к 7г ч2. Н.г.'!E36","v":0},{"$f":"'Физ.разв. к 7г ч2. Н.г.'!F36","v":0},{"$f":"'Физ.разв. к 7г ч2. Н.г.'!G36","v":0},{"$f":"'Физ.разв. к 7г ч2. Н.г.'!H36","v":0},{"$f":"'Физ.разв. к 7г ч2. Н.г.'!I36","v":0},{"$f":"'Физ.разв. к 7г ч2. Н.г.'!J36","v":0},{"$f":"'Физ.разв. к 7г ч2. Н.г.'!K36","v":0},{"$f":"'Физ.разв. к 7г ч2. Н.г.'!L36","v":0},{"$f":"'Физ.разв. к 7г ч2. Н.г.'!M36","v":0},{"$f":"'Физ.разв. к 7г ч2. Н.г.'!N36","v":0},{"$f":"'Физ.разв. к 7г ч2. Н.г.'!O36","v":0},{"$f":"'Физ.разв. к 7г ч2. Н.г.'!P36","v":0},{"$f":"'Физ.разв. к 7г ч2. Н.г.'!Q36","v":0},{"$f":"'Физ.разв. к 7г ч2. Н.г.'!R36","v":0},{"$f":"'Физ.разв. к 7г ч2. Н.г.'!S36","v":0},{"$f":"'Физ.разв. к 7г ч2. Н.г.'!T36","v":0},{"$f":"'Физ.разв. к 7г ч3. Н.г.'!E36","v":0},{"$f":"'Физ.разв. к 7г ч3. Н.г.'!F36","v":0},{"$f":"'Физ.разв. к 7г ч3. Н.г.'!G36","v":0},{"$f":"'Физ.разв. к 7г ч3. Н.г.'!H36","v":0},{"$f":"'Физ.разв. к 7г ч3. Н.г.'!I36","v":0},{"$f":"'Физ.разв. к 7г ч3. Н.г.'!J36","v":0},{"$f":"'Физ.разв. к 7г ч3. Н.г.'!K36","v":0},{"$f":"'Физ.разв. к 7г ч3. Н.г.'!L36","v":0},{"$f":"'Физ.разв. к 7г ч3. Н.г.'!M36","v":0},{"$f":"'Физ.разв. к 7г ч3. Н.г.'!N36","v":0},{"$f":"'Физ.разв. к 7г ч3. Н.г.'!O36","v":0},{"$f":"'Худ.эст.к 7г ч1. Н.г.'!E35","v":0},{"$f":"'Худ.эст.к 7г ч1. Н.г.'!F35","v":0},{"$f":"'Худ.эст.к 7г ч1. Н.г.'!G35","v":0},{"$f":"'Худ.эст.к 7г ч1. Н.г.'!H35","v":0},{"$f":"'Худ.эст.к 7г ч1. Н.г.'!I35","v":0},{"$f":"'Худ.эст.к 7г ч1. Н.г.'!J35","v":0},{"$f":"'Худ.эст.к 7г ч1. Н.г.'!K35","v":0},{"$f":"'Худ.эст.к 7г ч1. Н.г.'!L35","v":0},{"$f":"'Худ.эст.к 7г ч1. Н.г.'!M35","v":0},{"$f":"'Худ.эст.к 7г ч1. Н.г.'!N35","v":0},{"$f":"'Худ.эст.к 7г ч1. Н.г.'!O35","v":0},{"$f":"'Худ.эст.к 7г ч1. Н.г.'!P35","v":0},{"$f":"'Худ.эст.к 7г ч1. Н.г.'!Q35","v":0},{"$f":"'Худ.эст.к 7г ч2. Н.г.'!E35","v":0},{"$f":"'Худ.эст.к 7г ч2. Н.г.'!F35","v":0},{"$f":"'Худ.эст.к 7г ч2. Н.г.'!G35","v":0},{"$f":"'Худ.эст.к 7г ч2. Н.г.'!H35","v":0},{"$f":"'Худ.эст.к 7г ч2. Н.г.'!I35","v":0},{"$f":"'Худ.эст.к 7г ч2. Н.г.'!J35","v":0},{"$f":"'Худ.эст.к 7г ч2. Н.г.'!K35","v":0},{"$f":"'Худ.эст.к 7г ч2. Н.г.'!L35","v":0},{"$f":"'Худ.эст.к 7г ч2. Н.г.'!M35","v":0},{"$f":"'Худ.эст.к 7г ч2. Н.г.'!N35","v":0},{"$f":"'Худ.эст.к 7г ч2. Н.г.'!O35","v":0},{"$f":"'Худ.эст.к 7г ч2. Н.г.'!P35","v":0},{"$f":"'Худ.эст.к 7г ч2. Н.г.'!Q35","v":0},{"$f":"'Худ.эст.к 7г ч3. Н.г.'!E35","v":0},{"$f":"'Худ.эст.к 7г ч3. Н.г.'!F35","v":0},{"$f":"'Худ.эст.к 7г ч3. Н.г.'!G35","v":0},{"$f":"'Худ.эст.к 7г ч3. Н.г.'!H35","v":0},{"$f":"'Худ.эст.к 7г ч3. Н.г.'!I35","v":0},{"$f":"'Худ.эст.к 7г ч3. Н.г.'!J35","v":0},{"$f":"'Худ.эст.к 7г ч3. Н.г.'!K35","v":0},{"$f":"'Худ.эст.к 7г ч3. Н.г.'!L35","v":0}]
["конец года",{"$f":"'Соц.ком.к 7г ч1 К.г.'!E34","v":0},{"$f":"'Соц.ком.к 7г ч1 К.г.'!F34","v":0},{"$f":"'Соц.ком.к 7г ч1 К.г.'!G34","v":0},{"$f":"'Соц.ком.к 7г ч1 К.г.'!H34","v":0},{"$f":"'Соц.ком.к 7г ч1 К.г.'!I34","v":0},{"$f":"'Соц.ком.к 7г ч1 К.г.'!J34","v":0},{"$f":"'Соц.ком.к 7г ч1 К.г.'!K34","v":0},{"$f":"'Соц.ком.к 7г ч1 К.г.'!L34","v":0},{"$f":"'Соц.ком.к 7г ч1 К.г.'!M34","v":0},{"$f":"'Соц.ком.к 7г ч1 К.г.'!N34","v":0},{"$f":"'Соц.ком.к 7г ч2 К.г.'!E34","v":0},{"$f":"'Соц.ком.к 7г ч2 К.г.'!F34","v":0},{"$f":"'Соц.ком.к 7г ч2 К.г.'!G34","v":0},{"$f":"'Соц.ком.к 7г ч2 К.г.'!H34","v":0},{"$f":"'Соц.ком.к 7г ч2 К.г.'!I34","v":0},{"$f":"'Соц.ком.к 7г ч2 К.г.'!J34","v":0},{"$f":"'Соц.ком.к 7г ч2 К.г.'!K34","v":0},{"$f":"'Соц.ком. к 7г ч3 К.г.'!E34","v":0},{"$f":"'Соц.ком. к 7г ч3 К.г.'!F34","v":0},{"$f":"'Соц.ком. к 7г ч3 К.г.'!G34","v":0},{"$f":"'Соц.ком. к 7г ч3 К.г.'!H34","v":0},{"$f":"'Соц.ком. к 7г ч3 К.г.'!I34","v":0},{"$f":"'Соц.ком. к 7г ч3 К.г.'!J34","v":0},{"$f":"'Соц.ком. к 7г ч3 К.г.'!K34","v":0},{"$f":"'Соц.ком. к 7г ч3 К.г.'!L34","v":0},{"$f":"'Соц.ком. к 7г ч4 К.г.'!E34","v":0},{"$f":"'Соц.ком. к 7г ч4 К.г.'!F34","v":0},{"$f":"'Соц.ком. к 7г ч4 К.г.'!G34","v":0},{"$f":"'Соц.ком. к 7г ч4 К.г.'!H34","v":0},{"$f":"'Соц.ком. к 7г ч4 К.г.'!I34","v":0},{"$f":"'Реч.разв.к 7г ч1 К.г.'!E34","v":0},{"$f":"'Реч.разв.к 7г ч1 К.г.'!F34","v":0},{"$f":"'Реч.разв.к 7г ч1 К.г.'!G34","v":0},{"$f":"'Реч.разв.к 7г ч1 К.г.'!H34","v":0},{"$f":"'Реч.разв.к 7г ч1 К.г.'!I34","v":0},{"$f":"'Реч.разв.к 7г ч1 К.г.'!J34","v":0},{"$f":"'Реч.разв.к 7г ч1 К.г.'!K34","v":0},{"$f":"'Реч.разв.к 7г ч1 К.г.'!L34","v":0},{"$f":"'Реч.разв.к 7г ч2 К.г. '!E34","v":0},{"$f":"'Реч.разв.к 7г ч2 К.г. '!F34","v":0},{"$f":"'Реч.разв.к 7г ч2 К.г. '!G34","v":0},{"$f":"'Реч.разв.к 7г ч2 К.г. '!H34","v":0},{"$f":"'Реч.разв.к 7г ч2 К.г. '!I34","v":0},{"$f":"'Реч.разв.к 7г ч2 К.г. '!J34","v":0},{"$f":"'Реч.разв.к 7г ч2 К.г. '!K34","v":0},{"$f":"'Реч.разв.к 7г ч2 К.г. '!L34","v":0},{"$f":"'Реч.разв.к 7г ч2 К.г. '!M34","v":0},{"$f":"'Реч.разв.к 7г ч3. К.г. '!E34","v":0},{"$f":"'Реч.разв.к 7г ч3. К.г. '!F34","v":0},{"$f":"'Реч.разв.к 7г ч3. К.г. '!G34","v":0},{"$f":"'Реч.разв.к 7г ч3. К.г. '!H34","v":0},{"$f":"'Реч.разв.к 7г ч3. К.г. '!I34","v":0},{"$f":"'Реч.разв.к 7г ч3. К.г. '!J34","v":0},{"$f":"'Позн.разв. к 7г ч1. К.г. '!E35","v":0},{"$f":"'Позн.разв. к 7г ч1. К.г. '!F35","v":0},{"$f":"'Позн.разв. к 7г ч1. К.г. '!G35","v":0},{"$f":"'Позн.разв. к 7г ч1. К.г. '!H35","v":0},{"$f":"'Позн.разв. к 7г ч1. К.г. '!I35","v":0},{"$f":"'Позн.разв. к 7г ч1. К.г. '!J35","v":0},{"$f":"'Позн.разв. к 7г ч1. К.г. '!K35","v":0},{"$f":"'Позн.разв. к 7г ч1. К.г. '!L35","v":0},{"$f":"'Позн.разв. к 7г ч1. К.г. '!M35","v":0},{"$f":"'Позн.разв. к 7г ч2. К.г.'!E35","v":0},{"$f":"'Позн.разв. к 7г ч2. К.г.'!F35","v":0},{"$f":"'Позн.разв. к 7г ч2. К.г.'!G35","v":0},{"$f":"'Позн.разв. к 7г ч2. К.г.'!H35","v":0},{"$f":"'Позн.разв. к 7г ч2. К.г.'!I35","v":0},{"$f":"'Позн.разв. к 7г ч2. К.г.'!J35","v":0},{"$f":"'Позн.разв. к 7г ч2. К.г.'!K35","v":0},{"$f":"'Позн.разв. к 7г ч2. К.г.'!L35","v":0},{"$f":"'Позн.разв. к 7г ч2. К.г.'!M35","v":0},{"$f":"'Позн.разв. к 7г ч3. К.г. '!E35","v":0},{"$f":"'Позн.разв. к 7г ч3. К.г. '!F35","v":0},{"$f":"'Позн.разв. к 7г ч3. К.г. '!G35","v":0},{"$f":"'Позн.разв. к 7г ч3. К.г. '!H35","v":0},{"$f":"'Позн.разв. к 7г ч3. К.г. '!I35","v":0},{"$f":"'Позн.разв. к 7г ч3. К.г. '!J35","v":0},{"$f":"'Позн.разв. к 7г ч3. К.г. '!K35","v":0},{"$f":"'Позн.разв. к 7г ч3. К.г. '!L35","v":0},{"$f":"'Позн.разв. к 7г ч3. К.г. '!M35","v":0},{"$f":"'Позн.разв. к 7г ч3. К.г. '!N35","v":0},{"$f":"'Позн.разв. к 7г ч3. К.г. '!O35","v":0},{"$f":"'Позн.разв. к 7г ч3. К.г. '!P35","v":0},{"$f":"'Позн.разв. к 7г ч3. К.г. '!Q35","v":0},{"$f":"'Физ.разв. к 7г ч1. К.г. '!E35","v":0},{"$f":"'Физ.разв. к 7г ч1. К.г. '!F35","v":0},{"$f":"'Физ.разв. к 7г ч1. К.г. '!G35","v":0},{"$f":"'Физ.разв. к 7г ч1. К.г. '!H35","v":0},{"$f":"'Физ.разв. к 7г ч1. К.г. '!I35","v":0},{"$f":"'Физ.разв. к 7г ч1. К.г. '!J35","v":0},{"$f":"'Физ.разв. к 7г ч1. К.г. '!K35","v":0},{"$f":"'Физ.разв. к 7г ч1. К.г. '!L35","v":0},{"$f":"'Физ.разв. к 7г ч1. К.г. '!M35","v":0},{"$f":"'Физ.разв. к 7г ч1. К.г. '!N35","v":0},{"$f":"'Физ.разв. к 7г ч1. К.г. '!O35","v":0},{"$f":"'Физ.разв. к 7г ч1. К.г. '!P35","v":0},{"$f":"'Физ.разв. к 7г ч1. К.г. '!Q35","v":0},{"$f":"'Физ.разв. к 7г ч1. К.г. '!R35","v":0},{"$f":"'Физ.разв. к 7г ч1. К.г. '!S35","v":0},{"$f":"'Физ.разв. к 7г ч1. К.г. '!T35","v":0},{"$f":"'Физ.разв. к 7г ч1. К.г. '!U35","v":0},{"$f":"'Физ.разв. к 7г ч1. К.г. '!V35","v":0},{"$f":"'Физ.разв. к 7г ч1. К.г. '!W35","v":0},{"$f":"'Физ.разв. к 7г ч2. К.г.'!E36","v":0},{"$f":"'Физ.разв. к 7г ч2. К.г.'!F36","v":0},{"$f":"'Физ.разв. к 7г ч2. К.г.'!G36","v":0},{"$f":"'Физ.разв. к 7г ч2. К.г.'!H36","v":0},{"$f":"'Физ.разв. к 7г ч2. К.г.'!I36","v":0},{"$f":"'Физ.разв. к 7г ч2. К.г.'!J36","v":0},{"$f":"'Физ.разв. к 7г ч2. К.г.'!K36","v":0},{"$f":"'Физ.разв. к 7г ч2. К.г.'!L36","v":0},{"$f":"'Физ.разв. к 7г ч2. К.г.'!M36","v":0},{"$f":"'Физ.разв. к 7г ч2. К.г.'!N36","v":0},{"$f":"'Физ.разв. к 7г ч2. К.г.'!O36","v":0},{"$f":"'Физ.разв. к 7г ч2. К.г.'!P36","v":0},{"$f":"'Физ.разв. к 7г ч2. К.г.'!Q36","v":0},{"$f":"'Физ.разв. к 7г ч2. К.г.'!R36","v":0},{"$f":"'Физ.разв. к 7г ч2. К.г.'!S36","v":0},{"$f":"'Физ.разв. к 7г ч2. К.г.'!T36","v":0},{"$f":"'Физ.разв. к 7г ч3. К.г. '!E36","v":0},{"$f":"'Физ.разв. к 7г ч3. К.г. '!F36","v":0},{"$f":"'Физ.разв. к 7г ч3. К.г. '!G36","v":0},{"$f":"'Физ.разв. к 7г ч3. К.г. '!H36","v":0},{"$f":"'Физ.разв. к 7г ч3. К.г. '!I36","v":0},{"$f":"'Физ.разв. к 7г ч3. К.г. '!J36","v":0},{"$f":"'Физ.разв. к 7г ч3. К.г. '!K36","v":0},{"$f":"'Физ.разв. к 7г ч3. К.г. '!L36","v":0},{"$f":"'Физ.разв. к 7г ч3. К.г. '!M36","v":0},{"$f":"'Физ.разв. к 7г ч3. К.г. '!N36","v":0},{"$f":"'Физ.разв. к 7г ч3. К.г. '!O36","v":0},{"$f":"'Худ.эст.к 7г ч1. К.г. '!E35","v":0},{"$f":"'Худ.эст.к 7г ч1. К.г. '!F35","v":0},{"$f":"'Худ.эст.к 7г ч1. К.г. '!G35","v":0},{"$f":"'Худ.эст.к 7г ч1. К.г. '!H35","v":0},{"$f":"'Худ.эст.к 7г ч1. К.г. '!I35","v":0},{"$f":"'Худ.эст.к 7г ч1. К.г. '!J35","v":0},{"$f":"'Худ.эст.к 7г ч1. К.г. '!K35","v":0},{"$f":"'Худ.эст.к 7г ч1. К.г. '!L35","v":0},{"$f":"'Худ.эст.к 7г ч1. К.г. '!M35","v":0},{"$f":"'Худ.эст.к 7г ч1. К.г. '!N35","v":0},{"$f":"'Худ.эст.к 7г ч1. К.г. '!O35","v":0},{"$f":"'Худ.эст.к 7г ч1. К.г. '!P35","v":0},{"$f":"'Худ.эст.к 7г ч1. К.г. '!Q35","v":0},{"$f":"'Худ.эст.к 7г ч2. К.г. '!E35","v":0},{"$f":"'Худ.эст.к 7г ч2. К.г. '!F35","v":0},{"$f":"'Худ.эст.к 7г ч2. К.г. '!G35","v":0},{"$f":"'Худ.эст.к 7г ч2. К.г. '!H35","v":0},{"$f":"'Худ.эст.к 7г ч2. К.г. '!I35","v":0},{"$f":"'Худ.эст.к 7г ч2. К.г. '!J35","v":0},{"$f":"'Худ.эст.к 7г ч2. К.г. '!K35","v":0},{"$f":"'Худ.эст.к 7г ч2. К.г. '!L35","v":0},{"$f":"'Худ.эст.к 7г ч2. К.г. '!M35","v":0},{"$f":"'Худ.эст.к 7г ч2. К.г. '!N35","v":0},{"$f":"'Худ.эст.к 7г ч2. К.г. '!O35","v":0},{"$f":"'Худ.эст.к 7г ч2. К.г. '!P35","v":0},{"$f":"'Худ.эст.к 7г ч2. К.г. '!Q35","v":0},{"$f":"'Худ.эст.к 7г ч3. К.г. '!E35","v":0},{"$f":"'Худ.эст.к 7г ч3. К.г. '!F35","v":0},{"$f":"'Худ.эст.к 7г ч3. К.г. '!G35","v":0},{"$f":"'Худ.эст.к 7г ч3. К.г. '!H35","v":0},{"$f":"'Худ.эст.к 7г ч3. К.г. '!I35","v":0},{"$f":"'Худ.эст.к 7г ч3. К.г. '!J35","v":0},{"$f":"'Худ.эст.к 7г ч3. К.г. '!K35","v":0},{"$f":"'Худ.эст.к 7г ч3. К.г. '!L35","v":0}]

{"sheet":"25","index":62,"n_rows":7,"n_cols":165,"rows_kept":7,"merged":[[0,104,0,110],[0,111,0,112],[0,113,0,115],[0,116,0,119],[0,120,0,123],[0,124,0,126],[0,127,0,130],[1,54,1,58],[1,59,1,62],[1,63,1,71],[1,72,1,76],[1,77,1,84],[1,104,1,106],[1,107,1,110],[1,111,4,111],[1,112,4,112],[1,113,4,113],[1,114,4,114],[1,115,4,115],[1,116,1,119],[1,120,2,120],[1,121,2,121],[1,122,2,122],[1,123,2,123],[1,124,4,124],[1,125,4,125],[1,126,4,126],[1,127,1,130],[1,131,1,143],[1,144,1,156],[1,157,2,162],[1,163,2,164],[2,18,2,22],[2,23,2,25],[2,26,2,30],[2,32,2,34],[2,35,2,38],[2,40,2,44],[2,45,2,47],[2,48,2,53],[2,55,2,57],[2,59,4,59],[2,60,4,60],[2,61,4,61],[2,62,4,62],[2,63,2,65],[2,66,2,67],[2,68,2,69],[2,72,3,76],[2,77,2,80],[2,81,2,82],[2,83,4,83],[2,84,4,84],[2,85,2,86],[2,87,2,89],[2,90,2,92],[2,93,2,95],[2,96,2,99],[2,100,2,101],[2,102,2,103],[2,104,4,104],[2,105,4,105],[2,106,4,106],[2,107,4,107],[2,108,4,108],[2,109,4,109],[2,110,4,110],[2,116,4,116],[2,117,4,117],[2,118,4,118],[2,119,4,119],[2,127,4,127],[2,128,4,128],[2,129,4,129],[2,130,4,130],[2,135,2,136],[2,137,2,140],[2,141,2,142],[2,143,4,143],[2,144,2,145],[2,146,2,147],[2,148,2,149],[2,151,2,156],[3,0,4,0],[3,1,3,4],[3,7,3,9],[3,11,3,12],[3,13,3,14],[3,15,4,15],[3,16,4,16],[3,17,4,17],[3,18,4,18],[3,19,4,19],[3,20,4,20],[3,21,4,21],[3,22,4,22],[3,23,4,23],[3,24,4,24],[3,25,4,25],[3,26,4,26],[3,27,4,27],[3,28,4,28],[3,29,4,29],[3,30,4,30],[3,31,4,31],[3,32,4,32],[3,33,4,33],[3,34,4,34],[3,35,4,35],[3,36,4,36],[3,37,4,37],[3,38,4,38],[3,39,4,39],[3,40,4,40],[3,41,4,41],[3,42,4,42],[3,43,4,43],[3,44,4,44],[3,45,4,45],[3,46,4,46],[3,47,4,47],[3,48,4,48],[3,49,4,49],[3,50,4,50],[3,51,4,51],[3,52,4,52],[3,53,4,53],[3,54,3,58],[3,63,4,63],[3,64,4,64],[3,65,4,65],[3,66,4,66],[3,67,4,67],[3,68,4,68],[3,69,4,69],[3,70,4,70],[3,71,4,71],[3,81,4,81],[3,85,3,86],[3,87,3,89],[3,90,3,92],[3,93,3,95],[3,96,3,99],[3,100,3,101],[3,102,4,102],[3,103,4,103],[3,120,4,120],[3,121,4,121],[3,122,4,122],[3,123,4,123],[3,131,4,131],[3,132,4,132],[3,133,4,133],[3,134,4,134],[3,135,4,135],[3,136,4,136],[3,137,4,137],[3,138,4,138],[3,139,4,139],[3,140,4,140],[3,141,4,141],[3,142,4,142],[3,144,4,144],[3,145,4,145],[3,146,4,146],[3,147,4,147],[3,148,4,148],[3,149,4,149],[3,150,4,150],[3,151,4,151],[3,152,4,152],[3,153,4,153],[3,154,4,154],[3,155,4,155],[3,156,4,156],[3,157,4,157],[3,158,4,158],[3,159,4,159],[3,160,4,160],[3,161,4,161],[3,162,4,162],[3,163,4,163],[3,164,4,164]]}
[{"$nulls":104},"Мелкая моторика",{"$nulls":6},"Подвижные игры",null,"Спорт. игры",null,null,"Спортивные упражнения",{"$nulls":3},"КГН",{"$nulls":3},"ЗОЖ",null,null,"Спортивные упражнения"]
[{"$nulls":54},"Сенсорные эталоны ",{"$nulls":4},"Познавательные действия",{"$nulls":3},"Математические представления",{"$nulls":8},"Окружающий мир",{"$nulls":4},"Природа ",{"$nulls":26},"Координация рук и глаз",null,null,"Графические навыки",{"$nulls":3},"Ребенок использует в самостоятельной деятельности разнообразные по содержанию подвижные игры, проявляет элементы творчества в двигательной деятельности","Ребенок может организовать знакомые подвижные игры со сверстниками, сплотить команду, стремится внести свой вклад в результат команды","Ребенок владеет элементами спортивных игр (городки, баскетбол, футбол, хоккей, бадминтон, настольный теннис), может контролировать свои движения и управлять ими","Ребенок имеет представление о разных видах спорта (санный спорт, борьба, теннис, синхронное плавание и др.)","Ребенок имеет представление о спортивных событиях и достижениях отечественных спортсменов","Ребенок умеет кататься",{"$nulls":3},"Навыки соблюдения чистоты тела (правила личной гигиены)","Навыки культуры еды (прием пищи) ","Навыки поддержания порядка (правила поведения в быту) ","Навыки ухода за собой (одевание, раздевание) ","Ребенок соблюдает элементарные правила здорового образа жизни и личной гигиены, следит за своей осанкой, может оценить свое самочувствие","Ребенок регулярно выполняет физические упражнения","Ребенок имеет начальные представления о том, что такое здоровье, понимает, как поддержать, укрепить и сохранить его","Ребенок умеет кататься",{"$nulls":3},"Музыкальная деятельность",{"$nulls":12},"Изобразительная деятельность",{"$nulls":12},"Приобщение к искусству",{"$nulls":5},"Конструктивная деятельность"]
[{"$nulls":18},"Область формирования основ гражданственности и патриотизма",{"$nulls":4},"Сфера трудового воспитания",null,null,"Область формирования основ безопасного поведения",{"$nulls":4},"Общее речевое развитие","Формирование словаря",null,null,"Грамматический строй",{"$nulls":3},"Звуковая культура речи","Связная речь",{"$nulls":4},"ЧХЛ",null,null,"Подготовка к обучению грамоте",{"$nulls":5},"Цвет, оттенки","Форма, геометрические фигуры",null,null,"Величина","Ребенок самостоятельно выбирает способ осуществления разных видов познавательной деятельности","Ребенок интересуется субъективно новым и неизвестным в окружающем мире","Ребенок способен применять в жизненных и игровых ситуациях знания о количестве, форме, величине предметов, пространстве, времени","Ребенок имеет разнообразные познавательные умения: определяет противоречия. Формулирует задачу исследования, использует разные способы и средства проверки предположений (сравнение с эталонами, классификацию, систематизацию и др.)","Количество и счет",null,null,"Ориентировка во времени",null,"Ориентировка в пространстве",null,"Пространственно-количественные связи и отношения","Сравнение","Ребенок имеет представления, может показать на картинке и в естественной среде, может рассказать",{"$nulls":4},"Объекты живой природы",{"$nulls":3},"Объекты неживой природы, природные явления",null,"Ребенок стремится к самостоятельному экспериментированию","Ребенок знает правила поведения в природе, проявляет осознанное, бережное отношение к природе и ее ресурсам","Бросание, катание, ловля, метание",null,"Ползанье, лазанье",null,null,"Ходьба",null,null,"Бег",null,null,"Прыжки",{"$nulls":3},"Равновесие",null,"Строевые упражнения",null,"Ребенок выполняет графический диктант","Ребенок обводит по шаблону, по трафарету","Ребенок чертит линии с помощью линейки","Ребенок обводит по контуру, по точкам","Ребенок выполняет штриховку в различных направлениях","Ребенок закрашивает, не выходя за контур","Ребенок свободно владеет карандашом при рисовании округлых линий, завитков в разном направлении",{"$nulls":5},"на санках","на лыжах","на двухколесном велосипеде","на самокате",{"$nulls":7},"на санках","на лыжах","на двухколесном велосипеде","на самокате","Слушание","Пение ","Музыкально-ритмические движения","Песенное творчество","Игра на детских музыкальных инструментах",null,"Театрализованная деятельность",{"$nulls":3},"Танцевально-игровое творчество",null,"У ребенка развит музыкальный вкус, музыкальная память","Рисование ",null,"Лепка ",null,"Аппликация ",null,"Народное ДПИ","Прикладное творчество"]
[{"$f":"Список!B28","v":0},"Отношение к самому себе",{"$nulls":3},"Отношение к сверстникам","Отношение к взрослым","Эмоции",null,null,"Поведение","Семья",null,"Игровое поведение",null,"Ребенок имеет представление об изменениях позиции человека с возрастом","Ребенок имеет представление о школе, школьниках, учителях; стремится к школьному обучению, к познанию, освоению чтения, письма; демонстрирует формированные предпосылки к учебной деятельности и элементы готовности к школьному обучению","Ребенок имеет представление о нравственных качествах людей, их проявлении в поступках и взаимоотношениях","Ребенок имеет представление о признаках и характеристиках государства (территория государства и его границы, столица), атрибутах государственной власти, президенте, столице","Ребенок имеет представление о порядке использования государственной символики","Ребенок имеет представление о волонтерстве","Ребенок имеет представление о государственных праздниках, исторических событиях","Ребенок имеет представление о жизни людей в России, о многообразии стран и народов мира","Ребенок имеет представление об обмене ценностями в процессе производства и потребления товаров и услуг, о денежных отношениях, о реальной стоимости отдельных продуктов питания, игрушек, детских книг","Ребенок имеет представление о об основах финансовой грамоты, основах бережного потребления","Ребенок проявляет инициативность и самостоятельность в процессе самообслуживания, при выполнении трудовых поручений","Ребенок имеет представление о правила безопасного поведения в ситуациях, создающих угрозу жизни и здоровью (погас свет, остался один, потерялся, получил травму)","Ребенок имеет представление о правила безопасного поведения дома, на улице, в природе, в местах большого скопления людей, в магазине, на вокзале, в общественных метах, на праздниках и др.","Ребенок имеет представление о правилах безопасного использования цифровых ресурсов (мобильного телефона, планшета)","Ребенок имеет представление об элементарных правилах оказания первой помощи при первых признаках недомогания, травмах, ушибах","Ребенок проявляет самостоятельность при выполнении правил безопасного поведения","Ребенок владеет речью как средством коммуникации, ведет диалог, владеет коммуникативно-речевыми умениями","Ребенок подбирает точные слова для выражения мысли","Ребенок выполняет операцию классификации – деления освоенных понятий на группы на основе выявленных признаков","Ребенок использует в речи средства языковой выразительности: антонимы, синонимы, многозначные слова, метафоры, олицетворение","Ребенок образует сложные слова посредством слияния основ","Ребенок согласует в речи существительные с числительными, существительные с прилагательными","Ребенок образует по образцу существительные с суффиксами, глаголы с приставками","Ребенок образует в речи сравнительную и превосходную степени имен прилагательных","Ребенок правильно произносит все звуки","Ребенок может пересказать литературное произведение по ролям, близко к тексту, от лица литературного героя","Ребенок может составить описательный рассказ, соблюдая структуру описания","Ребенок может составить повествовательный рассказ по картине, из личного опыта, из коллективного опыта, по набору игрушек, соблюдая структуру повествования","Ребенок может составить рассказ -контаминацию (сочетание описания и повествования, описания и рассуждения)","Ребенок использует в процессе общения объяснительную речь, речь-доказательство, речевое планирование","Ребенок знает и осмысленно воспринимает литературные произведения различных жанров, имеет предпочтения","Ребенок определяет характеры персонажей, мотивы их поведения, оценивает поступки литературных героев","Ребенок проявляет интерес к книгам познавательного характера","Ребенок производит звуковой анализ четырехзвуковых и пятизвуковых слов","Ребенок может интонационно выделить звуки в слове, определить их последовательность, дать им характеристику, составить схему слова, выделить ударный гласный звук в слове","Ребенок может определить количество и последовательность слов в предложении","Ребенок может составить предложение с заданным количеством слов","Ребенок знает названия всех букв","Ребенок читает слоги","Ребенок различает и называет",{"$nulls":8},"Ребенок умеет считать в пределах 10 в прямом и обратном порядке","Ребенок знает состав чисел из двух меньших в пределах первого десятка","Ребенок решает простые арифметические задачи на сложение и вычитание","Ребенок имеет представление о календаре, как системе измерения времени","Ребенок умеет определять время по часам с точностью до четверти часа","Ребенок ориентируется на местности, по схеме, по плану","Ребенок знает способы ориентировки в двухмерном пространстве","Ребенок умеет измерять протяженность, массу и объем с помощью условной мерки; понимает взаимообратные отношения между мерой и результатом измерения","Ребенок сравнивает предметы по 4-6 основаниям с выделением сходства, отличия",{"$nulls":9},"Ребенок имеет представление об использовании человеком свойств неживой природы для хозяйственных нужд (ветряные мельницы, водохранилища, солнечные батареи, ледяные катки)",{"$nulls":3},"Ребенок выполняет различные упражнения с мячом, метание",null,"Ребенок выполняет разные виды ползанья, лазанья ",null,null,"Ребенок выполняет различные виды ходьбы",null,null,"Ребенок выполняет различные виды бега",null,null,"Ребенок выполняет различные виды прыжков",{"$nulls":3},"Ребенок выполняет",null,"Ребенок выполняет разные виды перестроений, построений, передвижений, размыкание и смыкание приставным шагом, повороты","Ребенок может рассчитаться на «первый – второй»",{"$nulls":16},"Ребенок владеет навыками личной гигиены","Ребенок владеет навыками культуры еды","Ребенок владеет навыками поддержания порядка","Ребенок владеет навыками ухода за собой",{"$nulls":7},"У ребенка развит навык восприятия звуков по высоте в пределах квинты-терции","У ребенка развиты певческий голос и вокально-слуховая координация","Ребёнок ритмично и выразительно двигается в соответствие с характером музыки","Ребенок способен самостоятельно придумать мелодию, используя в качестве образца русские народные песни","Ребенок может сыграть простую мелодию на металлофоне, свирели, ударных, и электронных музыкальных инструментах: трещотках, погремушках, треугольниках","Ребенок может исполнить музыкальное произведение в оркестре и в ансамбле","Ребенок проявляет самостоятельность при выборе литературного и музыкального материала для театральной постановки","Ребенок проявляет инициативу при изготовлении атрибутов и декораций к спектаклю","Ребенок имеет представление о средствах погружения в театральные образы (музыка, слова, декорации, грим, костюм и др.)","Ребенок умеет выразительно передавать образы в действии, мимике, пантомимике","Ребенок проявляет активность в доступных видах музыкальной исполнительской деятельности (игра в оркестре, пение, танцевальные движения и др.)","Ребенок помогает придумывать движения, отражающие содержание песни",null,"Ребенок может изобразить предметы по памяти и с натуры, передает их средствами рисунка (форма, пропорции, расположение)","Ребенок способен передавать в рисунке сюжет, строить композицию","Ребенок свободно использует приемы лепки, освоенные ранее (налеп, углубленный рельеф), применяет стеку","Ребенок умеет передавать пропорции, соотношение по величине, выразительность поз, движений, деталей","Ребенок умеет составлять узоры и декоративные композиции из геометрических и растительных элементов на листах бумаги разной формы","Ребенок может выполнить вырезание (симметричное из бумаги, сложенной вдвое; несколько предметов из частей бумаги, сложенной гармошкой)","Ребенок умеет создавать узоры по мотивам народных росписей","Ребенок может сложить бумагу в разных направлениях","Ребенок может сделать разметку с помощью шаблона","Ребенок может выполнить работу по образцу","Ребенок может создать объемную игрушку в технике «оригами»","Ребенок может создать объемную поделку из природного материала","Ребенок может вдеть нитку в иголку, завязать узелок, пришить пуговицу, петельку, выполнить шов «вперед иголка»","Ребенок умеет выделять, называть, группировать произведения по видам искусства: литература, музыка, изобразительное искусство, архитектура, театр, цирк","Ребенок имеет представление о видах изобразительного искусства: графика, декоративно-прикладное искусство, живопись, скульптура, архитектура, фотоискусство","Ребенок имеет представление о жанрах изобразительного искусства: натюрморт, пейзаж, портрет","Ребенок имеет представление о народном искусстве, фольклоре, музыке и художественных промыслах","Ребенок имеет представление о творческих профессиях: художник, композитор, музыкант, актер, артист балета","Ребенок имеет представление о культурно-досуговых местах: театр, музей, библиотека, выставка, кинотеатр, цирк и др.","Ребенок может провести анализ постройки (выделить основные части и характерные детали конструкций)","Ребенок может выполнить постройку по инструкции"]
[null,"Ребенок осознает и признает собственные ошибки, результат поставленных задач, определяет пути развития","Ребенок умеет договариваться и дружить, старается разрешать конфликтные ситуации конструктивными способами","Ребенок способен принимать собственные решения и проявлять инициативу","Ребенок осознанно относится к своему будущему, стремится быть полезным обществу","Ребенок без напоминаний использует в общении формулы словесной вежливости (приветствие, прощание, просьбы, извинения)","Ребенок без напоминаний использует в общении формулы словесной вежливости (приветствие, прощание, просьбы, извинения)","Ребенок понимает чувства и переживания окружающих по невербальным признакам; находит причины и следствия возникновения эмоций, проявляет эмпатию","Ребенок использует социально приемлемые способы проявления эмоций и доступные возрасту регуляции эмоциональных состояний","Ребенок распознает собственные чувства и эмоции, анализирует свои переживания и рассказывает о них","Ребенок самостоятельно соблюдает установленный порядок поведения в группе, регулирует собственную активность","Ребенок имеет представление о необходимости укрепления связи между поколениями, взаимной поддержке детей и взрослых","Ребенок имеет представление о семье, семейных и родственных отношениях (взаимные чувства, правила общения в семье, значимые и памятные события, досуг семьи, семейный бюджет)","Ребенок умеет сотрудничать со сверстниками (побуждает к обсуждению планов, советуется, поддерживает интерес к мнению, инициирует ситуации взаимопомощи, подчеркивает ценность каждого ребенка и его вклад в общее дело, выбирает партнеров по интересам, помогает устанавливать темп совместных действий)","Ребенок владеет разными способами и видами игры, различает условную и реальную ситуации, предлагает и объясняет замысел игры, комбинирует сюжеты на основе реальных, вымышленных ситуаций, выполняет несколько ролей в одной игре, подбирает разные средства для создания игровых образов, согласовывает свои интересы с интересами партнёров по игре",{"$nulls":39}," все цвета спектра и ахроматические цвета, оттенки","плоские и объемные геометрические фигуры; умеет выделять структуру геометрических фигур и устанавливать взаимосвязи между ними","Ребенок умеет классифицировать фигуры по внешним структурным признаками (округлые, многоугольники)","Ребенок владеет различными способами видоизменения геометрических фигур (наложение, соединение, разрезание и др.)","Ребенок умеет измерять длину, ширину, высоту с помощью условной мерки",{"$nulls":13}," о родном населенном пункте (название улиц, некоторых архитектурных особенностях, достопримечательностях), об истории, о выдающихся горожанах, традициях городской жизни"," о назначении общественных учреждений"," о разных видах специального транспорта"," о местах труда людей (завод, больница, магазин и др.)"," о местах отдыха людей","Ребенок имеет представление о наиболее ярких представителях животных и растений разных природных зон (пустыня, степь, тайга, тундра и др.), об их образе жизни, приспособлении к среде обитания, изменениях в жизни в разные сезоны года","Ребенок имеет представление о многообразии водных ресурсов (моря, океаны, реки, водопады и др.)","Ребенок имеет представление о многообразии полезных ископаемых (нефть, уголь, серебро, золото, алмазы и др.)","Ребенок имеет представление о жизненных потребностях, этапах роста и развития животных и растений",null,"Ребенок имеет представление о некоторых небесных телах (планеты, кометы, звезды)",null,null,"бросание вверх, о землю, ловля двумя руками, одной рукой, перебрасывание, передача, прокатывание, забрасывание, ведение","в цель из положения стоя, вдаль, в движущеюся цель","ползанье на четвереньках, на животе, на спине","влезание на гимнастическую стенку и спуск; перелезание с пролета на пролет по диагонали","лазанье по веревочной лестнице; выполнение упражнений на канате","обычная, гимнастическим шагом, скрестным шагом, спиной вперед, выпадами, с закрытыми глазами","приставными шагами назад, в приседе, с различными движениями рук","в различных построениях","в колонне по одному, врассыпную, парами, тройками, четверками","в сочетание с прыжками, высоко поднимая колени, захлестывая голени назад, выбрасывая прямые ноги вперед","челночный, наперегонки, из разных исходных положений, со скакалкой, по пересеченной местности, с наименьшим числом шагов, медленный, быстрый","подпрыгивания на двух ногах в чередовании с ходьбой, на месте и с поворот кругом","смещая ноги вправо-влево-вперед-назад","выпрыгивание на предметы; подпрыгивания вверх из глубокого приседа; прыжки на одной ноге","в длину с места/с разбега, в высоту с места/с разбега","стойка на носках, стойка на одной ноге с закрытыми глазами","кружение с закрытыми глазами, остановкой и сохранением заданной позы"]
["начало года",{"$f":"'Соц.ком.к 7г ч1 Н.г.'!E35","v":0},{"$f":"'Соц.ком.к 7г ч1 Н.г.'!F35","v":0},{"$f":"'Соц.ком.к 7г ч1 Н.г.'!G35","v":0},{"$f":"'Соц.ком.к 7г ч1 Н.г.'!H35","v":0},{"$f":"'Соц.ком.к 7г ч1 Н.г.'!I35","v":0},{"$f":"'Соц.ком.к 7г ч1 Н.г.'!J35","v":0},{"$f":"'Соц.ком.к 7г ч1 Н.г.'!K35","v":0},{"$f":"'Соц.ком.к 7г ч1 Н.г.'!L35","v":0},{"$f":"'Соц.ком.к 7г ч1 Н.г.'!M35","v":0},{"$f":"'Соц.ком.к 7г ч1 Н.г.'!N35","v":0},{"$f":"'Соц.ком.к 7г ч2 Н.г.'!E35","v":0},{"$f":"'Соц.ком.к 7г ч2 Н.г.'!F35","v":0},{"$f":"'Соц.ком.к 7г ч2 Н.г.'!G35","v":0},{"$f":"'Соц.ком.к 7г ч2 Н.г.'!H35","v":0},{"$f":"'Соц.ком.к 7г ч2 Н.г.'!I35","v":0},{"$f":"'Соц.ком.к 7г ч2 Н.г.'!J35","v":0},{"$f":"'Соц.ком.к 7г ч2 Н.г.'!K35","v":0},{"$f":"'Соц.ком. к 7г ч3 Н.г.'!E35","v":0},{"$f":"'Соц.ком. к 7г ч3 Н.г.'!F35","v":0},{"$f":"'Соц.ком. к 7г ч3 Н.г.'!G35","v":0},{"$f":"'Соц.ком. к 7г ч3 Н.г.'!H35","v":0},{"$f":"'Соц.ком. к 7г ч3 Н.г.'!I35","v":0},{"$f":"'Соц.ком. к 7г ч3 Н.г.'!J35","v":0},{"$f":"'Соц.ком. к 7г ч3 Н.г.'!K35","v":0},{"$f":"'Соц.ком. к 7г ч3 Н.г.'!L35","v":0},{"$f":"'Соц.ком. к 7г ч4 Н.г.'!E35","v":0},{"$f":"'Соц.ком. к 7г ч4 Н.г.'!F35","v":0},{"$f":"'Соц.ком. к 7г ч4 Н.г.'!G35","v":0},{"$f":"'Соц.ком. к 7г ч4 Н.г.'!H35","v":0},{"$f":"'Соц.ком. к 7г ч4 Н.г.'!I35","v":0},{"$f":"'Реч.разв.к 7г ч1 Н.г.'!E35","v":0},{"$f":"'Реч.разв.к 7г ч1 Н.г.'!F35","v":0},{"$f":"'Реч.разв.к 7г ч1 Н.г.'!G35","v":0},{"$f":"'Реч.разв.к 7г ч1 Н.г.'!H35","v":0},{"$f":"'Реч.разв.к 7г ч1 Н.г.'!I35","v":0},{"$f":"'Реч.разв.к 7г ч1 Н.г.'!J35","v":0},{"$f":"'Реч.разв.к 7г ч1 Н.г.'!K35","v":0},{"$f":"'Реч.разв.к 7г ч1 Н.г.'!L35","v":0},{"$f":"'Реч.разв.к 7г ч2 Н.г.'!E35","v":0},{"$f":"'Реч.разв.к 7г ч2 Н.г.'!F35","v":0},{"$f":"'Реч.разв.к 7г ч2 Н.г.'!G35","v":0},{"$f":"'Реч.разв.к 7г ч2 Н.г.'!H35","v":0},{"$f":"'Реч.разв.к 7г ч2 Н.г.'!I35","v":0},{"$f":"'Реч.разв.к 7г ч2 Н.г.'!J35","v":0},{"$f":"'Реч.разв.к 7г ч2 Н.г.'!K35","v":0},{"$f":"'Реч.разв.к 7г ч2 Н.г.'!L35","v":0},{"$f":"'Реч.разв.к 7г ч2 Н.г.'!M35","v":0},{"$f":"'Реч.разв.к 7г ч3. Н.г.'!E35","v":0},{"$f":"'Реч.разв.к 7г ч3. Н.г.'!F35","v":0},{"$f":"'Реч.разв.к 7г ч3. Н.г.'!G35","v":0},{"$f":"'Реч.разв.к 7г ч3. Н.г.'!H35","v":0},{"$f":"'Реч.разв.к 7г ч3. Н.г.'!I35","v":0},{"$f":"'Реч.разв.к 7г ч3. Н.г.'!J35","v":0},{"$f":"'Позн.разв. к 7г ч1. Н.г.'!E36","v":0},{"$f":"'Позн.разв. к 7г ч1. Н.г.'!F36","v":0},{"$f":"'Позн.разв. к 7г ч1. Н.г.'!G36","v":0},{"$f":"'Позн.разв. к 7г ч1. Н.г.'!H36","v":0},{"$f":"'Позн.разв. к 7г ч1. Н.г.'!I36","v":0},{"$f":"'Позн.разв. к 7г ч1. Н.г.'!J36","v":0},{"$f":"'Позн.разв. к 7г ч1. Н.г.'!K36","v":0},{"$f":"'Позн.разв. к 7г ч1. Н.г.'!L36","v":0},{"$f":"'Позн.разв. к 7г ч1. Н.г.'!M36","v":0},{"$f":"'Позн.разв. к 7г ч2. Н.г.'!E36","v":0},{"$f":"'Позн.разв. к 7г ч2. Н.г.'!F36","v":0},{"$f":"'Позн.разв. к 7г ч2. Н.г.'!G36","v":0},{"$f":"'Позн.разв. к 7г ч2. Н.г.'!H36","v":0},{"$f":"'Позн.разв. к 7г ч2. Н.г.'!I36","v":0},{"$f":"'Позн.разв. к 7г ч2. Н.г.'!J36","v":0},{"$f":"'Позн.разв. к 7г ч2. Н.г.'!K36","v":0},{"$f":"'Позн.разв. к 7г ч2. Н.г.'!L36","v":0},{"$f":"'Позн.разв. к 7г ч2. Н.г.'!M36","v":0},{"$f":"'Позн.разв. к 7г ч3. Н.г.'!E36","v":0},{"$f":"'Позн.разв. к 7г ч3. Н.г.'!F36","v":0},{"$f":"'Позн.разв. к 7г ч3. Н.г.'!G36","v":0},{"$f":"'Позн.разв. к 7г ч3. Н.г.'!H36","v":0},{"$f":"'Позн.разв. к 7г ч3. Н.г.'!I36","v":0},{"$f":"'Позн.разв. к 7г ч3. Н.г.'!J36","v":0},{"$f":"'Позн.разв. к 7г ч3. Н.г.'!K36","v":0},{"$f":"'Позн.разв. к 7г ч3. Н.г.'!L36","v":0},{"$f":"'Позн.разв. к 7г ч3. Н.г.'!M36","v":0},{"$f":"'Позн.разв. к 7г ч3. Н.г.'!N36","v":0},{"$f":"'Позн.разв. к 7г ч3. Н.г.'!O36","v":0},{"$f":"'Позн.разв. к 7г ч3. Н.г.'!P36","v":0},{"$f":"'Позн.разв. к 7г ч3. Н.г.'!Q36","v":0},{"$f":"'Физ.разв. к 7г ч1. Н.г.'!E36","v":0},{"$f":"'Физ.разв. к 7г ч1. Н.г.'!F36","v":0},{"$f":"'Физ.разв. к 7г ч1. Н.г.'!G36","v":0},{"$f":"'Физ.разв. к 7г ч1. Н.г.'!H36","v":0},{"$f":"'Физ.разв. к 7г ч1. Н.г.'!I36","v":0},{"$f":"'Физ.разв. к 7г ч1. Н.г.'!J36","v":0},{"$f":"'Физ.разв. к 7г ч1. Н.г.'!K36","v":0},{"$f":"'Физ.разв. к 7г ч1. Н.г.'!L36","v":0},{"$f":"'Физ.разв. к 7г ч1. Н.г.'!M36","v":0},{"$f":"'Физ.разв. к 7г ч1. Н.г.'!N36","v":0},{"$f":"'Физ.разв. к 7г ч1. Н.г.'!O36","v":0},{"$f":"'Физ.разв. к 7г ч1. Н.г.'!P36","v":0},{"$f":"'Физ.разв. к 7г ч1. Н.г.'!Q36","v":0},{"$f":"'Физ.разв. к 7г ч1. Н.г.'!R36","v":0},{"$f":"'Физ.разв. к 7г ч1. Н.г.'!S36","v":0},{"$f":"'Физ.разв. к 7г ч1. Н.г.'!T36","v":0},{"$f":"'Физ.разв. к 7г ч1. Н.г.'!U36","v":0},{"$f":"'Физ.разв. к 7г ч1. Н.г.'!V36","v":0},{"$f":"'Физ.разв. к 7г ч1. Н.г.'!W36","v":0},{"$f":"'Физ.разв. к 7г ч2. Н.г.'!E37","v":0},{"$f":"'Физ.разв. к 7г ч2. Н.г.'!F37","v":0},{"$f":"'Физ.разв. к 7г ч2. Н.г.'!G37","v":0},{"$f":"'Физ.разв. к 7г ч2. Н.г.'!H37","v":0},{"$f":"'Физ.разв. к 7г ч2. Н.г.'!I37","v":0},{"$f":"'Физ.разв. к 7г ч2. Н.г.'!J37","v":0},{"$f":"'Физ.разв. к 7г ч2. Н.г.'!K37","v":0},{"$f":"'Физ.разв. к 7г ч2. Н.г.'!L37","v":0},{"$f":"'Физ.разв. к 7г ч2. Н.г.'!M37","v":0},{"$f":"'Физ.разв. к 7г ч2. Н.г.'!N37","v":0},{"$f":"'Физ.разв. к 7г ч2. Н.г.'!O37","v":0},{"$f":"'Физ.разв. к 7г ч2. Н.г.'!P37","v":0},{"$f":"'Физ.разв. к 7г ч2. Н.г.'!Q37","v":0},{"$f":"'Физ.разв. к 7г ч2. Н.г.'!R37","v":0},{"$f":"'Физ.разв. к 7г ч2. Н.г.'!S37","v":0},{"$f":"'Физ.разв. к 7г ч2. Н.г.'!T37","v":0},{"$f":"'Физ.разв. к 7г ч3. Н.г.'!E37","v":0},{"$f":"'Физ.разв. к 7г ч3. Н.г.'!F37","v":0},{"$f":"'Физ.разв. к 7г ч3. Н.г.'!G37","v":0},{"$f":"'Физ.разв. к 7г ч3. Н.г.'!H37","v":0},{"$f":"'Физ.разв. к 7г ч3. Н.г.'!I37","v":0},{"$f":"'Физ.разв. к 7г ч3. Н.г.'!J37","v":0},{"$f":"'Физ.разв. к 7г ч3. Н.г.'!K37","v":0},{"$f":"'Физ.разв. к 7г ч3. Н.г.'!L37","v":0},{"$f":"'Физ.разв. к 7г ч3. Н.г.'!M37","v":0},{"$f":"'Физ.разв. к 7г ч3. Н.г.'!N37","v":0},{"$f":"'Физ.разв. к 7г ч3. Н.г.'!O37","v":0},{"$f":"'Худ.эст.к 7г ч1. Н.г.'!E36","v":0},{"$f":"'Худ.эст.к 7г ч1. Н.г.'!F36","v":0},{"$f":"'Худ.эст.к 7г ч1. Н.г.'!G36","v":0},{"$f":"'Худ.эст.к 7г ч1. Н.г.'!H36","v":0},{"$f":"'Худ.эст.к 7г ч1. Н.г.'!I36","v":0},{"$f":"'Худ.эст.к 7г ч1. Н.г.'!J36","v":0},{"$f":"'Худ.эст.к 7г ч1. Н.г.'!K36","v":0},{"$f":"'Худ.эст.к 7г ч1. Н.г.'!L36","v":0},{"$f":"'Худ.эст.к 7г ч1. Н.г.'!M36","v":0},{"$f":"'Худ.эст.к 7г ч1. Н.г.'!N36","v":0},{"$f":"'Худ.эст.к 7г ч1. Н.г.'!O36","v":0},{"$f":"'Худ.эст.к 7г ч1. Н.г.'!P36","v":0},{"$f":"'Худ.эст.к 7г ч1. Н.г.'!Q36","v":0},{"$f":"'Худ.эст.к 7г ч2. Н.г.'!E36","v":0},{"$f":"'Худ.эст.к 7г ч2. Н.г.'!F36","v":0},{"$f":"'Худ.эст.к 7г ч2. Н.г.'!G36","v":0},{"$f":"'Худ.эст.к 7г ч2. Н.г.'!H36","v":0},{"$f":"'Худ.эст.к 7г ч2. Н.г.'!I36","v":0},{"$f":"'Худ.эст.к 7г ч2. Н.г.'!J36","v":0},{"$f":"'Худ.эст.к 7г ч2. Н.г.'!K36","v":0},{"$f":"'Худ.эст.к 7г ч2. Н.г.'!L36","v":0},{"$f":"'Худ.эст.к 7г ч2. Н.г.'!M36","v":0},{"$f":"'Худ.эст.к 7г ч2. Н.г.'!N36","v":0},{"$f":"'Худ.эст.к 7г ч2. Н.г.'!O36","v":0},{"$f":"'Худ.эст.к 7г ч2. Н.г.'!P36","v":0},{"$f":"'Худ.эст.к 7г ч2. Н.г.'!Q36","v":0},{"$f":"'Худ.эст.к 7г ч3. Н.г.'!E36","v":0},{"$f":"'Худ.эст.к 7г ч3. Н.г.'!F36","v":0},{"$f":"'Худ.эст.к 7г ч3. Н.г.'!G36","v":0},{"$f":"'Худ.эст.к 7г ч3. Н.г.'!H36","v":0},{"$f":"'Худ.эст.к 7г ч3. Н.г.'!I36","v":0},{"$f":"'Худ.эст.к 7г ч3. Н.г.'!J36","v":0},{"$f":"'Худ.эст.к 7г ч3. Н.г.'!K36","v":0},{"$f":"'Худ.эст.к 7г ч3. Н.г.'!L36","v":0}]
["конец года",{"$f":"'Соц.ком.к 7г ч1 К.г.'!E35","v":0},{"$f":"'Соц.ком.к 7г ч1 К.г.'!F35","v":0},{"$f":"'Соц.ком.к 7г ч1 К.г.'!G35","v":0},{"$f":"'Соц.ком.к 7г ч1 К.г.'!H35","v":0},{"$f":"'Соц.ком.к 7г ч1 К.г.'!I35","v":0},{"$f":"'Соц.ком.к 7г ч1 К.г.'!J35","v":0},{"$f":"'Соц.ком.к 7г ч1 К.г.'!K35","v":0},{"$f":"'Соц.ком.к 7г ч1 К.г.'!L35","v":0},{"$f":"'Соц.ком.к 7г ч1 К.г.'!M35","v":0},{"$f":"'Соц.ком.к 7г ч1 К.г.'!N35","v":0},{"$f":"'Соц.ком.к 7г ч2 К.г.'!E35","v":0},{"$f":"'Соц.ком.к 7г ч2 К.г.'!F35","v":0},{"$f":"'Соц.ком.к 7г ч2 К.г.'!G35","v":0},{"$f":"'Соц.ком.к 7г ч2 К.г.'!H35","v":0},{"$f":"'Соц.ком.к 7г ч2 К.г.'!I35","v":0},{"$f":"'Соц.ком.к 7г ч2 К.г.'!J35","v":0},{"$f":"'Соц.ком.к 7г ч2 К.г.'!K35","v":0},{"$f":"'Соц.ком. к 7г ч3 К.г.'!E35","v":0},{"$f":"'Соц.ком. к 7г ч3 К.г.'!F35","v":0},{"$f":"'Соц.ком. к 7г ч3 К.г.'!G35","v":0},{"$f":"'Соц.ком. к 7г ч3 К.г.'!H35","v":0},{"$f":"'Соц.ком. к 7г ч3 К.г.'!I35","v":0},{"$f":"'Соц.ком. к 7г ч3 К.г.'!J35","v":0},{"$f":"'Соц.ком. к 7г ч3 К.г.'!K35","v":0},{"$f":"'Соц.ком. к 7г ч3 К.г.'!L35","v":0},{"$f":"'Соц.ком. к 7г ч4 К.г.'!E35","v":0},{"$f":"'Соц.ком. к 7г ч4 К.г.'!F35","v":0},{"$f":"'Соц.ком. к 7г ч4 К.г.'!G35","v":0},{"$f":"'Соц.ком. к 7г ч4 К.г.'!H35","v":0},{"$f":"'Соц.ком. к 7г ч4 К.г.'!I35","v":0},{"$f":"'Реч.разв.к 7г ч1 К.г.'!E35","v":0},{"$f":"'Реч.разв.к 7г ч1 К.г.'!F35","v":0},{"$f":"'Реч.разв.к 7г ч1 К.г.'!G35","v":0},{"$f":"'Реч.разв.к 7г ч1 К.г.'!H35","v":0},{"$f":"'Реч.разв.к 7г ч1 К.г.'!I35","v":0},{"$f":"'Реч.разв.к 7г ч1 К.г.'!J35","v":0},{"$f":"'Реч.разв.к 7г ч1 К.г.'!K35","v":0},{"$f":"'Реч.разв.к 7г ч1 К.г.'!L35","v":0},{"$f":"'Реч.разв.к 7г ч2 К.г. '!E35","v":0},{"$f":"'Реч.разв.к 7г ч2 К.г. '!F35","v":0},{"$f":"'Реч.разв.к 7г ч2 К.г. '!G35","v":0},{"$f":"'Реч.разв.к 7г ч2 К.г. '!H35","v":0},{"$f":"'Реч.разв.к 7г ч2 К.г. '!I35","v":0},{"$f":"'Реч.разв.к 7г ч2 К.г. '!J35","v":0},{"$f":"'Реч.разв.к 7г ч2 К.г. '!K35","v":0},{"$f":"'Реч.разв.к 7г ч2 К.г. '!L35","v":0},{"$f":"'Реч.разв.к 7г ч2 К.г. '!M35","v":0},{"$f":"'Реч.разв.к 7г ч3. К.г. '!E35","v":0},{"$f":"'Реч.разв.к 7г ч3. К.г. '!F35","v":0},{"$f":"'Реч.разв.к 7г ч3. К.г. '!G35","v":0},{"$f":"'Реч.разв.к 7г ч3. К.г. '!H35","v":0},{"$f":"'Реч.разв.к 7г ч3. К.г. '!I35","v":0},{"$f":"'Реч.разв.к 7г ч3. К.г. '!J35","v":0},{"$f":"'Позн.разв. к 7г ч1. К.г. '!E36","v":0},{"$f":"'Позн.разв. к 7г ч1. К.г. '!F36","v":0},{"$f":"'Позн.разв. к 7г ч1. К.г. '!G36","v":0},{"$f":"'Позн.разв. к 7г ч1. К.г. '!H36","v":0},{"$f":"'Позн.разв. к 7г ч1. К.г. '!I36","v":0},{"$f":"'Позн.разв. к 7г ч1. К.г. '!J36","v":0},{"$f":"'Позн.разв. к 7г ч1. К.г. '!K36","v":0},{"$f":"'Позн.разв. к 7г ч1. К.г. '!L36","v":0},{"$f":"'Позн.разв. к 7г ч1. К.г. '!M36","v":0},{"$f":"'Позн.разв. к 7г ч2. К.г.'!E36","v":0},{"$f":"'Позн.разв. к 7г ч2. К.г.'!F36","v":0},{"$f":"'Позн.разв. к 7г ч2. К.г.'!G36","v":0},{"$f":"'Позн.разв. к 7г ч2. К.г.'!H36","v":0},{"$f":"'Позн.разв. к 7г ч2. К.г.'!I36","v":0},{"$f":"'Позн.разв. к 7г ч2. К.г.'!J36","v":0},{"$f":"'Позн.разв. к 7г ч2. К.г.'!K36","v":0},{"$f":"'Позн.разв. к 7г ч2. К.г.'!L36","v":0},{"$f":"'Позн.разв. к 7г ч2. К.г.'!M36","v":0},{"$f":"'Позн.разв. к 7г ч3. К.г. '!E36","v":0},{"$f":"'Позн.разв. к 7г ч3. К.г. '!F36","v":0},{"$f":"'Позн.разв. к 7г ч3. К.г. '!G36","v":0},{"$f":"'Позн.разв. к 7г ч3. К.г. '!H36","v":0},{"$f":"'Позн.разв. к 7г ч3. К.г. '!I36","v":0},{"$f":"'Позн.разв. к 7г ч3. К.г. '!J36","v":0},{"$f":"'Позн.разв. к 7г ч3. К.г. '!K36","v":0},{"$f":"'Позн.разв. к 7г ч3. К.г. '!L36","v":0},{"$f":"'Позн.разв. к 7г ч3. К.г. '!M36","v":0},{"$f":"'Позн.разв. к 7г ч3. К.г. '!N36","v":0},{"$f":"'Позн.разв. к 7г ч3. К.г. '!O36","v":0},{"$f":"'Позн.разв. к 7г ч3. К.г. '!P36","v":0},{"$f":"'Позн.разв. к 7г ч3. К.г. '!Q36","v":0},{"$f":"'Физ.разв. к 7г ч1. К.г. '!E36","v":0},{"$f":"'Физ.разв. к 7г ч1. К.г. '!F36","v":0},{"$f":"'Физ.разв. к 7г ч1. К.г. '!G36","v":0},{"$f":"'Физ.разв. к 7г ч1. К.г. '!H36","v":0},{"$f":"'Физ.разв. к 7г ч1. К.г. '!I36","v":0},{"$f":"'Физ.разв. к 7г ч1. К.г. '!J36","v":0},{"$f":"'Физ.разв. к 7г ч1. К.г. '!K36","v":0},{"$f":"'Физ.разв. к 7г ч1. К.г. '!L36","v":0},{"$f":"'Физ.разв. к 7г ч1. К.г. '!M36","v":0},{"$f":"'Физ.разв. к 7г ч1. К.г. '!N36","v":0},{"$f":"'Физ.разв. к 7г ч1. К.г. '!O36","v":0},{"$f":"'Физ.разв. к 7г ч1. К.г. '!P36","v":0},{"$f":"'Физ.разв. к 7г ч1. К.г. '!Q36","v":0},{"$f":"'Физ.разв. к 7г ч1. К.г. '!R36","v":0},{"$f":"'Физ.разв. к 7г ч1. К.г. '!S36","v":0},{"$f":"'Физ.разв. к 7г ч1. К.г. '!T36","v":0},{"$f":"'Физ.разв. к 7г ч1. К.г. '!U36","v":0},{"$f":"'Физ.разв. к 7г ч1. К.г. '!V36","v":0},{"$f":"'Физ.разв. к 7г ч1. К.г. '!W36","v":0},{"$f":"'Физ.разв. к 7г ч2. К.г.'!E37","v":0},{"$f":"'Физ.разв. к 7г ч2. К.г.'!F37","v":0},{"$f":"'Физ.разв. к 7г ч2. К.г.'!G37","v":0},{"$f":"'Физ.разв. к 7г ч2. К.г.'!H37","v":0},{"$f":"'Физ.разв. к 7г ч2. К.г.'!I37","v":0},{"$f":"'Физ.разв. к 7г ч2. К.г.'!J37","v":0},{"$f":"'Физ.разв. к 7г ч2. К.г.'!K37","v":0},{"$f":"'Физ.разв. к 7г ч2. К.г.'!L37","v":0},{"$f":"'Физ.разв. к 7г ч2. К.г.'!M37","v":0},{"$f":"'Физ.разв. к 7г ч2. К.г.'!N37","v":0},{"$f":"'Физ.разв. к 7г ч2. К.г.'!O37","v":0},{"$f":"'Физ.разв. к 7г ч2. К.г.'!P37","v":0},{"$f":"'Физ.разв. к 7г ч2. К.г.'!Q37","v":0},{"$f":"'Физ.разв. к 7г ч2. К.г.'!R37","v":0},{"$f":"'Физ.разв. к 7г ч2. К.г.'!S37","v":0},{"$f":"'Физ.разв. к 7г ч2. К.г.'!T37","v":0},{"$f":"'Физ.разв. к 7г ч3. К.г. '!E37","v":0},{"$f":"'Физ.разв. к 7г ч3. К.г. '!F37","v":0},{"$f":"'Физ.разв. к 7г ч3. К.г. '!G37","v":0},{"$f":"'Физ.разв. к 7г ч3. К.г. '!H37","v":0},{"$f":"'Физ.разв. к 7г ч3. К.г. '!I37","v":0},{"$f":"'Физ.разв. к 7г ч3. К.г. '!J37","v":0},{"$f":"'Физ.разв. к 7г ч3. К.г. '!K37","v":0},{"$f":"'Физ.разв. к 7г ч3. К.г. '!L37","v":0},{"$f":"'Физ.разв. к 7г ч3. К.г. '!M37","v":0},{"$f":"'Физ.разв. к 7г ч3. К.г. '!N37","v":0},{"$f":"'Физ.разв. к 7г ч3. К.г. '!O37","v":0},{"$f":"'Худ.эст.к 7г ч1. К.г. '!E36","v":0},{"$f":"'Худ.эст.к 7г ч1. К.г. '!F36","v":0},{"$f":"'Худ.эст.к 7г ч1. К.г. '!G36","v":0},{"$f":"'Худ.эст.к 7г ч1. К.г. '!H36","v":0},{"$f":"'Худ.эст.к 7г ч1. К.г. '!I36","v":0},{"$f":"'Худ.эст.к 7г ч1. К.г. '!J36","v":0},{"$f":"'Худ.эст.к 7г ч1. К.г. '!K36","v":0},{"$f":"'Худ.эст.к 7г ч1. К.г. '!L36","v":0},{"$f":"'Худ.эст.к 7г ч1. К.г. '!M36","v":0},{"$f":"'Худ.эст.к 7г ч1. К.г. '!N36","v":0},{"$f":"'Худ.эст.к 7г ч1. К.г. '!O36","v":0},{"$f":"'Худ.эст.к 7г ч1. К.г. '!P36","v":0},{"$f":"'Худ.эст.к 7г ч1. К.г. '!Q36","v":0},{"$f":"'Худ.эст.к 7г ч2. К.г. '!E36","v":0},{"$f":"'Худ.эст.к 7г ч2. К.г. '!F36","v":0},{"$f":"'Худ.эст.к 7г ч2. К.г. '!G36","v":0},{"$f":"'Худ.эст.к 7г ч2. К.г. '!H36","v":0},{"$f":"'Худ.эст.к 7г ч2. К.г. '!I36","v":0},{"$f":"'Худ.эст.к 7г ч2. К.г. '!J36","v":0},{"$f":"'Худ.эст.к 7г ч2. К.г. '!K36","v":0},{"$f":"'Худ.эст.к 7г ч2. К.г. '!L36","v":0},{"$f":"'Худ.эст.к 7г ч2. К.г. '!M36","v":0},{"$f":"'Худ.эст.к 7г ч2. К.г. '!N36","v":0},{"$f":"'Худ.эст.к 7г ч2. К.г. '!O36","v":0},{"$f":"'Худ.эст.к 7г ч2. К.г. '!P36","v":0},{"$f":"'Худ.эст.к 7г ч2. К.г. '!Q36","v":0},{"$f":"'Худ.эст.к 7г ч3. К.г. '!E36","v":0},{"$f":"'Худ.эст.к 7г ч3. К.г. '!F36","v":0},{"$f":"'Худ.эст.к 7г ч3. К.г. '!G36","v":0},{"$f":"'Худ.эст.к 7г ч3. К.г. '!H36","v":0},{"$f":"'Худ.эст.к 7г ч3. К.г. '!I36","v":0},{"$f":"'Худ.эст.к 7г ч3. К.г. '!J36","v":0},{"$f":"'Худ.эст.к 7г ч3. К.г. '!K36","v":0},{"$f":"'Худ.эст.к 7г ч3. К.г. '!L36","v":0}]

{"sheet":"26","index":63,"n_rows":7,"n_cols":165,"rows_kept":7,"merged":[[0,104,0,110],[0,111,0,112],[0,113,0,115],[0,116,0,119],[0,120,0,123],[0,124,0,126],[0,127,0,130],[1,54,1,58],[1,59,1,62],[1,63,1,71],[1,72,1,76],[1,77,1,84],[1,104,1,106],[1,107,1,110],[1,111,4,111],[1,112,4,112],[1,113,4,113],[1,114,4,114],[1,115,4,115],[1,116,1,119],[1,120,2,120],[1,121,2,121],[1,122,2,122],[1,123,2,123],[1,124,4,124],[1,125,4,125],[1,126,4,126],[1,127,1,130],[1,131,1,143],[1,144,1,156],[1,157,2,162],[1,163,2,164],[2,18,2,22],[2,23,2,25],[2,26,2,30],[2,32,2,34],[2,35,2,38],[2,40,2,44],[2,45,2,47],[2,48,2,53],[2,55,2,57],[2,59,4,59],[2,60,4,60],[2,61,4,61],[2,62,4,62],[2,63,2,65],[2,66,2,67],[2,68,2,69],[2,72,3,76],[2,77,2,80],[2,81,2,82],[2,83,4,83],[2,84,4,84],[2,85,2,86],[2,87,2,89],[2,90,2,92],[2,93,2,95],[2,96,2,99],[2,100,2,101],[2,102,2,103],[2,104,4,104],[2,105,4,105],[2,106,4,106],[2,107,4,107],[2,108,4,108],[2,109,4,109],[2,110,4,110],[2,116,4,116],[2,117,4,117],[2,118,4,118],[2,119,4,119],[2,127,4,127],[2,128,4,128],[2,129,4,129],[2,130,4,130],[2,135,2,136],[2,137,2,140],[2,141,2,142],[2,143,4,143],[2,144,2,145],[2,146,2,147],[2,148,2,149],[2,151,2,156],[3,0,4,0],[3,1,3,4],[3,7,3,9],[3,11,3,12],[3,13,3,14],[3,15,4,15],[3,16,4,16],[3,17,4,17],[3,18,4,18],[3,19,4,19],[3,20,4,20],[3,21,4,21],[3,22,4,22],[3,23,4,23],[3,24,4,24],[3,25,4,25],[3,26,4,26],[3,27,4,27],[3,28,4,28],[3,29,4,29],[3,30,4,30],[3,31,4,31],[3,32,4,32],[3,33,4,33],[3,34,4,34],[3,35,4,35],[3,36,4,36],[3,37,4,37],[3,38,4,38],[3,39,4,39],[3,40,4,40],[3,41,4,41],[3,42,4,42],[3,43,4,43],[3,44,4,44],[3,45,4,45],[3,46,4,46],[3,47,4,47],[3,48,4,48],[3,49,4,49],[3,50,4,50],[3,51,4,51],[3,52,4,52],[3,53,4,53],[3,54,3,58],[3,63,4,63],[3,64,4,64],[3,65,4,65],[3,66,4,66],[3,67,4,67],[3,68,4,68],[3,69,4,69],[3,70,4,70],[3,71,4,71],[3,81,4,81],[3,85,3,86],[3,87,3,89],[3,90,3,92],[3,93,3,95],[3,96,3,99],[3,100,3,101],[3,102,4,102],[3,103,4,103],[3,120,4,120],[3,121,4,121],[3,122,4,122],[3,123,4,123],[3,131,4,131],[3,132,4,132],[3,133,4,133],[3,134,4,134],[3,135,4,135],[3,136,4,136],[3,137,4,137],[3,138,4,138],[3,139,4,139],[3,140,4,140],[3,141,4,141],[3,142,4,142],[3,144,4,144],[3,145,4,145],[3,146,4,146],[3,147,4,147],[3,148,4,148],[3,149,4,149],[3,150,4,150],[3,151,4,151],[3,152,4,152],[3,153,4,153],[3,154,4,154],[3,155,4,155],[3,156,4,156],[3,157,4,157],[3,158,4,158],[3,159,4,159],[3,160,4,160],[3,161,4,161],[3,162,4,162],[3,163,4,163],[3,164,4,164]]}
[{"$nulls":104},"Мелкая моторика",{"$nulls":6},"Подвижные игры",null,"Спорт. игры",null,null,"Спортивные упражнения",{"$nulls":3},"КГН",{"$nulls":3},"ЗОЖ",null,null,"Спортивные упражнения"]
[{"$nulls":54},"Сенсорные эталоны ",{"$nulls":4},"Познавательные действия",{"$nulls":3},"Математические представления",{"$nulls":8},"Окружающий мир",{"$nulls":4},"Природа ",{"$nulls":26},"Координация рук и глаз",null,null,"Графические навыки",{"$nulls":3},"Ребенок использует в самостоятельной деятельности разнообразные по содержанию подвижные игры, проявляет элементы творчества в двигательной деятельности","Ребенок может организовать знакомые подвижные игры со сверстниками, сплотить команду, стремится внести свой вклад в результат команды","Ребенок владеет элементами спортивных игр (городки, баскетбол, футбол, хоккей, бадминтон, настольный теннис), может контролировать свои движения и управлять ими","Ребенок имеет представление о разных видах спорта (санный спорт, борьба, теннис, синхронное плавание и др.)","Ребенок имеет представление о спортивных событиях и достижениях отечественных спортсменов","Ребенок умеет кататься",{"$nulls":3},"Навыки соблюдения чистоты тела (правила личной гигиены)","Навыки культуры еды (прием пищи) ","Навыки поддержания порядка (правила поведения в быту) ","Навыки ухода за собой (одевание, раздевание) ","Ребенок соблюдает элементарные правила здорового образа жизни и личной гигиены, следит за своей осанкой, может оценить свое самочувствие","Ребенок регулярно выполняет физические упражнения","Ребенок имеет начальные представления о том, что такое здоровье, понимает, как поддержать, укрепить и сохранить его","Ребенок умеет кататься",{"$nulls":3},"Музыкальная деятельность",{"$nulls":12},"Изобразительная деятельность",{"$nulls":12},"Приобщение к искусству",{"$nulls":5},"Конструктивная деятельность"]
[{"$nulls":18},"Область формирования основ гражданственности и патриотизма",{"$nulls":4},"Сфера трудового воспитания",null,null,"Область формирования основ безопасного поведения",{"$nulls":4},"Общее речевое развитие","Формирование словаря",null,null,"Грамматический строй",{"$nulls":3},"Звуковая культура речи","Связная речь",{"$nulls":4},"ЧХЛ",null,null,"Подготовка к обучению грамоте",{"$nulls":5},"Цвет, оттенки","Форма, геометрические фигуры",null,null,"Величина","Ребенок самостоятельно выбирает способ осуществления разных видов познавательной деятельности","Ребенок интересуется субъективно новым и неизвестным в окружающем мире","Ребенок способен применять в жизненных и игровых ситуациях знания о количестве, форме, величине предметов, пространстве, времени","Ребенок имеет разнообразные познавательные умения: определяет противоречия. Формулирует задачу исследования, использует разные способы и средства проверки предположений (сравнение с эталонами, классификацию, систематизацию и др.)","Количество и счет",null,null,"Ориентировка во времени",null,"Ориентировка в пространстве",null,"Пространственно-количественные связи и отношения","Сравнение","Ребенок имеет представления, может показать на картинке и в естественной среде, может рассказать",{"$nulls":4},"Объекты живой природы",{"$nulls":3},"Объекты неживой природы, природные явления",null,"Ребенок стремится к самостоятельному экспериментированию","Ребенок знает правила поведения в природе, проявляет осознанное, бережное отношение к природе и ее ресурсам","Бросание, катание, ловля, метание",null,"Ползанье, лазанье",null,null,"Ходьба",null,null,"Бег",null,null,"Прыжки",{"$nulls":3},"Равновесие",null,"Строевые упражнения",null,"Ребенок выполняет графический диктант","Ребенок обводит по шаблону, по трафарету","Ребенок чертит линии с помощью линейки","Ребенок обводит по контуру, по точкам","Ребенок выполняет штриховку в различных направлениях","Ребенок закрашивает, не выходя за контур","Ребенок свободно владеет карандашом при рисовании округлых линий, завитков в разном направлении",{"$nulls":5},"на санках","на лыжах","на двухколесном велосипеде","на самокате",{"$nulls":7},"на санках","на лыжах","на двухколесном велосипеде","на самокате","Слушание","Пение ","Музыкально-ритмические движения","Песенное творчество","Игра на детских музыкальных инструментах",null,"Театрализованная деятельность",{"$nulls":3},"Танцевально-игровое творчество",null,"У ребенка развит музыкальный вкус, музыкальная память","Рисование ",null,"Лепка ",null,"Аппликация ",null,"Народное ДПИ","Прикладное творчество"]
[{"$f":"Список!B29","v":0},"Отношение к самому себе",{"$nulls":3},"Отношение к сверстникам","Отношение к взрослым","Эмоции",null,null,"Поведение","Семья",null,"Игровое поведение",null,"Ребенок имеет представление об изменениях позиции человека с возрастом","Ребенок имеет представление о школе, школьниках, учителях; стремится к школьному обучению, к познанию, освоению чтения, письма; демонстрирует формированные предпосылки к учебной деятельности и элементы готовности к школьному обучению","Ребенок имеет представление о нравственных качествах людей, их проявлении в поступках и взаимоотношениях","Ребенок имеет представление о признаках и характеристиках государства (территория государства и его границы, столица), атрибутах государственной власти, президенте, столице","Ребенок имеет представление о порядке использования государственной символики","Ребенок имеет представление о волонтерстве","Ребенок имеет представление о государственных праздниках, исторических событиях","Ребенок имеет представление о жизни людей в России, о многообразии стран и народов мира","Ребенок имеет представление об обмене ценностями в процессе производства и потребления товаров и услуг, о денежных отношениях, о реальной стоимости отдельных продуктов питания, игрушек, детских книг","Ребенок имеет представление о об основах финансовой грамоты, основах бережного потребления","Ребенок проявляет инициативность и самостоятельность в процессе самообслуживания, при выполнении трудовых поручений","Ребенок имеет представление о правила безопасного поведения в ситуациях, создающих угрозу жизни и здоровью (погас свет, остался один, потерялся, получил травму)","Ребенок имеет представление о правила безопасного поведения дома, на улице, в природе, в местах большого скопления людей, в магазине, на вокзале, в общественных метах, на праздниках и др.","Ребенок имеет представление о правилах безопасного использования цифровых ресурсов (мобильного телефона, планшета)","Ребенок имеет представление об элементарных правилах оказания первой помощи при первых признаках недомогания, травмах, ушибах","Ребенок проявляет самостоятельность при выполнении правил безопасного поведения","Ребенок владеет речью как средством коммуникации, ведет диалог, владеет коммуникативно-речевыми умениями","Ребенок подбирает точные слова для выражения мысли","Ребенок выполняет операцию классификации – деления освоенных понятий на группы на основе выявленных признаков","Ребенок использует в речи средства языковой выразительности: антонимы, синонимы, многозначные слова, метафоры, олицетворение","Ребенок образует сложные слова посредством слияния основ","Ребенок согласует в речи существительные с числительными, существительные с прилагательными","Ребенок образует по образцу существительные с суффиксами, глаголы с приставками","Ребенок образует в речи сравнительную и превосходную степени имен прилагательных","Ребенок правильно произносит все звуки","Ребенок может пересказать литературное произведение по ролям, близко к тексту, от лица литературного героя","Ребенок может составить описательный рассказ, соблюдая структуру описания","Ребенок может составить повествовательный рассказ по картине, из личного опыта, из коллективного опыта, по набору игрушек, соблюдая структуру повествования","Ребенок может составить рассказ -контаминацию (сочетание описания и повествования, описания и рассуждения)","Ребенок использует в процессе общения объяснительную речь, речь-доказательство, речевое планирование","Ребенок знает и осмысленно воспринимает литературные произведения различных жанров, имеет предпочтения","Ребенок определяет характеры персонажей, мотивы их поведения, оценивает поступки литературных героев","Ребенок проявляет интерес к книгам познавательного характера","Ребенок производит звуковой анализ четырехзвуковых и пятизвуковых слов","Ребенок может интонационно выделить звуки в слове, определить их последовательность, дать им характеристику, составить схему слова, выделить ударный гласный звук в слове","Ребенок может определить количество и последовательность слов в предложении","Ребенок может составить предложение с заданным количеством слов","Ребенок знает названия всех букв","Ребенок читает слоги","Ребенок различает и называет",{"$nulls":8},"Ребенок умеет считать в пределах 10 в прямом и обратном порядке","Ребенок знает состав чисел из двух меньших в пределах первого десятка","Ребенок решает простые арифметические задачи на сложение и вычитание","Ребенок имеет представление о календаре, как системе измерения времени","Ребенок умеет определять время по часам с точностью до четверти часа","Ребенок ориентируется на местности, по схеме, по плану","Ребенок знает способы ориентировки в двухмерном пространстве","Ребенок умеет измерять протяженность, массу и объем с помощью условной мерки; понимает взаимообратные отношения между мерой и результатом измерения","Ребенок сравнивает предметы по 4-6 основаниям с выделением сходства, отличия",{"$nulls":9},"Ребенок имеет представление об использовании человеком свойств неживой природы для хозяйственных нужд (ветряные мельницы, водохранилища, солнечные батареи, ледяные катки)",{"$nulls":3},"Ребенок выполняет различные упражнения с мячом, метание",null,"Ребенок выполняет разные виды ползанья, лазанья ",null,null,"Ребенок выполняет различные виды ходьбы",null,null,"Ребенок выполняет различные виды бега",null,null,"Ребенок выполняет различные виды прыжков",{"$nulls":3},"Ребенок выполняет",null,"Ребенок выполняет разные виды перестроений, построений, передвижений, размыкание и смыкание приставным шагом, повороты","Ребенок может рассчитаться на «первый – второй»",{"$nulls":16},"Ребенок владеет навыками личной гигиены","Ребенок владеет навыками культуры еды","Ребенок владеет навыками поддержания порядка","Ребенок владеет навыками ухода за собой",{"$nulls":7},"У ребенка развит навык восприятия звуков по высоте в пределах квинты-терции","У ребенка развиты певческий голос и вокально-слуховая координация","Ребёнок ритмично и выразительно двигается в соответствие с характером музыки","Ребенок способен самостоятельно придумать мелодию, используя в качестве образца русские народные песни","Ребенок может сыграть простую мелодию на металлофоне, свирели, ударных, и электронных музыкальных инструментах: трещотках, погремушках, треугольниках","Ребенок может исполнить музыкальное произведение в оркестре и в ансамбле","Ребенок проявляет самостоятельность при выборе литературного и музыкального материала для театральной постановки","Ребенок проявляет инициативу при изготовлении атрибутов и декораций к спектаклю","Ребенок имеет представление о средствах погружения в театральные образы (музыка, слова, декорации, грим, костюм и др.)","Ребенок умеет выразительно передавать образы в действии, мимике, пантомимике","Ребенок проявляет активность в доступных видах музыкальной исполнительской деятельности (игра в оркестре, пение, танцевальные движения и др.)","Ребенок помогает придумывать движения, отражающие содержание песни",null,"Ребенок может изобразить предметы по памяти и с натуры, передает их средствами рисунка (форма, пропорции, расположение)","Ребенок способен передавать в рисунке сюжет, строить композицию","Ребенок свободно использует приемы лепки, освоенные ранее (налеп, углубленный рельеф), применяет стеку","Ребенок умеет передавать пропорции, соотношение по величине, выразительность поз, движений, деталей","Ребенок умеет составлять узоры и декоративные композиции из геометрических и растительных элементов на листах бумаги разной формы","Ребенок может выполнить вырезание (симметричное из бумаги, сложенной вдвое; несколько предметов из частей бумаги, сложенной гармошкой)","Ребенок умеет создавать узоры по мотивам народных росписей","Ребенок может сложить бумагу в разных направлениях","Ребенок может сделать разметку с помощью шаблона","Ребенок может выполнить работу по образцу","Ребенок может создать объемную игрушку в технике «оригами»","Ребенок может создать объемную поделку из природного материала","Ребенок может вдеть нитку в иголку, завязать узелок, пришить пуговицу, петельку, выполнить шов «вперед иголка»","Ребенок умеет выделять, называть, группировать произведения по видам искусства: литература, музыка, изобразительное искусство, архитектура, театр, цирк","Ребенок имеет представление о видах изобразительного искусства: графика, декоративно-прикладное искусство, живопись, скульптура, архитектура, фотоискусство","Ребенок имеет представление о жанрах изобразительного искусства: натюрморт, пейзаж, портрет","Ребенок имеет представление о народном искусстве, фольклоре, музыке и художественных промыслах","Ребенок имеет представление о творческих профессиях: художник, композитор, музыкант, актер, артист балета","Ребенок имеет представление о культурно-досуговых местах: театр, музей, библиотека, выставка, кинотеатр, цирк и др.","Ребенок может провести анализ постройки (выделить основные части и характерные детали конструкций)","Ребенок может выполнить постройку по инструкции"]
[null,"Ребенок осознает и признает собственные ошибки, результат поставленных задач, определяет пути развития","Ребенок умеет договариваться и дружить, старается разрешать конфликтные ситуации конструктивными способами","Ребенок способен принимать собственные решения и проявлять инициативу","Ребенок осознанно относится к своему будущему, стремится быть полезным обществу","Ребенок без напоминаний использует в общении формулы словесной вежливости (приветствие, прощание, просьбы, извинения)","Ребенок без напоминаний использует в общении формулы словесной вежливости (приветствие, прощание, просьбы, извинения)","Ребенок понимает чувства и переживания окружающих по невербальным признакам; находит причины и следствия возникновения эмоций, проявляет эмпатию","Ребенок использует социально приемлемые способы проявления эмоций и доступные возрасту регуляции эмоциональных состояний","Ребенок распознает собственные чувства и эмоции, анализирует свои переживания и рассказывает о них","Ребенок самостоятельно соблюдает установленный порядок поведения в группе, регулирует собственную активность","Ребенок имеет представление о необходимости укрепления связи между поколениями, взаимной поддержке детей и взрослых","Ребенок имеет представление о семье, семейных и родственных отношениях (взаимные чувства, правила общения в семье, значимые и памятные события, досуг семьи, семейный бюджет)","Ребенок умеет сотрудничать со сверстниками (побуждает к обсуждению планов, советуется, поддерживает интерес к мнению, инициирует ситуации взаимопомощи, подчеркивает ценность каждого ребенка и его вклад в общее дело, выбирает партнеров по интересам, помогает устанавливать темп совместных действий)","Ребенок владеет разными способами и видами игры, различает условную и реальную ситуации, предлагает и объясняет замысел игры, комбинирует сюжеты на основе реальных, вымышленных ситуаций, выполняет несколько ролей в одной игре, подбирает разные средства для создания игровых образов, согласовывает свои интересы с интересами партнёров по игре",{"$nulls":39}," все цвета спектра и ахроматические цвета, оттенки","плоские и объемные геометрические фигуры; умеет выделять структуру геометрических фигур и устанавливать взаимосвязи между ними","Ребенок умеет классифицировать фигуры по внешним структурным признаками (округлые, многоугольники)","Ребенок владеет различными способами видоизменения геометрических фигур (наложение, соединение, разрезание и др.)","Ребенок умеет измерять длину, ширину, высоту с помощью условной мерки",{"$nulls":13}," о родном населенном пункте (название улиц, некоторых архитектурных особенностях, достопримечательностях), об истории, о выдающихся горожанах, традициях городской жизни"," о назначении общественных учреждений"," о разных видах специального транспорта"," о местах труда людей (завод, больница, магазин и др.)"," о местах отдыха людей","Ребенок имеет представление о наиболее ярких представителях животных и растений разных природных зон (пустыня, степь, тайга, тундра и др.), об их образе жизни, приспособлении к среде обитания, изменениях в жизни в разные сезоны года","Ребенок имеет представление о многообразии водных ресурсов (моря, океаны, реки, водопады и др.)","Ребенок имеет представление о многообразии полезных ископаемых (нефть, уголь, серебро, золото, алмазы и др.)","Ребенок имеет представление о жизненных потребностях, этапах роста и развития животных и растений",null,"Ребенок имеет представление о некоторых небесных телах (планеты, кометы, звезды)",null,null,"бросание вверх, о землю, ловля двумя руками, одной рукой, перебрасывание, передача, прокатывание, забрасывание, ведение","в цель из положения стоя, вдаль, в движущеюся цель","ползанье на четвереньках, на животе, на спине","влезание на гимнастическую стенку и спуск; перелезание с пролета на пролет по диагонали","лазанье по веревочной лестнице; выполнение упражнений на канате","обычная, гимнастическим шагом, скрестным шагом, спиной вперед, выпадами, с закрытыми глазами","приставными шагами назад, в приседе, с различными движениями рук","в различных построениях","в колонне по одному, врассыпную, парами, тройками, четверками","в сочетание с прыжками, высоко поднимая колени, захлестывая голени назад, выбрасывая прямые ноги вперед","челночный, наперегонки, из разных исходных положений, со скакалкой, по пересеченной местности, с наименьшим числом шагов, медленный, быстрый","подпрыгивания на двух ногах в чередовании с ходьбой, на месте и с поворот кругом","смещая ноги вправо-влево-вперед-назад","выпрыгивание на предметы; подпрыгивания вверх из глубокого приседа; прыжки на одной ноге","в длину с места/с разбега, в высоту с места/с разбега","стойка на носках, стойка на одной ноге с закрытыми глазами","кружение с закрытыми глазами, остановкой и сохранением заданной позы"]
["начало года",{"$f":"'Соц.ком.к 7г ч1 Н.г.'!E36","v":0},{"$f":"'Соц.ком.к 7г ч1 Н.г.'!F36","v":0},{"$f":"'Соц.ком.к 7г ч1 Н.г.'!G36","v":0},{"$f":"'Соц.ком.к 7г ч1 Н.г.'!H36","v":0},{"$f":"'Соц.ком.к 7г ч1 Н.г.'!I36","v":0},{"$f":"'Соц.ком.к 7г ч1 Н.г.'!J36","v":0},{"$f":"'Соц.ком.к 7г ч1 Н.г.'!K36","v":0},{"$f":"'Соц.ком.к 7г ч1 Н.г.'!L36","v":0},{"$f":"'Соц.ком.к 7г ч1 Н.г.'!M36","v":0},{"$f":"'Соц.ком.к 7г ч1 Н.г.'!N36","v":0},{"$f":"'Соц.ком.к 7г ч2 Н.г.'!E36","v":0},{"$f":"'Соц.ком.к 7г ч2 Н.г.'!F36","v":0},{"$f":"'Соц.ком.к 7г ч2 Н.г.'!G36","v":0},{"$f":"'Соц.ком.к 7г ч2 Н.г.'!H36","v":0},{"$f":"'Соц.ком.к 7г ч2 Н.г.'!I36","v":0},{"$f":"'Соц.ком.к 7г ч2 Н.г.'!J36","v":0},{"$f":"'Соц.ком.к 7г ч2 Н.г.'!K36","v":0},{"$f":"'Соц.ком. к 7г ч3 Н.г.'!E36","v":0},{"$f":"'Соц.ком. к 7г ч3 Н.г.'!F36","v":0},{"$f":"'Соц.ком. к 7г ч3 Н.г.'!G36","v":0},{"$f":"'Соц.ком. к 7г ч3 Н.г.'!H36","v":0},{"$f":"'Соц.ком. к 7г ч3 Н.г.'!I36","v":0},{"$f":"'Соц.ком. к 7г ч3 Н.г.'!J36","v":0},{"$f":"'Соц.ком. к 7г ч3 Н.г.'!K36","v":0},{"$f":"'Соц.ком. к 7г ч3 Н.г.'!L36","v":0},{"$f":"'Соц.ком. к 7г ч4 Н.г.'!E36","v":0},{"$f":"'Соц.ком. к 7г ч4 Н.г.'!F36","v":0},{"$f":"'Соц.ком. к 7г ч4 Н.г.'!G36","v":0},{"$f":"'Соц.ком. к 7г ч4 Н.г.'!H36","v":0},{"$f":"'Соц.ком. к 7г ч4 Н.г.'!I36","v":0},{"$f":"'Реч.разв.к 7г ч1 Н.г.'!E36","v":0},{"$f":"'Реч.разв.к 7г ч1 Н.г.'!F36","v":0},{"$f":"'Реч.разв.к 7г ч1 Н.г.'!G36","v":0},{"$f":"'Реч.разв.к 7г ч1 Н.г.'!H36","v":0},{"$f":"'Реч.разв.к 7г ч1 Н.г.'!I36","v":0},{"$f":"'Реч.разв.к 7г ч1 Н.г.'!J36","v":0},{"$f":"'Реч.разв.к 7г ч1 Н.г.'!K36","v":0},{"$f":"'Реч.разв.к 7г ч1 Н.г.'!L36","v":0},{"$f":"'Реч.разв.к 7г ч2 Н.г.'!E36","v":0},{"$f":"'Реч.разв.к 7г ч2 Н.г.'!F36","v":0},{"$f":"'Реч.разв.к 7г ч2 Н.г.'!G36","v":0},{"$f":"'Реч.разв.к 7г ч2 Н.г.'!H36","v":0},{"$f":"'Реч.разв.к 7г ч2 Н.г.'!I36","v":0},{"$f":"'Реч.разв.к 7г ч2 Н.г.'!J36","v":0},{"$f":"'Реч.разв.к 7г ч2 Н.г.'!K36","v":0},{"$f":"'Реч.разв.к 7г ч2 Н.г.'!L36","v":0},{"$f":"'Реч.разв.к 7г ч2 Н.г.'!M36","v":0},{"$f":"'Реч.разв.к 7г ч3. Н.г.'!E36","v":0},{"$f":"'Реч.разв.к 7г ч3. Н.г.'!F36","v":0},{"$f":"'Реч.разв.к 7г ч3. Н.г.'!G36","v":0},{"$f":"'Реч.разв.к 7г ч3. Н.г.'!H36","v":0},{"$f":"'Реч.разв.к 7г ч3. Н.г.'!I36","v":0},{"$f":"'Реч.разв.к 7г ч3. Н.г.'!J36","v":0},{"$f":"'Позн.разв. к 7г ч1. Н.г.'!E37","v":0},{"$f":"'Позн.разв. к 7г ч1. Н.г.'!F37","v":0},{"$f":"'Позн.разв. к 7г ч1. Н.г.'!G37","v":0},{"$f":"'Позн.разв. к 7г ч1. Н.г.'!H37","v":0},{"$f":"'Позн.разв. к 7г ч1. Н.г.'!I37","v":0},{"$f":"'Позн.разв. к 7г ч1. Н.г.'!J37","v":0},{"$f":"'Позн.разв. к 7г ч1. Н.г.'!K37","v":0},{"$f":"'Позн.разв. к 7г ч1. Н.г.'!L37","v":0},{"$f":"'Позн.разв. к 7г ч1. Н.г.'!M37","v":0},{"$f":"'Позн.разв. к 7г ч2. Н.г.'!E37","v":0},{"$f":"'Позн.разв. к 7г ч2. Н.г.'!F37","v":0},{"$f":"'Позн.разв. к 7г ч2. Н.г.'!G37","v":0},{"$f":"'Позн.разв. к 7г ч2. Н.г.'!H37","v":0},{"$f":"'Позн.разв. к 7г ч2. Н.г.'!I37","v":0},{"$f":"'Позн.разв. к 7г ч2. Н.г.'!J37","v":0},{"$f":"'Позн.разв. к 7г ч2. Н.г.'!K37","v":0},{"$f":"'Позн.разв. к 7г ч2. Н.г.'!L37","v":0},{"$f":"'Позн.разв. к 7г ч2. Н.г.'!M37","v":0},{"$f":"'Позн.разв. к 7г ч3. Н.г.'!E37","v":0},{"$f":"'Позн.разв. к 7г ч3. Н.г.'!F37","v":0},{"$f":"'Позн.разв. к 7г ч3. Н.г.'!G37","v":0},{"$f":"'Позн.разв. к 7г ч3. Н.г.'!H37","v":0},{"$f":"'Позн.разв. к 7г ч3. Н.г.'!I37","v":0},{"$f":"'Позн.разв. к 7г ч3. Н.г.'!J37","v":0},{"$f":"'Позн.разв. к 7г ч3. Н.г.'!K37","v":0},{"$f":"'Позн.разв. к 7г ч3. Н.г.'!L37","v":0},{"$f":"'Позн.разв. к 7г ч3. Н.г.'!M37","v":0},{"$f":"'Позн.разв. к 7г ч3. Н.г.'!N37","v":0},{"$f":"'Позн.разв. к 7г ч3. Н.г.'!O37","v":0},{"$f":"'Позн.разв. к 7г ч3. Н.г.'!P37","v":0},{"$f":"'Позн.разв. к 7г ч3. Н.г.'!Q37","v":0},{"$f":"'Физ.разв. к 7г ч1. Н.г.'!E37","v":0},{"$f":"'Физ.разв. к 7г ч1. Н.г.'!F37","v":0},{"$f":"'Физ.разв. к 7г ч1. Н.г.'!G37","v":0},{"$f":"'Физ.разв. к 7г ч1. Н.г.'!H37","v":0},{"$f":"'Физ.разв. к 7г ч1. Н.г.'!I37","v":0},{"$f":"'Физ.разв. к 7г ч1. Н.г.'!J37","v":0},{"$f":"'Физ.разв. к 7г ч1. Н.г.'!K37","v":0},{"$f":"'Физ.разв. к 7г ч1. Н.г.'!L37","v":0},{"$f":"'Физ.разв. к 7г ч1. Н.г.'!M37","v":0},{"$f":"'Физ.разв. к 7г ч1. Н.г.'!N37","v":0},{"$f":"'Физ.разв. к 7г ч1. Н.г.'!O37","v":0},{"$f":"'Физ.разв. к 7г ч1. Н.г.'!P37","v":0},{"$f":"'Физ.разв. к 7г ч1. Н.г.'!Q37","v":0},{"$f":"'Физ.разв. к 7г ч1. Н.г.'!R37","v":0},{"$f":"'Физ.разв. к 7г ч1. Н.г.'!S37","v":0},{"$f":"'Физ.разв. к 7г ч1. Н.г.'!T37","v":0},{"$f":"'Физ.разв. к 7г ч1. Н.г.'!U37","v":0},{"$f":"'Физ.разв. к 7г ч1. Н.г.'!V37","v":0},{"$f":"'Физ.разв. к 7г ч1. Н.г.'!W37","v":0},{"$f":"'Физ.разв. к 7г ч2. Н.г.'!E38","v":0},{"$f":"'Физ.разв. к 7г ч2. Н.г.'!F38","v":0},{"$f":"'Физ.разв. к 7г ч2. Н.г.'!G38","v":0},{"$f":"'Физ.разв. к 7г ч2. Н.г.'!H38","v":0},{"$f":"'Физ.разв. к 7г ч2. Н.г.'!I38","v":0},{"$f":"'Физ.разв. к 7г ч2. Н.г.'!J38","v":0},{"$f":"'Физ.разв. к 7г ч2. Н.г.'!K38","v":0},{"$f":"'Физ.разв. к 7г ч2. Н.г.'!L38","v":0},{"$f":"'Физ.разв. к 7г ч2. Н.г.'!M38","v":0},{"$f":"'Физ.разв. к 7г ч2. Н.г.'!N38","v":0},{"$f":"'Физ.разв. к 7г ч2. Н.г.'!O38","v":0},{"$f":"'Физ.разв. к 7г ч2. Н.г.'!P38","v":0},{"$f":"'Физ.разв. к 7г ч2. Н.г.'!Q38","v":0},{"$f":"'Физ.разв. к 7г ч2. Н.г.'!R38","v":0},{"$f":"'Физ.разв. к 7г ч2. Н.г.'!S38","v":0},{"$f":"'Физ.разв. к 7г ч2. Н.г.'!T38","v":0},{"$f":"'Физ.разв. к 7г ч3. Н.г.'!E38","v":0},{"$f":"'Физ.разв. к 7г ч3. Н.г.'!F38","v":0},{"$f":"'Физ.разв. к 7г ч3. Н.г.'!G38","v":0},{"$f":"'Физ.разв. к 7г ч3. Н.г.'!H38","v":0},{"$f":"'Физ.разв. к 7г ч3. Н.г.'!I38","v":0},{"$f":"'Физ.разв. к 7г ч3. Н.г.'!J38","v":0},{"$f":"'Физ.разв. к 7г ч3. Н.г.'!K38","v":0},{"$f":"'Физ.разв. к 7г ч3. Н.г.'!L38","v":0},{"$f":"'Физ.разв. к 7г ч3. Н.г.'!M38","v":0},{"$f":"'Физ.разв. к 7г ч3. Н.г.'!N38","v":0},{"$f":"'Физ.разв. к 7г ч3. Н.г.'!O38","v":0},{"$f":"'Худ.эст.к 7г ч1. Н.г.'!E37","v":0},{"$f":"'Худ.эст.к 7г ч1. Н.г.'!F37","v":0},{"$f":"'Худ.эст.к 7г ч1. Н.г.'!G37","v":0},{"$f":"'Худ.эст.к 7г ч1. Н.г.'!H37","v":0},{"$f":"'Худ.эст.к 7г ч1. Н.г.'!I37","v":0},{"$f":"'Худ.эст.к 7г ч1. Н.г.'!J37","v":0},{"$f":"'Худ.эст.к 7г ч1. Н.г.'!K37","v":0},{"$f":"'Худ.эст.к 7г ч1. Н.г.'!L37","v":0},{"$f":"'Худ.эст.к 7г ч1. Н.г.'!M37","v":0},{"$f":"'Худ.эст.к 7г ч1. Н.г.'!N37","v":0},{"$f":"'Худ.эст.к 7г ч1. Н.г.'!O37","v":0},{"$f":"'Худ.эст.к 7г ч1. Н.г.'!P37","v":0},{"$f":"'Худ.эст.к 7г ч1. Н.г.'!Q37","v":0},{"$f":"'Худ.эст.к 7г ч2. Н.г.'!E37","v":0},{"$f":"'Худ.эст.к 7г ч2. Н.г.'!F37","v":0},{"$f":"'Худ.эст.к 7г ч2. Н.г.'!G37","v":0},{"$f":"'Худ.эст.к 7г ч2. Н.г.'!H37","v":0},{"$f":"'Худ.эст.к 7г ч2. Н.г.'!I37","v":0},{"$f":"'Худ.эст.к 7г ч2. Н.г.'!J37","v":0},{"$f":"'Худ.эст.к 7г ч2. Н.г.'!K37","v":0},{"$f":"'Худ.эст.к 7г ч2. Н.г.'!L37","v":0},{"$f":"'Худ.эст.к 7г ч2. Н.г.'!M37","v":0},{"$f":"'Худ.эст.к 7г ч2. Н.г.'!N37","v":0},{"$f":"'Худ.эст.к 7г ч2. Н.г.'!O37","v":0},{"$f":"'Худ.эст.к 7г ч2. Н.г.'!P37","v":0},{"$f":"'Худ.эст.к 7г ч2. Н.г.'!Q37","v":0},{"$f":"'Худ.эст.к 7г ч3. Н.г.'!E37","v":0},{"$f":"'Худ.эст.к 7г ч3. Н.г.'!F37","v":0},{"$f":"'Худ.эст.к 7г ч3. Н.г.'!G37","v":0},{"$f":"'Худ.эст.к 7г ч3. Н.г.'!H37","v":0},{"$f":"'Худ.эст.к 7г ч3. Н.г.'!I37","v":0},{"$f":"'Худ.эст.к 7г ч3. Н.г.'!J37","v":0},{"$f":"'Худ.эст.к 7г ч3. Н.г.'!K37","v":0},{"$f":"'Худ.эст.к 7г ч3. Н.г.'!L37","v":0}]
["конец года",{"$f":"'Соц.ком.к 7г ч1 К.г.'!E36","v":0},{"$f":"'Соц.ком.к 7г ч1 К.г.'!F36","v":0},{"$f":"'Соц.ком.к 7г ч1 К.г.'!G36","v":0},{"$f":"'Соц.ком.к 7г ч1 К.г.'!H36","v":0},{"$f":"'Соц.ком.к 7г ч1 К.г.'!I36","v":0},{"$f":"'Соц.ком.к 7г ч1 К.г.'!J36","v":0},{"$f":"'Соц.ком.к 7г ч1 К.г.'!K36","v":0},{"$f":"'Соц.ком.к 7г ч1 К.г.'!L36","v":0},{"$f":"'Соц.ком.к 7г ч1 К.г.'!M36","v":0},{"$f":"'Соц.ком.к 7г ч1 К.г.'!N36","v":0},{"$f":"'Соц.ком.к 7г ч2 К.г.'!E36","v":0},{"$f":"'Соц.ком.к 7г ч2 К.г.'!F36","v":0},{"$f":"'Соц.ком.к 7г ч2 К.г.'!G36","v":0},{"$f":"'Соц.ком.к 7г ч2 К.г.'!H36","v":0},{"$f":"'Соц.ком.к 7г ч2 К.г.'!I36","v":0},{"$f":"'Соц.ком.к 7г ч2 К.г.'!J36","v":0},{"$f":"'Соц.ком.к 7г ч2 К.г.'!K36","v":0},{"$f":"'Соц.ком. к 7г ч3 К.г.'!E36","v":0},{"$f":"'Соц.ком. к 7г ч3 К.г.'!F36","v":0},{"$f":"'Соц.ком. к 7г ч3 К.г.'!G36","v":0},{"$f":"'Соц.ком. к 7г ч3 К.г.'!H36","v":0},{"$f":"'Соц.ком. к 7г ч3 К.г.'!I36","v":0},{"$f":"'Соц.ком. к 7г ч3 К.г.'!J36","v":0},{"$f":"'Соц.ком. к 7г ч3 К.г.'!K36","v":0},{"$f":"'Соц.ком. к 7г ч3 К.г.'!L36","v":0},{"$f":"'Соц.ком. к 7г ч4 К.г.'!E36","v":0},{"$f":"'Соц.ком. к 7г ч4 К.г.'!F36","v":0},{"$f":"'Соц.ком. к 7г ч4 К.г.'!G36","v":0},{"$f":"'Соц.ком. к 7г ч4 К.г.'!H36","v":0},{"$f":"'Соц.ком. к 7г ч4 К.г.'!I36","v":0},{"$f":"'Реч.разв.к 7г ч1 К.г.'!E36","v":0},{"$f":"'Реч.разв.к 7г ч1 К.г.'!F36","v":0},{"$f":"'Реч.разв.к 7г ч1 К.г.'!G36","v":0},{"$f":"'Реч.разв.к 7г ч1 К.г.'!H36","v":0},{"$f":"'Реч.разв.к 7г ч1 К.г.'!I36","v":0},{"$f":"'Реч.разв.к 7г ч1 К.г.'!J36","v":0},{"$f":"'Реч.разв.к 7г ч1 К.г.'!K36","v":0},{"$f":"'Реч.разв.к 7г ч1 К.г.'!L36","v":0},{"$f":"'Реч.разв.к 7г ч2 К.г. '!E36","v":0},{"$f":"'Реч.разв.к 7г ч2 К.г. '!F36","v":0},{"$f":"'Реч.разв.к 7г ч2 К.г. '!G36","v":0},{"$f":"'Реч.разв.к 7г ч2 К.г. '!H36","v":0},{"$f":"'Реч.разв.к 7г ч2 К.г. '!I36","v":0},{"$f":"'Реч.разв.к 7г ч2 К.г. '!J36","v":0},{"$f":"'Реч.разв.к 7г ч2 К.г. '!K36","v":0},{"$f":"'Реч.разв.к 7г ч2 К.г. '!L36","v":0},{"$f":"'Реч.разв.к 7г ч2 К.г. '!M36","v":0},{"$f":"'Реч.разв.к 7г ч3. К.г. '!E36","v":0},{"$f":"'Реч.разв.к 7г ч3. К.г. '!F36","v":0},{"$f":"'Реч.разв.к 7г ч3. К.г. '!G36","v":0},{"$f":"'Реч.разв.к 7г ч3. К.г. '!H36","v":0},{"$f":"'Реч.разв.к 7г ч3. К.г. '!I36","v":0},{"$f":"'Реч.разв.к 7г ч3. К.г. '!J36","v":0},{"$f":"'Позн.разв. к 7г ч1. К.г. '!E37","v":0},{"$f":"'Позн.разв. к 7г ч1. К.г. '!F37","v":0},{"$f":"'Позн.разв. к 7г ч1. К.г. '!G37","v":0},{"$f":"'Позн.разв. к 7г ч1. К.г. '!H37","v":0},{"$f":"'Позн.разв. к 7г ч1. К.г. '!I37","v":0},{"$f":"'Позн.разв. к 7г ч1. К.г. '!J37","v":0},{"$f":"'Позн.разв. к 7г ч1. К.г. '!K37","v":0},{"$f":"'Позн.разв. к 7г ч1. К.г. '!L37","v":0},{"$f":"'Позн.разв. к 7г ч1. К.г. '!M37","v":0},{"$f":"'Позн.разв. к 7г ч2. К.г.'!E37","v":0},{"$f":"'Позн.разв. к 7г ч2. К.г.'!F37","v":0},{"$f":"'Позн.разв. к 7г ч2. К.г.'!G37","v":0},{"$f":"'Позн.разв. к 7г ч2. К.г.'!H37","v":0},{"$f":"'Позн.разв. к 7г ч2. К.г.'!I37","v":0},{"$f":"'Позн.разв. к 7г ч2. К.г.'!J37","v":0},{"$f":"'Позн.разв. к 7г ч2. К.г.'!K37","v":0},{"$f":"'Позн.разв. к 7г ч2. К.г.'!L37","v":0},{"$f":"'Позн.разв. к 7г ч2. К.г.'!M37","v":0},{"$f":"'Позн.разв. к 7г ч3. К.г. '!E37","v":0},{"$f":"'Позн.разв. к 7г ч3. К.г. '!F37","v":0},{"$f":"'Позн.разв. к 7г ч3. К.г. '!G37","v":0},{"$f":"'Позн.разв. к 7г ч3. К.г. '!H37","v":0},{"$f":"'Позн.разв. к 7г ч3. К.г. '!I37","v":0},{"$f":"'Позн.разв. к 7г ч3. К.г. '!J37","v":0},{"$f":"'Позн.разв. к 7г ч3. К.г. '!K37","v":0},{"$f":"'Позн.разв. к 7г ч3. К.г. '!L37","v":0},{"$f":"'Позн.разв. к 7г ч3. К.г. '!M37","v":0},{"$f":"'Позн.разв. к 7г ч3. К.г. '!N37","v":0},{"$f":"'Позн.разв. к 7г ч3. К.г. '!O37","v":0},{"$f":"'Позн.разв. к 7г ч3. К.г. '!P37","v":0},{"$f":"'Позн.разв. к 7г ч3. К.г. '!Q37","v":0},{"$f":"'Физ.разв. к 7г ч1. К.г. '!E37","v":0},{"$f":"'Физ.разв. к 7г ч1. К.г. '!F37","v":0},{"$f":"'Физ.разв. к 7г ч1. К.г. '!G37","v":0},{"$f":"'Физ.разв. к 7г ч1. К.г. '!H37","v":0},{"$f":"'Физ.разв. к 7г ч1. К.г. '!I37","v":0},{"$f":"'Физ.разв. к 7г ч1. К.г. '!J37","v":0},{"$f":"'Физ.разв. к 7г ч1. К.г. '!K37","v":0},{"$f":"'Физ.разв. к 7г ч1. К.г. '!L37","v":0},{"$f":"'Физ.разв. к 7г ч1. К.г. '!M37","v":0},{"$f":"'Физ.разв. к 7г ч1. К.г. '!N37","v":0},{"$f":"'Физ.разв. к 7г ч1. К.г. '!O37","v":0},{"$f":"'Физ.разв. к 7г ч1. К.г. '!P37","v":0},{"$f":"'Физ.разв. к 7г ч1. К.г. '!Q37","v":0},{"$f":"'Физ.разв. к 7г ч1. К.г. '!R37","v":0},{"$f":"'Физ.разв. к 7г ч1. К.г. '!S37","v":0},{"$f":"'Физ.разв. к 7г ч1. К.г. '!T37","v":0},{"$f":"'Физ.разв. к 7г ч1. К.г. '!U37","v":0},{"$f":"'Физ.разв. к 7г ч1. К.г. '!V37","v":0},{"$f":"'Физ.разв. к 7г ч1. К.г. '!W37","v":0},{"$f":"'Физ.разв. к 7г ч2. К.г.'!E38","v":0},{"$f":"'Физ.разв. к 7г ч2. К.г.'!F38","v":0},{"$f":"'Физ.разв. к 7г ч2. К.г.'!G38","v":0},{"$f":"'Физ.разв. к 7г ч2. К.г.'!H38","v":0},{"$f":"'Физ.разв. к 7г ч2. К.г.'!I38","v":0},{"$f":"'Физ.разв. к 7г ч2. К.г.'!J38","v":0},{"$f":"'Физ.разв. к 7г ч2. К.г.'!K38","v":0},{"$f":"'Физ.разв. к 7г ч2. К.г.'!L38","v":0},{"$f":"'Физ.разв. к 7г ч2. К.г.'!M38","v":0},{"$f":"'Физ.разв. к 7г ч2. К.г.'!N38","v":0},{"$f":"'Физ.разв. к 7г ч2. К.г.'!O38","v":0},{"$f":"'Физ.разв. к 7г ч2. К.г.'!P38","v":0},{"$f":"'Физ.разв. к 7г ч2. К.г.'!Q38","v":0},{"$f":"'Физ.разв. к 7г ч2. К.г.'!R38","v":0},{"$f":"'Физ.разв. к 7г ч2. К.г.'!S38","v":0},{"$f":"'Физ.разв. к 7г ч2. К.г.'!T38","v":0},{"$f":"'Физ.разв. к 7г ч3. К.г. '!E38","v":0},{"$f":"'Физ.разв. к 7г ч3. К.г. '!F38","v":0},{"$f":"'Физ.разв. к 7г ч3. К.г. '!G38","v":0},{"$f":"'Физ.разв. к 7г ч3. К.г. '!H38","v":0},{"$f":"'Физ.разв. к 7г ч3. К.г. '!I38","v":0},{"$f":"'Физ.разв. к 7г ч3. К.г. '!J38","v":0},{"$f":"'Физ.разв. к 7г ч3. К.г. '!K38","v":0},{"$f":"'Физ.разв. к 7г ч3. К.г. '!L38","v":0},{"$f":"'Физ.разв. к 7г ч3. К.г. '!M38","v":0},{"$f":"'Физ.разв. к 7г ч3. К.г. '!N38","v":0},{"$f":"'Физ.разв. к 7г ч3. К.г. '!O38","v":0},{"$f":"'Худ.эст.к 7г ч1. К.г. '!E37","v":0},{"$f":"'Худ.эст.к 7г ч1. К.г. '!F37","v":0},{"$f":"'Худ.эст.к 7г ч1. К.г. '!G37","v":0},{"$f":"'Худ.эст.к 7г ч1. К.г. '!H37","v":0},{"$f":"'Худ.эст.к 7г ч1. К.г. '!I37","v":0},{"$f":"'Худ.эст.к 7г ч1. К.г. '!J37","v":0},{"$f":"'Худ.эст.к 7г ч1. К.г. '!K37","v":0},{"$f":"'Худ.эст.к 7г ч1. К.г. '!L37","v":0},{"$f":"'Худ.эст.к 7г ч1. К.г. '!M37","v":0},{"$f":"'Худ.эст.к 7г ч1. К.г. '!N37","v":0},{"$f":"'Худ.эст.к 7г ч1. К.г. '!O37","v":0},{"$f":"'Худ.эст.к 7г ч1. К.г. '!P37","v":0},{"$f":"'Худ.эст.к 7г ч1. К.г. '!Q37","v":0},{"$f":"'Худ.эст.к 7г ч2. К.г. '!E37","v":0},{"$f":"'Худ.эст.к 7г ч2. К.г. '!F37","v":0},{"$f":"'Худ.эст.к 7г ч2. К.г. '!G37","v":0},{"$f":"'Худ.эст.к 7г ч2. К.г. '!H37","v":0},{"$f":"'Худ.эст.к 7г ч2. К.г. '!I37","v":0},{"$f":"'Худ.эст.к 7г ч2. К.г. '!J37","v":0},{"$f":"'Худ.эст.к 7г ч2. К.г. '!K37","v":0},{"$f":"'Худ.эст.к 7г ч2. К.г. '!L37","v":0},{"$f":"'Худ.эст.к 7г ч2. К.г. '!M37","v":0},{"$f":"'Худ.эст.к 7г ч2. К.г. '!N37","v":0},{"$f":"'Худ.эст.к 7г ч2. К.г. '!O37","v":0},{"$f":"'Худ.эст.к 7г ч2. К.г. '!P37","v":0},{"$f":"'Худ.эст.к 7г ч2. К.г. '!Q37","v":0},{"$f":"'Худ.эст.к 7г ч3. К.г. '!E37","v":0},{"$f":"'Худ.эст.к 7г ч3. К.г. '!F37","v":0},{"$f":"'Худ.эст.к 7г ч3. К.г. '!G37","v":0},{"$f":"'Худ.эст.к 7г ч3. К.г. '!H37","v":0},{"$f":"'Худ.эст.к 7г ч3. К.г. '!I37","v":0},{"$f":"'Худ.эст.к 7г ч3. К.г. '!J37","v":0},{"$f":"'Худ.эст.к 7г ч3. К.г. '!K37","v":0},{"$f":"'Худ.эст.к 7г ч3. К.г. '!L37","v":0}]

{"sheet":"27","index":64,"n_rows":7,"n_cols":165,"rows_kept":7,"merged":[[0,104,0,110],[0,111,0,112],[0,113,0,115],[0,116,0,119],[0,120,0,123],[0,124,0,126],[0,127,0,130],[1,54,1,58],[1,59,1,62],[1,63,1,71],[1,72,1,76],[1,77,1,84],[1,104,1,106],[1,107,1,110],[1,111,4,111],[1,112,4,112],[1,113,4,113],[1,114,4,114],[1,115,4,115],[1,116,1,119],[1,120,2,120],[1,121,2,121],[1,122,2,122],[1,123,2,123],[1,124,4,124],[1,125,4,125],[1,126,4,126],[1,127,1,130],[1,131,1,143],[1,144,1,156],[1,157,2,162],[1,163,2,164],[2,18,2,22],[2,23,2,25],[2,26,2,30],[2,32,2,34],[2,35,2,38],[2,40,2,44],[2,45,2,47],[2,48,2,53],[2,55,2,57],[2,59,4,59],[2,60,4,60],[2,61,4,61],[2,62,4,62],[2,63,2,65],[2,66,2,67],[2,68,2,69],[2,72,3,76],[2,77,2,80],[2,81,2,82],[2,83,4,83],[2,84,4,84],[2,85,2,86],[2,87,2,89],[2,90,2,92],[2,93,2,95],[2,96,2,99],[2,100,2,101],[2,102,2,103],[2,104,4,104],[2,105,4,105],[2,106,4,106],[2,107,4,107],[2,108,4,108],[2,109,4,109],[2,110,4,110],[2,116,4,116],[2,117,4,117],[2,118,4,118],[2,119,4,119],[2,127,4,127],[2,128,4,128],[2,129,4,129],[2,130,4,130],[2,135,2,136],[2,137,2,140],[2,141,2,142],[2,143,4,143],[2,144,2,145],[2,146,2,147],[2,148,2,149],[2,151,2,156],[3,0,4,0],[3,1,3,4],[3,7,3,9],[3,11,3,12],[3,13,3,14],[3,15,4,15],[3,16,4,16],[3,17,4,17],[3,18,4,18],[3,19,4,19],[3,20,4,20],[3,21,4,21],[3,22,4,22],[3,23,4,23],[3,24,4,24],[3,25,4,25],[3,26,4,26],[3,27,4,27],[3,28,4,28],[3,29,4,29],[3,30,4,30],[3,31,4,31],[3,32,4,32],[3,33,4,33],[3,34,4,34],[3,35,4,35],[3,36,4,36],[3,37,4,37],[3,38,4,38],[3,39,4,39],[3,40,4,40],[3,41,4,41],[3,42,4,42],[3,43,4,43],[3,44,4,44],[3,45,4,45],[3,46,4,46],[3,47,4,47],[3,48,4,48],[3,49,4,49],[3,50,4,50],[3,51,4,51],[3,52,4,52],[3,53,4,53],[3,54,3,58],[3,63,4,63],[3,64,4,64],[3,65,4,65],[3,66,4,66],[3,67,4,67],[3,68,4,68],[3,69,4,69],[3,70,4,70],[3,71,4,71],[3,81,4,81],[3,85,3,86],[3,87,3,89],[3,90,3,92],[3,93,3,95],[3,96,3,99],[3,100,3,101],[3,102,4,102],[3,103,4,103],[3,120,4,120],[3,121,4,121],[3,122,4,122],[3,123,4,123],[3,131,4,131],[3,132,4,132],[3,133,4,133],[3,134,4,134],[3,135,4,135],[3,136,4,136],[3,137,4,137],[3,138,4,138],[3,139,4,139],[3,140,4,140],[3,141,4,141],[3,142,4,142],[3,144,4,144],[3,145,4,145],[3,146,4,146],[3,147,4,147],[3,148,4,148],[3,149,4,149],[3,150,4,150],[3,151,4,151],[3,152,4,152],[3,153,4,153],[3,154,4,154],[3,155,4,155],[3,156,4,156],[3,157,4,157],[3,158,4,158],[3,159,4,159],[3,160,4,160],[3,161,4,161],[3,162,4,162],[3,163,4,163],[3,164,4,164]]}
[{"$nulls":104},"Мелкая моторика",{"$nulls":6},"Подвижные игры",null,"Спорт. игры",null,null,"Спортивные упражнения",{"$nulls":3},"КГН",{"$nulls":3},"ЗОЖ",null,null,"Спортивные упражнения"]
[{"$nulls":54},"Сенсорные эталоны ",{"$nulls":4},"Познавательные действия",{"$nulls":3},"Математические представления",{"$nulls":8},"Окружающий мир",{"$nulls":4},"Природа ",{"$nulls":26},"Координация рук и глаз",null,null,"Графические навыки",{"$nulls":3},"Ребенок использует в самостоятельной деятельности разнообразные по содержанию подвижные игры, проявляет элементы творчества в двигательной деятельности","Ребенок может организовать знакомые подвижные игры со сверстниками, сплотить команду, стремится внести свой вклад в результат команды","Ребенок владеет элементами спортивных игр (городки, баскетбол, футбол, хоккей, бадминтон, настольный теннис), может контролировать свои движения и управлять ими","Ребенок имеет представление о разных видах спорта (санный спорт, борьба, теннис, синхронное плавание и др.)","Ребенок имеет представление о спортивных событиях и достижениях отечественных спортсменов","Ребенок умеет кататься",{"$nulls":3},"Навыки соблюдения чистоты тела (правила личной гигиены)","Навыки культуры еды (прием пищи) ","Навыки поддержания порядка (правила поведения в быту) ","Навыки ухода за собой (одевание, раздевание) ","Ребенок соблюдает элементарные правила здорового образа жизни и личной гигиены, следит за своей осанкой, может оценить свое самочувствие","Ребенок регулярно выполняет физические упражнения","Ребенок имеет начальные представления о том, что такое здоровье, понимает, как поддержать, укрепить и сохранить его","Ребенок умеет кататься",{"$nulls":3},"Музыкальная деятельность",{"$nulls":12},"Изобразительная деятельность",{"$nulls":12},"Приобщение к искусству",{"$nulls":5},"Конструктивная деятельность"]
[{"$nulls":18},"Область формирования основ гражданственности и патриотизма",{"$nulls":4},"Сфера трудового воспитания",null,null,"Область формирования основ безопасного поведения",{"$nulls":4},"Общее речевое развитие","Формирование словаря",null,null,"Грамматический строй",{"$nulls":3},"Звуковая культура речи","Связная речь",{"$nulls":4},"ЧХЛ",null,null,"Подготовка к обучению грамоте",{"$nulls":5},"Цвет, оттенки","Форма, геометрические фигуры",null,null,"Величина","Ребенок самостоятельно выбирает способ осуществления разных видов познавательной деятельности","Ребенок интересуется субъективно новым и неизвестным в окружающем мире","Ребенок способен применять в жизненных и игровых ситуациях знания о количестве, форме, величине предметов, пространстве, времени","Ребенок имеет разнообразные познавательные умения: определяет противоречия. Формулирует задачу исследования, использует разные способы и средства проверки предположений (сравнение с эталонами, классификацию, систематизацию и др.)","Количество и счет",null,null,"Ориентировка во времени",null,"Ориентировка в пространстве",null,"Пространственно-количественные связи и отношения","Сравнение","Ребенок имеет представления, может показать на картинке и в естественной среде, может рассказать",{"$nulls":4},"Объекты живой природы",{"$nulls":3},"Объекты неживой природы, природные явления",null,"Ребенок стремится к самостоятельному экспериментированию","Ребенок знает правила поведения в природе, проявляет осознанное, бережное отношение к природе и ее ресурсам","Бросание, катание, ловля, метание",null,"Ползанье, лазанье",null,null,"Ходьба",null,null,"Бег",null,null,"Прыжки",{"$nulls":3},"Равновесие",null,"Строевые упражнения",null,"Ребенок выполняет графический диктант","Ребенок обводит по шаблону, по трафарету","Ребенок чертит линии с помощью линейки","Ребенок обводит по контуру, по точкам","Ребенок выполняет штриховку в различных направлениях","Ребенок закрашивает, не выходя за контур","Ребенок свободно владеет карандашом при рисовании округлых линий, завитков в разном направлении",{"$nulls":5},"на санках","на лыжах","на двухколесном велосипеде","на самокате",{"$nulls":7},"на санках","на лыжах","на двухколесном велосипеде","на самокате","Слушание","Пение ","Музыкально-ритмические движения","Песенное творчество","Игра на детских музыкальных инструментах",null,"Театрализованная деятельность",{"$nulls":3},"Танцевально-игровое творчество",null,"У ребенка развит музыкальный вкус, музыкальная память","Рисование ",null,"Лепка ",null,"Аппликация ",null,"Народное ДПИ","Прикладное творчество"]
[{"$f":"Список!B30","v":0},"Отношение к самому себе",{"$nulls":3},"Отношение к сверстникам","Отношение к взрослым","Эмоции",null,null,"Поведение","Семья",null,"Игровое поведение",null,"Ребенок имеет представление об изменениях позиции человека с возрастом","Ребенок имеет представление о школе, школьниках, учителях; стремится к школьному обучению, к познанию, освоению чтения, письма; демонстрирует формированные предпосылки к учебной деятельности и элементы готовности к школьному обучению","Ребенок имеет представление о нравственных качествах людей, их проявлении в поступках и взаимоотношениях","Ребенок имеет представление о признаках и характеристиках государства (территория государства и его границы, столица), атрибутах государственной власти, президенте, столице","Ребенок имеет представление о порядке использования государственной символики","Ребенок имеет представление о волонтерстве","Ребенок имеет представление о государственных праздниках, исторических событиях","Ребенок имеет представление о жизни людей в России, о многообразии стран и народов мира","Ребенок имеет представление об обмене ценностями в процессе производства и потребления товаров и услуг, о денежных отношениях, о реальной стоимости отдельных продуктов питания, игрушек, детских книг","Ребенок имеет представление о об основах финансовой грамоты, основах бережного потребления","Ребенок проявляет инициативность и самостоятельность в процессе самообслуживания, при выполнении трудовых поручений","Ребенок имеет представление о правила безопасного поведения в ситуациях, создающих угрозу жизни и здоровью (погас свет, остался один, потерялся, получил травму)","Ребенок имеет представление о правила безопасного поведения дома, на улице, в природе, в местах большого скопления людей, в магазине, на вокзале, в общественных метах, на праздниках и др.","Ребенок имеет представление о правилах безопасного использования цифровых ресурсов (мобильного телефона, планшета)","Ребенок имеет представление об элементарных правилах оказания первой помощи при первых признаках недомогания, травмах, ушибах","Ребенок проявляет самостоятельность при выполнении правил безопасного поведения","Ребенок владеет речью как средством коммуникации, ведет диалог, владеет коммуникативно-речевыми умениями","Ребенок подбирает точные слова для выражения мысли","Ребенок выполняет операцию классификации – деления освоенных понятий на группы на основе выявленных признаков","Ребенок использует в речи средства языковой выразительности: антонимы, синонимы, многозначные слова, метафоры, олицетворение","Ребенок образует сложные слова посредством слияния основ","Ребенок согласует в речи существительные с числительными, существительные с прилагательными","Ребенок образует по образцу существительные с суффиксами, глаголы с приставками","Ребенок образует в речи сравнительную и превосходную степени имен прилагательных","Ребенок правильно произносит все звуки","Ребенок может пересказать литературное произведение по ролям, близко к тексту, от лица литературного героя","Ребенок может составить описательный рассказ, соблюдая структуру описания","Ребенок может составить повествовательный рассказ по картине, из личного опыта, из коллективного опыта, по набору игрушек, соблюдая структуру повествования","Ребенок может составить рассказ -контаминацию (сочетание описания и повествования, описания и рассуждения)","Ребенок использует в процессе общения объяснительную речь, речь-доказательство, речевое планирование","Ребенок знает и осмысленно воспринимает литературные произведения различных жанров, имеет предпочтения","Ребенок определяет характеры персонажей, мотивы их поведения, оценивает поступки литературных героев","Ребенок проявляет интерес к книгам познавательного характера","Ребенок производит звуковой анализ четырехзвуковых и пятизвуковых слов","Ребенок может интонационно выделить звуки в слове, определить их последовательность, дать им характеристику, составить схему слова, выделить ударный гласный звук в слове","Ребенок может определить количество и последовательность слов в предложении","Ребенок может составить предложение с заданным количеством слов","Ребенок знает названия всех букв","Ребенок читает слоги","Ребенок различает и называет",{"$nulls":8},"Ребенок умеет считать в пределах 10 в прямом и обратном порядке","Ребенок знает состав чисел из двух меньших в пределах первого десятка","Ребенок решает простые арифметические задачи на сложение и вычитание","Ребенок имеет представление о календаре, как системе измерения времени","Ребенок умеет определять время по часам с точностью до четверти часа","Ребенок ориентируется на местности, по схеме, по плану","Ребенок знает способы ориентировки в двухмерном пространстве","Ребенок умеет измерять протяженность, массу и объем с помощью условной мерки; понимает взаимообратные отношения между мерой и результатом измерения","Ребенок сравнивает предметы по 4-6 основаниям с выделением сходства, отличия",{"$nulls":9},"Ребенок имеет представление об использовании человеком свойств неживой природы для хозяйственных нужд (ветряные мельницы, водохранилища, солнечные батареи, ледяные катки)",{"$nulls":3},"Ребенок выполняет различные упражнения с мячом, метание",null,"Ребенок выполняет разные виды ползанья, лазанья ",null,null,"Ребенок выполняет различные виды ходьбы",null,null,"Ребенок выполняет различные виды бега",null,null,"Ребенок выполняет различные виды прыжков",{"$nulls":3},"Ребенок выполняет",null,"Ребенок выполняет разные виды перестроений, построений, передвижений, размыкание и смыкание приставным шагом, повороты","Ребенок может рассчитаться на «первый – второй»",{"$nulls":16},"Ребенок владеет навыками личной гигиены","Ребенок владеет навыками культуры еды","Ребенок владеет навыками поддержания порядка","Ребенок владеет навыками ухода за собой",{"$nulls":7},"У ребенка развит навык восприятия звуков по высоте в пределах квинты-терции","У ребенка развиты певческий голос и вокально-слуховая координация","Ребёнок ритмично и выразительно двигается в соответствие с характером музыки","Ребенок способен самостоятельно придумать мелодию, используя в качестве образца русские народные песни","Ребенок может сыграть простую мелодию на металлофоне, свирели, ударных, и электронных музыкальных инструментах: трещотках, погремушках, треугольниках","Ребенок может исполнить музыкальное произведение в оркестре и в ансамбле","Ребенок проявляет самостоятельность при выборе литературного и музыкального материала для театральной постановки","Ребенок проявляет инициативу при изготовлении атрибутов и декораций к спектаклю","Ребенок имеет представление о средствах погружения в театральные образы (музыка, слова, декорации, грим, костюм и др.)","Ребенок умеет выразительно передавать образы в действии, мимике, пантомимике","Ребенок проявляет активность в доступных видах музыкальной исполнительской деятельности (игра в оркестре, пение, танцевальные движения и др.)","Ребенок помогает придумывать движения, отражающие содержание песни",null,"Ребенок может изобразить предметы по памяти и с натуры, передает их средствами рисунка (форма, пропорции, расположение)","Ребенок способен передавать в рисунке сюжет, строить композицию","Ребенок свободно использует приемы лепки, освоенные ранее (налеп, углубленный рельеф), применяет стеку","Ребенок умеет передавать пропорции, соотношение по величине, выразительность поз, движений, деталей","Ребенок умеет составлять узоры и декоративные композиции из геометрических и растительных элементов на листах бумаги разной формы","Ребенок может выполнить вырезание (симметричное из бумаги, сложенной вдвое; несколько предметов из частей бумаги, сложенной гармошкой)","Ребенок умеет создавать узоры по мотивам народных росписей","Ребенок может сложить бумагу в разных направлениях","Ребенок может сделать разметку с помощью шаблона","Ребенок может выполнить работу по образцу","Ребенок может создать объемную игрушку в технике «оригами»","Ребенок может создать объемную поделку из природного материала","Ребенок может вдеть нитку в иголку, завязать узелок, пришить пуговицу, петельку, выполнить шов «вперед иголка»","Ребенок умеет выделять, называть, группировать произведения по видам искусства: литература, музыка, изобразительное искусство, архитектура, театр, цирк","Ребенок имеет представление о видах изобразительного искусства: графика, декоративно-прикладное искусство, живопись, скульптура, архитектура, фотоискусство","Ребенок имеет представление о жанрах изобразительного искусства: натюрморт, пейзаж, портрет","Ребенок имеет представление о народном искусстве, фольклоре, музыке и художественных промыслах","Ребенок имеет представление о творческих профессиях: художник, композитор, музыкант, актер, артист балета","Ребенок имеет представление о культурно-досуговых местах: театр, музей, библиотека, выставка, кинотеатр, цирк и др.","Ребенок может провести анализ постройки (выделить основные части и характерные детали конструкций)","Ребенок может выполнить постройку по инструкции"]
[null,"Ребенок осознает и признает собственные ошибки, результат поставленных задач, определяет пути развития","Ребенок умеет договариваться и дружить, старается разрешать конфликтные ситуации конструктивными способами","Ребенок способен принимать собственные решения и проявлять инициативу","Ребенок осознанно относится к своему будущему, стремится быть полезным обществу","Ребенок без напоминаний использует в общении формулы словесной вежливости (приветствие, прощание, просьбы, извинения)","Ребенок без напоминаний использует в общении формулы словесной вежливости (приветствие, прощание, просьбы, извинения)","Ребенок понимает чувства и переживания окружающих по невербальным признакам; находит причины и следствия возникновения эмоций, проявляет эмпатию","Ребенок использует социально приемлемые способы проявления эмоций и доступные возрасту регуляции эмоциональных состояний","Ребенок распознает собственные чувства и эмоции, анализирует свои переживания и рассказывает о них","Ребенок самостоятельно соблюдает установленный порядок поведения в группе, регулирует собственную активность","Ребенок имеет представление о необходимости укрепления связи между поколениями, взаимной поддержке детей и взрослых","Ребенок имеет представление о семье, семейных и родственных отношениях (взаимные чувства, правила общения в семье, значимые и памятные события, досуг семьи, семейный бюджет)","Ребенок умеет сотрудничать со сверстниками (побуждает к обсуждению планов, советуется, поддерживает интерес к мнению, инициирует ситуации взаимопомощи, подчеркивает ценность каждого ребенка и его вклад в общее дело, выбирает партнеров по интересам, помогает устанавливать темп совместных действий)","Ребенок владеет разными способами и видами игры, различает условную и реальную ситуации, предлагает и объясняет замысел игры, комбинирует сюжеты на основе реальных, вымышленных ситуаций, выполняет несколько ролей в одной игре, подбирает разные средства для создания игровых образов, согласовывает свои интересы с интересами партнёров по игре",{"$nulls":39}," все цвета спектра и ахроматические цвета, оттенки","плоские и объемные геометрические фигуры; умеет выделять структуру геометрических фигур и устанавливать взаимосвязи между ними","Ребенок умеет классифицировать фигуры по внешним структурным признаками (округлые, многоугольники)","Ребенок владеет различными способами видоизменения геометрических фигур (наложение, соединение, разрезание и др.)","Ребенок умеет измерять длину, ширину, высоту с помощью условной мерки",{"$nulls":13}," о родном населенном пункте (название улиц, некоторых архитектурных особенностях, достопримечательностях), об истории, о выдающихся горожанах, традициях городской жизни"," о назначении общественных учреждений"," о разных видах специального транспорта"," о местах труда людей (завод, больница, магазин и др.)"," о местах отдыха людей","Ребенок имеет представление о наиболее ярких представителях животных и растений разных природных зон (пустыня, степь, тайга, тундра и др.), об их образе жизни, приспособлении к среде обитания, изменениях в жизни в разные сезоны года","Ребенок имеет представление о многообразии водных ресурсов (моря, океаны, реки, водопады и др.)","Ребенок имеет представление о многообразии полезных ископаемых (нефть, уголь, серебро, золото, алмазы и др.)","Ребенок имеет представление о жизненных потребностях, этапах роста и развития животных и растений",null,"Ребенок имеет представление о некоторых небесных телах (планеты, кометы, звезды)",null,null,"бросание вверх, о землю, ловля двумя руками, одной рукой, перебрасывание, передача, прокатывание, забрасывание, ведение","в цель из положения стоя, вдаль, в движущеюся цель","ползанье на четвереньках, на животе, на спине","влезание на гимнастическую стенку и спуск; перелезание с пролета на пролет по диагонали","лазанье по веревочной лестнице; выполнение упражнений на канате","обычная, гимнастическим шагом, скрестным шагом, спиной вперед, выпадами, с закрытыми глазами","приставными шагами назад, в приседе, с различными движениями рук","в различных построениях","в колонне по одному, врассыпную, парами, тройками, четверками","в сочетание с прыжками, высоко поднимая колени, захлестывая голени назад, выбрасывая прямые ноги вперед","челночный, наперегонки, из разных исходных положений, со скакалкой, по пересеченной местности, с наименьшим числом шагов, медленный, быстрый","подпрыгивания на двух ногах в чередовании с ходьбой, на месте и с поворот кругом","смещая ноги вправо-влево-вперед-назад","выпрыгивание на предметы; подпрыгивания вверх из глубокого приседа; прыжки на одной ноге","в длину с места/с разбега, в высоту с места/с разбега","стойка на носках, стойка на одной ноге с закрытыми глазами","кружение с закрытыми глазами, остановкой и сохранением заданной позы"]
["начало года",{"$f":"'Соц.ком.к 7г ч1 Н.г.'!E37","v":0},{"$f":"'Соц.ком.к 7г ч1 Н.г.'!F37","v":0},{"$f":"'Соц.ком.к 7г ч1 Н.г.'!G37","v":0},{"$f":"'Соц.ком.к 7г ч1 Н.г.'!H37","v":0},{"$f":"'Соц.ком.к 7г ч1 Н.г.'!I37","v":0},{"$f":"'Соц.ком.к 7г ч1 Н.г.'!J37","v":0},{"$f":"'Соц.ком.к 7г ч1 Н.г.'!K37","v":0},{"$f":"'Соц.ком.к 7г ч1 Н.г.'!L37","v":0},{"$f":"'Соц.ком.к 7г ч1 Н.г.'!M37","v":0},{"$f":"'Соц.ком.к 7г ч1 Н.г.'!N37","v":0},{"$f":"'Соц.ком.к 7г ч2 Н.г.'!E37","v":0},{"$f":"'Соц.ком.к 7г ч2 Н.г.'!F37","v":0},{"$f":"'Соц.ком.к 7г ч2 Н.г.'!G37","v":0},{"$f":"'Соц.ком.к 7г ч2 Н.г.'!H37","v":0},{"$f":"'Соц.ком.к 7г ч2 Н.г.'!I37","v":0},{"$f":"'Соц.ком.к 7г ч2 Н.г.'!J37","v":0},{"$f":"'Соц.ком.к 7г ч2 Н.г.'!K37","v":0},{"$f":"'Соц.ком. к 7г ч3 Н.г.'!E37","v":0},{"$f":"'Соц.ком. к 7г ч3 Н.г.'!F37","v":0},{"$f":"'Соц.ком. к 7г ч3 Н.г.'!G37","v":0},{"$f":"'Соц.ком. к 7г ч3 Н.г.'!H37","v":0},{"$f":"'Соц.ком. к 7г ч3 Н.г.'!I37","v":0},{"$f":"'Соц.ком. к 7г ч3 Н.г.'!J37","v":0},{"$f":"'Соц.ком. к 7г ч3 Н.г.'!K37","v":0},{"$f":"'Соц.ком. к 7г ч3 Н.г.'!L37","v":0},{"$f":"'Соц.ком. к 7г ч4 Н.г.'!E37","v":0},{"$f":"'Соц.ком. к 7г ч4 Н.г.'!F37","v":0},{"$f":"'Соц.ком. к 7г ч4 Н.г.'!G37","v":0},{"$f":"'Соц.ком. к 7г ч4 Н.г.'!H37","v":0},{"$f":"'Соц.ком. к 7г ч4 Н.г.'!I37","v":0},{"$f":"'Реч.разв.к 7г ч1 Н.г.'!E37","v":0},{"$f":"'Реч.разв.к 7г ч1 Н.г.'!F37","v":0},{"$f":"'Реч.разв.к 7г ч1 Н.г.'!G37","v":0},{"$f":"'Реч.разв.к 7г ч1 Н.г.'!H37","v":0},{"$f":"'Реч.разв.к 7г ч1 Н.г.'!I37","v":0},{"$f":"'Реч.разв.к 7г ч1 Н.г.'!J37","v":0},{"$f":"'Реч.разв.к 7г ч1 Н.г.'!K37","v":0},{"$f":"'Реч.разв.к 7г ч1 Н.г.'!L37","v":0},{"$f":"'Реч.разв.к 7г ч2 Н.г.'!E37","v":0},{"$f":"'Реч.разв.к 7г ч2 Н.г.'!F37","v":0},{"$f":"'Реч.разв.к 7г ч2 Н.г.'!G37","v":0},{"$f":"'Реч.разв.к 7г ч2 Н.г.'!H37","v":0},{"$f":"'Реч.разв.к 7г ч2 Н.г.'!I37","v":0},{"$f":"'Реч.разв.к 7г ч2 Н.г.'!J37","v":0},{"$f":"'Реч.разв.к 7г ч2 Н.г.'!K37","v":0},{"$f":"'Реч.разв.к 7г ч2 Н.г.'!L37","v":0},{"$f":"'Реч.разв.к 7г ч2 Н.г.'!M37","v":0},{"$f":"'Реч.разв.к 7г ч3. Н.г.'!E37","v":0},{"$f":"'Реч.разв.к 7г ч3. Н.г.'!F37","v":0},{"$f":"'Реч.разв.к 7г ч3. Н.г.'!G37","v":0},{"$f":"'Реч.разв.к 7г ч3. Н.г.'!H37","v":0},{"$f":"'Реч.разв.к 7г ч3. Н.г.'!I37","v":0},{"$f":"'Реч.разв.к 7г ч3. Н.г.'!J37","v":0},{"$f":"'Позн.разв. к 7г ч1. Н.г.'!E38","v":0},{"$f":"'Позн.разв. к 7г ч1. Н.г.'!F38","v":0},{"$f":"'Позн.разв. к 7г ч1. Н.г.'!G38","v":0},{"$f":"'Позн.разв. к 7г ч1. Н.г.'!H38","v":0},{"$f":"'Позн.разв. к 7г ч1. Н.г.'!I38","v":0},{"$f":"'Позн.разв. к 7г ч1. Н.г.'!J38","v":0},{"$f":"'Позн.разв. к 7г ч1. Н.г.'!K38","v":0},{"$f":"'Позн.разв. к 7г ч1. Н.г.'!L38","v":0},{"$f":"'Позн.разв. к 7г ч1. Н.г.'!M38","v":0},{"$f":"'Позн.разв. к 7г ч2. Н.г.'!E38","v":0},{"$f":"'Позн.разв. к 7г ч2. Н.г.'!F38","v":0},{"$f":"'Позн.разв. к 7г ч2. Н.г.'!G38","v":0},{"$f":"'Позн.разв. к 7г ч2. Н.г.'!H38","v":0},{"$f":"'Позн.разв. к 7г ч2. Н.г.'!I38","v":0},{"$f":"'Позн.разв. к 7г ч2. Н.г.'!J38","v":0},{"$f":"'Позн.разв. к 7г ч2. Н.г.'!K38","v":0},{"$f":"'Позн.разв. к 7г ч2. Н.г.'!L38","v":0},{"$f":"'Позн.разв. к 7г ч2. Н.г.'!M38","v":0},{"$f":"'Позн.разв. к 7г ч3. Н.г.'!E38","v":0},{"$f":"'Позн.разв. к 7г ч3. Н.г.'!F38","v":0},{"$f":"'Позн.разв. к 7г ч3. Н.г.'!G38","v":0},{"$f":"'Позн.разв. к 7г ч3. Н.г.'!H38","v":0},{"$f":"'Позн.разв. к 7г ч3. Н.г.'!I38","v":0},{"$f":"'Позн.разв. к 7г ч3. Н.г.'!J38","v":0},{"$f":"'Позн.разв. к 7г ч3. Н.г.'!K38","v":0},{"$f":"'Позн.разв. к 7г ч3. Н.г.'!L38","v":0},{"$f":"'Позн.разв. к 7г ч3. Н.г.'!M38","v":0},{"$f":"'Позн.разв. к 7г ч3. Н.г.'!N38","v":0},{"$f":"'Позн.разв. к 7г ч3. Н.г.'!O38","v":0},{"$f":"'Позн.разв. к 7г ч3. Н.г.'!P38","v":0},{"$f":"'Позн.разв. к 7г ч3. Н.г.'!Q38","v":0},{"$f":"'Физ.разв. к 7г ч1. Н.г.'!E38","v":0},{"$f":"'Физ.разв. к 7г ч1. Н.г.'!F38","v":0},{"$f":"'Физ.разв. к 7г ч1. Н.г.'!G38","v":0},{"$f":"'Физ.разв. к 7г ч1. Н.г.'!H38","v":0},{"$f":"'Физ.разв. к 7г ч1. Н.г.'!I38","v":0},{"$f":"'Физ.разв. к 7г ч1. Н.г.'!J38","v":0},{"$f":"'Физ.разв. к 7г ч1. Н.г.'!K38","v":0},{"$f":"'Физ.разв. к 7г ч1. Н.г.'!L38","v":0},{"$f":"'Физ.разв. к 7г ч1. Н.г.'!M38","v":0},{"$f":"'Физ.разв. к 7г ч1. Н.г.'!N38","v":0},{"$f":"'Физ.разв. к 7г ч1. Н.г.'!O38","v":0},{"$f":"'Физ.разв. к 7г ч1. Н.г.'!P38","v":0},{"$f":"'Физ.разв. к 7г ч1. Н.г.'!Q38","v":0},{"$f":"'Физ.разв. к 7г ч1. Н.г.'!R38","v":0},{"$f":"'Физ.разв. к 7г ч1. Н.г.'!S38","v":0},{"$f":"'Физ.разв. к 7г ч1. Н.г.'!T38","v":0},{"$f":"'Физ.разв. к 7г ч1. Н.г.'!U38","v":0},{"$f":"'Физ.разв. к 7г ч1. Н.г.'!V38","v":0},{"$f":"'Физ.разв. к 7г ч1. Н.г.'!W38","v":0},{"$f":"'Физ.разв. к 7г ч2. Н.г.'!E39","v":0},{"$f":"'Физ.разв. к 7г ч2. Н.г.'!F39","v":0},{"$f":"'Физ.разв. к 7г ч2. Н.г.'!G39","v":0},{"$f":"'Физ.разв. к 7г ч2. Н.г.'!H39","v":0},{"$f":"'Физ.разв. к 7г ч2. Н.г.'!I39","v":0},{"$f":"'Физ.разв. к 7г ч2. Н.г.'!J39","v":0},{"$f":"'Физ.разв. к 7г ч2. Н.г.'!K39","v":0},{"$f":"'Физ.разв. к 7г ч2. Н.г.'!L39","v":0},{"$f":"'Физ.разв. к 7г ч2. Н.г.'!M39","v":0},{"$f":"'Физ.разв. к 7г ч2. Н.г.'!N39","v":0},{"$f":"'Физ.разв. к 7г ч2. Н.г.'!O39","v":0},{"$f":"'Физ.разв. к 7г ч2. Н.г.'!P39","v":0},{"$f":"'Физ.разв. к 7г ч2. Н.г.'!Q39","v":0},{"$f":"'Физ.разв. к 7г ч2. Н.г.'!R39","v":0},{"$f":"'Физ.разв. к 7г ч2. Н.г.'!S39","v":0},{"$f":"'Физ.разв. к 7г ч2. Н.г.'!T39","v":0},{"$f":"'Физ.разв. к 7г ч3. Н.г.'!E39","v":0},{"$f":"'Физ.разв. к 7г ч3. Н.г.'!F39","v":0},{"$f":"'Физ.разв. к 7г ч3. Н.г.'!G39","v":0},{"$f":"'Физ.разв. к 7г ч3. Н.г.'!H39","v":0},{"$f":"'Физ.разв. к 7г ч3. Н.г.'!I39","v":0},{"$f":"'Физ.разв. к 7г ч3. Н.г.'!J39","v":0},{"$f":"'Физ.разв. к 7г ч3. Н.г.'!K39","v":0},{"$f":"'Физ.разв. к 7г ч3. Н.г.'!L39","v":0},{"$f":"'Физ.разв. к 7г ч3. Н.г.'!M39","v":0},{"$f":"'Физ.разв. к 7г ч3. Н.г.'!N39","v":0},{"$f":"'Физ.разв. к 7г ч3. Н.г.'!O39","v":0},{"$f":"'Худ.эст.к 7г ч1. Н.г.'!E38","v":0},{"$f":"'Худ.эст.к 7г ч1. Н.г.'!F38","v":0},{"$f":"'Худ.эст.к 7г ч1. Н.г.'!G38","v":0},{"$f":"'Худ.эст.к 7г ч1. Н.г.'!H38","v":0},{"$f":"'Худ.эст.к 7г ч1. Н.г.'!I38","v":0},{"$f":"'Худ.эст.к 7г ч1. Н.г.'!J38","v":0},{"$f":"'Худ.эст.к 7г ч1. Н.г.'!K38","v":0},{"$f":"'Худ.эст.к 7г ч1. Н.г.'!L38","v":0},{"$f":"'Худ.эст.к 7г ч1. Н.г.'!M38","v":0},{"$f":"'Худ.эст.к 7г ч1. Н.г.'!N38","v":0},{"$f":"'Худ.эст.к 7г ч1. Н.г.'!O38","v":0},{"$f":"'Худ.эст.к 7г ч1. Н.г.'!P38","v":0},{"$f":"'Худ.эст.к 7г ч1. Н.г.'!Q38","v":0},{"$f":"'Худ.эст.к 7г ч2. Н.г.'!E38","v":0},{"$f":"'Худ.эст.к 7г ч2. Н.г.'!F38","v":0},{"$f":"'Худ.эст.к 7г ч2. Н.г.'!G38","v":0},{"$f":"'Худ.эст.к 7г ч2. Н.г.'!H38","v":0},{"$f":"'Худ.эст.к 7г ч2. Н.г.'!I38","v":0},{"$f":"'Худ.эст.к 7г ч2. Н.г.'!J38","v":0},{"$f":"'Худ.эст.к 7г ч2. Н.г.'!K38","v":0},{"$f":"'Худ.эст.к 7г ч2. Н.г.'!L38","v":0},{"$f":"'Худ.эст.к 7г ч2. Н.г.'!M38","v":0},{"$f":"'Худ.эст.к 7г ч2. Н.г.'!N38","v":0},{"$f":"'Худ.эст.к 7г ч2. Н.г.'!O38","v":0},{"$f":"'Худ.эст.к 7г ч2. Н.г.'!P38","v":0},{"$f":"'Худ.эст.к 7г ч2. Н.г.'!Q38","v":0},{"$f":"'Худ.эст.к 7г ч3. Н.г.'!E38","v":0},{"$f":"'Худ.эст.к 7г ч3. Н.г.'!F38","v":0},{"$f":"'Худ.эст.к 7г ч3. Н.г.'!G38","v":0},{"$f":"'Худ.эст.к 7г ч3. Н.г.'!H38","v":0},{"$f":"'Худ.эст.к 7г ч3. Н.г.'!I38","v":0},{"$f":"'Худ.эст.к 7г ч3. Н.г.'!J38","v":0},{"$f":"'Худ.эст.к 7г ч3. Н.г.'!K38","v":0},{"$f":"'Худ.эст.к 7г ч3. Н.г.'!L38","v":0}]
["конец года",{"$f":"'Соц.ком.к 7г ч1 К.г.'!E37","v":0},{"$f":"'Соц.ком.к 7г ч1 К.г.'!F37","v":0},{"$f":"'Соц.ком.к 7г ч1 К.г.'!G37","v":0},{"$f":"'Соц.ком.к 7г ч1 К.г.'!H37","v":0},{"$f":"'Соц.ком.к 7г ч1 К.г.'!I37","v":0},{"$f":"'Соц.ком.к 7г ч1 К.г.'!J37","v":0},{"$f":"'Соц.ком.к 7г ч1 К.г.'!K37","v":0},{"$f":"'Соц.ком.к 7г ч1 К.г.'!L37","v":0},{"$f":"'Соц.ком.к 7г ч1 К.г.'!M37","v":0},{"$f":"'Соц.ком.к 7г ч1 К.г.'!N37","v":0},{"$f":"'Соц.ком.к 7г ч2 К.г.'!E37","v":0},{"$f":"'Соц.ком.к 7г ч2 К.г.'!F37","v":0},{"$f":"'Соц.ком.к 7г ч2 К.г.'!G37","v":0},{"$f":"'Соц.ком.к 7г ч2 К.г.'!H37","v":0},{"$f":"'Соц.ком.к 7г ч2 К.г.'!I37","v":0},{"$f":"'Соц.ком.к 7г ч2 К.г.'!J37","v":0},{"$f":"'Соц.ком.к 7г ч2 К.г.'!K37","v":0},{"$f":"'Соц.ком. к 7г ч3 К.г.'!E37","v":0},{"$f":"'Соц.ком. к 7г ч3 К.г.'!F37","v":0},{"$f":"'Соц.ком. к 7г ч3 К.г.'!G37","v":0},{"$f":"'Соц.ком. к 7г ч3 К.г.'!H37","v":0},{"$f":"'Соц.ком. к 7г ч3 К.г.'!I37","v":0},{"$f":"'Соц.ком. к 7г ч3 К.г.'!J37","v":0},{"$f":"'Соц.ком. к 7г ч3 К.г.'!K37","v":0},{"$f":"'Соц.ком. к 7г ч3 К.г.'!L37","v":0},{"$f":"'Соц.ком. к 7г ч4 К.г.'!E37","v":0},{"$f":"'Соц.ком. к 7г ч4 К.г.'!F37","v":0},{"$f":"'Соц.ком. к 7г ч4 К.г.'!G37","v":0},{"$f":"'Соц.ком. к 7г ч4 К.г.'!H37","v":0},{"$f":"'Соц.ком. к 7г ч4 К.г.'!I37","v":0},{"$f":"'Реч.разв.к 7г ч1 К.г.'!E37","v":0},{"$f":"'Реч.разв.к 7г ч1 К.г.'!F37","v":0},{"$f":"'Реч.разв.к 7г ч1 К.г.'!G37","v":0},{"$f":"'Реч.разв.к 7г ч1 К.г.'!H37","v":0},{"$f":"'Реч.разв.к 7г ч1 К.г.'!I37","v":0},{"$f":"'Реч.разв.к 7г ч1 К.г.'!J37","v":0},{"$f":"'Реч.разв.к 7г ч1 К.г.'!K37","v":0},{"$f":"'Реч.разв.к 7г ч1 К.г.'!L37","v":0},{"$f":"'Реч.разв.к 7г ч2 К.г. '!E37","v":0},{"$f":"'Реч.разв.к 7г ч2 К.г. '!F37","v":0},{"$f":"'Реч.разв.к 7г ч2 К.г. '!G37","v":0},{"$f":"'Реч.разв.к 7г ч2 К.г. '!H37","v":0},{"$f":"'Реч.разв.к 7г ч2 К.г. '!I37","v":0},{"$f":"'Реч.разв.к 7г ч2 К.г. '!J37","v":0},{"$f":"'Реч.разв.к 7г ч2 К.г. '!K37","v":0},{"$f":"'Реч.разв.к 7г ч2 К.г. '!L37","v":0},{"$f":"'Реч.разв.к 7г ч2 К.г. '!M37","v":0},{"$f":"'Реч.разв.к 7г ч3. К.г. '!E37","v":0},{"$f":"'Реч.разв.к 7г ч3. К.г. '!F37","v":0},{"$f":"'Реч.разв.к 7г ч3. К.г. '!G37","v":0},{"$f":"'Реч.разв.к 7г ч3. К.г. '!H37","v":0},{"$f":"'Реч.разв.к 7г ч3. К.г. '!I37","v":0},{"$f":"'Реч.разв.к 7г ч3. К.г. '!J37","v":0},{"$f":"'Позн.разв. к 7г ч1. К.г. '!E38","v":0},{"$f":"'Позн.разв. к 7г ч1. К.г. '!F38","v":0},{"$f":"'Позн.разв. к 7г ч1. К.г. '!G38","v":0},{"$f":"'Позн.разв. к 7г ч1. К.г. '!H38","v":0},{"$f":"'Позн.разв. к 7г ч1. К.г. '!I38","v":0},{"$f":"'Позн.разв. к 7г ч1. К.г. '!J38","v":0},{"$f":"'Позн.разв. к 7г ч1. К.г. '!K38","v":0},{"$f":"'Позн.разв. к 7г ч1. К.г. '!L38","v":0},{"$f":"'Позн.разв. к 7г ч1. К.г. '!M38","v":0},{"$f":"'Позн.разв. к 7г ч2. К.г.'!E38","v":0},{"$f":"'Позн.разв. к 7г ч2. К.г.'!F38","v":0},{"$f":"'Позн.разв. к 7г ч2. К.г.'!G38","v":0},{"$f":"'Позн.разв. к 7г ч2. К.г.'!H38","v":0},{"$f":"'Позн.разв. к 7г ч2. К.г.'!I38","v":0},{"$f":"'Позн.разв. к 7г ч2. К.г.'!J38","v":0},{"$f":"'Позн.разв. к 7г ч2. К.г.'!K38","v":0},{"$f":"'Позн.разв. к 7г ч2. К.г.'!L38","v":0},{"$f":"'Позн.разв. к 7г ч2. К.г.'!M38","v":0},{"$f":"'Позн.разв. к 7г ч3. К.г. '!E38","v":0},{"$f":"'Позн.разв. к 7г ч3. К.г. '!F38","v":0},{"$f":"'Позн.разв. к 7г ч3. К.г. '!G38","v":0},{"$f":"'Позн.разв. к 7г ч3. К.г. '!H38","v":0},{"$f":"'Позн.разв. к 7г ч3. К.г. '!I38","v":0},{"$f":"'Позн.разв. к 7г ч3. К.г. '!J38","v":0},{"$f":"'Позн.разв. к 7г ч3. К.г. '!K38","v":0},{"$f":"'Позн.разв. к 7г ч3. К.г. '!L38","v":0},{"$f":"'Позн.разв. к 7г ч3. К.г. '!M38","v":0},{"$f":"'Позн.разв. к 7г ч3. К.г. '!N38","v":0},{"$f":"'Позн.разв. к 7г ч3. К.г. '!O38","v":0},{"$f":"'Позн.разв. к 7г ч3. К.г. '!P38","v":0},{"$f":"'Позн.разв. к 7г ч3. К.г. '!Q38","v":0},{"$f":"'Физ.разв. к 7г ч1. К.г. '!E38","v":0},{"$f":"'Физ.разв. к 7г ч1. К.г. '!F38","v":0},{"$f":"'Физ.разв. к 7г ч1. К.г. '!G38","v":0},{"$f":"'Физ.разв. к 7г ч1. К.г. '!H38","v":0},{"$f":"'Физ.разв. к 7г ч1. К.г. '!I38","v":0},{"$f":"'Физ.разв. к 7г ч1. К.г. '!J38","v":0},{"$f":"'Физ.разв. к 7г ч1. К.г. '!K38","v":0},{"$f":"'Физ.разв. к 7г ч1. К.г. '!L38","v":0},{"$f":"'Физ.разв. к 7г ч1. К.г. '!M38","v":0},{"$f":"'Физ.разв. к 7г ч1. К.г. '!N38","v":0},{"$f":"'Физ.разв. к 7г ч1. К.г. '!O38","v":0},{"$f":"'Физ.разв. к 7г ч1. К.г. '!P38","v":0},{"$f":"'Физ.разв. к 7г ч1. К.г. '!Q38","v":0},{"$f":"'Физ.разв. к 7г ч1. К.г. '!R38","v":0},{"$f":"'Физ.разв. к 7г ч1. К.г. '!S38","v":0},{"$f":"'Физ.разв. к 7г ч1. К.г. '!T38","v":0},{"$f":"'Физ.разв. к 7г ч1. К.г. '!U38","v":0},{"$f":"'Физ.разв. к 7г ч1. К.г. '!V38","v":0},{"$f":"'Физ.разв. к 7г ч1. К.г. '!W38","v":0},{"$f":"'Физ.разв. к 7г ч2. К.г.'!E39","v":0},{"$f":"'Физ.разв. к 7г ч2. К.г.'!F39","v":0},{"$f":"'Физ.разв. к 7г ч2. К.г.'!G39","v":0},{"$f":"'Физ.разв. к 7г ч2. К.г.'!H39","v":0},{"$f":"'Физ.разв. к 7г ч2. К.г.'!I39","v":0},{"$f":"'Физ.разв. к 7г ч2. К.г.'!J39","v":0},{"$f":"'Физ.разв. к 7г ч2. К.г.'!K39","v":0},{"$f":"'Физ.разв. к 7г ч2. К.г.'!L39","v":0},{"$f":"'Физ.разв. к 7г ч2. К.г.'!M39","v":0},{"$f":"'Физ.разв. к 7г ч2. К.г.'!N39","v":0},{"$f":"'Физ.разв. к 7г ч2. К.г.'!O39","v":0},{"$f":"'Физ.разв. к 7г ч2. К.г.'!P39","v":0},{"$f":"'Физ.разв. к 7г ч2. К.г.'!Q39","v":0},{"$f":"'Физ.разв. к 7г ч2. К.г.'!R39","v":0},{"$f":"'Физ.разв. к 7г ч2. К.г.'!S39","v":0},{"$f":"'Физ.разв. к 7г ч2. К.г.'!T39","v":0},{"$f":"'Физ.разв. к 7г ч3. К.г. '!E39","v":0},{"$f":"'Физ.разв. к 7г ч3. К.г. '!F39","v":0},{"$f":"'Физ.разв. к 7г ч3. К.г. '!G39","v":0},{"$f":"'Физ.разв. к 7г ч3. К.г. '!H39","v":0},{"$f":"'Физ.разв. к 7г ч3. К.г. '!I39","v":0},{"$f":"'Физ.разв. к 7г ч3. К.г. '!J39","v":0},{"$f":"'Физ.разв. к 7г ч3. К.г. '!K39","v":0},{"$f":"'Физ.разв. к 7г ч3. К.г. '!L39","v":0},{"$f":"'Физ.разв. к 7г ч3. К.г. '!M39","v":0},{"$f":"'Физ.разв. к 7г ч3. К.г. '!N39","v":0},{"$f":"'Физ.разв. к 7г ч3. К.г. '!O39","v":0},{"$f":"'Худ.эст.к 7г ч1. К.г. '!E38","v":0},{"$f":"'Худ.эст.к 7г ч1. К.г. '!F38","v":0},{"$f":"'Худ.эст.к 7г ч1. К.г. '!G38","v":0},{"$f":"'Худ.эст.к 7г ч1. К.г. '!H38","v":0},{"$f":"'Худ.эст.к 7г ч1. К.г. '!I38","v":0},{"$f":"'Худ.эст.к 7г ч1. К.г. '!J38","v":0},{"$f":"'Худ.эст.к 7г ч1. К.г. '!K38","v":0},{"$f":"'Худ.эст.к 7г ч1. К.г. '!L38","v":0},{"$f":"'Худ.эст.к 7г ч1. К.г. '!M38","v":0},{"$f":"'Худ.эст.к 7г ч1. К.г. '!N38","v":0},{"$f":"'Худ.эст.к 7г ч1. К.г. '!O38","v":0},{"$f":"'Худ.эст.к 7г ч1. К.г. '!P38","v":0},{"$f":"'Худ.эст.к 7г ч1. К.г. '!Q38","v":0},{"$f":"'Худ.эст.к 7г ч2. К.г. '!E38","v":0},{"$f":"'Худ.эст.к 7г ч2. К.г. '!F38","v":0},{"$f":"'Худ.эст.к 7г ч2. К.г. '!G38","v":0},{"$f":"'Худ.эст.к 7г ч2. К.г. '!H38","v":0},{"$f":"'Худ.эст.к 7г ч2. К.г. '!I38","v":0},{"$f":"'Худ.эст.к 7г ч2. К.г. '!J38","v":0},{"$f":"'Худ.эст.к 7г ч2. К.г. '!K38","v":0},{"$f":"'Худ.эст.к 7г ч2. К.г. '!L38","v":0},{"$f":"'Худ.эст.к 7г ч2. К.г. '!M38","v":0},{"$f":"'Худ.эст.к 7г ч2. К.г. '!N38","v":0},{"$f":"'Худ.эст.к 7г ч2. К.г. '!O38","v":0},{"$f":"'Худ.эст.к 7г ч2. К.г. '!P38","v":0},{"$f":"'Худ.эст.к 7г ч2. К.г. '!Q38","v":0},{"$f":"'Худ.эст.к 7г ч3. К.г. '!E38","v":0},{"$f":"'Худ.эст.к 7г ч3. К.г. '!F38","v":0},{"$f":"'Худ.эст.к 7г ч3. К.г. '!G38","v":0},{"$f":"'Худ.эст.к 7г ч3. К.г. '!H38","v":0},{"$f":"'Худ.эст.к 7г ч3. К.г. '!I38","v":0},{"$f":"'Худ.эст.к 7г ч3. К.г. '!J38","v":0},{"$f":"'Худ.эст.к 7г ч3. К.г. '!K38","v":0},{"$f":"'Худ.эст.к 7г ч3. К.г. '!L38","v":0}]

{"sheet":"28","index":65,"n_rows":7,"n_cols":165,"rows_kept":7,"merged":[[0,104,0,110],[0,111,0,112],[0,113,0,115],[0,116,0,119],[0,120,0,123],[0,124,0,126],[0,127,0,130],[1,54,1,58],[1,59,1,62],[1,63,1,71],[1,72,1,76],[1,77,1,84],[1,104,1,106],[1,107,1,110],[1,111,4,111],[1,112,4,112],[1,113,4,113],[1,114,4,114],[1,115,4,115],[1,116,1,119],[1,120,2,120],[1,121,2,121],[1,122,2,122],[1,123,2,123],[1,124,4,124],[1,125,4,125],[1,126,4,126],[1,127,1,130],[1,131,1,143],[1,144,1,156],[1,157,2,162],[1,163,2,164],[2,18,2,22],[2,23,2,25],[2,26,2,30],[2,32,2,34],[2,35,2,38],[2,40,2,44],[2,45,2,47],[2,48,2,53],[2,55,2,57],[2,59,4,59],[2,60,4,60],[2,61,4,61],[2,62,4,62],[2,63,2,65],[2,66,2,67],[2,68,2,69],[2,72,3,76],[2,77,2,80],[2,81,2,82],[2,83,4,83],[2,84,4,84],[2,85,2,86],[2,87,2,89],[2,90,2,92],[2,93,2,95],[2,96,2,99],[2,100,2,101],[2,102,2,103],[2,104,4,104],[2,105,4,105],[2,106,4,106],[2,107,4,107],[2,108,4,108],[2,109,4,109],[2,110,4,110],[2,116,4,116],[2,117,4,117],[2,118,4,118],[2,119,4,119],[2,127,4,127],[2,128,4,128],[2,129,4,129],[2,130,4,130],[2,135,2,136],[2,137,2,140],[2,141,2,142],[2,143,4,143],[2,144,2,145],[2,146,2,147],[2,148,2,149],[2,151,2,156],[3,0,4,0],[3,1,3,4],[3,7,3,9],[3,11,3,12],[3,13,3,14],[3,15,4,15],[3,16,4,16],[3,17,4,17],[3,18,4,18],[3,19,4,19],[3,20,4,20],[3,21,4,21],[3,22,4,22],[3,23,4,23],[3,24,4,24],[3,25,4,25],[3,26,4,26],[3,27,4,27],[3,28,4,28],[3,29,4,29],[3,30,4,30],[3,31,4,31],[3,32,4,32],[3,33,4,33],[3,34,4,34],[3,35,4,35],[3,36,4,36],[3,37,4,37],[3,38,4,38],[3,39,4,39],[3,40,4,40],[3,41,4,41],[3,42,4,42],[3,43,4,43],[3,44,4,44],[3,45,4,45],[3,46,4,46],[3,47,4,47],[3,48,4,48],[3,49,4,49],[3,50,4,50],[3,51,4,51],[3,52,4,52],[3,53,4,53],[3,54,3,58],[3,63,4,63],[3,64,4,64],[3,65,4,65],[3,66,4,66],[3,67,4,67],[3,68,4,68],[3,69,4,69],[3,70,4,70],[3,71,4,71],[3,81,4,81],[3,85,3,86],[3,87,3,89],[3,90,3,92],[3,93,3,95],[3,96,3,99],[3,100,3,101],[3,102,4,102],[3,103,4,103],[3,120,4,120],[3,121,4,121],[3,122,4,122],[3,123,4,123],[3,131,4,131],[3,132,4,132],[3,133,4,133],[3,134,4,134],[3,135,4,135],[3,136,4,136],[3,137,4,137],[3,138,4,138],[3,139,4,139],[3,140,4,140],[3,141,4,141],[3,142,4,142],[3,144,4,144],[3,145,4,145],[3,146,4,146],[3,147,4,147],[3,148,4,148],[3,149,4,149],[3,150,4,150],[3,151,4,151],[3,152,4,152],[3,153,4,153],[3,154,4,154],[3,155,4,155],[3,156,4,156],[3,157,4,157],[3,158,4,158],[3,159,4,159],[3,160,4,160],[3,161,4,161],[3,162,4,162],[3,163,4,163],[3,164,4,164]]}
[{"$nulls":104},"Мелкая моторика",{"$nulls":6},"Подвижные игры",null,"Спорт. игры",null,null,"Спортивные упражнения",{"$nulls":3},"КГН",{"$nulls":3},"ЗОЖ",null,null,"Спортивные упражнения"]
[{"$nulls":54},"Сенсорные эталоны ",{"$nulls":4},"Познавательные действия",{"$nulls":3},"Математические представления",{"$nulls":8},"Окружающий мир",{"$nulls":4},"Природа ",{"$nulls":26},"Координация рук и глаз",null,null,"Графические навыки",{"$nulls":3},"Ребенок использует в самостоятельной деятельности разнообразные по содержанию подвижные игры, проявляет элементы творчества в двигательной деятельности","Ребенок может организовать знакомые подвижные игры со сверстниками, сплотить команду, стремится внести свой вклад в результат команды","Ребенок владеет элементами спортивных игр (городки, баскетбол, футбол, хоккей, бадминтон, настольный теннис), может контролировать свои движения и управлять ими","Ребенок имеет представление о разных видах спорта (санный спорт, борьба, теннис, синхронное плавание и др.)","Ребенок имеет представление о спортивных событиях и достижениях отечественных спортсменов","Ребенок умеет кататься",{"$nulls":3},"Навыки соблюдения чистоты тела (правила личной гигиены)","Навыки культуры еды (прием пищи) ","Навыки поддержания порядка (правила поведения в быту) ","Навыки ухода за собой (одевание, раздевание) ","Ребенок соблюдает элементарные правила здорового образа жизни и личной гигиены, следит за своей осанкой, может оценить свое самочувствие","Ребенок регулярно выполняет физические упражнения","Ребенок имеет начальные представления о том, что такое здоровье, понимает, как поддержать, укрепить и сохранить его","Ребенок умеет кататься",{"$nulls":3},"Музыкальная деятельность",{"$nulls":12},"Изобразительная деятельность",{"$nulls":12},"Приобщение к искусству",{"$nulls":5},"Конструктивная деятельность"]
[{"$nulls":18},"Область формирования основ гражданственности и патриотизма",{"$nulls":4},"Сфера трудового воспитания",null,null,"Область формирования основ безопасного поведения",{"$nulls":4},"Общее речевое развитие","Формирование словаря",null,null,"Грамматический строй",{"$nulls":3},"Звуковая культура речи","Связная речь",{"$nulls":4},"ЧХЛ",null,null,"Подготовка к обучению грамоте",{"$nulls":5},"Цвет, оттенки","Форма, геометрические фигуры",null,null,"Величина","Ребенок самостоятельно выбирает способ осуществления разных видов познавательной деятельности","Ребенок интересуется субъективно новым и неизвестным в окружающем мире","Ребенок способен применять в жизненных и игровых ситуациях знания о количестве, форме, величине предметов, пространстве, времени","Ребенок имеет разнообразные познавательные умения: определяет противоречия. Формулирует задачу исследования, использует разные способы и средства проверки предположений (сравнение с эталонами, классификацию, систематизацию и др.)","Количество и счет",null,null,"Ориентировка во времени",null,"Ориентировка в пространстве",null,"Пространственно-количественные связи и отношения","Сравнение","Ребенок имеет представления, может показать на картинке и в естественной среде, может рассказать",{"$nulls":4},"Объекты живой природы",{"$nulls":3},"Объекты неживой природы, природные явления",null,"Ребенок стремится к самостоятельному экспериментированию","Ребенок знает правила поведения в природе, проявляет осознанное, бережное отношение к природе и ее ресурсам","Бросание, катание, ловля, метание",null,"Ползанье, лазанье",null,null,"Ходьба",null,null,"Бег",null,null,"Прыжки",{"$nulls":3},"Равновесие",null,"Строевые упражнения",null,"Ребенок выполняет графический диктант","Ребенок обводит по шаблону, по трафарету","Ребенок чертит линии с помощью линейки","Ребенок обводит по контуру, по точкам","Ребенок выполняет штриховку в различных направлениях","Ребенок закрашивает, не выходя за контур","Ребенок свободно владеет карандашом при рисовании округлых линий, завитков в разном направлении",{"$nulls":5},"на санках","на лыжах","на двухколесном велосипеде","на самокате",{"$nulls":7},"на санках","на лыжах","на двухколесном велосипеде","на самокате","Слушание","Пение ","Музыкально-ритмические движения","Песенное творчество","Игра на детских музыкальных инструментах",null,"Театрализованная деятельность",{"$nulls":3},"Танцевально-игровое творчество",null,"У ребенка развит музыкальный вкус, музыкальная память","Рисование ",null,"Лепка ",null,"Аппликация ",null,"Народное ДПИ","Прикладное творчество"]
[{"$f":"Список!B31","v":0},"Отношение к самому себе",{"$nulls":3},"Отношение к сверстникам","Отношение к взрослым","Эмоции",null,null,"Поведение","Семья",null,"Игровое поведение",null,"Ребенок имеет представление об изменениях позиции человека с возрастом","Ребенок имеет представление о школе, школьниках, учителях; стремится к школьному обучению, к познанию, освоению чтения, письма; демонстрирует формированные предпосылки к учебной деятельности и элементы готовности к школьному обучению","Ребенок имеет представление о нравственных качествах людей, их проявлении в поступках и взаимоотношениях","Ребенок имеет представление о признаках и характеристиках государства (территория государства и его границы, столица), атрибутах государственной власти, президенте, столице","Ребенок имеет представление о порядке использования государственной символики","Ребенок имеет представление о волонтерстве","Ребенок имеет представление о государственных праздниках, исторических событиях","Ребенок имеет представление о жизни людей в России, о многообразии стран и народов мира","Ребенок имеет представление об обмене ценностями в процессе производства и потребления товаров и услуг, о денежных отношениях, о реальной стоимости отдельных продуктов питания, игрушек, детских книг","Ребенок имеет представление о об основах финансовой грамоты, основах бережного потребления","Ребенок проявляет инициативность и самостоятельность в процессе самообслуживания, при выполнении трудовых поручений","Ребенок имеет представление о правила безопасного поведения в ситуациях, создающих угрозу жизни и здоровью (погас свет, остался один, потерялся, получил травму)","Ребенок имеет представление о правила безопасного поведения дома, на улице, в природе, в местах большого скопления людей, в магазине, на вокзале, в общественных метах, на праздниках и др.","Ребенок имеет представление о правилах безопасного использования цифровых ресурсов (мобильного телефона, планшета)","Ребенок имеет представление об элементарных правилах оказания первой помощи при первых признаках недомогания, травмах, ушибах","Ребенок проявляет самостоятельность при выполнении правил безопасного поведения","Ребенок владеет речью как средством коммуникации, ведет диалог, владеет коммуникативно-речевыми умениями","Ребенок подбирает точные слова для выражения мысли","Ребенок выполняет операцию классификации – деления освоенных понятий на группы на основе выявленных признаков","Ребенок использует в речи средства языковой выразительности: антонимы, синонимы, многозначные слова, метафоры, олицетворение","Ребенок образует сложные слова посредством слияния основ","Ребенок согласует в речи существительные с числительными, существительные с прилагательными","Ребенок образует по образцу существительные с суффиксами, глаголы с приставками","Ребенок образует в речи сравнительную и превосходную степени имен прилагательных","Ребенок правильно произносит все звуки","Ребенок может пересказать литературное произведение по ролям, близко к тексту, от лица литературного героя","Ребенок может составить описательный рассказ, соблюдая структуру описания","Ребенок может составить повествовательный рассказ по картине, из личного опыта, из коллективного опыта, по набору игрушек, соблюдая структуру повествования","Ребенок может составить рассказ -контаминацию (сочетание описания и повествования, описания и рассуждения)","Ребенок использует в процессе общения объяснительную речь, речь-доказательство, речевое планирование","Ребенок знает и осмысленно воспринимает литературные произведения различных жанров, имеет предпочтения","Ребенок определяет характеры персонажей, мотивы их поведения, оценивает поступки литературных героев","Ребенок проявляет интерес к книгам познавательного характера","Ребенок производит звуковой анализ четырехзвуковых и пятизвуковых слов","Ребенок может интонационно выделить звуки в слове, определить их последовательность, дать им характеристику, составить схему слова, выделить ударный гласный звук в слове","Ребенок может определить количество и последовательность слов в предложении","Ребенок может составить предложение с заданным количеством слов","Ребенок знает названия всех букв","Ребенок читает слоги","Ребенок различает и называет",{"$nulls":8},"Ребенок умеет считать в пределах 10 в прямом и обратном порядке","Ребенок знает состав чисел из двух меньших в пределах первого десятка","Ребенок решает простые арифметические задачи на сложение и вычитание","Ребенок имеет представление о календаре, как системе измерения времени","Ребенок умеет определять время по часам с точностью до четверти часа","Ребенок ориентируется на местности, по схеме, по плану","Ребенок знает способы ориентировки в двухмерном пространстве","Ребенок умеет измерять протяженность, массу и объем с помощью условной мерки; понимает взаимообратные отношения между мерой и результатом измерения","Ребенок сравнивает предметы по 4-6 основаниям с выделением сходства, отличия",{"$nulls":9},"Ребенок имеет представление об использовании человеком свойств неживой природы для хозяйственных нужд (ветряные мельницы, водохранилища, солнечные батареи, ледяные катки)",{"$nulls":3},"Ребенок выполняет различные упражнения с мячом, метание",null,"Ребенок выполняет разные виды ползанья, лазанья ",null,null,"Ребенок выполняет различные виды ходьбы",null,null,"Ребенок выполняет различные виды бега",null,null,"Ребенок выполняет различные виды прыжков",{"$nulls":3},"Ребенок выполняет",null,"Ребенок выполняет разные виды перестроений, построений, передвижений, размыкание и смыкание приставным шагом, повороты","Ребенок может рассчитаться на «первый – второй»",{"$nulls":16},"Ребенок владеет навыками личной гигиены","Ребенок владеет навыками культуры еды","Ребенок владеет навыками поддержания порядка","Ребенок владеет навыками ухода за собой",{"$nulls":7},"У ребенка развит навык восприятия звуков по высоте в пределах квинты-терции","У ребенка развиты певческий голос и вокально-слуховая координация","Ребёнок ритмично и выразительно двигается в соответствие с характером музыки","Ребенок способен самостоятельно придумать мелодию, используя в качестве образца русские народные песни","Ребенок может сыграть простую мелодию на металлофоне, свирели, ударных, и электронных музыкальных инструментах: трещотках, погремушках, треугольниках","Ребенок может исполнить музыкальное произведение в оркестре и в ансамбле","Ребенок проявляет самостоятельность при выборе литературного и музыкального материала для театральной постановки","Ребенок проявляет инициативу при изготовлении атрибутов и декораций к спектаклю","Ребенок имеет представление о средствах погружения в театральные образы (музыка, слова, декорации, грим, костюм и др.)","Ребенок умеет выразительно передавать образы в действии, мимике, пантомимике","Ребенок проявляет активность в доступных видах музыкальной исполнительской деятельности (игра в оркестре, пение, танцевальные движения и др.)","Ребенок помогает придумывать движения, отражающие содержание песни",null,"Ребенок может изобразить предметы по памяти и с натуры, передает их средствами рисунка (форма, пропорции, расположение)","Ребенок способен передавать в рисунке сюжет, строить композицию","Ребенок свободно использует приемы лепки, освоенные ранее (налеп, углубленный рельеф), применяет стеку","Ребенок умеет передавать пропорции, соотношение по величине, выразительность поз, движений, деталей","Ребенок умеет составлять узоры и декоративные композиции из геометрических и растительных элементов на листах бумаги разной формы","Ребенок может выполнить вырезание (симметричное из бумаги, сложенной вдвое; несколько предметов из частей бумаги, сложенной гармошкой)","Ребенок умеет создавать узоры по мотивам народных росписей","Ребенок может сложить бумагу в разных направлениях","Ребенок может сделать разметку с помощью шаблона","Ребенок может выполнить работу по образцу","Ребенок может создать объемную игрушку в технике «оригами»","Ребенок может создать объемную поделку из природного материала","Ребенок может вдеть нитку в иголку, завязать узелок, пришить пуговицу, петельку, выполнить шов «вперед иголка»","Ребенок умеет выделять, называть, группировать произведения по видам искусства: литература, музыка, изобразительное искусство, архитектура, театр, цирк","Ребенок имеет представление о видах изобразительного искусства: графика, декоративно-прикладное искусство, живопись, скульптура, архитектура, фотоискусство","Ребенок имеет представление о жанрах изобразительного искусства: натюрморт, пейзаж, портрет","Ребенок имеет представление о народном искусстве, фольклоре, музыке и художественных промыслах","Ребенок имеет представление о творческих профессиях: художник, композитор, музыкант, актер, артист балета","Ребенок имеет представление о культурно-досуговых местах: театр, музей, библиотека, выставка, кинотеатр, цирк и др.","Ребенок может провести анализ постройки (выделить основные части и характерные детали конструкций)","Ребенок может выполнить постройку по инструкции"]
[null,"Ребенок осознает и признает собственные ошибки, результат поставленных задач, определяет пути развития","Ребенок умеет договариваться и дружить, старается разрешать конфликтные ситуации конструктивными способами","Ребенок способен принимать собственные решения и проявлять инициативу","Ребенок осознанно относится к своему будущему, стремится быть полезным обществу","Ребенок без напоминаний использует в общении формулы словесной вежливости (приветствие, прощание, просьбы, извинения)","Ребенок без напоминаний использует в общении формулы словесной вежливости (приветствие, прощание, просьбы, извинения)","Ребенок понимает чувства и переживания окружающих по невербальным признакам; находит причины и следствия возникновения эмоций, проявляет эмпатию","Ребенок использует социально приемлемые способы проявления эмоций и доступные возрасту регуляции эмоциональных состояний","Ребенок распознает собственные чувства и эмоции, анализирует свои переживания и рассказывает о них","Ребенок самостоятельно соблюдает установленный порядок поведения в группе, регулирует собственную активность","Ребенок имеет представление о необходимости укрепления связи между поколениями, взаимной поддержке детей и взрослых","Ребенок имеет представление о семье, семейных и родственных отношениях (взаимные чувства, правила общения в семье, значимые и памятные события, досуг семьи, семейный бюджет)","Ребенок умеет сотрудничать со сверстниками (побуждает к обсуждению планов, советуется, поддерживает интерес к мнению, инициирует ситуации взаимопомощи, подчеркивает ценность каждого ребенка и его вклад в общее дело, выбирает партнеров по интересам, помогает устанавливать темп совместных действий)","Ребенок владеет разными способами и видами игры, различает условную и реальную ситуации, предлагает и объясняет замысел игры, комбинирует сюжеты на основе реальных, вымышленных ситуаций, выполняет несколько ролей в одной игре, подбирает разные средства для создания игровых образов, согласовывает свои интересы с интересами партнёров по игре",{"$nulls":39}," все цвета спектра и ахроматические цвета, оттенки","плоские и объемные геометрические фигуры; умеет выделять структуру геометрических фигур и устанавливать взаимосвязи между ними","Ребенок умеет классифицировать фигуры по внешним структурным признаками (округлые, многоугольники)","Ребенок владеет различными способами видоизменения геометрических фигур (наложение, соединение, разрезание и др.)","Ребенок умеет измерять длину, ширину, высоту с помощью условной мерки",{"$nulls":13}," о родном населенном пункте (название улиц, некоторых архитектурных особенностях, достопримечательностях), об истории, о выдающихся горожанах, традициях городской жизни"," о назначении общественных учреждений"," о разных видах специального транспорта"," о местах труда людей (завод, больница, магазин и др.)"," о местах отдыха людей","Ребенок имеет представление о наиболее ярких представителях животных и растений разных природных зон (пустыня, степь, тайга, тундра и др.), об их образе жизни, приспособлении к среде обитания, изменениях в жизни в разные сезоны года","Ребенок имеет представление о многообразии водных ресурсов (моря, океаны, реки, водопады и др.)","Ребенок имеет представление о многообразии полезных ископаемых (нефть, уголь, серебро, золото, алмазы и др.)","Ребенок имеет представление о жизненных потребностях, этапах роста и развития животных и растений",null,"Ребенок имеет представление о некоторых небесных телах (планеты, кометы, звезды)",null,null,"бросание вверх, о землю, ловля двумя руками, одной рукой, перебрасывание, передача, прокатывание, забрасывание, ведение","в цель из положения стоя, вдаль, в движущеюся цель","ползанье на четвереньках, на животе, на спине","влезание на гимнастическую стенку и спуск; перелезание с пролета на пролет по диагонали","лазанье по веревочной лестнице; выполнение упражнений на канате","обычная, гимнастическим шагом, скрестным шагом, спиной вперед, выпадами, с закрытыми глазами","приставными шагами назад, в приседе, с различными движениями рук","в различных построениях","в колонне по одному, врассыпную, парами, тройками, четверками","в сочетание с прыжками, высоко поднимая колени, захлестывая голени назад, выбрасывая прямые ноги вперед","челночный, наперегонки, из разных исходных положений, со скакалкой, по пересеченной местности, с наименьшим числом шагов, медленный, быстрый","подпрыгивания на двух ногах в чередовании с ходьбой, на месте и с поворот кругом","смещая ноги вправо-влево-вперед-назад","выпрыгивание на предметы; подпрыгивания вверх из глубокого приседа; прыжки на одной ноге","в длину с места/с разбега, в высоту с места/с разбега","стойка на носках, стойка на одной ноге с закрытыми глазами","кружение с закрытыми глазами, остановкой и сохранением заданной позы"]
["начало года",{"$f":"'Соц.ком.к 7г ч1 Н.г.'!E38","v":0},{"$f":"'Соц.ком.к 7г ч1 Н.г.'!F38","v":0},{"$f":"'Соц.ком.к 7г ч1 Н.г.'!G38","v":0},{"$f":"'Соц.ком.к 7г ч1 Н.г.'!H38","v":0},{"$f":"'Соц.ком.к 7г ч1 Н.г.'!I38","v":0},{"$f":"'Соц.ком.к 7г ч1 Н.г.'!J38","v":0},{"$f":"'Соц.ком.к 7г ч1 Н.г.'!K38","v":0},{"$f":"'Соц.ком.к 7г ч1 Н.г.'!L38","v":0},{"$f":"'Соц.ком.к 7г ч1 Н.г.'!M38","v":0},{"$f":"'Соц.ком.к 7г ч1 Н.г.'!N38","v":0},{"$f":"'Соц.ком.к 7г ч2 Н.г.'!E38","v":0},{"$f":"'Соц.ком.к 7г ч2 Н.г.'!F38","v":0},{"$f":"'Соц.ком.к 7г ч2 Н.г.'!G38","v":0},{"$f":"'Соц.ком.к 7г ч2 Н.г.'!H38","v":0},{"$f":"'Соц.ком.к 7г ч2 Н.г.'!I38","v":0},{"$f":"'Соц.ком.к 7г ч2 Н.г.'!J38","v":0},{"$f":"'Соц.ком.к 7г ч2 Н.г.'!K38","v":0},{"$f":"'Соц.ком. к 7г ч3 Н.г.'!E38","v":0},{"$f":"'Соц.ком. к 7г ч3 Н.г.'!F38","v":0},{"$f":"'Соц.ком. к 7г ч3 Н.г.'!G38","v":0},{"$f":"'Соц.ком. к 7г ч3 Н.г.'!H38","v":0},{"$f":"'Соц.ком. к 7г ч3 Н.г.'!I38","v":0},{"$f":"'Соц.ком. к 7г ч3 Н.г.'!J38","v":0},{"$f":"'Соц.ком. к 7г ч3 Н.г.'!K38","v":0},{"$f":"'Соц.ком. к 7г ч3 Н.г.'!L38","v":0},{"$f":"'Соц.ком. к 7г ч4 Н.г.'!E38","v":0},{"$f":"'Соц.ком. к 7г ч4 Н.г.'!F38","v":0},{"$f":"'Соц.ком. к 7г ч4 Н.г.'!G38","v":0},{"$f":"'Соц.ком. к 7г ч4 Н.г.'!H38","v":0},{"$f":"'Соц.ком. к 7г ч4 Н.г.'!I38","v":0},{"$f":"'Реч.разв.к 7г ч1 Н.г.'!E38","v":0},{"$f":"'Реч.разв.к 7г ч1 Н.г.'!F38","v":0},{"$f":"'Реч.разв.к 7г ч1 Н.г.'!G38","v":0},{"$f":"'Реч.разв.к 7г ч1 Н.г.'!H38","v":0},{"$f":"'Реч.разв.к 7г ч1 Н.г.'!I38","v":0},{"$f":"'Реч.разв.к 7г ч1 Н.г.'!J38","v":0},{"$f":"'Реч.разв.к 7г ч1 Н.г.'!K38","v":0},{"$f":"'Реч.разв.к 7г ч1 Н.г.'!L38","v":0},{"$f":"'Реч.разв.к 7г ч2 Н.г.'!E38","v":0},{"$f":"'Реч.разв.к 7г ч2 Н.г.'!F38","v":0},{"$f":"'Реч.разв.к 7г ч2 Н.г.'!G38","v":0},{"$f":"'Реч.разв.к 7г ч2 Н.г.'!H38","v":0},{"$f":"'Реч.разв.к 7г ч2 Н.г.'!I38","v":0},{"$f":"'Реч.разв.к 7г ч2 Н.г.'!J38","v":0},{"$f":"'Реч.разв.к 7г ч2 Н.г.'!K38","v":0},{"$f":"'Реч.разв.к 7г ч2 Н.г.'!L38","v":0},{"$f":"'Реч.разв.к 7г ч2 Н.г.'!M38","v":0},{"$f":"'Реч.разв.к 7г ч3. Н.г.'!E38","v":0},{"$f":"'Реч.разв.к 7г ч3. Н.г.'!F38","v":0},{"$f":"'Реч.разв.к 7г ч3. Н.г.'!G38","v":0},{"$f":"'Реч.разв.к 7г ч3. Н.г.'!H38","v":0},{"$f":"'Реч.разв.к 7г ч3. Н.г.'!I38","v":0},{"$f":"'Реч.разв.к 7г ч3. Н.г.'!J38","v":0},{"$f":"'Позн.разв. к 7г ч1. Н.г.'!E39","v":0},{"$f":"'Позн.разв. к 7г ч1. Н.г.'!F39","v":0},{"$f":"'Позн.разв. к 7г ч1. Н.г.'!G39","v":0},{"$f":"'Позн.разв. к 7г ч1. Н.г.'!H39","v":0},{"$f":"'Позн.разв. к 7г ч1. Н.г.'!I39","v":0},{"$f":"'Позн.разв. к 7г ч1. Н.г.'!J39","v":0},{"$f":"'Позн.разв. к 7г ч1. Н.г.'!K39","v":0},{"$f":"'Позн.разв. к 7г ч1. Н.г.'!L39","v":0},{"$f":"'Позн.разв. к 7г ч1. Н.г.'!M39","v":0},{"$f":"'Позн.разв. к 7г ч2. Н.г.'!E39","v":0},{"$f":"'Позн.разв. к 7г ч2. Н.г.'!F39","v":0},{"$f":"'Позн.разв. к 7г ч2. Н.г.'!G39","v":0},{"$f":"'Позн.разв. к 7г ч2. Н.г.'!H39","v":0},{"$f":"'Позн.разв. к 7г ч2. Н.г.'!I39","v":0},{"$f":"'Позн.разв. к 7г ч2. Н.г.'!J39","v":0},{"$f":"'Позн.разв. к 7г ч2. Н.г.'!K39","v":0},{"$f":"'Позн.разв. к 7г ч2. Н.г.'!L39","v":0},{"$f":"'Позн.разв. к 7г ч2. Н.г.'!M39","v":0},{"$f":"'Позн.разв. к 7г ч3. Н.г.'!E39","v":0},{"$f":"'Позн.разв. к 7г ч3. Н.г.'!F39","v":0},{"$f":"'Позн.разв. к 7г ч3. Н.г.'!G39","v":0},{"$f":"'Позн.разв. к 7г ч3. Н.г.'!H39","v":0},{"$f":"'Позн.разв. к 7г ч3. Н.г.'!I39","v":0},{"$f":"'Позн.разв. к 7г ч3. Н.г.'!J39","v":0},{"$f":"'Позн.разв. к 7г ч3. Н.г.'!K39","v":0},{"$f":"'Позн.разв. к 7г ч3. Н.г.'!L39","v":0},{"$f":"'Позн.разв. к 7г ч3. Н.г.'!M39","v":0},{"$f":"'Позн.разв. к 7г ч3. Н.г.'!N39","v":0},{"$f":"'Позн.разв. к 7г ч3. Н.г.'!O39","v":0},{"$f":"'Позн.разв. к 7г ч3. Н.г.'!P39","v":0},{"$f":"'Позн.разв. к 7г ч3. Н.г.'!Q39","v":0},{"$f":"'Физ.разв. к 7г ч1. Н.г.'!E39","v":0},{"$f":"'Физ.разв. к 7г ч1. Н.г.'!F39","v":0},{"$f":"'Физ.разв. к 7г ч1. Н.г.'!G39","v":0},{"$f":"'Физ.разв. к 7г ч1. Н.г.'!H39","v":0},{"$f":"'Физ.разв. к 7г ч1. Н.г.'!I39","v":0},{"$f":"'Физ.разв. к 7г ч1. Н.г.'!J39","v":0},{"$f":"'Физ.разв. к 7г ч1. Н.г.'!K39","v":0},{"$f":"'Физ.разв. к 7г ч1. Н.г.'!L39","v":0},{"$f":"'Физ.разв. к 7г ч1. Н.г.'!M39","v":0},{"$f":"'Физ.разв. к 7г ч1. Н.г.'!N39","v":0},{"$f":"'Физ.разв. к 7г ч1. Н.г.'!O39","v":0},{"$f":"'Физ.разв. к 7г ч1. Н.г.'!P39","v":0},{"$f":"'Физ.разв. к 7г ч1. Н.г.'!Q39","v":0},{"$f":"'Физ.разв. к 7г ч1. Н.г.'!R39","v":0},{"$f":"'Физ.разв. к 7г ч1. Н.г.'!S39","v":0},{"$f":"'Физ.разв. к 7г ч1. Н.г.'!T39","v":0},{"$f":"'Физ.разв. к 7г ч1. Н.г.'!U39","v":0},{"$f":"'Физ.разв. к 7г ч1. Н.г.'!V39","v":0},{"$f":"'Физ.разв. к 7г ч1. Н.г.'!W39","v":0},{"$f":"'Физ.разв. к 7г ч2. Н.г.'!E40","v":0},{"$f":"'Физ.разв. к 7г ч2. Н.г.'!F40","v":0},{"$f":"'Физ.разв. к 7г ч2. Н.г.'!G40","v":0},{"$f":"'Физ.разв. к 7г ч2. Н.г.'!H40","v":0},{"$f":"'Физ.разв. к 7г ч2. Н.г.'!I40","v":0},{"$f":"'Физ.разв. к 7г ч2. Н.г.'!J40","v":0},{"$f":"'Физ.разв. к 7г ч2. Н.г.'!K40","v":0},{"$f":"'Физ.разв. к 7г ч2. Н.г.'!L40","v":0},{"$f":"'Физ.разв. к 7г ч2. Н.г.'!M40","v":0},{"$f":"'Физ.разв. к 7г ч2. Н.г.'!N40","v":0},{"$f":"'Физ.разв. к 7г ч2. Н.г.'!O40","v":0},{"$f":"'Физ.разв. к 7г ч2. Н.г.'!P40","v":0},{"$f":"'Физ.разв. к 7г ч2. Н.г.'!Q40","v":0},{"$f":"'Физ.разв. к 7г ч2. Н.г.'!R40","v":0},{"$f":"'Физ.разв. к 7г ч2. Н.г.'!S40","v":0},{"$f":"'Физ.разв. к 7г ч2. Н.г.'!T40","v":0},{"$f":"'Физ.разв. к 7г ч3. Н.г.'!E40","v":0},{"$f":"'Физ.разв. к 7г ч3. Н.г.'!F40","v":0},{"$f":"'Физ.разв. к 7г ч3. Н.г.'!G40","v":0},{"$f":"'Физ.разв. к 7г ч3. Н.г.'!H40","v":0},{"$f":"'Физ.разв. к 7г ч3. Н.г.'!I40","v":0},{"$f":"'Физ.разв. к 7г ч3. Н.г.'!J40","v":0},{"$f":"'Физ.разв. к 7г ч3. Н.г.'!K40","v":0},{"$f":"'Физ.разв. к 7г ч3. Н.г.'!L40","v":0},{"$f":"'Физ.разв. к 7г ч3. Н.г.'!M40","v":0},{"$f":"'Физ.разв. к 7г ч3. Н.г.'!N40","v":0},{"$f":"'Физ.разв. к 7г ч3. Н.г.'!O40","v":0},{"$f":"'Худ.эст.к 7г ч1. Н.г.'!E39","v":0},{"$f":"'Худ.эст.к 7г ч1. Н.г.'!F39","v":0},{"$f":"'Худ.эст.к 7г ч1. Н.г.'!G39","v":0},{"$f":"'Худ.эст.к 7г ч1. Н.г.'!H39","v":0},{"$f":"'Худ.эст.к 7г ч1. Н.г.'!I39","v":0},{"$f":"'Худ.эст.к 7г ч1. Н.г.'!J39","v":0},{"$f":"'Худ.эст.к 7г ч1. Н.г.'!K39","v":0},{"$f":"'Худ.эст.к 7г ч1. Н.г.'!L39","v":0},{"$f":"'Худ.эст.к 7г ч1. Н.г.'!M39","v":0},{"$f":"'Худ.эст.к 7г ч1. Н.г.'!N39","v":0},{"$f":"'Худ.эст.к 7г ч1. Н.г.'!O39","v":0},{"$f":"'Худ.эст.к 7г ч1. Н.г.'!P39","v":0},{"$f":"'Худ.эст.к 7г ч1. Н.г.'!Q39","v":0},{"$f":"'Худ.эст.к 7г ч2. Н.г.'!E39","v":0},{"$f":"'Худ.эст.к 7г ч2. Н.г.'!F39","v":0},{"$f":"'Худ.эст.к 7г ч2. Н.г.'!G39","v":0},{"$f":"'Худ.эст.к 7г ч2. Н.г.'!H39","v":0},{"$f":"'Худ.эст.к 7г ч2. Н.г.'!I39","v":0},{"$f":"'Худ.эст.к 7г ч2. Н.г.'!J39","v":0},{"$f":"'Худ.эст.к 7г ч2. Н.г.'!K39","v":0},{"$f":"'Худ.эст.к 7г ч2. Н.г.'!L39","v":0},{"$f":"'Худ.эст.к 7г ч2. Н.г.'!M39","v":0},{"$f":"'Худ.эст.к 7г ч2. Н.г.'!N39","v":0},{"$f":"'Худ.эст.к 7г ч2. Н.г.'!O39","v":0},{"$f":"'Худ.эст.к 7г ч2. Н.г.'!P39","v":0},{"$f":"'Худ.эст.к 7г ч2. Н.г.'!Q39","v":0},{"$f":"'Худ.эст.к 7г ч3. Н.г.'!E39","v":0},{"$f":"'Худ.эст.к 7г ч3. Н.г.'!F39","v":0},{"$f":"'Худ.эст.к 7г ч3. Н.г.'!G39","v":0},{"$f":"'Худ.эст.к 7г ч3. Н.г.'!H39","v":0},{"$f":"'Худ.эст.к 7г ч3. Н.г.'!I39","v":0},{"$f":"'Худ.эст.к 7г ч3. Н.г.'!J39","v":0},{"$f":"'Худ.эст.к 7г ч3. Н.г.'!K39","v":0},{"$f":"'Худ.эст.к 7г ч3. Н.г.'!L39","v":0}]
["конец года",{"$f":"'Соц.ком.к 7г ч1 К.г.'!E38","v":0},{"$f":"'Соц.ком.к 7г ч1 К.г.'!F38","v":0},{"$f":"'Соц.ком.к 7г ч1 К.г.'!G38","v":0},{"$f":"'Соц.ком.к 7г ч1 К.г.'!H38","v":0},{"$f":"'Соц.ком.к 7г ч1 К.г.'!I38","v":0},{"$f":"'Соц.ком.к 7г ч1 К.г.'!J38","v":0},{"$f":"'Соц.ком.к 7г ч1 К.г.'!K38","v":0},{"$f":"'Соц.ком.к 7г ч1 К.г.'!L38","v":0},{"$f":"'Соц.ком.к 7г ч1 К.г.'!M38","v":0},{"$f":"'Соц.ком.к 7г ч1 К.г.'!N38","v":0},{"$f":"'Соц.ком.к 7г ч2 К.г.'!E38","v":0},{"$f":"'Соц.ком.к 7г ч2 К.г.'!F38","v":0},{"$f":"'Соц.ком.к 7г ч2 К.г.'!G38","v":0},{"$f":"'Соц.ком.к 7г ч2 К.г.'!H38","v":0},{"$f":"'Соц.ком.к 7г ч2 К.г.'!I38","v":0},{"$f":"'Соц.ком.к 7г ч2 К.г.'!J38","v":0},{"$f":"'Соц.ком.к 7г ч2 К.г.'!K38","v":0},{"$f":"'Соц.ком. к 7г ч3 К.г.'!E38","v":0},{"$f":"'Соц.ком. к 7г ч3 К.г.'!F38","v":0},{"$f":"'Соц.ком. к 7г ч3 К.г.'!G38","v":0},{"$f":"'Соц.ком. к 7г ч3 К.г.'!H38","v":0},{"$f":"'Соц.ком. к 7г ч3 К.г.'!I38","v":0},{"$f":"'Соц.ком. к 7г ч3 К.г.'!J38","v":0},{"$f":"'Соц.ком. к 7г ч3 К.г.'!K38","v":0},{"$f":"'Соц.ком. к 7г ч3 К.г.'!L38","v":0},{"$f":"'Соц.ком. к 7г ч4 К.г.'!E38","v":0},{"$f":"'Соц.ком. к 7г ч4 К.г.'!F38","v":0},{"$f":"'Соц.ком. к 7г ч4 К.г.'!G38","v":0},{"$f":"'Соц.ком. к 7г ч4 К.г.'!H38","v":0},{"$f":"'Соц.ком. к 7г ч4 К.г.'!I38","v":0},{"$f":"'Реч.разв.к 7г ч1 К.г.'!E38","v":0},{"$f":"'Реч.разв.к 7г ч1 К.г.'!F38","v":0},{"$f":"'Реч.разв.к 7г ч1 К.г.'!G38","v":0},{"$f":"'Реч.разв.к 7г ч1 К.г.'!H38","v":0},{"$f":"'Реч.разв.к 7г ч1 К.г.'!I38","v":0},{"$f":"'Реч.разв.к 7г ч1 К.г.'!J38","v":0},{"$f":"'Реч.разв.к 7г ч1 К.г.'!K38","v":0},{"$f":"'Реч.разв.к 7г ч1 К.г.'!L38","v":0},{"$f":"'Реч.разв.к 7г ч2 К.г. '!E38","v":0},{"$f":"'Реч.разв.к 7г ч2 К.г. '!F38","v":0},{"$f":"'Реч.разв.к 7г ч2 К.г. '!G38","v":0},{"$f":"'Реч.разв.к 7г ч2 К.г. '!H38","v":0},{"$f":"'Реч.разв.к 7г ч2 К.г. '!I38","v":0},{"$f":"'Реч.разв.к 7г ч2 К.г. '!J38","v":0},{"$f":"'Реч.разв.к 7г ч2 К.г. '!K38","v":0},{"$f":"'Реч.разв.к 7г ч2 К.г. '!L38","v":0},{"$f":"'Реч.разв.к 7г ч2 К.г. '!M38","v":0},{"$f":"'Реч.разв.к 7г ч3. К.г. '!E38","v":0},{"$f":"'Реч.разв.к 7г ч3. К.г. '!F38","v":0},{"$f":"'Реч.разв.к 7г ч3. К.г. '!G38","v":0},{"$f":"'Реч.разв.к 7г ч3. К.г. '!H38","v":0},{"$f":"'Реч.разв.к 7г ч3. К.г. '!I38","v":0},{"$f":"'Реч.разв.к 7г ч3. К.г. '!J38","v":0},{"$f":"'Позн.разв. к 7г ч1. К.г. '!E39","v":0},{"$f":"'Позн.разв. к 7г ч1. К.г. '!F39","v":0},{"$f":"'Позн.разв. к 7г ч1. К.г. '!G39","v":0},{"$f":"'Позн.разв. к 7г ч1. К.г. '!H39","v":0},{"$f":"'Позн.разв. к 7г ч1. К.г. '!I39","v":0},{"$f":"'Позн.разв. к 7г ч1. К.г. '!J39","v":0},{"$f":"'Позн.разв. к 7г ч1. К.г. '!K39","v":0},{"$f":"'Позн.разв. к 7г ч1. К.г. '!L39","v":0},{"$f":"'Позн.разв. к 7г ч1. К.г. '!M39","v":0},{"$f":"'Позн.разв. к 7г ч2. К.г.'!E39","v":0},{"$f":"'Позн.разв. к 7г ч2. К.г.'!F39","v":0},{"$f":"'Позн.разв. к 7г ч2. К.г.'!G39","v":0},{"$f":"'Позн.разв. к 7г ч2. К.г.'!H39","v":0},{"$f":"'Позн.разв. к 7г ч2. К.г.'!I39","v":0},{"$f":"'Позн.разв. к 7г ч2. К.г.'!J39","v":0},{"$f":"'Позн.разв. к 7г ч2. К.г.'!K39","v":0},{"$f":"'Позн.разв. к 7г ч2. К.г.'!L39","v":0},{"$f":"'Позн.разв. к 7г ч2. К.г.'!M39","v":0},{"$f":"'Позн.разв. к 7г ч3. К.г. '!E39","v":0},{"$f":"'Позн.разв. к 7г ч3. К.г. '!F39","v":0},{"$f":"'Позн.разв. к 7г ч3. К.г. '!G39","v":0},{"$f":"'Позн.разв. к 7г ч3. К.г. '!H39","v":0},{"$f":"'Позн.разв. к 7г ч3. К.г. '!I39","v":0},{"$f":"'Позн.разв. к 7г ч3. К.г. '!J39","v":0},{"$f":"'Позн.разв. к 7г ч3. К.г. '!K39","v":0},{"$f":"'Позн.разв. к 7г ч3. К.г. '!L39","v":0},{"$f":"'Позн.разв. к 7г ч3. К.г. '!M39","v":0},{"$f":"'Позн.разв. к 7г ч3. К.г. '!N39","v":0},{"$f":"'Позн.разв. к 7г ч3. К.г. '!O39","v":0},{"$f":"'Позн.разв. к 7г ч3. К.г. '!P39","v":0},{"$f":"'Позн.разв. к 7г ч3. К.г. '!Q39","v":0},{"$f":"'Физ.разв. к 7г ч1. К.г. '!E39","v":0},{"$f":"'Физ.разв. к 7г ч1. К.г. '!F39","v":0},{"$f":"'Физ.разв. к 7г ч1. К.г. '!G39","v":0},{"$f":"'Физ.разв. к 7г ч1. К.г. '!H39","v":0},{"$f":"'Физ.разв. к 7г ч1. К.г. '!I39","v":0},{"$f":"'Физ.разв. к 7г ч1. К.г. '!J39","v":0},{"$f":"'Физ.разв. к 7г ч1. К.г. '!K39","v":0},{"$f":"'Физ.разв. к 7г ч1. К.г. '!L39","v":0},{"$f":"'Физ.разв. к 7г ч1. К.г. '!M39","v":0},{"$f":"'Физ.разв. к 7г ч1. К.г. '!N39","v":0},{"$f":"'Физ.разв. к 7г ч1. К.г. '!O39","v":0},{"$f":"'Физ.разв. к 7г ч1. К.г. '!P39","v":0},{"$f":"'Физ.разв. к 7г ч1. К.г. '!Q39","v":0},{"$f":"'Физ.разв. к 7г ч1. К.г. '!R39","v":0},{"$f":"'Физ.разв. к 7г ч1. К.г. '!S39","v":0},{"$f":"'Физ.разв. к 7г ч1. К.г. '!T39","v":0},{"$f":"'Физ.разв. к 7г ч1. К.г. '!U39","v":0},{"$f":"'Физ.разв. к 7г ч1. К.г. '!V39","v":0},{"$f":"'Физ.разв. к 7г ч1. К.г. '!W39","v":0},{"$f":"'Физ.разв. к 7г ч2. К.г.'!E40","v":0},{"$f":"'Физ.разв. к 7г ч2. К.г.'!F40","v":0},{"$f":"'Физ.разв. к 7г ч2. К.г.'!G40","v":0},{"$f":"'Физ.разв. к 7г ч2. К.г.'!H40","v":0},{"$f":"'Физ.разв. к 7г ч2. К.г.'!I40","v":0},{"$f":"'Физ.разв. к 7г ч2. К.г.'!J40","v":0},{"$f":"'Физ.разв. к 7г ч2. К.г.'!K40","v":0},{"$f":"'Физ.разв. к 7г ч2. К.г.'!L40","v":0},{"$f":"'Физ.разв. к 7г ч2. К.г.'!M40","v":0},{"$f":"'Физ.разв. к 7г ч2. К.г.'!N40","v":0},{"$f":"'Физ.разв. к 7г ч2. К.г.'!O40","v":0},{"$f":"'Физ.разв. к 7г ч2. К.г.'!P40","v":0},{"$f":"'Физ.разв. к 7г ч2. К.г.'!Q40","v":0},{"$f":"'Физ.разв. к 7г ч2. К.г.'!R40","v":0},{"$f":"'Физ.разв. к 7г ч2. К.г.'!S40","v":0},{"$f":"'Физ.разв. к 7г ч2. К.г.'!T40","v":0},{"$f":"'Физ.разв. к 7г ч3. К.г. '!E40","v":0},{"$f":"'Физ.разв. к 7г ч3. К.г. '!F40","v":0},{"$f":"'Физ.разв. к 7г ч3. К.г. '!G40","v":0},{"$f":"'Физ.разв. к 7г ч3. К.г. '!H40","v":0},{"$f":"'Физ.разв. к 7г ч3. К.г. '!I40","v":0},{"$f":"'Физ.разв. к 7г ч3. К.г. '!J40","v":0},{"$f":"'Физ.разв. к 7г ч3. К.г. '!K40","v":0},{"$f":"'Физ.разв. к 7г ч3. К.г. '!L40","v":0},{"$f":"'Физ.разв. к 7г ч3. К.г. '!M40","v":0},{"$f":"'Физ.разв. к 7г ч3. К.г. '!N40","v":0},{"$f":"'Физ.разв. к 7г ч3. К.г. '!O40","v":0},{"$f":"'Худ.эст.к 7г ч1. К.г. '!E39","v":0},{"$f":"'Худ.эст.к 7г ч1. К.г. '!F39","v":0},{"$f":"'Худ.эст.к 7г ч1. К.г. '!G39","v":0},{"$f":"'Худ.эст.к 7г ч1. К.г. '!H39","v":0},{"$f":"'Худ.эст.к 7г ч1. К.г. '!I39","v":0},{"$f":"'Худ.эст.к 7г ч1. К.г. '!J39","v":0},{"$f":"'Худ.эст.к 7г ч1. К.г. '!K39","v":0},{"$f":"'Худ.эст.к 7г ч1. К.г. '!L39","v":0},{"$f":"'Худ.эст.к 7г ч1. К.г. '!M39","v":0},{"$f":"'Худ.эст.к 7г ч1. К.г. '!N39","v":0},{"$f":"'Худ.эст.к 7г ч1. К.г. '!O39","v":0},{"$f":"'Худ.эст.к 7г ч1. К.г. '!P39","v":0},{"$f":"'Худ.эст.к 7г ч1. К.г. '!Q39","v":0},{"$f":"'Худ.эст.к 7г ч2. К.г. '!E39","v":0},{"$f":"'Худ.эст.к 7г ч2. К.г. '!F39","v":0},{"$f":"'Худ.эст.к 7г ч2. К.г. '!G39","v":0},{"$f":"'Худ.эст.к 7г ч2. К.г. '!H39","v":0},{"$f":"'Худ.эст.к 7г ч2. К.г. '!I39","v":0},{"$f":"'Худ.эст.к 7г ч2. К.г. '!J39","v":0},{"$f":"'Худ.эст.к 7г ч2. К.г. '!K39","v":0},{"$f":"'Худ.эст.к 7г ч2. К.г. '!L39","v":0},{"$f":"'Худ.эст.к 7г ч2. К.г. '!M39","v":0},{"$f":"'Худ.эст.к 7г ч2. К.г. '!N39","v":0},{"$f":"'Худ.эст.к 7г ч2. К.г. '!O39","v":0},{"$f":"'Худ.эст.к 7г ч2. К.г. '!P39","v":0},{"$f":"'Худ.эст.к 7г ч2. К.г. '!Q39","v":0},{"$f":"'Худ.эст.к 7г ч3. К.г. '!E39","v":0},{"$f":"'Худ.эст.к 7г ч3. К.г. '!F39","v":0},{"$f":"'Худ.эст.к 7г ч3. К.г. '!G39","v":0},{"$f":"'Худ.эст.к 7г ч3. К.г. '!H39","v":0},{"$f":"'Худ.эст.к 7г ч3. К.г. '!I39","v":0},{"$f":"'Худ.эст.к 7г ч3. К.г. '!J39","v":0},{"$f":"'Худ.эст.к 7г ч3. К.г. '!K39","v":0},{"$f":"'Худ.эст.к 7г ч3. К.г. '!L39","v":0}]

{"sheet":"29","index":66,"n_rows":7,"n_cols":165,"rows_kept":7,"merged":[[0,104,0,110],[0,111,0,112],[0,113,0,115],[0,116,0,119],[0,120,0,123],[0,124,0,126],[0,127,0,130],[1,54,1,58],[1,59,1,62],[1,63,1,71],[1,72,1,76],[1,77,1,84],[1,104,1,106],[1,107,1,110],[1,111,4,111],[1,112,4,112],[1,113,4,113],[1,114,4,114],[1,115,4,115],[1,116,1,119],[1,120,2,120],[1,121,2,121],[1,122,2,122],[1,123,2,123],[1,124,4,124],[1,125,4,125],[1,126,4,126],[1,127,1,130],[1,131,1,143],[1,144,1,156],[1,157,2,162],[1,163,2,164],[2,18,2,22],[2,23,2,25],[2,26,2,30],[2,32,2,34],[2,35,2,38],[2,40,2,44],[2,45,2,47],[2,48,2,53],[2,55,2,57],[2,59,4,59],[2,60,4,60],[2,61,4,61],[2,62,4,62],[2,63,2,65],[2,66,2,67],[2,68,2,69],[2,72,3,76],[2,77,2,80],[2,81,2,82],[2,83,4,83],[2,84,4,84],[2,85,2,86],[2,87,2,89],[2,90,2,92],[2,93,2,95],[2,96,2,99],[2,100,2,101],[2,102,2,103],[2,104,4,104],[2,105,4,105],[2,106,4,106],[2,107,4,107],[2,108,4,108],[2,109,4,109],[2,110,4,110],[2,116,4,116],[2,117,4,117],[2,118,4,118],[2,119,4,119],[2,127,4,127],[2,128,4,128],[2,129,4,129],[2,130,4,130],[2,135,2,136],[2,137,2,140],[2,141,2,142],[2,143,4,143],[2,144,2,145],[2,146,2,147],[2,148,2,149],[2,151,2,156],[3,0,4,0],[3,1,3,4],[3,7,3,9],[3,11,3,12],[3,13,3,14],[3,15,4,15],[3,16,4,16],[3,17,4,17],[3,18,4,18],[3,19,4,19],[3,20,4,20],[3,21,4,21],[3,22,4,22],[3,23,4,23],[3,24,4,24],[3,25,4,25],[3,26,4,26],[3,27,4,27],[3,28,4,28],[3,29,4,29],[3,30,4,30],[3,31,4,31],[3,32,4,32],[3,33,4,33],[3,34,4,34],[3,35,4,35],[3,36,4,36],[3,37,4,37],[3,38,4,38],[3,39,4,39],[3,40,4,40],[3,41,4,41],[3,42,4,42],[3,43,4,43],[3,44,4,44],[3,45,4,45],[3,46,4,46],[3,47,4,47],[3,48,4,48],[3,49,4,49],[3,50,4,50],[3,51,4,51],[3,52,4,52],[3,53,4,53],[3,54,3,58],[3,63,4,63],[3,64,4,64],[3,65,4,65],[3,66,4,66],[3,67,4,67],[3,68,4,68],[3,69,4,69],[3,70,4,70],[3,71,4,71],[3,81,4,81],[3,85,3,86],[3,87,3,89],[3,90,3,92],[3,93,3,95],[3,96,3,99],[3,100,3,101],[3,102,4,102],[3,103,4,103],[3,120,4,120],[3,121,4,121],[3,122,4,122],[3,123,4,123],[3,131,4,131],[3,132,4,132],[3,133,4,133],[3,134,4,134],[3,135,4,135],[3,136,4,136],[3,137,4,137],[3,138,4,138],[3,139,4,139],[3,140,4,140],[3,141,4,141],[3,142,4,142],[3,144,4,144],[3,145,4,145],[3,146,4,146],[3,147,4,147],[3,148,4,148],[3,149,4,149],[3,150,4,150],[3,151,4,151],[3,152,4,152],[3,153,4,153],[3,154,4,154],[3,155,4,155],[3,156,4,156],[3,157,4,157],[3,158,4,158],[3,159,4,159],[3,160,4,160],[3,161,4,161],[3,162,4,162],[3,163,4,163],[3,164,4,164]]}
[{"$nulls":104},"Мелкая моторика",{"$nulls":6},"Подвижные игры",null,"Спорт. игры",null,null,"Спортивные упражнения",{"$nulls":3},"КГН",{"$nulls":3},"ЗОЖ",null,null,"Спортивные упражнения"]
[{"$nulls":54},"Сенсорные эталоны ",{"$nulls":4},"Познавательные действия",{"$nulls":3},"Математические представления",{"$nulls":8},"Окружающий мир",{"$nulls":4},"Природа ",{"$nulls":26},"Координация рук и глаз",null,null,"Графические навыки",{"$nulls":3},"Ребенок использует в самостоятельной деятельности разнообразные по содержанию подвижные игры, проявляет элементы творчества в двигательной деятельности","Ребенок может организовать знакомые подвижные игры со сверстниками, сплотить команду, стремится внести свой вклад в результат команды","Ребенок владеет элементами спортивных игр (городки, баскетбол, футбол, хоккей, бадминтон, настольный теннис), может контролировать свои движения и управлять ими","Ребенок имеет представление о разных видах спорта (санный спорт, борьба, теннис, синхронное плавание и др.)","Ребенок имеет представление о спортивных событиях и достижениях отечественных спортсменов","Ребенок умеет кататься",{"$nulls":3},"Навыки соблюдения чистоты тела (правила личной гигиены)","Навыки культуры еды (прием пищи) ","Навыки поддержания порядка (правила поведения в быту) ","Навыки ухода за собой (одевание, раздевание) ","Ребенок соблюдает элементарные правила здорового образа жизни и личной гигиены, следит за своей осанкой, может оценить свое самочувствие","Ребенок регулярно выполняет физические упражнения","Ребенок имеет начальные представления о том, что такое здоровье, понимает, как поддержать, укрепить и сохранить его","Ребенок умеет кататься",{"$nulls":3},"Музыкальная деятельность",{"$nulls":12},"Изобразительная деятельность",{"$nulls":12},"Приобщение к искусству",{"$nulls":5},"Конструктивная деятельность"]
[{"$nulls":18},"Область формирования основ гражданственности и патриотизма",{"$nulls":4},"Сфера трудового воспитания",null,null,"Область формирования основ безопасного поведения",{"$nulls":4},"Общее речевое развитие","Формирование словаря",null,null,"Грамматический строй",{"$nulls":3},"Звуковая культура речи","Связная речь",{"$nulls":4},"ЧХЛ",null,null,"Подготовка к обучению грамоте",{"$nulls":5},"Цвет, оттенки","Форма, геометрические фигуры",null,null,"Величина","Ребенок самостоятельно выбирает способ осуществления разных видов познавательной деятельности","Ребенок интересуется субъективно новым и неизвестным в окружающем мире","Ребенок способен применять в жизненных и игровых ситуациях знания о количестве, форме, величине предметов, пространстве, времени","Ребенок имеет разнообразные познавательные умения: определяет противоречия. Формулирует задачу исследования, использует разные способы и средства проверки предположений (сравнение с эталонами, классификацию, систематизацию и др.)","Количество и счет",null,null,"Ориентировка во времени",null,"Ориентировка в пространстве",null,"Пространственно-количественные связи и отношения","Сравнение","Ребенок имеет представления, может показать на картинке и в естественной среде, может рассказать",{"$nulls":4},"Объекты живой природы",{"$nulls":3},"Объекты неживой природы, природные явления",null,"Ребенок стремится к самостоятельному экспериментированию","Ребенок знает правила поведения в природе, проявляет осознанное, бережное отношение к природе и ее ресурсам","Бросание, катание, ловля, метание",null,"Ползанье, лазанье",null,null,"Ходьба",null,null,"Бег",null,null,"Прыжки",{"$nulls":3},"Равновесие",null,"Строевые упражнения",null,"Ребенок выполняет графический диктант","Ребенок обводит по шаблону, по трафарету","Ребенок чертит линии с помощью линейки","Ребенок обводит по контуру, по точкам","Ребенок выполняет штриховку в различных направлениях","Ребенок закрашивает, не выходя за контур","Ребенок свободно владеет карандашом при рисовании округлых линий, завитков в разном направлении",{"$nulls":5},"на санках","на лыжах","на двухколесном велосипеде","на самокате",{"$nulls":7},"на санках","на лыжах","на двухколесном велосипеде","на самокате","Слушание","Пение ","Музыкально-ритмические движения","Песенное творчество","Игра на детских музыкальных инструментах",null,"Театрализованная деятельность",{"$nulls":3},"Танцевально-игровое творчество",null,"У ребенка развит музыкальный вкус, музыкальная память","Рисование ",null,"Лепка ",null,"Аппликация ",null,"Народное ДПИ","Прикладное творчество"]
[{"$f":"Список!B32","v":0},"Отношение к самому себе",{"$nulls":3},"Отношение к сверстникам","Отношение к взрослым","Эмоции",null,null,"Поведение","Семья",null,"Игровое поведение",null,"Ребенок имеет представление об изменениях позиции человека с возрастом","Ребенок имеет представление о школе, школьниках, учителях; стремится к школьному обучению, к познанию, освоению чтения, письма; демонстрирует формированные предпосылки к учебной деятельности и элементы готовности к школьному обучению","Ребенок имеет представление о нравственных качествах людей, их проявлении в поступках и взаимоотношениях","Ребенок имеет представление о признаках и характеристиках государства (территория государства и его границы, столица), атрибутах государственной власти, президенте, столице","Ребенок имеет представление о порядке использования государственной символики","Ребенок имеет представление о волонтерстве","Ребенок имеет представление о государственных праздниках, исторических событиях","Ребенок имеет представление о жизни людей в России, о многообразии стран и народов мира","Ребенок имеет представление об обмене ценностями в процессе производства и потребления товаров и услуг, о денежных отношениях, о реальной стоимости отдельных продуктов питания, игрушек, детских книг","Ребенок имеет представление о об основах финансовой грамоты, основах бережного потребления","Ребенок проявляет инициативность и самостоятельность в процессе самообслуживания, при выполнении трудовых поручений","Ребенок имеет представление о правила безопасного поведения в ситуациях, создающих угрозу жизни и здоровью (погас свет, остался один, потерялся, получил травму)","Ребенок имеет представление о правила безопасного поведения дома, на улице, в природе, в местах большого скопления людей, в магазине, на вокзале, в общественных метах, на праздниках и др.","Ребенок имеет представление о правилах безопасного использования цифровых ресурсов (мобильного телефона, планшета)","Ребенок имеет представление об элементарных правилах оказания первой помощи при первых признаках недомогания, травмах, ушибах","Ребенок проявляет самостоятельность при выполнении правил безопасного поведения","Ребенок владеет речью как средством коммуникации, ведет диалог, владеет коммуникативно-речевыми умениями","Ребенок подбирает точные слова для выражения мысли","Ребенок выполняет операцию классификации – деления освоенных понятий на группы на основе выявленных признаков","Ребенок использует в речи средства языковой выразительности: антонимы, синонимы, многозначные слова, метафоры, олицетворение","Ребенок образует сложные слова посредством слияния основ","Ребенок согласует в речи существительные с числительными, существительные с прилагательными","Ребенок образует по образцу существительные с суффиксами, глаголы с приставками","Ребенок образует в речи сравнительную и превосходную степени имен прилагательных","Ребенок правильно произносит все звуки","Ребенок может пересказать литературное произведение по ролям, близко к тексту, от лица литературного героя","Ребенок может составить описательный рассказ, соблюдая структуру описания","Ребенок может составить повествовательный рассказ по картине, из личного опыта, из коллективного опыта, по набору игрушек, соблюдая структуру повествования","Ребенок может составить рассказ -контаминацию (сочетание описания и повествования, описания и рассуждения)","Ребенок использует в процессе общения объяснительную речь, речь-доказательство, речевое планирование","Ребенок знает и осмысленно воспринимает литературные произведения различных жанров, имеет предпочтения","Ребенок определяет характеры персонажей, мотивы их поведения, оценивает поступки литературных героев","Ребенок проявляет интерес к книгам познавательного характера","Ребенок производит звуковой анализ четырехзвуковых и пятизвуковых слов","Ребенок может интонационно выделить звуки в слове, определить их последовательность, дать им характеристику, составить схему слова, выделить ударный гласный звук в слове","Ребенок может определить количество и последовательность слов в предложении","Ребенок может составить предложение с заданным количеством слов","Ребенок знает названия всех букв","Ребенок читает слоги","Ребенок различает и называет",{"$nulls":8},"Ребенок умеет считать в пределах 10 в прямом и обратном порядке","Ребенок знает состав чисел из двух меньших в пределах первого десятка","Ребенок решает простые арифметические задачи на сложение и вычитание","Ребенок имеет представление о календаре, как системе измерения времени","Ребенок умеет определять время по часам с точностью до четверти часа","Ребенок ориентируется на местности, по схеме, по плану","Ребенок знает способы ориентировки в двухмерном пространстве","Ребенок умеет измерять протяженность, массу и объем с помощью условной мерки; понимает взаимообратные отношения между мерой и результатом измерения","Ребенок сравнивает предметы по 4-6 основаниям с выделением сходства, отличия",{"$nulls":9},"Ребенок имеет представление об использовании человеком свойств неживой природы для хозяйственных нужд (ветряные мельницы, водохранилища, солнечные батареи, ледяные катки)",{"$nulls":3},"Ребенок выполняет различные упражнения с мячом, метание",null,"Ребенок выполняет разные виды ползанья, лазанья ",null,null,"Ребенок выполняет различные виды ходьбы",null,null,"Ребенок выполняет различные виды бега",null,null,"Ребенок выполняет различные виды прыжков",{"$nulls":3},"Ребенок выполняет",null,"Ребенок выполняет разные виды перестроений, построений, передвижений, размыкание и смыкание приставным шагом, повороты","Ребенок может рассчитаться на «первый – второй»",{"$nulls":16},"Ребенок владеет навыками личной гигиены","Ребенок владеет навыками культуры еды","Ребенок владеет навыками поддержания порядка","Ребенок владеет навыками ухода за собой",{"$nulls":7},"У ребенка развит навык восприятия звуков по высоте в пределах квинты-терции","У ребенка развиты певческий голос и вокально-слуховая координация","Ребёнок ритмично и выразительно двигается в соответствие с характером музыки","Ребенок способен самостоятельно придумать мелодию, используя в качестве образца русские народные песни","Ребенок может сыграть простую мелодию на металлофоне, свирели, ударных, и электронных музыкальных инструментах: трещотках, погремушках, треугольниках","Ребенок может исполнить музыкальное произведение в оркестре и в ансамбле","Ребенок проявляет самостоятельность при выборе литературного и музыкального материала для театральной постановки","Ребенок проявляет инициативу при изготовлении атрибутов и декораций к спектаклю","Ребенок имеет представление о средствах погружения в театральные образы (музыка, слова, декорации, грим, костюм и др.)","Ребенок умеет выразительно передавать образы в действии, мимике, пантомимике","Ребенок проявляет активность в доступных видах музыкальной исполнительской деятельности (игра в оркестре, пение, танцевальные движения и др.)","Ребенок помогает придумывать движения, отражающие содержание песни",null,"Ребенок может изобразить предметы по памяти и с натуры, передает их средствами рисунка (форма, пропорции, расположение)","Ребенок способен передавать в рисунке сюжет, строить композицию","Ребенок свободно использует приемы лепки, освоенные ранее (налеп, углубленный рельеф), применяет стеку","Ребенок умеет передавать пропорции, соотношение по величине, выразительность поз, движений, деталей","Ребенок умеет составлять узоры и декоративные композиции из геометрических и растительных элементов на листах бумаги разной формы","Ребенок может выполнить вырезание (симметричное из бумаги, сложенной вдвое; несколько предметов из частей бумаги, сложенной гармошкой)","Ребенок умеет создавать узоры по мотивам народных росписей","Ребенок может сложить бумагу в разных направлениях","Ребенок может сделать разметку с помощью шаблона","Ребенок может выполнить работу по образцу","Ребенок может создать объемную игрушку в технике «оригами»","Ребенок может создать объемную поделку из природного материала","Ребенок может вдеть нитку в иголку, завязать узелок, пришить пуговицу, петельку, выполнить шов «вперед иголка»","Ребенок умеет выделять, называть, группировать произведения по видам искусства: литература, музыка, изобразительное искусство, архитектура, театр, цирк","Ребенок имеет представление о видах изобразительного искусства: графика, декоративно-прикладное искусство, живопись, скульптура, архитектура, фотоискусство","Ребенок имеет представление о жанрах изобразительного искусства: натюрморт, пейзаж, портрет","Ребенок имеет представление о народном искусстве, фольклоре, музыке и художественных промыслах","Ребенок имеет представление о творческих профессиях: художник, композитор, музыкант, актер, артист балета","Ребенок имеет представление о культурно-досуговых местах: театр, музей, библиотека, выставка, кинотеатр, цирк и др.","Ребенок может провести анализ постройки (выделить основные части и характерные детали конструкций)","Ребенок может выполнить постройку по инструкции"]
[null,"Ребенок осознает и признает собственные ошибки, результат поставленных задач, определяет пути развития","Ребенок умеет договариваться и дружить, старается разрешать конфликтные ситуации конструктивными способами","Ребенок способен принимать собственные решения и проявлять инициативу","Ребенок осознанно относится к своему будущему, стремится быть полезным обществу","Ребенок без напоминаний использует в общении формулы словесной вежливости (приветствие, прощание, просьбы, извинения)","Ребенок без напоминаний использует в общении формулы словесной вежливости (приветствие, прощание, просьбы, извинения)","Ребенок понимает чувства и переживания окружающих по невербальным признакам; находит причины и следствия возникновения эмоций, проявляет эмпатию","Ребенок использует социально приемлемые способы проявления эмоций и доступные возрасту регуляции эмоциональных состояний","Ребенок распознает собственные чувства и эмоции, анализирует свои переживания и рассказывает о них","Ребенок самостоятельно соблюдает установленный порядок поведения в группе, регулирует собственную активность","Ребенок имеет представление о необходимости укрепления связи между поколениями, взаимной поддержке детей и взрослых","Ребенок имеет представление о семье, семейных и родственных отношениях (взаимные чувства, правила общения в семье, значимые и памятные события, досуг семьи, семейный бюджет)","Ребенок умеет сотрудничать со сверстниками (побуждает к обсуждению планов, советуется, поддерживает интерес к мнению, инициирует ситуации взаимопомощи, подчеркивает ценность каждого ребенка и его вклад в общее дело, выбирает партнеров по интересам, помогает устанавливать темп совместных действий)","Ребенок владеет разными способами и видами игры, различает условную и реальную ситуации, предлагает и объясняет замысел игры, комбинирует сюжеты на основе реальных, вымышленных ситуаций, выполняет несколько ролей в одной игре, подбирает разные средства для создания игровых образов, согласовывает свои интересы с интересами партнёров по игре",{"$nulls":39}," все цвета спектра и ахроматические цвета, оттенки","плоские и объемные геометрические фигуры; умеет выделять структуру геометрических фигур и устанавливать взаимосвязи между ними","Ребенок умеет классифицировать фигуры по внешним структурным признаками (округлые, многоугольники)","Ребенок владеет различными способами видоизменения геометрических фигур (наложение, соединение, разрезание и др.)","Ребенок умеет измерять длину, ширину, высоту с помощью условной мерки",{"$nulls":13}," о родном населенном пункте (название улиц, некоторых архитектурных особенностях, достопримечательностях), об истории, о выдающихся горожанах, традициях городской жизни"," о назначении общественных учреждений"," о разных видах специального транспорта"," о местах труда людей (завод, больница, магазин и др.)"," о местах отдыха людей","Ребенок имеет представление о наиболее ярких представителях животных и растений разных природных зон (пустыня, степь, тайга, тундра и др.), об их образе жизни, приспособлении к среде обитания, изменениях в жизни в разные сезоны года","Ребенок имеет представление о многообразии водных ресурсов (моря, океаны, реки, водопады и др.)","Ребенок имеет представление о многообразии полезных ископаемых (нефть, уголь, серебро, золото, алмазы и др.)","Ребенок имеет представление о жизненных потребностях, этапах роста и развития животных и растений",null,"Ребенок имеет представление о некоторых небесных телах (планеты, кометы, звезды)",null,null,"бросание вверх, о землю, ловля двумя руками, одной рукой, перебрасывание, передача, прокатывание, забрасывание, ведение","в цель из положения стоя, вдаль, в движущеюся цель","ползанье на четвереньках, на животе, на спине","влезание на гимнастическую стенку и спуск; перелезание с пролета на пролет по диагонали","лазанье по веревочной лестнице; выполнение упражнений на канате","обычная, гимнастическим шагом, скрестным шагом, спиной вперед, выпадами, с закрытыми глазами","приставными шагами назад, в приседе, с различными движениями рук","в различных построениях","в колонне по одному, врассыпную, парами, тройками, четверками","в сочетание с прыжками, высоко поднимая колени, захлестывая голени назад, выбрасывая прямые ноги вперед","челночный, наперегонки, из разных исходных положений, со скакалкой, по пересеченной местности, с наименьшим числом шагов, медленный, быстрый","подпрыгивания на двух ногах в чередовании с ходьбой, на месте и с поворот кругом","смещая ноги вправо-влево-вперед-назад","выпрыгивание на предметы; подпрыгивания вверх из глубокого приседа; прыжки на одной ноге","в длину с места/с разбега, в высоту с места/с разбега","стойка на носках, стойка на одной ноге с закрытыми глазами","кружение с закрытыми глазами, остановкой и сохранением заданной позы"]
["начало года",{"$f":"'Соц.ком.к 7г ч1 Н.г.'!E39","v":0},{"$f":"'Соц.ком.к 7г ч1 Н.г.'!F39","v":0},{"$f":"'Соц.ком.к 7г ч1 Н.г.'!G39","v":0},{"$f":"'Соц.ком.к 7г ч1 Н.г.'!H39","v":0},{"$f":"'Соц.ком.к 7г ч1 Н.г.'!I39","v":0},{"$f":"'Соц.ком.к 7г ч1 Н.г.'!J39","v":0},{"$f":"'Соц.ком.к 7г ч1 Н.г.'!K39","v":0},{"$f":"'Соц.ком.к 7г ч1 Н.г.'!L39","v":0},{"$f":"'Соц.ком.к 7г ч1 Н.г.'!M39","v":0},{"$f":"'Соц.ком.к 7г ч1 Н.г.'!N39","v":0},{"$f":"'Соц.ком.к 7г ч2 Н.г.'!E39","v":0},{"$f":"'Соц.ком.к 7г ч2 Н.г.'!F39","v":0},{"$f":"'Соц.ком.к 7г ч2 Н.г.'!G39","v":0},{"$f":"'Соц.ком.к 7г ч2 Н.г.'!H39","v":0},{"$f":"'Соц.ком.к 7г ч2 Н.г.'!I39","v":0},{"$f":"'Соц.ком.к 7г ч2 Н.г.'!J39","v":0},{"$f":"'Соц.ком.к 7г ч2 Н.г.'!K39","v":0},{"$f":"'Соц.ком. к 7г ч3 Н.г.'!E39","v":0},{"$f":"'Соц.ком. к 7г ч3 Н.г.'!F39","v":0},{"$f":"'Соц.ком. к 7г ч3 Н.г.'!G39","v":0},{"$f":"'Соц.ком. к 7г ч3 Н.г.'!H39","v":0},{"$f":"'Соц.ком. к 7г ч3 Н.г.'!I39","v":0},{"$f":"'Соц.ком. к 7г ч3 Н.г.'!J39","v":0},{"$f":"'Соц.ком. к 7г ч3 Н.г.'!K39","v":0},{"$f":"'Соц.ком. к 7г ч3 Н.г.'!L39","v":0},{"$f":"'Соц.ком. к 7г ч4 Н.г.'!E39","v":0},{"$f":"'Соц.ком. к 7г ч4 Н.г.'!F39","v":0},{"$f":"'Соц.ком. к 7г ч4 Н.г.'!G39","v":0},{"$f":"'Соц.ком. к 7г ч4 Н.г.'!H39","v":0},{"$f":"'Соц.ком. к 7г ч4 Н.г.'!I39","v":0},{"$f":"'Реч.разв.к 7г ч1 Н.г.'!E39","v":0},{"$f":"'Реч.разв.к 7г ч1 Н.г.'!F39","v":0},{"$f":"'Реч.разв.к 7г ч1 Н.г.'!G39","v":0},{"$f":"'Реч.разв.к 7г ч1 Н.г.'!H39","v":0},{"$f":"'Реч.разв.к 7г ч1 Н.г.'!I39","v":0},{"$f":"'Реч.разв.к 7г ч1 Н.г.'!J39","v":0},{"$f":"'Реч.разв.к 7г ч1 Н.г.'!K39","v":0},{"$f":"'Реч.разв.к 7г ч1 Н.г.'!L39","v":0},{"$f":"'Реч.разв.к 7г ч2 Н.г.'!E39","v":0},{"$f":"'Реч.разв.к 7г ч2 Н.г.'!F39","v":0},{"$f":"'Реч.разв.к 7г ч2 Н.г.'!G39","v":0},{"$f":"'Реч.разв.к 7г ч2 Н.г.'!H39","v":0},{"$f":"'Реч.разв.к 7г ч2 Н.г.'!I39","v":0},{"$f":"'Реч.разв.к 7г ч2 Н.г.'!J39","v":0},{"$f":"'Реч.разв.к 7г ч2 Н.г.'!K39","v":0},{"$f":"'Реч.разв.к 7г ч2 Н.г.'!L39","v":0},{"$f":"'Реч.разв.к 7г ч2 Н.г.'!M39","v":0},{"$f":"'Реч.разв.к 7г ч3. Н.г.'!E39","v":0},{"$f":"'Реч.разв.к 7г ч3. Н.г.'!F39","v":0},{"$f":"'Реч.разв.к 7г ч3. Н.г.'!G39","v":0},{"$f":"'Реч.разв.к 7г ч3. Н.г.'!H39","v":0},{"$f":"'Реч.разв.к 7г ч3. Н.г.'!I39","v":0},{"$f":"'Реч.разв.к 7г ч3. Н.г.'!J39","v":0},{"$f":"'Позн.разв. к 7г ч1. Н.г.'!E40","v":0},{"$f":"'Позн.разв. к 7г ч1. Н.г.'!F40","v":0},{"$f":"'Позн.разв. к 7г ч1. Н.г.'!G40","v":0},{"$f":"'Позн.разв. к 7г ч1. Н.г.'!H40","v":0},{"$f":"'Позн.разв. к 7г ч1. Н.г.'!I40","v":0},{"$f":"'Позн.разв. к 7г ч1. Н.г.'!J40","v":0},{"$f":"'Позн.разв. к 7г ч1. Н.г.'!K40","v":0},{"$f":"'Позн.разв. к 7г ч1. Н.г.'!L40","v":0},{"$f":"'Позн.разв. к 7г ч1. Н.г.'!M40","v":0},{"$f":"'Позн.разв. к 7г ч2. Н.г.'!E40","v":0},{"$f":"'Позн.разв. к 7г ч2. Н.г.'!F40","v":0},{"$f":"'Позн.разв. к 7г ч2. Н.г.'!G40","v":0},{"$f":"'Позн.разв. к 7г ч2. Н.г.'!H40","v":0},{"$f":"'Позн.разв. к 7г ч2. Н.г.'!I40","v":0},{"$f":"'Позн.разв. к 7г ч2. Н.г.'!J40","v":0},{"$f":"'Позн.разв. к 7г ч2. Н.г.'!K40","v":0},{"$f":"'Позн.разв. к 7г ч2. Н.г.'!L40","v":0},{"$f":"'Позн.разв. к 7г ч2. Н.г.'!M40","v":0},{"$f":"'Позн.разв. к 7г ч3. Н.г.'!E40","v":0},{"$f":"'Позн.разв. к 7г ч3. Н.г.'!F40","v":0},{"$f":"'Позн.разв. к 7г ч3. Н.г.'!G40","v":0},{"$f":"'Позн.разв. к 7г ч3. Н.г.'!H40","v":0},{"$f":"'Позн.разв. к 7г ч3. Н.г.'!I40","v":0},{"$f":"'Позн.разв. к 7г ч3. Н.г.'!J40","v":0},{"$f":"'Позн.разв. к 7г ч3. Н.г.'!K40","v":0},{"$f":"'Позн.разв. к 7г ч3. Н.г.'!L40","v":0},{"$f":"'Позн.разв. к 7г ч3. Н.г.'!M40","v":0},{"$f":"'Позн.разв. к 7г ч3. Н.г.'!N40","v":0},{"$f":"'Позн.разв. к 7г ч3. Н.г.'!O40","v":0},{"$f":"'Позн.разв. к 7г ч3. Н.г.'!P40","v":0},{"$f":"'Позн.разв. к 7г ч3. Н.г.'!Q40","v":0},{"$f":"'Физ.разв. к 7г ч1. Н.г.'!E40","v":0},{"$f":"'Физ.разв. к 7г ч1. Н.г.'!F40","v":0},{"$f":"'Физ.разв. к 7г ч1. Н.г.'!G40","v":0},{"$f":"'Физ.разв. к 7г ч1. Н.г.'!H40","v":0},{"$f":"'Физ.разв. к 7г ч1. Н.г.'!I40","v":0},{"$f":"'Физ.разв. к 7г ч1. Н.г.'!J40","v":0},{"$f":"'Физ.разв. к 7г ч1. Н.г.'!K40","v":0},{"$f":"'Физ.разв. к 7г ч1. Н.г.'!L40","v":0},{"$f":"'Физ.разв. к 7г ч1. Н.г.'!M40","v":0},{"$f":"'Физ.разв. к 7г ч1. Н.г.'!N40","v":0},{"$f":"'Физ.разв. к 7г ч1. Н.г.'!O40","v":0},{"$f":"'Физ.разв. к 7г ч1. Н.г.'!P40","v":0},{"$f":"'Физ.разв. к 7г ч1. Н.г.'!Q40","v":0},{"$f":"'Физ.разв. к 7г ч1. Н.г.'!R40","v":0},{"$f":"'Физ.разв. к 7г ч1. Н.г.'!S40","v":0},{"$f":"'Физ.разв. к 7г ч1. Н.г.'!T40","v":0},{"$f":"'Физ.разв. к 7г ч1. Н.г.'!U40","v":0},{"$f":"'Физ.разв. к 7г ч1. Н.г.'!V40","v":0},{"$f":"'Физ.разв. к 7г ч1. Н.г.'!W40","v":0},{"$f":"'Физ.разв. к 7г ч2. Н.г.'!E41","v":0},{"$f":"'Физ.разв. к 7г ч2. Н.г.'!F41","v":0},{"$f":"'Физ.разв. к 7г ч2. Н.г.'!G41","v":0},{"$f":"'Физ.разв. к 7г ч2. Н.г.'!H41","v":0},{"$f":"'Физ.разв. к 7г ч2. Н.г.'!I41","v":0},{"$f":"'Физ.разв. к 7г ч2. Н.г.'!J41","v":0},{"$f":"'Физ.разв. к 7г ч2. Н.г.'!K41","v":0},{"$f":"'Физ.разв. к 7г ч2. Н.г.'!L41","v":0},{"$f":"'Физ.разв. к 7г ч2. Н.г.'!M41","v":0},{"$f":"'Физ.разв. к 7г ч2. Н.г.'!N41","v":0},{"$f":"'Физ.разв. к 7г ч2. Н.г.'!O41","v":0},{"$f":"'Физ.разв. к 7г ч2. Н.г.'!P41","v":0},{"$f":"'Физ.разв. к 7г ч2. Н.г.'!Q41","v":0},{"$f":"'Физ.разв. к 7г ч2. Н.г.'!R41","v":0},{"$f":"'Физ.разв. к 7г ч2. Н.г.'!S41","v":0},{"$f":"'Физ.разв. к 7г ч2. Н.г.'!T41","v":0},{"$f":"'Физ.разв. к 7г ч3. Н.г.'!E41","v":0},{"$f":"'Физ.разв. к 7г ч3. Н.г.'!F41","v":0},{"$f":"'Физ.разв. к 7г ч3. Н.г.'!G41","v":0},{"$f":"'Физ.разв. к 7г ч3. Н.г.'!H41","v":0},{"$f":"'Физ.разв. к 7г ч3. Н.г.'!I41","v":0},{"$f":"'Физ.разв. к 7г ч3. Н.г.'!J41","v":0},{"$f":"'Физ.разв. к 7г ч3. Н.г.'!K41","v":0},{"$f":"'Физ.разв. к 7г ч3. Н.г.'!L41","v":0},{"$f":"'Физ.разв. к 7г ч3. Н.г.'!M41","v":0},{"$f":"'Физ.разв. к 7г ч3. Н.г.'!N41","v":0},{"$f":"'Физ.разв. к 7г ч3. Н.г.'!O41","v":0},{"$f":"'Худ.эст.к 7г ч1. Н.г.'!E40","v":0},{"$f":"'Худ.эст.к 7г ч1. Н.г.'!F40","v":0},{"$f":"'Худ.эст.к 7г ч1. Н.г.'!G40","v":0},{"$f":"'Худ.эст.к 7г ч1. Н.г.'!H40","v":0},{"$f":"'Худ.эст.к 7г ч1. Н.г.'!I40","v":0},{"$f":"'Худ.эст.к 7г ч1. Н.г.'!J40","v":0},{"$f":"'Худ.эст.к 7г ч1. Н.г.'!K40","v":0},{"$f":"'Худ.эст.к 7г ч1. Н.г.'!L40","v":0},{"$f":"'Худ.эст.к 7г ч1. Н.г.'!M40","v":0},{"$f":"'Худ.эст.к 7г ч1. Н.г.'!N40","v":0},{"$f":"'Худ.эст.к 7г ч1. Н.г.'!O40","v":0},{"$f":"'Худ.эст.к 7г ч1. Н.г.'!P40","v":0},{"$f":"'Худ.эст.к 7г ч1. Н.г.'!Q40","v":0},{"$f":"'Худ.эст.к 7г ч2. Н.г.'!E40","v":0},{"$f":"'Худ.эст.к 7г ч2. Н.г.'!F40","v":0},{"$f":"'Худ.эст.к 7г ч2. Н.г.'!G40","v":0},{"$f":"'Худ.эст.к 7г ч2. Н.г.'!H40","v":0},{"$f":"'Худ.эст.к 7г ч2. Н.г.'!I40","v":0},{"$f":"'Худ.эст.к 7г ч2. Н.г.'!J40","v":0},{"$f":"'Худ.эст.к 7г ч2. Н.г.'!K40","v":0},{"$f":"'Худ.эст.к 7г ч2. Н.г.'!L40","v":0},{"$f":"'Худ.эст.к 7г ч2. Н.г.'!M40","v":0},{"$f":"'Худ.эст.к 7г ч2. Н.г.'!N40","v":0},{"$f":"'Худ.эст.к 7г ч2. Н.г.'!O40","v":0},{"$f":"'Худ.эст.к 7г ч2. Н.г.'!P40","v":0},{"$f":"'Худ.эст.к 7г ч2. Н.г.'!Q40","v":0},{"$f":"'Худ.эст.к 7г ч3. Н.г.'!E40","v":0},{"$f":"'Худ.эст.к 7г ч3. Н.г.'!F40","v":0},{"$f":"'Худ.эст.к 7г ч3. Н.г.'!G40","v":0},{"$f":"'Худ.эст.к 7г ч3. Н.г.'!H40","v":0},{"$f":"'Худ.эст.к 7г ч3. Н.г.'!I40","v":0},{"$f":"'Худ.эст.к 7г ч3. Н.г.'!J40","v":0},{"$f":"'Худ.эст.к 7г ч3. Н.г.'!K40","v":0},{"$f":"'Худ.эст.к 7г ч3. Н.г.'!L40","v":0}]
["конец года",{"$f":"'Соц.ком.к 7г ч1 К.г.'!E39","v":0},{"$f":"'Соц.ком.к 7г ч1 К.г.'!F39","v":0},{"$f":"'Соц.ком.к 7г ч1 К.г.'!G39","v":0},{"$f":"'Соц.ком.к 7г ч1 К.г.'!H39","v":0},{"$f":"'Соц.ком.к 7г ч1 К.г.'!I39","v":0},{"$f":"'Соц.ком.к 7г ч1 К.г.'!J39","v":0},{"$f":"'Соц.ком.к 7г ч1 К.г.'!K39","v":0},{"$f":"'Соц.ком.к 7г ч1 К.г.'!L39","v":0},{"$f":"'Соц.ком.к 7г ч1 К.г.'!M39","v":0},{"$f":"'Соц.ком.к 7г ч1 К.г.'!N39","v":0},{"$f":"'Соц.ком.к 7г ч2 К.г.'!E39","v":0},{"$f":"'Соц.ком.к 7г ч2 К.г.'!F39","v":0},{"$f":"'Соц.ком.к 7г ч2 К.г.'!G39","v":0},{"$f":"'Соц.ком.к 7г ч2 К.г.'!H39","v":0},{"$f":"'Соц.ком.к 7г ч2 К.г.'!I39","v":0},{"$f":"'Соц.ком.к 7г ч2 К.г.'!J39","v":0},{"$f":"'Соц.ком.к 7г ч2 К.г.'!K39","v":0},{"$f":"'Соц.ком. к 7г ч3 К.г.'!E39","v":0},{"$f":"'Соц.ком. к 7г ч3 К.г.'!F39","v":0},{"$f":"'Соц.ком. к 7г ч3 К.г.'!G39","v":0},{"$f":"'Соц.ком. к 7г ч3 К.г.'!H39","v":0},{"$f":"'Соц.ком. к 7г ч3 К.г.'!I39","v":0},{"$f":"'Соц.ком. к 7г ч3 К.г.'!J39","v":0},{"$f":"'Соц.ком. к 7г ч3 К.г.'!K39","v":0},{"$f":"'Соц.ком. к 7г ч3 К.г.'!L39","v":0},{"$f":"'Соц.ком. к 7г ч4 К.г.'!E39","v":0},{"$f":"'Соц.ком. к 7г ч4 К.г.'!F39","v":0},{"$f":"'Соц.ком. к 7г ч4 К.г.'!G39","v":0},{"$f":"'Соц.ком. к 7г ч4 К.г.'!H39","v":0},{"$f":"'Соц.ком. к 7г ч4 К.г.'!I39","v":0},{"$f":"'Реч.разв.к 7г ч1 К.г.'!E39","v":0},{"$f":"'Реч.разв.к 7г ч1 К.г.'!F39","v":0},{"$f":"'Реч.разв.к 7г ч1 К.г.'!G39","v":0},{"$f":"'Реч.разв.к 7г ч1 К.г.'!H39","v":0},{"$f":"'Реч.разв.к 7г ч1 К.г.'!I39","v":0},{"$f":"'Реч.разв.к 7г ч1 К.г.'!J39","v":0},{"$f":"'Реч.разв.к 7г ч1 К.г.'!K39","v":0},{"$f":"'Реч.разв.к 7г ч1 К.г.'!L39","v":0},{"$f":"'Реч.разв.к 7г ч2 К.г. '!E39","v":0},{"$f":"'Реч.разв.к 7г ч2 К.г. '!F39","v":0},{"$f":"'Реч.разв.к 7г ч2 К.г. '!G39","v":0},{"$f":"'Реч.разв.к 7г ч2 К.г. '!H39","v":0},{"$f":"'Реч.разв.к 7г ч2 К.г. '!I39","v":0},{"$f":"'Реч.разв.к 7г ч2 К.г. '!J39","v":0},{"$f":"'Реч.разв.к 7г ч2 К.г. '!K39","v":0},{"$f":"'Реч.разв.к 7г ч2 К.г. '!L39","v":0},{"$f":"'Реч.разв.к 7г ч2 К.г. '!M39","v":0},{"$f":"'Реч.разв.к 7г ч3. К.г. '!E39","v":0},{"$f":"'Реч.разв.к 7г ч3. К.г. '!F39","v":0},{"$f":"'Реч.разв.к 7г ч3. К.г. '!G39","v":0},{"$f":"'Реч.разв.к 7г ч3. К.г. '!H39","v":0},{"$f":"'Реч.разв.к 7г ч3. К.г. '!I39","v":0},{"$f":"'Реч.разв.к 7г ч3. К.г. '!J39","v":0},{"$f":"'Позн.разв. к 7г ч1. К.г. '!E40","v":0},{"$f":"'Позн.разв. к 7г ч1. К.г. '!F40","v":0},{"$f":"'Позн.разв. к 7г ч1. К.г. '!G40","v":0},{"$f":"'Позн.разв. к 7г ч1. К.г. '!H40","v":0},{"$f":"'Позн.разв. к 7г ч1. К.г. '!I40","v":0},{"$f":"'Позн.разв. к 7г ч1. К.г. '!J40","v":0},{"$f":"'Позн.разв. к 7г ч1. К.г. '!K40","v":0},{"$f":"'Позн.разв. к 7г ч1. К.г. '!L40","v":0},{"$f":"'Позн.разв. к 7г ч1. К.г. '!M40","v":0},{"$f":"'Позн.разв. к 7г ч2. К.г.'!E40","v":0},{"$f":"'Позн.разв. к 7г ч2. К.г.'!F40","v":0},{"$f":"'Позн.разв. к 7г ч2. К.г.'!G40","v":0},{"$f":"'Позн.разв. к 7г ч2. К.г.'!H40","v":0},{"$f":"'Позн.разв. к 7г ч2. К.г.'!I40","v":0},{"$f":"'Позн.разв. к 7г ч2. К.г.'!J40","v":0},{"$f":"'Позн.разв. к 7г ч2. К.г.'!K40","v":0},{"$f":"'Позн.разв. к 7г ч2. К.г.'!L40","v":0},{"$f":"'Позн.разв. к 7г ч2. К.г.'!M40","v":0},{"$f":"'Позн.разв. к 7г ч3. К.г. '!E40","v":0},{"$f":"'Позн.разв. к 7г ч3. К.г. '!F40","v":0},{"$f":"'Позн.разв. к 7г ч3. К.г. '!G40","v":0},{"$f":"'Позн.разв. к 7г ч3. К.г. '!H40","v":0},{"$f":"'Позн.разв. к 7г ч3. К.г. '!I40","v":0},{"$f":"'Позн.разв. к 7г ч3. К.г. '!J40","v":0},{"$f":"'Позн.разв. к 7г ч3. К.г. '!K40","v":0},{"$f":"'Позн.разв. к 7г ч3. К.г. '!L40","v":0},{"$f":"'Позн.разв. к 7г ч3. К.г. '!M40","v":0},{"$f":"'Позн.разв. к 7г ч3. К.г. '!N40","v":0},{"$f":"'Позн.разв. к 7г ч3. К.г. '!O40","v":0},{"$f":"'Позн.разв. к 7г ч3. К.г. '!P40","v":0},{"$f":"'Позн.разв. к 7г ч3. К.г. '!Q40","v":0},{"$f":"'Физ.разв. к 7г ч1. К.г. '!E40","v":0},{"$f":"'Физ.разв. к 7г ч1. К.г. '!F40","v":0},{"$f":"'Физ.разв. к 7г ч1. К.г. '!G40","v":0},{"$f":"'Физ.разв. к 7г ч1. К.г. '!H40","v":0},{"$f":"'Физ.разв. к 7г ч1. К.г. '!I40","v":0},{"$f":"'Физ.разв. к 7г ч1. К.г. '!J40","v":0},{"$f":"'Физ.разв. к 7г ч1. К.г. '!K40","v":0},{"$f":"'Физ.разв. к 7г ч1. К.г. '!L40","v":0},{"$f":"'Физ.разв. к 7г ч1. К.г. '!M40","v":0},{"$f":"'Физ.разв. к 7г ч1. К.г. '!N40","v":0},{"$f":"'Физ.разв. к 7г ч1. К.г. '!O40","v":0},{"$f":"'Физ.разв. к 7г ч1. К.г. '!P40","v":0},{"$f":"'Физ.разв. к 7г ч1. К.г. '!Q40","v":0},{"$f":"'Физ.разв. к 7г ч1. К.г. '!R40","v":0},{"$f":"'Физ.разв. к 7г ч1. К.г. '!S40","v":0},{"$f":"'Физ.разв. к 7г ч1. К.г. '!T40","v":0},{"$f":"'Физ.разв. к 7г ч1. К.г. '!U40","v":0},{"$f":"'Физ.разв. к 7г ч1. К.г. '!V40","v":0},{"$f":"'Физ.разв. к 7г ч1. К.г. '!W40","v":0},{"$f":"'Физ.разв. к 7г ч2. К.г.'!E41","v":0},{"$f":"'Физ.разв. к 7г ч2. К.г.'!F41","v":0},{"$f":"'Физ.разв. к 7г ч2. К.г.'!G41","v":0},{"$f":"'Физ.разв. к 7г ч2. К.г.'!H41","v":0},{"$f":"'Физ.разв. к 7г ч2. К.г.'!I41","v":0},{"$f":"'Физ.разв. к 7г ч2. К.г.'!J41","v":0},{"$f":"'Физ.разв. к 7г ч2. К.г.'!K41","v":0},{"$f":"'Физ.разв. к 7г ч2. К.г.'!L41","v":0},{"$f":"'Физ.разв. к 7г ч2. К.г.'!M41","v":0},{"$f":"'Физ.разв. к 7г ч2. К.г.'!N41","v":0},{"$f":"'Физ.разв. к 7г ч2. К.г.'!O41","v":0},{"$f":"'Физ.разв. к 7г ч2. К.г.'!P41","v":0},{"$f":"'Физ.разв. к 7г ч2. К.г.'!Q41","v":0},{"$f":"'Физ.разв. к 7г ч2. К.г.'!R41","v":0},{"$f":"'Физ.разв. к 7г ч2. К.г.'!S41","v":0},{"$f":"'Физ.разв. к 7г ч2. К.г.'!T41","v":0},{"$f":"'Физ.разв. к 7г ч3. К.г. '!E41","v":0},{"$f":"'Физ.разв. к 7г ч3. К.г. '!F41","v":0},{"$f":"'Физ.разв. к 7г ч3. К.г. '!G41","v":0},{"$f":"'Физ.разв. к 7г ч3. К.г. '!H41","v":0},{"$f":"'Физ.разв. к 7г ч3. К.г. '!I41","v":0},{"$f":"'Физ.разв. к 7г ч3. К.г. '!J41","v":0},{"$f":"'Физ.разв. к 7г ч3. К.г. '!K41","v":0},{"$f":"'Физ.разв. к 7г ч3. К.г. '!L41","v":0},{"$f":"'Физ.разв. к 7г ч3. К.г. '!M41","v":0},{"$f":"'Физ.разв. к 7г ч3. К.г. '!N41","v":0},{"$f":"'Физ.разв. к 7г ч3. К.г. '!O41","v":0},{"$f":"'Худ.эст.к 7г ч1. К.г. '!E40","v":0},{"$f":"'Худ.эст.к 7г ч1. К.г. '!F40","v":0},{"$f":"'Худ.эст.к 7г ч1. К.г. '!G40","v":0},{"$f":"'Худ.эст.к 7г ч1. К.г. '!H40","v":0},{"$f":"'Худ.эст.к 7г ч1. К.г. '!I40","v":0},{"$f":"'Худ.эст.к 7г ч1. К.г. '!J40","v":0},{"$f":"'Худ.эст.к 7г ч1. К.г. '!K40","v":0},{"$f":"'Худ.эст.к 7г ч1. К.г. '!L40","v":0},{"$f":"'Худ.эст.к 7г ч1. К.г. '!M40","v":0},{"$f":"'Худ.эст.к 7г ч1. К.г. '!N40","v":0},{"$f":"'Худ.эст.к 7г ч1. К.г. '!O40","v":0},{"$f":"'Худ.эст.к 7г ч1. К.г. '!P40","v":0},{"$f":"'Худ.эст.к 7г ч1. К.г. '!Q40","v":0},{"$f":"'Худ.эст.к 7г ч2. К.г. '!E40","v":0},{"$f":"'Худ.эст.к 7г ч2. К.г. '!F40","v":0},{"$f":"'Худ.эст.к 7г ч2. К.г. '!G40","v":0},{"$f":"'Худ.эст.к 7г ч2. К.г. '!H40","v":0},{"$f":"'Худ.эст.к 7г ч2. К.г. '!I40","v":0},{"$f":"'Худ.эст.к 7г ч2. К.г. '!J40","v":0},{"$f":"'Худ.эст.к 7г ч2. К.г. '!K40","v":0},{"$f":"'Худ.эст.к 7г ч2. К.г. '!L40","v":0},{"$f":"'Худ.эст.к 7г ч2. К.г. '!M40","v":0},{"$f":"'Худ.эст.к 7г ч2. К.г. '!N40","v":0},{"$f":"'Худ.эст.к 7г ч2. К.г. '!O40","v":0},{"$f":"'Худ.эст.к 7г ч2. К.г. '!P40","v":0},{"$f":"'Худ.эст.к 7г ч2. К.г. '!Q40","v":0},{"$f":"'Худ.эст.к 7г ч3. К.г. '!E40","v":0},{"$f":"'Худ.эст.к 7г ч3. К.г. '!F40","v":0},{"$f":"'Худ.эст.к 7г ч3. К.г. '!G40","v":0},{"$f":"'Худ.эст.к 7г ч3. К.г. '!H40","v":0},{"$f":"'Худ.эст.к 7г ч3. К.г. '!I40","v":0},{"$f":"'Худ.эст.к 7г ч3. К.г. '!J40","v":0},{"$f":"'Худ.эст.к 7г ч3. К.г. '!K40","v":0},{"$f":"'Худ.эст.к 7г ч3. К.г. '!L40","v":0}]

{"sheet":"30","index":67,"n_rows":7,"n_cols":165,"rows_kept":7,"merged":[[0,104,0,110],[0,111,0,112],[0,113,0,115],[0,116,0,119],[0,120,0,123],[0,124,0,126],[0,127,0,130],[1,54,1,58],[1,59,1,62],[1,63,1,71],[1,72,1,76],[1,77,1,84],[1,104,1,106],[1,107,1,110],[1,111,4,111],[1,112,4,112],[1,113,4,113],[1,114,4,114],[1,115,4,115],[1,116,1,119],[1,120,2,120],[1,121,2,121],[1,122,2,122],[1,123,2,123],[1,124,4,124],[1,125,4,125],[1,126,4,126],[1,127,1,130],[1,131,1,143],[1,144,1,156],[1,157,2,162],[1,163,2,164],[2,18,2,22],[2,23,2,25],[2,26,2,30],[2,32,2,34],[2,35,2,38],[2,40,2,44],[2,45,2,47],[2,48,2,53],[2,55,2,57],[2,59,4,59],[2,60,4,60],[2,61,4,61],[2,62,4,62],[2,63,2,65],[2,66,2,67],[2,68,2,69],[2,72,3,76],[2,77,2,80],[2,81,2,82],[2,83,4,83],[2,84,4,84],[2,85,2,86],[2,87,2,89],[2,90,2,92],[2,93,2,95],[2,96,2,99],[2,100,2,101],[2,102,2,103],[2,104,4,104],[2,105,4,105],[2,106,4,106],[2,107,4,107],[2,108,4,108],[2,109,4,109],[2,110,4,110],[2,116,4,116],[2,117,4,117],[2,118,4,118],[2,119,4,119],[2,127,4,127],[2,128,4,128],[2,129,4,129],[2,130,4,130],[2,135,2,136],[2,137,2,140],[2,141,2,142],[2,143,4,143],[2,144,2,145],[2,146,2,147],[2,148,2,149],[2,151,2,156],[3,0,4,0],[3,1,3,4],[3,7,3,9],[3,11,3,12],[3,13,3,14],[3,15,4,15],[3,16,4,16],[3,17,4,17],[3,18,4,18],[3,19,4,19],[3,20,4,20],[3,21,4,21],[3,22,4,22],[3,23,4,23],[3,24,4,24],[3,25,4,25],[3,26,4,26],[3,27,4,27],[3,28,4,28],[3,29,4,29],[3,30,4,30],[3,31,4,31],[3,32,4,32],[3,33,4,33],[3,34,4,34],[3,35,4,35],[3,36,4,36],[3,37,4,37],[3,38,4,38],[3,39,4,39],[3,40,4,40],[3,41,4,41],[3,42,4,42],[3,43,4,43],[3,44,4,44],[3,45,4,45],[3,46,4,46],[3,47,4,47],[3,48,4,48],[3,49,4,49],[3,50,4,50],[3,51,4,51],[3,52,4,52],[3,53,4,53],[3,54,3,58],[3,63,4,63],[3,64,4,64],[3,65,4,65],[3,66,4,66],[3,67,4,67],[3,68,4,68],[3,69,4,69],[3,70,4,70],[3,71,4,71],[3,81,4,81],[3,85,3,86],[3,87,3,89],[3,90,3,92],[3,93,3,95],[3,96,3,99],[3,100,3,101],[3,102,4,102],[3,103,4,103],[3,120,4,120],[3,121,4,121],[3,122,4,122],[3,123,4,123],[3,131,4,131],[3,132,4,132],[3,133,4,133],[3,134,4,134],[3,135,4,135],[3,136,4,136],[3,137,4,137],[3,138,4,138],[3,139,4,139],[3,140,4,140],[3,141,4,141],[3,142,4,142],[3,144,4,144],[3,145,4,145],[3,146,4,146],[3,147,4,147],[3,148,4,148],[3,149,4,149],[3,150,4,150],[3,151,4,151],[3,152,4,152],[3,153,4,153],[3,154,4,154],[3,155,4,155],[3,156,4,156],[3,157,4,157],[3,158,4,158],[3,159,4,159],[3,160,4,160],[3,161,4,161],[3,162,4,162],[3,163,4,163],[3,164,4,164]]}
[{"$nulls":104},"Мелкая моторика",{"$nulls":6},"Подвижные игры",null,"Спорт. игры",null,null,"Спортивные упражнения",{"$nulls":3},"КГН",{"$nulls":3},"ЗОЖ",null,null,"Спортивные упражнения"]
[{"$nulls":54},"Сенсорные эталоны ",{"$nulls":4},"Познавательные действия",{"$nulls":3},"Математические представления",{"$nulls":8},"Окружающий мир",{"$nulls":4},"Природа ",{"$nulls":26},"Координация рук и глаз",null,null,"Графические навыки",{"$nulls":3},"Ребенок использует в самостоятельной деятельности разнообразные по содержанию подвижные игры, проявляет элементы творчества в двигательной деятельности","Ребенок может организовать знакомые подвижные игры со сверстниками, сплотить команду, стремится внести свой вклад в результат команды","Ребенок владеет элементами спортивных игр (городки, баскетбол, футбол, хоккей, бадминтон, настольный теннис), может контролировать свои движения и управлять ими","Ребенок имеет представление о разных видах спорта (санный спорт, борьба, теннис, синхронное плавание и др.)","Ребенок имеет представление о спортивных событиях и достижениях отечественных спортсменов","Ребенок умеет кататься",{"$nulls":3},"Навыки соблюдения чистоты тела (правила личной гигиены)","Навыки культуры еды (прием пищи) ","Навыки поддержания порядка (правила поведения в быту) ","Навыки ухода за собой (одевание, раздевание) ","Ребенок соблюдает элементарные правила здорового образа жизни и личной гигиены, следит за своей осанкой, может оценить свое самочувствие","Ребенок регулярно выполняет физические упражнения","Ребенок имеет начальные представления о том, что такое здоровье, понимает, как поддержать, укрепить и сохранить его","Ребенок умеет кататься",{"$nulls":3},"Музыкальная деятельность",{"$nulls":12},"Изобразительная деятельность",{"$nulls":12},"Приобщение к искусству",{"$nulls":5},"Конструктивная деятельность"]
[{"$nulls":18},"Область формирования основ гражданственности и патриотизма",{"$nulls":4},"Сфера трудового воспитания",null,null,"Область формирования основ безопасного поведения",{"$nulls":4},"Общее речевое развитие","Формирование словаря",null,null,"Грамматический строй",{"$nulls":3},"Звуковая культура речи","Связная речь",{"$nulls":4},"ЧХЛ",null,null,"Подготовка к обучению грамоте",{"$nulls":5},"Цвет, оттенки","Форма, геометрические фигуры",null,null,"Величина","Ребенок самостоятельно выбирает способ осуществления разных видов познавательной деятельности","Ребенок интересуется субъективно новым и неизвестным в окружающем мире","Ребенок способен применять в жизненных и игровых ситуациях знания о количестве, форме, величине предметов, пространстве, времени","Ребенок имеет разнообразные познавательные умения: определяет противоречия. Формулирует задачу исследования, использует разные способы и средства проверки предположений (сравнение с эталонами, классификацию, систематизацию и др.)","Количество и счет",null,null,"Ориентировка во времени",null,"Ориентировка в пространстве",null,"Пространственно-количественные связи и отношения","Сравнение","Ребенок имеет представления, может показать на картинке и в естественной среде, может рассказать",{"$nulls":4},"Объекты живой природы",{"$nulls":3},"Объекты неживой природы, природные явления",null,"Ребенок стремится к самостоятельному экспериментированию","Ребенок знает правила поведения в природе, проявляет осознанное, бережное отношение к природе и ее ресурсам","Бросание, катание, ловля, метание",null,"Ползанье, лазанье",null,null,"Ходьба",null,null,"Бег",null,null,"Прыжки",{"$nulls":3},"Равновесие",null,"Строевые упражнения",null,"Ребенок выполняет графический диктант","Ребенок обводит по шаблону, по трафарету","Ребенок чертит линии с помощью линейки","Ребенок обводит по контуру, по точкам","Ребенок выполняет штриховку в различных направлениях","Ребенок закрашивает, не выходя за контур","Ребенок свободно владеет карандашом при рисовании округлых линий, завитков в разном направлении",{"$nulls":5},"на санках","на лыжах","на двухколесном велосипеде","на самокате",{"$nulls":7},"на санках","на лыжах","на двухколесном велосипеде","на самокате","Слушание","Пение ","Музыкально-ритмические движения","Песенное творчество","Игра на детских музыкальных инструментах",null,"Театрализованная деятельность",{"$nulls":3},"Танцевально-игровое творчество",null,"У ребенка развит музыкальный вкус, музыкальная память","Рисование ",null,"Лепка ",null,"Аппликация ",null,"Народное ДПИ","Прикладное творчество"]
[{"$f":"Список!B33","v":0},"Отношение к самому себе",{"$nulls":3},"Отношение к сверстникам","Отношение к взрослым","Эмоции",null,null,"Поведение","Семья",null,"Игровое поведение",null,"Ребенок имеет представление об изменениях позиции человека с возрастом","Ребенок имеет представление о школе, школьниках, учителях; стремится к школьному обучению, к познанию, освоению чтения, письма; демонстрирует формированные предпосылки к учебной деятельности и элементы готовности к школьному обучению","Ребенок имеет представление о нравственных качествах людей, их проявлении в поступках и взаимоотношениях","Ребенок имеет представление о признаках и характеристиках государства (территория государства и его границы, столица), атрибутах государственной власти, президенте, столице","Ребенок имеет представление о порядке использования государственной символики","Ребенок имеет представление о волонтерстве","Ребенок имеет представление о государственных праздниках, исторических событиях","Ребенок имеет представление о жизни людей в России, о многообразии стран и народов мира","Ребенок имеет представление об обмене ценностями в процессе производства и потребления товаров и услуг, о денежных отношениях, о реальной стоимости отдельных продуктов питания, игрушек, детских книг","Ребенок имеет представление о об основах финансовой грамоты, основах бережного потребления","Ребенок проявляет инициативность и самостоятельность в процессе самообслуживания, при выполнении трудовых поручений","Ребенок имеет представление о правила безопасного поведения в ситуациях, создающих угрозу жизни и здоровью (погас свет, остался один, потерялся, получил травму)","Ребенок имеет представление о правила безопасного поведения дома, на улице, в природе, в местах большого скопления людей, в магазине, на вокзале, в общественных метах, на праздниках и др.","Ребенок имеет представление о правилах безопасного использования цифровых ресурсов (мобильного телефона, планшета)","Ребенок имеет представление об элементарных правилах оказания первой помощи при первых признаках недомогания, травмах, ушибах","Ребенок проявляет самостоятельность при выполнении правил безопасного поведения","Ребенок владеет речью как средством коммуникации, ведет диалог, владеет коммуникативно-речевыми умениями","Ребенок подбирает точные слова для выражения мысли","Ребенок выполняет операцию классификации – деления освоенных понятий на группы на основе выявленных признаков","Ребенок использует в речи средства языковой выразительности: антонимы, синонимы, многозначные слова, метафоры, олицетворение","Ребенок образует сложные слова посредством слияния основ","Ребенок согласует в речи существительные с числительными, существительные с прилагательными","Ребенок образует по образцу существительные с суффиксами, глаголы с приставками","Ребенок образует в речи сравнительную и превосходную степени имен прилагательных","Ребенок правильно произносит все звуки","Ребенок может пересказать литературное произведение по ролям, близко к тексту, от лица литературного героя","Ребенок может составить описательный рассказ, соблюдая структуру описания","Ребенок может составить повествовательный рассказ по картине, из личного опыта, из коллективного опыта, по набору игрушек, соблюдая структуру повествования","Ребенок может составить рассказ -контаминацию (сочетание описания и повествования, описания и рассуждения)","Ребенок использует в процессе общения объяснительную речь, речь-доказательство, речевое планирование","Ребенок знает и осмысленно воспринимает литературные произведения различных жанров, имеет предпочтения","Ребенок определяет характеры персонажей, мотивы их поведения, оценивает поступки литературных героев","Ребенок проявляет интерес к книгам познавательного характера","Ребенок производит звуковой анализ четырехзвуковых и пятизвуковых слов","Ребенок может интонационно выделить звуки в слове, определить их последовательность, дать им характеристику, составить схему слова, выделить ударный гласный звук в слове","Ребенок может определить количество и последовательность слов в предложении","Ребенок может составить предложение с заданным количеством слов","Ребенок знает названия всех букв","Ребенок читает слоги","Ребенок различает и называет",{"$nulls":8},"Ребенок умеет считать в пределах 10 в прямом и обратном порядке","Ребенок знает состав чисел из двух меньших в пределах первого десятка","Ребенок решает простые арифметические задачи на сложение и вычитание","Ребенок имеет представление о календаре, как системе измерения времени","Ребенок умеет определять время по часам с точностью до четверти часа","Ребенок ориентируется на местности, по схеме, по плану","Ребенок знает способы ориентировки в двухмерном пространстве","Ребенок умеет измерять протяженность, массу и объем с помощью условной мерки; понимает взаимообратные отношения между мерой и результатом измерения","Ребенок сравнивает предметы по 4-6 основаниям с выделением сходства, отличия",{"$nulls":9},"Ребенок имеет представление об использовании человеком свойств неживой природы для хозяйственных нужд (ветряные мельницы, водохранилища, солнечные батареи, ледяные катки)",{"$nulls":3},"Ребенок выполняет различные упражнения с мячом, метание",null,"Ребенок выполняет разные виды ползанья, лазанья ",null,null,"Ребенок выполняет различные виды ходьбы",null,null,"Ребенок выполняет различные виды бега",null,null,"Ребенок выполняет различные виды прыжков",{"$nulls":3},"Ребенок выполняет",null,"Ребенок выполняет разные виды перестроений, построений, передвижений, размыкание и смыкание приставным шагом, повороты","Ребенок может рассчитаться на «первый – второй»",{"$nulls":16},"Ребенок владеет навыками личной гигиены","Ребенок владеет навыками культуры еды","Ребенок владеет навыками поддержания порядка","Ребенок владеет навыками ухода за собой",{"$nulls":7},"У ребенка развит навык восприятия звуков по высоте в пределах квинты-терции","У ребенка развиты певческий голос и вокально-слуховая координация","Ребёнок ритмично и выразительно двигается в соответствие с характером музыки","Ребенок способен самостоятельно придумать мелодию, используя в качестве образца русские народные песни","Ребенок может сыграть простую мелодию на металлофоне, свирели, ударных, и электронных музыкальных инструментах: трещотках, погремушках, треугольниках","Ребенок может исполнить музыкальное произведение в оркестре и в ансамбле","Ребенок проявляет самостоятельность при выборе литературного и музыкального материала для театральной постановки","Ребенок проявляет инициативу при изготовлении атрибутов и декораций к спектаклю","Ребенок имеет представление о средствах погружения в театральные образы (музыка, слова, декорации, грим, костюм и др.)","Ребенок умеет выразительно передавать образы в действии, мимике, пантомимике","Ребенок проявляет активность в доступных видах музыкальной исполнительской деятельности (игра в оркестре, пение, танцевальные движения и др.)","Ребенок помогает придумывать движения, отражающие содержание песни",null,"Ребенок может изобразить предметы по памяти и с натуры, передает их средствами рисунка (форма, пропорции, расположение)","Ребенок способен передавать в рисунке сюжет, строить композицию","Ребенок свободно использует приемы лепки, освоенные ранее (налеп, углубленный рельеф), применяет стеку","Ребенок умеет передавать пропорции, соотношение по величине, выразительность поз, движений, деталей","Ребенок умеет составлять узоры и декоративные композиции из геометрических и растительных элементов на листах бумаги разной формы","Ребенок может выполнить вырезание (симметричное из бумаги, сложенной вдвое; несколько предметов из частей бумаги, сложенной гармошкой)","Ребенок умеет создавать узоры по мотивам народных росписей","Ребенок может сложить бумагу в разных направлениях","Ребенок может сделать разметку с помощью шаблона","Ребенок может выполнить работу по образцу","Ребенок может создать объемную игрушку в технике «оригами»","Ребенок может создать объемную поделку из природного материала","Ребенок может вдеть нитку в иголку, завязать узелок, пришить пуговицу, петельку, выполнить шов «вперед иголка»","Ребенок умеет выделять, называть, группировать произведения по видам искусства: литература, музыка, изобразительное искусство, архитектура, театр, цирк","Ребенок имеет представление о видах изобразительного искусства: графика, декоративно-прикладное искусство, живопись, скульптура, архитектура, фотоискусство","Ребенок имеет представление о жанрах изобразительного искусства: натюрморт, пейзаж, портрет","Ребенок имеет представление о народном искусстве, фольклоре, музыке и художественных промыслах","Ребенок имеет представление о творческих профессиях: художник, композитор, музыкант, актер, артист балета","Ребенок имеет представление о культурно-досуговых местах: театр, музей, библиотека, выставка, кинотеатр, цирк и др.","Ребенок может провести анализ постройки (выделить основные части и характерные детали конструкций)","Ребенок может выполнить постройку по инструкции"]
[null,"Ребенок осознает и признает собственные ошибки, результат поставленных задач, определяет пути развития","Ребенок умеет договариваться и дружить, старается разрешать конфликтные ситуации конструктивными способами","Ребенок способен принимать собственные решения и проявлять инициативу","Ребенок осознанно относится к своему будущему, стремится быть полезным обществу","Ребенок без напоминаний использует в общении формулы словесной вежливости (приветствие, прощание, просьбы, извинения)","Ребенок без напоминаний использует в общении формулы словесной вежливости (приветствие, прощание, просьбы, извинения)","Ребенок понимает чувства и переживания окружающих по невербальным признакам; находит причины и следствия возникновения эмоций, проявляет эмпатию","Ребенок использует социально приемлемые способы проявления эмоций и доступные возрасту регуляции эмоциональных состояний","Ребенок распознает собственные чувства и эмоции, анализирует свои переживания и рассказывает о них","Ребенок самостоятельно соблюдает установленный порядок поведения в группе, регулирует собственную активность","Ребенок имеет представление о необходимости укрепления связи между поколениями, взаимной поддержке детей и взрослых","Ребенок имеет представление о семье, семейных и родственных отношениях (взаимные чувства, правила общения в семье, значимые и памятные события, досуг семьи, семейный бюджет)","Ребенок умеет сотрудничать со сверстниками (побуждает к обсуждению планов, советуется, поддерживает интерес к мнению, инициирует ситуации взаимопомощи, подчеркивает ценность каждого ребенка и его вклад в общее дело, выбирает партнеров по интересам, помогает устанавливать темп совместных действий)","Ребенок владеет разными способами и видами игры, различает условную и реальную ситуации, предлагает и объясняет замысел игры, комбинирует сюжеты на основе реальных, вымышленных ситуаций, выполняет несколько ролей в одной игре, подбирает разные средства для создания игровых образов, согласовывает свои интересы с интересами партнёров по игре",{"$nulls":39}," все цвета спектра и ахроматические цвета, оттенки","плоские и объемные геометрические фигуры; умеет выделять структуру геометрических фигур и устанавливать взаимосвязи между ними","Ребенок умеет классифицировать фигуры по внешним структурным признаками (округлые, многоугольники)","Ребенок владеет различными способами видоизменения геометрических фигур (наложение, соединение, разрезание и др.)","Ребенок умеет измерять длину, ширину, высоту с помощью условной мерки",{"$nulls":13}," о родном населенном пункте (название улиц, некоторых архитектурных особенностях, достопримечательностях), об истории, о выдающихся горожанах, традициях городской жизни"," о назначении общественных учреждений"," о разных видах специального транспорта"," о местах труда людей (завод, больница, магазин и др.)"," о местах отдыха людей","Ребенок имеет представление о наиболее ярких представителях животных и растений разных природных зон (пустыня, степь, тайга, тундра и др.), об их образе жизни, приспособлении к среде обитания, изменениях в жизни в разные сезоны года","Ребенок имеет представление о многообразии водных ресурсов (моря, океаны, реки, водопады и др.)","Ребенок имеет представление о многообразии полезных ископаемых (нефть, уголь, серебро, золото, алмазы и др.)","Ребенок имеет представление о жизненных потребностях, этапах роста и развития животных и растений",null,"Ребенок имеет представление о некоторых небесных телах (планеты, кометы, звезды)",null,null,"бросание вверх, о землю, ловля двумя руками, одной рукой, перебрасывание, передача, прокатывание, забрасывание, ведение","в цель из положения стоя, вдаль, в движущеюся цель","ползанье на четвереньках, на животе, на спине","влезание на гимнастическую стенку и спуск; перелезание с пролета на пролет по диагонали","лазанье по веревочной лестнице; выполнение упражнений на канате","обычная, гимнастическим шагом, скрестным шагом, спиной вперед, выпадами, с закрытыми глазами","приставными шагами назад, в приседе, с различными движениями рук","в различных построениях","в колонне по одному, врассыпную, парами, тройками, четверками","в сочетание с прыжками, высоко поднимая колени, захлестывая голени назад, выбрасывая прямые ноги вперед","челночный, наперегонки, из разных исходных положений, со скакалкой, по пересеченной местности, с наименьшим числом шагов, медленный, быстрый","подпрыгивания на двух ногах в чередовании с ходьбой, на месте и с поворот кругом","смещая ноги вправо-влево-вперед-назад","выпрыгивание на предметы; подпрыгивания вверх из глубокого приседа; прыжки на одной ноге","в длину с места/с разбега, в высоту с места/с разбега","стойка на носках, стойка на одной ноге с закрытыми глазами","кружение с закрытыми глазами, остановкой и сохранением заданной позы"]
["начало года",{"$f":"'Соц.ком.к 7г ч1 Н.г.'!E40","v":0},{"$f":"'Соц.ком.к 7г ч1 Н.г.'!F40","v":0},{"$f":"'Соц.ком.к 7г ч1 Н.г.'!G40","v":0},{"$f":"'Соц.ком.к 7г ч1 Н.г.'!H40","v":0},{"$f":"'Соц.ком.к 7г ч1 Н.г.'!I40","v":0},{"$f":"'Соц.ком.к 7г ч1 Н.г.'!J40","v":0},{"$f":"'Соц.ком.к 7г ч1 Н.г.'!K40","v":0},{"$f":"'Соц.ком.к 7г ч1 Н.г.'!L40","v":0},{"$f":"'Соц.ком.к 7г ч1 Н.г.'!M40","v":0},{"$f":"'Соц.ком.к 7г ч1 Н.г.'!N40","v":0},{"$f":"'Соц.ком.к 7г ч2 Н.г.'!E40","v":0},{"$f":"'Соц.ком.к 7г ч2 Н.г.'!F40","v":0},{"$f":"'Соц.ком.к 7г ч2 Н.г.'!G40","v":0},{"$f":"'Соц.ком.к 7г ч2 Н.г.'!H40","v":0},{"$f":"'Соц.ком.к 7г ч2 Н.г.'!I40","v":0},{"$f":"'Соц.ком.к 7г ч2 Н.г.'!J40","v":0},{"$f":"'Соц.ком.к 7г ч2 Н.г.'!K40","v":0},{"$f":"'Соц.ком. к 7г ч3 Н.г.'!E40","v":0},{"$f":"'Соц.ком. к 7г ч3 Н.г.'!F40","v":0},{"$f":"'Соц.ком. к 7г ч3 Н.г.'!G40","v":0},{"$f":"'Соц.ком. к 7г ч3 Н.г.'!H40","v":0},{"$f":"'Соц.ком. к 7г ч3 Н.г.'!I40","v":0},{"$f":"'Соц.ком. к 7г ч3 Н.г.'!J40","v":0},{"$f":"'Соц.ком. к 7г ч3 Н.г.'!K40","v":0},{"$f":"'Соц.ком. к 7г ч3 Н.г.'!L40","v":0},{"$f":"'Соц.ком. к 7г ч4 Н.г.'!E40","v":0},{"$f":"'Соц.ком. к 7г ч4 Н.г.'!F40","v":0},{"$f":"'Соц.ком. к 7г ч4 Н.г.'!G40","v":0},{"$f":"'Соц.ком. к 7г ч4 Н.г.'!H40","v":0},{"$f":"'Соц.ком. к 7г ч4 Н.г.'!I40","v":0},{"$f":"'Реч.разв.к 7г ч1 Н.г.'!E40","v":0},{"$f":"'Реч.разв.к 7г ч1 Н.г.'!F40","v":0},{"$f":"'Реч.разв.к 7г ч1 Н.г.'!G40","v":0},{"$f":"'Реч.разв.к 7г ч1 Н.г.'!H40","v":0},{"$f":"'Реч.разв.к 7г ч1 Н.г.'!I40","v":0},{"$f":"'Реч.разв.к 7г ч1 Н.г.'!J40","v":0},{"$f":"'Реч.разв.к 7г ч1 Н.г.'!K40","v":0},{"$f":"'Реч.разв.к 7г ч1 Н.г.'!L40","v":0},{"$f":"'Реч.разв.к 7г ч2 Н.г.'!E40","v":0},{"$f":"'Реч.разв.к 7г ч2 Н.г.'!F40","v":0},{"$f":"'Реч.разв.к 7г ч2 Н.г.'!G40","v":0},{"$f":"'Реч.разв.к 7г ч2 Н.г.'!H40","v":0},{"$f":"'Реч.разв.к 7г ч2 Н.г.'!I40","v":0},{"$f":"'Реч.разв.к 7г ч2 Н.г.'!J40","v":0},{"$f":"'Реч.разв.к 7г ч2 Н.г.'!K40","v":0},{"$f":"'Реч.разв.к 7г ч2 Н.г.'!L40","v":0},{"$f":"'Реч.разв.к 7г ч2 Н.г.'!M40","v":0},{"$f":"'Реч.разв.к 7г ч3. Н.г.'!E40","v":0},{"$f":"'Реч.разв.к 7г ч3. Н.г.'!F40","v":0},{"$f":"'Реч.разв.к 7г ч3. Н.г.'!G40","v":0},{"$f":"'Реч.разв.к 7г ч3. Н.г.'!H40","v":0},{"$f":"'Реч.разв.к 7г ч3. Н.г.'!I40","v":0},{"$f":"'Реч.разв.к 7г ч3. Н.г.'!J40","v":0},{"$f":"'Позн.разв. к 7г ч1. Н.г.'!E41","v":0},{"$f":"'Позн.разв. к 7г ч1. Н.г.'!F41","v":0},{"$f":"'Позн.разв. к 7г ч1. Н.г.'!G41","v":0},{"$f":"'Позн.разв. к 7г ч1. Н.г.'!H41","v":0},{"$f":"'Позн.разв. к 7г ч1. Н.г.'!I41","v":0},{"$f":"'Позн.разв. к 7г ч1. Н.г.'!J41","v":0},{"$f":"'Позн.разв. к 7г ч1. Н.г.'!K41","v":0},{"$f":"'Позн.разв. к 7г ч1. Н.г.'!L41","v":0},{"$f":"'Позн.разв. к 7г ч1. Н.г.'!M41","v":0},{"$f":"'Позн.разв. к 7г ч2. Н.г.'!E41","v":0},{"$f":"'Позн.разв. к 7г ч2. Н.г.'!F41","v":0},{"$f":"'Позн.разв. к 7г ч2. Н.г.'!G41","v":0},{"$f":"'Позн.разв. к 7г ч2. Н.г.'!H41","v":0},{"$f":"'Позн.разв. к 7г ч2. Н.г.'!I41","v":0},{"$f":"'Позн.разв. к 7г ч2. Н.г.'!J41","v":0},{"$f":"'Позн.разв. к 7г ч2. Н.г.'!K41","v":0},{"$f":"'Позн.разв. к 7г ч2. Н.г.'!L41","v":0},{"$f":"'Позн.разв. к 7г ч2. Н.г.'!M41","v":0},{"$f":"'Позн.разв. к 7г ч3. Н.г.'!E41","v":0},{"$f":"'Позн.разв. к 7г ч3. Н.г.'!F41","v":0},{"$f":"'Позн.разв. к 7г ч3. Н.г.'!G41","v":0},{"$f":"'Позн.разв. к 7г ч3. Н.г.'!H41","v":0},{"$f":"'Позн.разв. к 7г ч3. Н.г.'!I41","v":0},{"$f":"'Позн.разв. к 7г ч3. Н.г.'!J41","v":0},{"$f":"'Позн.разв. к 7г ч3. Н.г.'!K41","v":0},{"$f":"'Позн.разв. к 7г ч3. Н.г.'!L41","v":0},{"$f":"'Позн.разв. к 7г ч3. Н.г.'!M41","v":0},{"$f":"'Позн.разв. к 7г ч3. Н.г.'!N41","v":0},{"$f":"'Позн.разв. к 7г ч3. Н.г.'!O41","v":0},{"$f":"'Позн.разв. к 7г ч3. Н.г.'!P41","v":0},{"$f":"'Позн.разв. к 7г ч3. Н.г.'!Q41","v":0},{"$f":"'Физ.разв. к 7г ч1. Н.г.'!E41","v":0},{"$f":"'Физ.разв. к 7г ч1. Н.г.'!F41","v":0},{"$f":"'Физ.разв. к 7г ч1. Н.г.'!G41","v":0},{"$f":"'Физ.разв. к 7г ч1. Н.г.'!H41","v":0},{"$f":"'Физ.разв. к 7г ч1. Н.г.'!I41","v":0},{"$f":"'Физ.разв. к 7г ч1. Н.г.'!J41","v":0},{"$f":"'Физ.разв. к 7г ч1. Н.г.'!K41","v":0},{"$f":"'Физ.разв. к 7г ч1. Н.г.'!L41","v":0},{"$f":"'Физ.разв. к 7г ч1. Н.г.'!M41","v":0},{"$f":"'Физ.разв. к 7г ч1. Н.г.'!N41","v":0},{"$f":"'Физ.разв. к 7г ч1. Н.г.'!O41","v":0},{"$f":"'Физ.разв. к 7г ч1. Н.г.'!P41","v":0},{"$f":"'Физ.разв. к 7г ч1. Н.г.'!Q41","v":0},{"$f":"'Физ.разв. к 7г ч1. Н.г.'!R41","v":0},{"$f":"'Физ.разв. к 7г ч1. Н.г.'!S41","v":0},{"$f":"'Физ.разв. к 7г ч1. Н.г.'!T41","v":0},{"$f":"'Физ.разв. к 7г ч1. Н.г.'!U41","v":0},{"$f":"'Физ.разв. к 7г ч1. Н.г.'!V41","v":0},{"$f":"'Физ.разв. к 7г ч1. Н.г.'!W41","v":0},{"$f":"'Физ.разв. к 7г ч2. Н.г.'!E42","v":0},{"$f":"'Физ.разв. к 7г ч2. Н.г.'!F42","v":0},{"$f":"'Физ.разв. к 7г ч2. Н.г.'!G42","v":0},{"$f":"'Физ.разв. к 7г ч2. Н.г.'!H42","v":0},{"$f":"'Физ.разв. к 7г ч2. Н.г.'!I42","v":0},{"$f":"'Физ.разв. к 7г ч2. Н.г.'!J42","v":0},{"$f":"'Физ.разв. к 7г ч2. Н.г.'!K42","v":0},{"$f":"'Физ.разв. к 7г ч2. Н.г.'!L42","v":0},{"$f":"'Физ.разв. к 7г ч2. Н.г.'!M42","v":0},{"$f":"'Физ.разв. к 7г ч2. Н.г.'!N42","v":0},{"$f":"'Физ.разв. к 7г ч2. Н.г.'!O42","v":0},{"$f":"'Физ.разв. к 7г ч2. Н.г.'!P42","v":0},{"$f":"'Физ.разв. к 7г ч2. Н.г.'!Q42","v":0},{"$f":"'Физ.разв. к 7г ч2. Н.г.'!R42","v":0},{"$f":"'Физ.разв. к 7г ч2. Н.г.'!S42","v":0},{"$f":"'Физ.разв. к 7г ч2. Н.г.'!T42","v":0},{"$f":"'Физ.разв. к 7г ч3. Н.г.'!E42","v":0},{"$f":"'Физ.разв. к 7г ч3. Н.г.'!F42","v":0},{"$f":"'Физ.разв. к 7г ч3. Н.г.'!G42","v":0},{"$f":"'Физ.разв. к 7г ч3. Н.г.'!H42","v":0},{"$f":"'Физ.разв. к 7г ч3. Н.г.'!I42","v":0},{"$f":"'Физ.разв. к 7г ч3. Н.г.'!J42","v":0},{"$f":"'Физ.разв. к 7г ч3. Н.г.'!K42","v":0},{"$f":"'Физ.разв. к 7г ч3. Н.г.'!L42","v":0},{"$f":"'Физ.разв. к 7г ч3. Н.г.'!M42","v":0},{"$f":"'Физ.разв. к 7г ч3. Н.г.'!N42","v":0},{"$f":"'Физ.разв. к 7г ч3. Н.г.'!O42","v":0},{"$f":"'Худ.эст.к 7г ч1. Н.г.'!E41","v":0},{"$f":"'Худ.эст.к 7г ч1. Н.г.'!F41","v":0},{"$f":"'Худ.эст.к 7г ч1. Н.г.'!G41","v":0},{"$f":"'Худ.эст.к 7г ч1. Н.г.'!H41","v":0},{"$f":"'Худ.эст.к 7г ч1. Н.г.'!I41","v":0},{"$f":"'Худ.эст.к 7г ч1. Н.г.'!J41","v":0},{"$f":"'Худ.эст.к 7г ч1. Н.г.'!K41","v":0},{"$f":"'Худ.эст.к 7г ч1. Н.г.'!L41","v":0},{"$f":"'Худ.эст.к 7г ч1. Н.г.'!M41","v":0},{"$f":"'Худ.эст.к 7г ч1. Н.г.'!N41","v":0},{"$f":"'Худ.эст.к 7г ч1. Н.г.'!O41","v":0},{"$f":"'Худ.эст.к 7г ч1. Н.г.'!P41","v":0},{"$f":"'Худ.эст.к 7г ч1. Н.г.'!Q41","v":0},{"$f":"'Худ.эст.к 7г ч2. Н.г.'!E41","v":0},{"$f":"'Худ.эст.к 7г ч2. Н.г.'!F41","v":0},{"$f":"'Худ.эст.к 7г ч2. Н.г.'!G41","v":0},{"$f":"'Худ.эст.к 7г ч2. Н.г.'!H41","v":0},{"$f":"'Худ.эст.к 7г ч2. Н.г.'!I41","v":0},{"$f":"'Худ.эст.к 7г ч2. Н.г.'!J41","v":0},{"$f":"'Худ.эст.к 7г ч2. Н.г.'!K41","v":0},{"$f":"'Худ.эст.к 7г ч2. Н.г.'!L41","v":0},{"$f":"'Худ.эст.к 7г ч2. Н.г.'!M41","v":0},{"$f":"'Худ.эст.к 7г ч2. Н.г.'!N41","v":0},{"$f":"'Худ.эст.к 7г ч2. Н.г.'!O41","v":0},{"$f":"'Худ.эст.к 7г ч2. Н.г.'!P41","v":0},{"$f":"'Худ.эст.к 7г ч2. Н.г.'!Q41","v":0},{"$f":"'Худ.эст.к 7г ч3. Н.г.'!E41","v":0},{"$f":"'Худ.эст.к 7г ч3. Н.г.'!F41","v":0},{"$f":"'Худ.эст.к 7г ч3. Н.г.'!G41","v":0},{"$f":"'Худ.эст.к 7г ч3. Н.г.'!H41","v":0},{"$f":"'Худ.эст.к 7г ч3. Н.г.'!I41","v":0},{"$f":"'Худ.эст.к 7г ч3. Н.г.'!J41","v":0},{"$f":"'Худ.эст.к 7г ч3. Н.г.'!K41","v":0},{"$f":"'Худ.эст.к 7г ч3. Н.г.'!L41","v":0}]
["конец года",{"$f":"'Соц.ком.к 7г ч1 К.г.'!E40","v":0},{"$f":"'Соц.ком.к 7г ч1 К.г.'!F40","v":0},{"$f":"'Соц.ком.к 7г ч1 К.г.'!G40","v":0},{"$f":"'Соц.ком.к 7г ч1 К.г.'!H40","v":0},{"$f":"'Соц.ком.к 7г ч1 К.г.'!I40","v":0},{"$f":"'Соц.ком.к 7г ч1 К.г.'!J40","v":0},{"$f":"'Соц.ком.к 7г ч1 К.г.'!K40","v":0},{"$f":"'Соц.ком.к 7г ч1 К.г.'!L40","v":0},{"$f":"'Соц.ком.к 7г ч1 К.г.'!M40","v":0},{"$f":"'Соц.ком.к 7г ч1 К.г.'!N40","v":0},{"$f":"'Соц.ком.к 7г ч2 К.г.'!E40","v":0},{"$f":"'Соц.ком.к 7г ч2 К.г.'!F40","v":0},{"$f":"'Соц.ком.к 7г ч2 К.г.'!G40","v":0},{"$f":"'Соц.ком.к 7г ч2 К.г.'!H40","v":0},{"$f":"'Соц.ком.к 7г ч2 К.г.'!I40","v":0},{"$f":"'Соц.ком.к 7г ч2 К.г.'!J40","v":0},{"$f":"'Соц.ком.к 7г ч2 К.г.'!K40","v":0},{"$f":"'Соц.ком. к 7г ч3 К.г.'!E40","v":0},{"$f":"'Соц.ком. к 7г ч3 К.г.'!F40","v":0},{"$f":"'Соц.ком. к 7г ч3 К.г.'!G40","v":0},{"$f":"'Соц.ком. к 7г ч3 К.г.'!H40","v":0},{"$f":"'Соц.ком. к 7г ч3 К.г.'!I40","v":0},{"$f":"'Соц.ком. к 7г ч3 К.г.'!J40","v":0},{"$f":"'Соц.ком. к 7г ч3 К.г.'!K40","v":0},{"$f":"'Соц.ком. к 7г ч3 К.г.'!L40","v":0},{"$f":"'Соц.ком. к 7г ч4 К.г.'!E40","v":0},{"$f":"'Соц.ком. к 7г ч4 К.г.'!F40","v":0},{"$f":"'Соц.ком. к 7г ч4 К.г.'!G40","v":0},{"$f":"'Соц.ком. к 7г ч4 К.г.'!H40","v":0},{"$f":"'Соц.ком. к 7г ч4 К.г.'!I40","v":0},{"$f":"'Реч.разв.к 7г ч1 К.г.'!E40","v":0},{"$f":"'Реч.разв.к 7г ч1 К.г.'!F40","v":0},{"$f":"'Реч.разв.к 7г ч1 К.г.'!G40","v":0},{"$f":"'Реч.разв.к 7г ч1 К.г.'!H40","v":0},{"$f":"'Реч.разв.к 7г ч1 К.г.'!I40","v":0},{"$f":"'Реч.разв.к 7г ч1 К.г.'!J40","v":0},{"$f":"'Реч.разв.к 7г ч1 К.г.'!K40","v":0},{"$f":"'Реч.разв.к 7г ч1 К.г.'!L40","v":0},{"$f":"'Реч.разв.к 7г ч2 К.г. '!E40","v":0},{"$f":"'Реч.разв.к 7г ч2 К.г. '!F40","v":0},{"$f":"'Реч.разв.к 7г ч2 К.г. '!G40","v":0},{"$f":"'Реч.разв.к 7г ч2 К.г. '!H40","v":0},{"$f":"'Реч.разв.к 7г ч2 К.г. '!I40","v":0},{"$f":"'Реч.разв.к 7г ч2 К.г. '!J40","v":0},{"$f":"'Реч.разв.к 7г ч2 К.г. '!K40","v":0},{"$f":"'Реч.разв.к 7г ч2 К.г. '!L40","v":0},{"$f":"'Реч.разв.к 7г ч2 К.г. '!M40","v":0},{"$f":"'Реч.разв.к 7г ч3. К.г. '!E40","v":0},{"$f":"'Реч.разв.к 7г ч3. К.г. '!F40","v":0},{"$f":"'Реч.разв.к 7г ч3. К.г. '!G40","v":0},{"$f":"'Реч.разв.к 7г ч3. К.г. '!H40","v":0},{"$f":"'Реч.разв.к 7г ч3. К.г. '!I40","v":0},{"$f":"'Реч.разв.к 7г ч3. К.г. '!J40","v":0},{"$f":"'Позн.разв. к 7г ч1. К.г. '!E41","v":0},{"$f":"'Позн.разв. к 7г ч1. К.г. '!F41","v":0},{"$f":"'Позн.разв. к 7г ч1. К.г. '!G41","v":0},{"$f":"'Позн.разв. к 7г ч1. К.г. '!H41","v":0},{"$f":"'Позн.разв. к 7г ч1. К.г. '!I41","v":0},{"$f":"'Позн.разв. к 7г ч1. К.г. '!J41","v":0},{"$f":"'Позн.разв. к 7г ч1. К.г. '!K41","v":0},{"$f":"'Позн.разв. к 7г ч1. К.г. '!L41","v":0},{"$f":"'Позн.разв. к 7г ч1. К.г. '!M41","v":0},{"$f":"'Позн.разв. к 7г ч2. К.г.'!E41","v":0},{"$f":"'Позн.разв. к 7г ч2. К.г.'!F41","v":0},{"$f":"'Позн.разв. к 7г ч2. К.г.'!G41","v":0},{"$f":"'Позн.разв. к 7г ч2. К.г.'!H41","v":0},{"$f":"'Позн.разв. к 7г ч2. К.г.'!I41","v":0},{"$f":"'Позн.разв. к 7г ч2. К.г.'!J41","v":0},{"$f":"'Позн.разв. к 7г ч2. К.г.'!K41","v":0},{"$f":"'Позн.разв. к 7г ч2. К.г.'!L41","v":0},{"$f":"'Позн.разв. к 7г ч2. К.г.'!M41","v":0},{"$f":"'Позн.разв. к 7г ч3. К.г. '!E41","v":0},{"$f":"'Позн.разв. к 7г ч3. К.г. '!F41","v":0},{"$f":"'Позн.разв. к 7г ч3. К.г. '!G41","v":0},{"$f":"'Позн.разв. к 7г ч3. К.г. '!H41","v":0},{"$f":"'Позн.разв. к 7г ч3. К.г. '!I41","v":0},{"$f":"'Позн.разв. к 7г ч3. К.г. '!J41","v":0},{"$f":"'Позн.разв. к 7г ч3. К.г. '!K41","v":0},{"$f":"'Позн.разв. к 7г ч3. К.г. '!L41","v":0},{"$f":"'Позн.разв. к 7г ч3. К.г. '!M41","v":0},{"$f":"'Позн.разв. к 7г ч3. К.г. '!N41","v":0},{"$f":"'Позн.разв. к 7г ч3. К.г. '!O41","v":0},{"$f":"'Позн.разв. к 7г ч3. К.г. '!P41","v":0},{"$f":"'Позн.разв. к 7г ч3. К.г. '!Q41","v":0},{"$f":"'Физ.разв. к 7г ч1. К.г. '!E41","v":0},{"$f":"'Физ.разв. к 7г ч1. К.г. '!F41","v":0},{"$f":"'Физ.разв. к 7г ч1. К.г. '!G41","v":0},{"$f":"'Физ.разв. к 7г ч1. К.г. '!H41","v":0},{"$f":"'Физ.разв. к 7г ч1. К.г. '!I41","v":0},{"$f":"'Физ.разв. к 7г ч1. К.г. '!J41","v":0},{"$f":"'Физ.разв. к 7г ч1. К.г. '!K41","v":0},{"$f":"'Физ.разв. к 7г ч1. К.г. '!L41","v":0},{"$f":"'Физ.разв. к 7г ч1. К.г. '!M41","v":0},{"$f":"'Физ.разв. к 7г ч1. К.г. '!N41","v":0},{"$f":"'Физ.разв. к 7г ч1. К.г. '!O41","v":0},{"$f":"'Физ.разв. к 7г ч1. К.г. '!P41","v":0},{"$f":"'Физ.разв. к 7г ч1. К.г. '!Q41","v":0},{"$f":"'Физ.разв. к 7г ч1. К.г. '!R41","v":0},{"$f":"'Физ.разв. к 7г ч1. К.г. '!S41","v":0},{"$f":"'Физ.разв. к 7г ч1. К.г. '!T41","v":0},{"$f":"'Физ.разв. к 7г ч1. К.г. '!U41","v":0},{"$f":"'Физ.разв. к 7г ч1. К.г. '!V41","v":0},{"$f":"'Физ.разв. к 7г ч1. К.г. '!W41","v":0},{"$f":"'Физ.разв. к 7г ч2. К.г.'!E42","v":0},{"$f":"'Физ.разв. к 7г ч2. К.г.'!F42","v":0},{"$f":"'Физ.разв. к 7г ч2. К.г.'!G42","v":0},{"$f":"'Физ.разв. к 7г ч2. К.г.'!H42","v":0},{"$f":"'Физ.разв. к 7г ч2. К.г.'!I42","v":0},{"$f":"'Физ.разв. к 7г ч2. К.г.'!J42","v":0},{"$f":"'Физ.разв. к 7г ч2. К.г.'!K42","v":0},{"$f":"'Физ.разв. к 7г ч2. К.г.'!L42","v":0},{"$f":"'Физ.разв. к 7г ч2. К.г.'!M42","v":0},{"$f":"'Физ.разв. к 7г ч2. К.г.'!N42","v":0},{"$f":"'Физ.разв. к 7г ч2. К.г.'!O42","v":0},{"$f":"'Физ.разв. к 7г ч2. К.г.'!P42","v":0},{"$f":"'Физ.разв. к 7г ч2. К.г.'!Q42","v":0},{"$f":"'Физ.разв. к 7г ч2. К.г.'!R42","v":0},{"$f":"'Физ.разв. к 7г ч2. К.г.'!S42","v":0},{"$f":"'Физ.разв. к 7г ч2. К.г.'!T42","v":0},{"$f":"'Физ.разв. к 7г ч3. К.г. '!E42","v":0},{"$f":"'Физ.разв. к 7г ч3. К.г. '!F42","v":0},{"$f":"'Физ.разв. к 7г ч3. К.г. '!G42","v":0},{"$f":"'Физ.разв. к 7г ч3. К.г. '!H42","v":0},{"$f":"'Физ.разв. к 7г ч3. К.г. '!I42","v":0},{"$f":"'Физ.разв. к 7г ч3. К.г. '!J42","v":0},{"$f":"'Физ.разв. к 7г ч3. К.г. '!K42","v":0},{"$f":"'Физ.разв. к 7г ч3. К.г. '!L42","v":0},{"$f":"'Физ.разв. к 7г ч3. К.г. '!M42","v":0},{"$f":"'Физ.разв. к 7г ч3. К.г. '!N42","v":0},{"$f":"'Физ.разв. к 7г ч3. К.г. '!O42","v":0},{"$f":"'Худ.эст.к 7г ч1. К.г. '!E41","v":0},{"$f":"'Худ.эст.к 7г ч1. К.г. '!F41","v":0},{"$f":"'Худ.эст.к 7г ч1. К.г. '!G41","v":0},{"$f":"'Худ.эст.к 7г ч1. К.г. '!H41","v":0},{"$f":"'Худ.эст.к 7г ч1. К.г. '!I41","v":0},{"$f":"'Худ.эст.к 7г ч1. К.г. '!J41","v":0},{"$f":"'Худ.эст.к 7г ч1. К.г. '!K41","v":0},{"$f":"'Худ.эст.к 7г ч1. К.г. '!L41","v":0},{"$f":"'Худ.эст.к 7г ч1. К.г. '!M41","v":0},{"$f":"'Худ.эст.к 7г ч1. К.г. '!N41","v":0},{"$f":"'Худ.эст.к 7г ч1. К.г. '!O41","v":0},{"$f":"'Худ.эст.к 7г ч1. К.г. '!P41","v":0},{"$f":"'Худ.эст.к 7г ч1. К.г. '!Q41","v":0},{"$f":"'Худ.эст.к 7г ч2. К.г. '!E41","v":0},{"$f":"'Худ.эст.к 7г ч2. К.г. '!F41","v":0},{"$f":"'Худ.эст.к 7г ч2. К.г. '!G41","v":0},{"$f":"'Худ.эст.к 7г ч2. К.г. '!H41","v":0},{"$f":"'Худ.эст.к 7г ч2. К.г. '!I41","v":0},{"$f":"'Худ.эст.к 7г ч2. К.г. '!J41","v":0},{"$f":"'Худ.эст.к 7г ч2. К.г. '!K41","v":0},{"$f":"'Худ.эст.к 7г ч2. К.г. '!L41","v":0},{"$f":"'Худ.эст.к 7г ч2. К.г. '!M41","v":0},{"$f":"'Худ.эст.к 7г ч2. К.г. '!N41","v":0},{"$f":"'Худ.эст.к 7г ч2. К.г. '!O41","v":0},{"$f":"'Худ.эст.к 7г ч2. К.г. '!P41","v":0},{"$f":"'Худ.эст.к 7г ч2. К.г. '!Q41","v":0},{"$f":"'Худ.эст.к 7г ч3. К.г. '!E41","v":0},{"$f":"'Худ.эст.к 7г ч3. К.г. '!F41","v":0},{"$f":"'Худ.эст.к 7г ч3. К.г. '!G41","v":0},{"$f":"'Худ.эст.к 7г ч3. К.г. '!H41","v":0},{"$f":"'Худ.эст.к 7г ч3. К.г. '!I41","v":0},{"$f":"'Худ.эст.к 7г ч3. К.г. '!J41","v":0},{"$f":"'Худ.эст.к 7г ч3. К.г. '!K41","v":0},{"$f":"'Худ.эст.к 7г ч3. К.г. '!L41","v":0}]